Workbook

Sheet Calculadora
A1: Calculadora de interés compuesto
A3: Ejemplo incluido: modifica solo las celdas azules. La proyección visible es anual, pero el cálculo interno se hace mes a mes. | I3: Consejo: cambia tasa, plazo y aportaciones para comparar escenarios.
A5: Supuestos editables | E5: Controles automáticos | I5: Resumen del escenario
A6: Capital inicial | B6: 18000 | C6: Importe inicial | E6: Capitalizaciones/año | F6: =VLOOKUP($B$9,Motor!$A$2:$B$6,2,FALSE()) -> 4 | G6: Lookup automático | I6: Valor futuro nominal | K6: Valor futuro real | M6: Aportado total
A7: Aportación periódica | B7: 275 | C7: Puede ser negativa | E7: Aportaciones/año | F7: =VLOOKUP($B$10,Motor!$A$9:$B$12,2,FALSE()) -> 12 | G7: Lookup automático | I7: =IF($F$11=0,$B$6,INDEX(Motor!$F$23:$F$622,$F$11)) -> 191315.06 | K7: =IF($F$11=0,$B$6,INDEX(Motor!$F$23:$F$622,$F$11)/POWER(1+$F$10,$F$11)) -> 125617.44 | M7: =IF($F$11=0,$B$6,INDEX(Motor!$G$23:$G$622,$F$11)) -> 79050
A8: Tasa nominal anual | B8: 0.071 | C8: Tasa bruta estimada | E8: Tasa efectiva anual (TEA) | F8: =POWER(1+$B$8/$F$6,$F$6)-1 -> 0.072912844 | G8: Nominal -> efectiva
A9: Capitalización | B9: Trimestral | C9: Frecuencia del interés | E9: Tasa mensual equivalente | F9: =POWER(1+$B$8/$F$6,$F$6/12)-1 -> 0.0058820009 | G9: Motor mensual
A10: Frecuencia de aportación | B10: Mensual | C10: Cada cuánto aportas | E10: Inflación mensual equivalente | F10: =POWER(1+$B$13,1/12)-1 -> 0.0018967538 | G10: Para valor real | I10: Intereses generados | K10: Estado objetivo | M10: Fecha objetivo
A11: Años | B11: 18 | C11: Plazo principal | E11: Meses totales | F11: =$B$11*12+$B$12 -> 222 | G11: Años + meses | I11: =IF($F$11=0,0,INDEX(Motor!$H$23:$H$622,$F$11)) -> 112265.06 | K11: =IF($B$14<=0,"Sin objetivo",IF(COUNTIF(Motor!$J$23:$J$622,1)>0,"Cumplido","Pendiente")) -> Cumplido | M11: =IF($B$14<=0,"Sin objetivo",IF(COUNTIF(Motor!$J$23:$J$622,1)=0,"No alcanzado",TEXT(INDEX(Motor!$B$23:$B$622,MATCH(1,Motor!$J$23:$J$622,0)),"dd/mm/aaaa"))) -> 01/10/2043
A12: Meses adicionales | B12: 6 | C12: Entre 0 y 11 | E12: Meses por aportación | F12: =12/$F$7 -> 1 | G12: 1, 3, 6 o 12
A13: Inflación anual | B13: 0.023 | C13: Para valor real | E13: Aportación al inicio (1/0) | F13: =IF($B$15="Al inicio del período",1,0) -> 0 | G13: Control de timing
A14: Objetivo de capital | B14: 175000 | C14: Opcional | E14: Fecha final proyectada | F14: =DATE(YEAR($B$16),MONTH($B$16)+$F$11-1,DAY($B$16)) -> 52871 | G14: Último cierre
A15: Momento de la aportación | B15: Al final del período | C15: Inicio o fin del período | E15: Años visibles en tabla | F15: =ROUNDUP($F$11/12,0) -> 19 | G15: Resumen visible
A16: Fecha de inicio | B16: 46143 | C16: Inicio de la simulación
A17: Proyección anual resumida. Las cifras se derivan de un motor mensual oculto para mantener precisión.
A18: Año | B18: Fecha cierre | C18: Saldo inicial | D18: Aportes del año | E18: Intereses del año | F18: Saldo final | G18: Aportado acumulado | H18: Ganancia acumulada | I18: Valor real
A19: 1 | B19: =IF(A19<=$F$15,DATE(YEAR($B$16),MONTH($B$16)+MIN(A19*12,$F$11)-1,DAY($B$16)),"") -> 46478 | C19: =IF(A19<=$F$15,IF(A19=1,$B$6,INDEX(Motor!$F$23:$F$622,(A19-1)*12)),"") -> 18000 | D19: =IF(A19<=$F$15,SUMIF(Motor!$I$23:$I$622,A19,Motor!$D$23:$D$622),"") -> 3300 | E19: =IF(A19<=$F$15,SUMIF(Motor!$I$23:$I$622,A19,Motor!$E$23:$E$622),"") -> 1421.3106 | F19: =IF(A19<=$F$15,INDEX(Motor!$F$23:$F$622,MIN(A19*12,$F$11)),"") -> 22721.311 | G19: =IF(A19<=$F$15,INDEX(Motor!$G$23:$G$622,MIN(A19*12,$F$11)),"") -> 21300 | H19: =IF(A19<=$F$15,INDEX(Motor!$H$23:$H$622,MIN(A19*12,$F$11)),"") -> 1421.3106 | I19: =IF(A19<=$F$15,F19/POWER(1+$F$10,MIN(A19*12,$F$11)),"") -> 22210.47
A20: 2 | B20: =IF(A20<=$F$15,DATE(YEAR($B$16),MONTH($B$16)+MIN(A20*12,$F$11)-1,DAY($B$16)),"") -> 46844 | C20: =IF(A20<=$F$15,IF(A20=1,$B$6,INDEX(Motor!$F$23:$F$622,(A20-1)*12)),"") -> 22721.311 | D20: =IF(A20<=$F$15,SUMIF(Motor!$I$23:$I$622,A20,Motor!$D$23:$D$622),"") -> 3300 | E20: =IF(A20<=$F$15,SUMIF(Motor!$I$23:$I$622,A20,Motor!$E$23:$E$622),"") -> 1765.5548 | F20: =IF(A20<=$F$15,INDEX(Motor!$F$23:$F$622,MIN(A20*12,$F$11)),"") -> 27786.865 | G20: =IF(A20<=$F$15,INDEX(Motor!$G$23:$G$622,MIN(A20*12,$F$11)),"") -> 24600 | H20: =IF(A20<=$F$15,INDEX(Motor!$H$23:$H$622,MIN(A20*12,$F$11)),"") -> 3186.8655 | I20: =IF(A20<=$F$15,F20/POWER(1+$F$10,MIN(A20*12,$F$11)),"") -> 26551.453
A21: 3 | B21: =IF(A21<=$F$15,DATE(YEAR($B$16),MONTH($B$16)+MIN(A21*12,$F$11)-1,DAY($B$16)),"") -> 47209 | C21: =IF(A21<=$F$15,IF(A21=1,$B$6,INDEX(Motor!$F$23:$F$622,(A21-1)*12)),"") -> 27786.865 | D21: =IF(A21<=$F$15,SUMIF(Motor!$I$23:$I$622,A21,Motor!$D$23:$D$622),"") -> 3300 | E21: =IF(A21<=$F$15,SUMIF(Motor!$I$23:$I$622,A21,Motor!$E$23:$E$622),"") -> 2134.8988 | F21: =IF(A21<=$F$15,INDEX(Motor!$F$23:$F$622,MIN(A21*12,$F$11)),"") -> 33221.764 | G21: =IF(A21<=$F$15,INDEX(Motor!$G$23:$G$622,MIN(A21*12,$F$11)),"") -> 27900 | H21: =IF(A21<=$F$15,INDEX(Motor!$H$23:$H$622,MIN(A21*12,$F$11)),"") -> 5321.7643 | I21: =IF(A21<=$F$15,F21/POWER(1+$F$10,MIN(A21*12,$F$11)),"") -> 31031.001
A22: 4 | B22: =IF(A22<=$F$15,DATE(YEAR($B$16),MONTH($B$16)+MIN(A22*12,$F$11)-1,DAY($B$16)),"") -> 47574 | C22: =IF(A22<=$F$15,IF(A22=1,$B$6,INDEX(Motor!$F$23:$F$622,(A22-1)*12)),"") -> 33221.764 | D22: =IF(A22<=$F$15,SUMIF(Motor!$I$23:$I$622,A22,Motor!$D$23:$D$622),"") -> 3300 | E22: =IF(A22<=$F$15,SUMIF(Motor!$I$23:$I$622,A22,Motor!$E$23:$E$622),"") -> 2531.1728 | F22: =IF(A22<=$F$15,INDEX(Motor!$F$23:$F$622,MIN(A22*12,$F$11)),"") -> 39052.937 | G22: =IF(A22<=$F$15,INDEX(Motor!$G$23:$G$622,MIN(A22*12,$F$11)),"") -> 31200 | H22: =IF(A22<=$F$15,INDEX(Motor!$H$23:$H$622,MIN(A22*12,$F$11)),"") -> 7852.9371 | I22: =IF(A22<=$F$15,F22/POWER(1+$F$10,MIN(A22*12,$F$11)),"") -> 35657.523
A23: 5 | B23: =IF(A23<=$F$15,DATE(YEAR($B$16),MONTH($B$16)+MIN(A23*12,$F$11)-1,DAY($B$16)),"") -> 47939 | C23: =IF(A23<=$F$15,IF(A23=1,$B$6,INDEX(Motor!$F$23:$F$622,(A23-1)*12)),"") -> 39052.937 | D23: =IF(A23<=$F$15,SUMIF(Motor!$I$23:$I$622,A23,Motor!$D$23:$D$622),"") -> 3300 | E23: =IF(A23<=$F$15,SUMIF(Motor!$I$23:$I$622,A23,Motor!$E$23:$E$622),"") -> 2956.3402 | F23: =IF(A23<=$F$15,INDEX(Motor!$F$23:$F$622,MIN(A23*12,$F$11)),"") -> 45309.277 | G23: =IF(A23<=$F$15,INDEX(Motor!$G$23:$G$622,MIN(A23*12,$F$11)),"") -> 34500 | H23: =IF(A23<=$F$15,INDEX(Motor!$H$23:$H$622,MIN(A23*12,$F$11)),"") -> 10809.277 | I23: =IF(A23<=$F$15,F23/POWER(1+$F$10,MIN(A23*12,$F$11)),"") -> 40439.797
A24: 6 | B24: =IF(A24<=$F$15,DATE(YEAR($B$16),MONTH($B$16)+MIN(A24*12,$F$11)-1,DAY($B$16)),"") -> 48305 | C24: =IF(A24<=$F$15,IF(A24=1,$B$6,INDEX(Motor!$F$23:$F$622,(A24-1)*12)),"") -> 45309.277 | D24: =IF(A24<=$F$15,SUMIF(Motor!$I$23:$I$622,A24,Motor!$D$23:$D$622),"") -> 3300 | E24: =IF(A24<=$F$15,SUMIF(Motor!$I$23:$I$622,A24,Motor!$E$23:$E$622),"") -> 3412.5077 | F24: =IF(A24<=$F$15,INDEX(Motor!$F$23:$F$622,MIN(A24*12,$F$11)),"") -> 52021.785 | G24: =IF(A24<=$F$15,INDEX(Motor!$G$23:$G$622,MIN(A24*12,$F$11)),"") -> 37800 | H24: =IF(A24<=$F$15,INDEX(Motor!$H$23:$H$622,MIN(A24*12,$F$11)),"") -> 14221.785 | I24: =IF(A24<=$F$15,F24/POWER(1+$F$10,MIN(A24*12,$F$11)),"") -> 45386.997
A25: 7 | B25: =IF(A25<=$F$15,DATE(YEAR($B$16),MONTH($B$16)+MIN(A25*12,$F$11)-1,DAY($B$16)),"") -> 48670 | C25: =IF(A25<=$F$15,IF(A25=1,$B$6,INDEX(Motor!$F$23:$F$622,(A25-1)*12)),"") -> 52021.785 | D25: =IF(A25<=$F$15,SUMIF(Motor!$I$23:$I$622,A25,Motor!$D$23:$D$622),"") -> 3300 | E25: =IF(A25<=$F$15,SUMIF(Motor!$I$23:$I$622,A25,Motor!$E$23:$E$622),"") -> 3901.9357 | F25: =IF(A25<=$F$15,INDEX(Motor!$F$23:$F$622,MIN(A25*12,$F$11)),"") -> 59223.721 | G25: =IF(A25<=$F$15,INDEX(Motor!$G$23:$G$622,MIN(A25*12,$F$11)),"") -> 41100 | H25: =IF(A25<=$F$15,INDEX(Motor!$H$23:$H$622,MIN(A25*12,$F$11)),"") -> 18123.721 | I25: =IF(A25<=$F$15,F25/POWER(1+$F$10,MIN(A25*12,$F$11)),"") -> 50508.707
A26: 8 | B26: =IF(A26<=$F$15,DATE(YEAR($B$16),MONTH($B$16)+MIN(A26*12,$F$11)-1,DAY($B$16)),"") -> 49035 | C26: =IF(A26<=$F$15,IF(A26=1,$B$6,INDEX(Motor!$F$23:$F$622,(A26-1)*12)),"") -> 59223.721 | D26: =IF(A26<=$F$15,SUMIF(Motor!$I$23:$I$622,A26,Motor!$D$23:$D$622),"") -> 3300 | E26: =IF(A26<=$F$15,SUMIF(Motor!$I$23:$I$622,A26,Motor!$E$23:$E$622),"") -> 4427.0493 | F26: =IF(A26<=$F$15,INDEX(Motor!$F$23:$F$622,MIN(A26*12,$F$11)),"") -> 66950.77 | G26: =IF(A26<=$F$15,INDEX(Motor!$G$23:$G$622,MIN(A26*12,$F$11)),"") -> 44400 | H26: =IF(A26<=$F$15,INDEX(Motor!$H$23:$H$622,MIN(A26*12,$F$11)),"") -> 22550.77 | I26: =IF(A26<=$F$15,F26/POWER(1+$F$10,MIN(A26*12,$F$11)),"") -> 55814.946
A27: 9 | B27: =IF(A27<=$F$15,DATE(YEAR($B$16),MONTH($B$16)+MIN(A27*12,$F$11)-1,DAY($B$16)),"") -> 49400 | C27: =IF(A27<=$F$15,IF(A27=1,$B$6,INDEX(Motor!$F$23:$F$622,(A27-1)*12)),"") -> 66950.77 | D27: =IF(A27<=$F$15,SUMIF(Motor!$I$23:$I$622,A27,Motor!$D$23:$D$622),"") -> 3300 | E27: =IF(A27<=$F$15,SUMIF(Motor!$I$23:$I$622,A27,Motor!$E$23:$E$622),"") -> 4990.4505 | F27: =IF(A27<=$F$15,INDEX(Motor!$F$23:$F$622,MIN(A27*12,$F$11)),"") -> 75241.22 | G27: =IF(A27<=$F$15,INDEX(Motor!$G$23:$G$622,MIN(A27*12,$F$11)),"") -> 47700 | H27: =IF(A27<=$F$15,INDEX(Motor!$H$23:$H$622,MIN(A27*12,$F$11)),"") -> 27541.22 | I27: =IF(A27<=$F$15,F27/POWER(1+$F$10,MIN(A27*12,$F$11)),"") -> 61316.185
A28: 10 | B28: =IF(A28<=$F$15,DATE(YEAR($B$16),MONTH($B$16)+MIN(A28*12,$F$11)-1,DAY($B$16)),"") -> 49766 | C28: =IF(A28<=$F$15,IF(A28=1,$B$6,INDEX(Motor!$F$23:$F$622,(A28-1)*12)),"") -> 75241.22 | D28: =IF(A28<=$F$15,SUMIF(Motor!$I$23:$I$622,A28,Motor!$D$23:$D$622),"") -> 3300 | E28: =IF(A28<=$F$15,SUMIF(Motor!$I$23:$I$622,A28,Motor!$E$23:$E$622),"") -> 5594.9308 | F28: =IF(A28<=$F$15,INDEX(Motor!$F$23:$F$622,MIN(A28*12,$F$11)),"") -> 84136.151 | G28: =IF(A28<=$F$15,INDEX(Motor!$G$23:$G$622,MIN(A28*12,$F$11)),"") -> 51000 | H28: =IF(A28<=$F$15,INDEX(Motor!$H$23:$H$622,MIN(A28*12,$F$11)),"") -> 33136.151 | I28: =IF(A28<=$F$15,F28/POWER(1+$F$10,MIN(A28*12,$F$11)),"") -> 67023.377
A29: 11 | B29: =IF(A29<=$F$15,DATE(YEAR($B$16),MONTH($B$16)+MIN(A29*12,$F$11)-1,DAY($B$16)),"") -> 50131 | C29: =IF(A29<=$F$15,IF(A29=1,$B$6,INDEX(Motor!$F$23:$F$622,(A29-1)*12)),"") -> 84136.151 | D29: =IF(A29<=$F$15,SUMIF(Motor!$I$23:$I$622,A29,Motor!$D$23:$D$622),"") -> 3300 | E29: =IF(A29<=$F$15,SUMIF(Motor!$I$23:$I$622,A29,Motor!$E$23:$E$622),"") -> 6243.4855 | F29: =IF(A29<=$F$15,INDEX(Motor!$F$23:$F$622,MIN(A29*12,$F$11)),"") -> 93679.637 | G29: =IF(A29<=$F$15,INDEX(Motor!$G$23:$G$622,MIN(A29*12,$F$11)),"") -> 54300 | H29: =IF(A29<=$F$15,INDEX(Motor!$H$23:$H$622,MIN(A29*12,$F$11)),"") -> 39379.637 | I29: =IF(A29<=$F$15,F29/POWER(1+$F$10,MIN(A29*12,$F$11)),"") -> 72947.973
A30: 12 | B30: =IF(A30<=$F$15,DATE(YEAR($B$16),MONTH($B$16)+MIN(A30*12,$F$11)-1,DAY($B$16)),"") -> 50496 | C30: =IF(A30<=$F$15,IF(A30=1,$B$6,INDEX(Motor!$F$23:$F$622,(A30-1)*12)),"") -> 93679.637 | D30: =IF(A30<=$F$15,SUMIF(Motor!$I$23:$I$622,A30,Motor!$D$23:$D$622),"") -> 3300 | E30: =IF(A30<=$F$15,SUMIF(Motor!$I$23:$I$622,A30,Motor!$E$23:$E$622),"") -> 6939.3282 | F30: =IF(A30<=$F$15,INDEX(Motor!$F$23:$F$622,MIN(A30*12,$F$11)),"") -> 103918.96 | G30: =IF(A30<=$F$15,INDEX(Motor!$G$23:$G$622,MIN(A30*12,$F$11)),"") -> 57600 | H30: =IF(A30<=$F$15,INDEX(Motor!$H$23:$H$622,MIN(A30*12,$F$11)),"") -> 46318.965 | I30: =IF(A30<=$F$15,F30/POWER(1+$F$10,MIN(A30*12,$F$11)),"") -> 79101.953
... A34: 16 | B34: =IF(A34<=$F$15,DATE(YEAR($B$16),MONTH($B$16)+MIN(A34*12,$F$11)-1,DAY($B$16)),"") -> 51957 | C34: =IF(A34<=$F$15,IF(A34=1,$B$6,INDEX(Motor!$F$23:$F$622,(A34-1)*12)),"") -> 139338.13 | D34: =IF(A34<=$F$15,SUMIF(Motor!$I$23:$I$622,A34,Motor!$D$23:$D$622),"") -> 3300 | E34: =IF(A34<=$F$15,SUMIF(Motor!$I$23:$I$622,A34,Motor!$E$23:$E$622),"") -> 10268.419 | F34: =IF(A34<=$F$15,INDEX(Motor!$F$23:$F$622,MIN(A34*12,$F$11)),"") -> 152906.55 | G34: =IF(A34<=$F$15,INDEX(Motor!$G$23:$G$622,MIN(A34*12,$F$11)),"") -> 70800 | H34: =IF(A34<=$F$15,INDEX(Motor!$H$23:$H$622,MIN(A34*12,$F$11)),"") -> 82106.549 | I34: =IF(A34<=$F$15,F34/POWER(1+$F$10,MIN(A34*12,$F$11)),"") -> 106271.29
A35: 17 | B35: =IF(A35<=$F$15,DATE(YEAR($B$16),MONTH($B$16)+MIN(A35*12,$F$11)-1,DAY($B$16)),"") -> 52322 | C35: =IF(A35<=$F$15,IF(A35=1,$B$6,INDEX(Motor!$F$23:$F$622,(A35-1)*12)),"") -> 152906.55 | D35: =IF(A35<=$F$15,SUMIF(Motor!$I$23:$I$622,A35,Motor!$D$23:$D$622),"") -> 3300 | E35: =IF(A35<=$F$15,SUMIF(Motor!$I$23:$I$622,A35,Motor!$E$23:$E$622),"") -> 11257.731 | F35: =IF(A35<=$F$15,INDEX(Motor!$F$23:$F$622,MIN(A35*12,$F$11)),"") -> 167464.28 | G35: =IF(A35<=$F$15,INDEX(Motor!$G$23:$G$622,MIN(A35*12,$F$11)),"") -> 74100 | H35: =IF(A35<=$F$15,INDEX(Motor!$H$23:$H$622,MIN(A35*12,$F$11)),"") -> 93364.28 | I35: =IF(A35<=$F$15,F35/POWER(1+$F$10,MIN(A35*12,$F$11)),"") -> 113772.27 | J35: Lectura rápida: Valor futuro nominal = saldo esperado. Valor futuro real = saldo ajustado por inflación. La frecuencia de aportación cambia el momento exacto en que entra cada ingreso.
A36: 18 | B36: =IF(A36<=$F$15,DATE(YEAR($B$16),MONTH($B$16)+MIN(A36*12,$F$11)-1,DAY($B$16)),"") -> 52688 | C36: =IF(A36<=$F$15,IF(A36=1,$B$6,INDEX(Motor!$F$23:$F$622,(A36-1)*12)),"") -> 167464.28 | D36: =IF(A36<=$F$15,SUMIF(Motor!$I$23:$I$622,A36,Motor!$D$23:$D$622),"") -> 3300 | E36: =IF(A36<=$F$15,SUMIF(Motor!$I$23:$I$622,A36,Motor!$E$23:$E$622),"") -> 12319.176 | F36: =IF(A36<=$F$15,INDEX(Motor!$F$23:$F$622,MIN(A36*12,$F$11)),"") -> 183083.46 | G36: =IF(A36<=$F$15,INDEX(Motor!$G$23:$G$622,MIN(A36*12,$F$11)),"") -> 77400 | H36: =IF(A36<=$F$15,INDEX(Motor!$H$23:$H$622,MIN(A36*12,$F$11)),"") -> 105683.46 | I36: =IF(A36<=$F$15,F36/POWER(1+$F$10,MIN(A36*12,$F$11)),"") -> 121587.15
A37: 19 | B37: =IF(A37<=$F$15,DATE(YEAR($B$16),MONTH($B$16)+MIN(A37*12,$F$11)-1,DAY($B$16)),"") -> 52871 | C37: =IF(A37<=$F$15,IF(A37=1,$B$6,INDEX(Motor!$F$23:$F$622,(A37-1)*12)),"") -> 183083.46 | D37: =IF(A37<=$F$15,SUMIF(Motor!$I$23:$I$622,A37,Motor!$D$23:$D$622),"") -> 1650 | E37: =IF(A37<=$F$15,SUMIF(Motor!$I$23:$I$622,A37,Motor!$E$23:$E$622),"") -> 6581.5998 | F37: =IF(A37<=$F$15,INDEX(Motor!$F$23:$F$622,MIN(A37*12,$F$11)),"") -> 191315.06 | G37: =IF(A37<=$F$15,INDEX(Motor!$G$23:$G$622,MIN(A37*12,$F$11)),"") -> 79050 | H37: =IF(A37<=$F$15,INDEX(Motor!$H$23:$H$622,MIN(A37*12,$F$11)),"") -> 112265.06 | I37: =IF(A37<=$F$15,F37/POWER(1+$F$10,MIN(A37*12,$F$11)),"") -> 125617.44
A38: 20 | B38: =IF(A38<=$F$15,DATE(YEAR($B$16),MONTH($B$16)+MIN(A38*12,$F$11)-1,DAY($B$16)),"") | C38: =IF(A38<=$F$15,IF(A38=1,$B$6,INDEX(Motor!$F$23:$F$622,(A38-1)*12)),"") | D38: =IF(A38<=$F$15,SUMIF(Motor!$I$23:$I$622,A38,Motor!$D$23:$D$622),"") | E38: =IF(A38<=$F$15,SUMIF(Motor!$I$23:$I$622,A38,Motor!$E$23:$E$622),"") | F38: =IF(A38<=$F$15,INDEX(Motor!$F$23:$F$622,MIN(A38*12,$F$11)),"") | G38: =IF(A38<=$F$15,INDEX(Motor!$G$23:$G$622,MIN(A38*12,$F$11)),"") | H38: =IF(A38<=$F$15,INDEX(Motor!$H$23:$H$622,MIN(A38*12,$F$11)),"") | I38: =IF(A38<=$F$15,F38/POWER(1+$F$10,MIN(A38*12,$F$11)),"")
A39: 21 | B39: =IF(A39<=$F$15,DATE(YEAR($B$16),MONTH($B$16)+MIN(A39*12,$F$11)-1,DAY($B$16)),"") | C39: =IF(A39<=$F$15,IF(A39=1,$B$6,INDEX(Motor!$F$23:$F$622,(A39-1)*12)),"") | D39: =IF(A39<=$F$15,SUMIF(Motor!$I$23:$I$622,A39,Motor!$D$23:$D$622),"") | E39: =IF(A39<=$F$15,SUMIF(Motor!$I$23:$I$622,A39,Motor!$E$23:$E$622),"") | F39: =IF(A39<=$F$15,INDEX(Motor!$F$23:$F$622,MIN(A39*12,$F$11)),"") | G39: =IF(A39<=$F$15,INDEX(Motor!$G$23:$G$622,MIN(A39*12,$F$11)),"") | H39: =IF(A39<=$F$15,INDEX(Motor!$H$23:$H$622,MIN(A39*12,$F$11)),"") | I39: =IF(A39<=$F$15,F39/POWER(1+$F$10,MIN(A39*12,$F$11)),"")
A40: 22 | B40: =IF(A40<=$F$15,DATE(YEAR($B$16),MONTH($B$16)+MIN(A40*12,$F$11)-1,DAY($B$16)),"") | C40: =IF(A40<=$F$15,IF(A40=1,$B$6,INDEX(Motor!$F$23:$F$622,(A40-1)*12)),"") | D40: =IF(A40<=$F$15,SUMIF(Motor!$I$23:$I$622,A40,Motor!$D$23:$D$622),"") | E40: =IF(A40<=$F$15,SUMIF(Motor!$I$23:$I$622,A40,Motor!$E$23:$E$622),"") | F40: =IF(A40<=$F$15,INDEX(Motor!$F$23:$F$622,MIN(A40*12,$F$11)),"") | G40: =IF(A40<=$F$15,INDEX(Motor!$G$23:$G$622,MIN(A40*12,$F$11)),"") | H40: =IF(A40<=$F$15,INDEX(Motor!$H$23:$H$622,MIN(A40*12,$F$11)),"") | I40: =IF(A40<=$F$15,F40/POWER(1+$F$10,MIN(A40*12,$F$11)),"")
A41: 23 | B41: =IF(A41<=$F$15,DATE(YEAR($B$16),MONTH($B$16)+MIN(A41*12,$F$11)-1,DAY($B$16)),"") | C41: =IF(A41<=$F$15,IF(A41=1,$B$6,INDEX(Motor!$F$23:$F$622,(A41-1)*12)),"") | D41: =IF(A41<=$F$15,SUMIF(Motor!$I$23:$I$622,A41,Motor!$D$23:$D$622),"") | E41: =IF(A41<=$F$15,SUMIF(Motor!$I$23:$I$622,A41,Motor!$E$23:$E$622),"") | F41: =IF(A41<=$F$15,INDEX(Motor!$F$23:$F$622,MIN(A41*12,$F$11)),"") | G41: =IF(A41<=$F$15,INDEX(Motor!$G$23:$G$622,MIN(A41*12,$F$11)),"") | H41: =IF(A41<=$F$15,INDEX(Motor!$H$23:$H$622,MIN(A41*12,$F$11)),"") | I41: =IF(A41<=$F$15,F41/POWER(1+$F$10,MIN(A41*12,$F$11)),"")
A42: 24 | B42: =IF(A42<=$F$15,DATE(YEAR($B$16),MONTH($B$16)+MIN(A42*12,$F$11)-1,DAY($B$16)),"") | C42: =IF(A42<=$F$15,IF(A42=1,$B$6,INDEX(Motor!$F$23:$F$622,(A42-1)*12)),"") | D42: =IF(A42<=$F$15,SUMIF(Motor!$I$23:$I$622,A42,Motor!$D$23:$D$622),"") | E42: =IF(A42<=$F$15,SUMIF(Motor!$I$23:$I$622,A42,Motor!$E$23:$E$622),"") | F42: =IF(A42<=$F$15,INDEX(Motor!$F$23:$F$622,MIN(A42*12,$F$11)),"") | G42: =IF(A42<=$F$15,INDEX(Motor!$G$23:$G$622,MIN(A42*12,$F$11)),"") | H42: =IF(A42<=$F$15,INDEX(Motor!$H$23:$H$622,MIN(A42*12,$F$11)),"") | I42: =IF(A42<=$F$15,F42/POWER(1+$F$10,MIN(A42*12,$F$11)),"")
A43: 25 | B43: =IF(A43<=$F$15,DATE(YEAR($B$16),MONTH($B$16)+MIN(A43*12,$F$11)-1,DAY($B$16)),"") | C43: =IF(A43<=$F$15,IF(A43=1,$B$6,INDEX(Motor!$F$23:$F$622,(A43-1)*12)),"") | D43: =IF(A43<=$F$15,SUMIF(Motor!$I$23:$I$622,A43,Motor!$D$23:$D$622),"") | E43: =IF(A43<=$F$15,SUMIF(Motor!$I$23:$I$622,A43,Motor!$E$23:$E$622),"") | F43: =IF(A43<=$F$15,INDEX(Motor!$F$23:$F$622,MIN(A43*12,$F$11)),"") | G43: =IF(A43<=$F$15,INDEX(Motor!$G$23:$G$622,MIN(A43*12,$F$11)),"") | H43: =IF(A43<=$F$15,INDEX(Motor!$H$23:$H$622,MIN(A43*12,$F$11)),"") | I43: =IF(A43<=$F$15,F43/POWER(1+$F$10,MIN(A43*12,$F$11)),"")
A44: 26 | B44: =IF(A44<=$F$15,DATE(YEAR($B$16),MONTH($B$16)+MIN(A44*12,$F$11)-1,DAY($B$16)),"") | C44: =IF(A44<=$F$15,IF(A44=1,$B$6,INDEX(Motor!$F$23:$F$622,(A44-1)*12)),"") | D44: =IF(A44<=$F$15,SUMIF(Motor!$I$23:$I$622,A44,Motor!$D$23:$D$622),"") | E44: =IF(A44<=$F$15,SUMIF(Motor!$I$23:$I$622,A44,Motor!$E$23:$E$622),"") | F44: =IF(A44<=$F$15,INDEX(Motor!$F$23:$F$622,MIN(A44*12,$F$11)),"") | G44: =IF(A44<=$F$15,INDEX(Motor!$G$23:$G$622,MIN(A44*12,$F$11)),"") | H44: =IF(A44<=$F$15,INDEX(Motor!$H$23:$H$622,MIN(A44*12,$F$11)),"") | I44: =IF(A44<=$F$15,F44/POWER(1+$F$10,MIN(A44*12,$F$11)),"")
A45: 27 | B45: =IF(A45<=$F$15,DATE(YEAR($B$16),MONTH($B$16)+MIN(A45*12,$F$11)-1,DAY($B$16)),"") | C45: =IF(A45<=$F$15,IF(A45=1,$B$6,INDEX(Motor!$F$23:$F$622,(A45-1)*12)),"") | D45: =IF(A45<=$F$15,SUMIF(Motor!$I$23:$I$622,A45,Motor!$D$23:$D$622),"") | E45: =IF(A45<=$F$15,SUMIF(Motor!$I$23:$I$622,A45,Motor!$E$23:$E$622),"") | F45: =IF(A45<=$F$15,INDEX(Motor!$F$23:$F$622,MIN(A45*12,$F$11)),"") | G45: =IF(A45<=$F$15,INDEX(Motor!$G$23:$G$622,MIN(A45*12,$F$11)),"") | H45: =IF(A45<=$F$15,INDEX(Motor!$H$23:$H$622,MIN(A45*12,$F$11)),"") | I45: =IF(A45<=$F$15,F45/POWER(1+$F$10,MIN(A45*12,$F$11)),"")
...

Sheet Motor
A2: Anual | B2: 1
A3: Semestral | B3: 2
A4: Trimestral | B4: 4
A5: Mensual | B5: 12
A6: Diaria (365) | B6: 365
A9: Mensual | B9: 12
A10: Trimestral | B10: 4
A11: Semestral | B11: 2
A12: Anual | B12: 1
A22: Mes | B22: Fecha | C22: Saldo inicial | D22: Aporte | E22: Interés | F22: Saldo final | G22: Aportado acumulado | H22: Ganancia acumulada | I22: Año | J22: Objetivo
A23: 1 | B23: =IF(A23<=Calculadora!$F$11,DATE(YEAR(Calculadora!$B$16),MONTH(Calculadora!$B$16)+A23-1,DAY(Calculadora!$B$16)),"") -> 46143 | C23: =IF(A23<=Calculadora!$F$11,Calculadora!$B$6,"") -> 18000 | D23: =IF(A23<=Calculadora!$F$11,IF(Calculadora!$F$13=1,IF(MOD(A23-1,Calculadora!$F$12)=0,Calculadora!$B$7,0),IF(MOD(A23,Calculadora!$F$12)=0,Calculadora!$B$7,0)),"") -> 275 | E23: =IF(A23<=Calculadora!$F$11,IF(Calculadora!$F$13=1,(C23+D23)*Calculadora!$F$9,C23*Calculadora!$F$9),"") -> 105.87602 | F23: =IF(A23<=Calculadora!$F$11,IF(Calculadora!$F$13=1,C23+D23+E23,C23+E23+D23),"") -> 18380.876 | G23: =IF(A23<=Calculadora!$F$11,Calculadora!$B$6+D23,"") -> 18275 | H23: =IF(A23<=Calculadora!$F$11,F23-G23,"") -> 105.87602 | I23: =IF(A23<=Calculadora!$F$11,ROUNDUP(A23/12,0),"") -> 1 | J23: =IF(A23<=Calculadora!$F$11,IF(AND(Calculadora!$B$14>0,F23>=Calculadora!$B$14),1,""),"")
A24: 2 | B24: =IF(A24<=Calculadora!$F$11,DATE(YEAR(Calculadora!$B$16),MONTH(Calculadora!$B$16)+A24-1,DAY(Calculadora!$B$16)),"") -> 46174 | C24: =IF(A24<=Calculadora!$F$11,F23,"") -> 18380.876 | D24: =IF(A24<=Calculadora!$F$11,IF(Calculadora!$F$13=1,IF(MOD(A24-1,Calculadora!$F$12)=0,Calculadora!$B$7,0),IF(MOD(A24,Calculadora!$F$12)=0,Calculadora!$B$7,0)),"") -> 275 | E24: =IF(A24<=Calculadora!$F$11,IF(Calculadora!$F$13=1,(C24+D24)*Calculadora!$F$9,C24*Calculadora!$F$9),"") -> 108.11633 | F24: =IF(A24<=Calculadora!$F$11,IF(Calculadora!$F$13=1,C24+D24+E24,C24+E24+D24),"") -> 18763.992 | G24: =IF(A24<=Calculadora!$F$11,G23+D24,"") -> 18550 | H24: =IF(A24<=Calculadora!$F$11,F24-G24,"") -> 213.99235 | I24: =IF(A24<=Calculadora!$F$11,ROUNDUP(A24/12,0),"") -> 1 | J24: =IF(A24<=Calculadora!$F$11,IF(AND(Calculadora!$B$14>0,F24>=Calculadora!$B$14),1,""),"")
A25: 3 | B25: =IF(A25<=Calculadora!$F$11,DATE(YEAR(Calculadora!$B$16),MONTH(Calculadora!$B$16)+A25-1,DAY(Calculadora!$B$16)),"") -> 46204 | C25: =IF(A25<=Calculadora!$F$11,F24,"") -> 18763.992 | D25: =IF(A25<=Calculadora!$F$11,IF(Calculadora!$F$13=1,IF(MOD(A25-1,Calculadora!$F$12)=0,Calculadora!$B$7,0),IF(MOD(A25,Calculadora!$F$12)=0,Calculadora!$B$7,0)),"") -> 275 | E25: =IF(A25<=Calculadora!$F$11,IF(Calculadora!$F$13=1,(C25+D25)*Calculadora!$F$9,C25*Calculadora!$F$9),"") -> 110.36982 | F25: =IF(A25<=Calculadora!$F$11,IF(Calculadora!$F$13=1,C25+D25+E25,C25+E25+D25),"") -> 19149.362 | G25: =IF(A25<=Calculadora!$F$11,G24+D25,"") -> 18825 | H25: =IF(A25<=Calculadora!$F$11,F25-G25,"") -> 324.36217 | I25: =IF(A25<=Calculadora!$F$11,ROUNDUP(A25/12,0),"") -> 1 | J25: =IF(A25<=Calculadora!$F$11,IF(AND(Calculadora!$B$14>0,F25>=Calculadora!$B$14),1,""),"")
A26: 4 | B26: =IF(A26<=Calculadora!$F$11,DATE(YEAR(Calculadora!$B$16),MONTH(Calculadora!$B$16)+A26-1,DAY(Calculadora!$B$16)),"") -> 46235 | C26: =IF(A26<=Calculadora!$F$11,F25,"") -> 19149.362 | D26: =IF(A26<=Calculadora!$F$11,IF(Calculadora!$F$13=1,IF(MOD(A26-1,Calculadora!$F$12)=0,Calculadora!$B$7,0),IF(MOD(A26,Calculadora!$F$12)=0,Calculadora!$B$7,0)),"") -> 275 | E26: =IF(A26<=Calculadora!$F$11,IF(Calculadora!$F$13=1,(C26+D26)*Calculadora!$F$9,C26*Calculadora!$F$9),"") -> 112.63657 | F26: =IF(A26<=Calculadora!$F$11,IF(Calculadora!$F$13=1,C26+D26+E26,C26+E26+D26),"") -> 19536.999 | G26: =IF(A26<=Calculadora!$F$11,G25+D26,"") -> 19100 | H26: =IF(A26<=Calculadora!$F$11,F26-G26,"") -> 436.99873 | I26: =IF(A26<=Calculadora!$F$11,ROUNDUP(A26/12,0),"") -> 1 | J26: =IF(A26<=Calculadora!$F$11,IF(AND(Calculadora!$B$14>0,F26>=Calculadora!$B$14),1,""),"")
A27: 5 | B27: =IF(A27<=Calculadora!$F$11,DATE(YEAR(Calculadora!$B$16),MONTH(Calculadora!$B$16)+A27-1,DAY(Calculadora!$B$16)),"") -> 46266 | C27: =IF(A27<=Calculadora!$F$11,F26,"") -> 19536.999 | D27: =IF(A27<=Calculadora!$F$11,IF(Calculadora!$F$13=1,IF(MOD(A27-1,Calculadora!$F$12)=0,Calculadora!$B$7,0),IF(MOD(A27,Calculadora!$F$12)=0,Calculadora!$B$7,0)),"") -> 275 | E27: =IF(A27<=Calculadora!$F$11,IF(Calculadora!$F$13=1,(C27+D27)*Calculadora!$F$9,C27*Calculadora!$F$9),"") -> 114.91664 | F27: =IF(A27<=Calculadora!$F$11,IF(Calculadora!$F$13=1,C27+D27+E27,C27+E27+D27),"") -> 19926.915 | G27: =IF(A27<=Calculadora!$F$11,G26+D27,"") -> 19375 | H27: =IF(A27<=Calculadora!$F$11,F27-G27,"") -> 551.91537 | I27: =IF(A27<=Calculadora!$F$11,ROUNDUP(A27/12,0),"") -> 1 | J27: =IF(A27<=Calculadora!$F$11,IF(AND(Calculadora!$B$14>0,F27>=Calculadora!$B$14),1,""),"")
A28: 6 | B28: =IF(A28<=Calculadora!$F$11,DATE(YEAR(Calculadora!$B$16),MONTH(Calculadora!$B$16)+A28-1,DAY(Calculadora!$B$16)),"") -> 46296 | C28: =IF(A28<=Calculadora!$F$11,F27,"") -> 19926.915 | D28: =IF(A28<=Calculadora!$F$11,IF(Calculadora!$F$13=1,IF(MOD(A28-1,Calculadora!$F$12)=0,Calculadora!$B$7,0),IF(MOD(A28,Calculadora!$F$12)=0,Calculadora!$B$7,0)),"") -> 275 | E28: =IF(A28<=Calculadora!$F$11,IF(Calculadora!$F$13=1,(C28+D28)*Calculadora!$F$9,C28*Calculadora!$F$9),"") -> 117.21013 | F28: =IF(A28<=Calculadora!$F$11,IF(Calculadora!$F$13=1,C28+D28+E28,C28+E28+D28),"") -> 20319.126 | G28: =IF(A28<=Calculadora!$F$11,G27+D28,"") -> 19650 | H28: =IF(A28<=Calculadora!$F$11,F28-G28,"") -> 669.12551 | I28: =IF(A28<=Calculadora!$F$11,ROUNDUP(A28/12,0),"") -> 1 | J28: =IF(A28<=Calculadora!$F$11,IF(AND(Calculadora!$B$14>0,F28>=Calculadora!$B$14),1,""),"")
A29: 7 | B29: =IF(A29<=Calculadora!$F$11,DATE(YEAR(Calculadora!$B$16),MONTH(Calculadora!$B$16)+A29-1,DAY(Calculadora!$B$16)),"") -> 46327 | C29: =IF(A29<=Calculadora!$F$11,F28,"") -> 20319.126 | D29: =IF(A29<=Calculadora!$F$11,IF(Calculadora!$F$13=1,IF(MOD(A29-1,Calculadora!$F$12)=0,Calculadora!$B$7,0),IF(MOD(A29,Calculadora!$F$12)=0,Calculadora!$B$7,0)),"") -> 275 | E29: =IF(A29<=Calculadora!$F$11,IF(Calculadora!$F$13=1,(C29+D29)*Calculadora!$F$9,C29*Calculadora!$F$9),"") -> 119.51711 | F29: =IF(A29<=Calculadora!$F$11,IF(Calculadora!$F$13=1,C29+D29+E29,C29+E29+D29),"") -> 20713.643 | G29: =IF(A29<=Calculadora!$F$11,G28+D29,"") -> 19925 | H29: =IF(A29<=Calculadora!$F$11,F29-G29,"") -> 788.64262 | I29: =IF(A29<=Calculadora!$F$11,ROUNDUP(A29/12,0),"") -> 1 | J29: =IF(A29<=Calculadora!$F$11,IF(AND(Calculadora!$B$14>0,F29>=Calculadora!$B$14),1,""),"")
A30: 8 | B30: =IF(A30<=Calculadora!$F$11,DATE(YEAR(Calculadora!$B$16),MONTH(Calculadora!$B$16)+A30-1,DAY(Calculadora!$B$16)),"") -> 46357 | C30: =IF(A30<=Calculadora!$F$11,F29,"") -> 20713.643 | D30: =IF(A30<=Calculadora!$F$11,IF(Calculadora!$F$13=1,IF(MOD(A30-1,Calculadora!$F$12)=0,Calculadora!$B$7,0),IF(MOD(A30,Calculadora!$F$12)=0,Calculadora!$B$7,0)),"") -> 275 | E30: =IF(A30<=Calculadora!$F$11,IF(Calculadora!$F$13=1,(C30+D30)*Calculadora!$F$9,C30*Calculadora!$F$9),"") -> 121.83766 | F30: =IF(A30<=Calculadora!$F$11,IF(Calculadora!$F$13=1,C30+D30+E30,C30+E30+D30),"") -> 21110.48 | G30: =IF(A30<=Calculadora!$F$11,G29+D30,"") -> 20200 | H30: =IF(A30<=Calculadora!$F$11,F30-G30,"") -> 910.48029 | I30: =IF(A30<=Calculadora!$F$11,ROUNDUP(A30/12,0),"") -> 1 | J30: =IF(A30<=Calculadora!$F$11,IF(AND(Calculadora!$B$14>0,F30>=Calculadora!$B$14),1,""),"")
A31: 9 | B31: =IF(A31<=Calculadora!$F$11,DATE(YEAR(Calculadora!$B$16),MONTH(Calculadora!$B$16)+A31-1,DAY(Calculadora!$B$16)),"") -> 46388 | C31: =IF(A31<=Calculadora!$F$11,F30,"") -> 21110.48 | D31: =IF(A31<=Calculadora!$F$11,IF(Calculadora!$F$13=1,IF(MOD(A31-1,Calculadora!$F$12)=0,Calculadora!$B$7,0),IF(MOD(A31,Calculadora!$F$12)=0,Calculadora!$B$7,0)),"") -> 275 | E31: =IF(A31<=Calculadora!$F$11,IF(Calculadora!$F$13=1,(C31+D31)*Calculadora!$F$9,C31*Calculadora!$F$9),"") -> 124.17186 | F31: =IF(A31<=Calculadora!$F$11,IF(Calculadora!$F$13=1,C31+D31+E31,C31+E31+D31),"") -> 21509.652 | G31: =IF(A31<=Calculadora!$F$11,G30+D31,"") -> 20475 | H31: =IF(A31<=Calculadora!$F$11,F31-G31,"") -> 1034.6522 | I31: =IF(A31<=Calculadora!$F$11,ROUNDUP(A31/12,0),"") -> 1 | J31: =IF(A31<=Calculadora!$F$11,IF(AND(Calculadora!$B$14>0,F31>=Calculadora!$B$14),1,""),"")
A32: 10 | B32: =IF(A32<=Calculadora!$F$11,DATE(YEAR(Calculadora!$B$16),MONTH(Calculadora!$B$16)+A32-1,DAY(Calculadora!$B$16)),"") -> 46419 | C32: =IF(A32<=Calculadora!$F$11,F31,"") -> 21509.652 | D32: =IF(A32<=Calculadora!$F$11,IF(Calculadora!$F$13=1,IF(MOD(A32-1,Calculadora!$F$12)=0,Calculadora!$B$7,0),IF(MOD(A32,Calculadora!$F$12)=0,Calculadora!$B$7,0)),"") -> 275 | E32: =IF(A32<=Calculadora!$F$11,IF(Calculadora!$F$13=1,(C32+D32)*Calculadora!$F$9,C32*Calculadora!$F$9),"") -> 126.51979 | F32: =IF(A32<=Calculadora!$F$11,IF(Calculadora!$F$13=1,C32+D32+E32,C32+E32+D32),"") -> 21911.172 | G32: =IF(A32<=Calculadora!$F$11,G31+D32,"") -> 20750 | H32: =IF(A32<=Calculadora!$F$11,F32-G32,"") -> 1161.1719 | I32: =IF(A32<=Calculadora!$F$11,ROUNDUP(A32/12,0),"") -> 1 | J32: =IF(A32<=Calculadora!$F$11,IF(AND(Calculadora!$B$14>0,F32>=Calculadora!$B$14),1,""),"")
A33: 11 | B33: =IF(A33<=Calculadora!$F$11,DATE(YEAR(Calculadora!$B$16),MONTH(Calculadora!$B$16)+A33-1,DAY(Calculadora!$B$16)),"") -> 46447 | C33: =IF(A33<=Calculadora!$F$11,F32,"") -> 21911.172 | D33: =IF(A33<=Calculadora!$F$11,IF(Calculadora!$F$13=1,IF(MOD(A33-1,Calculadora!$F$12)=0,Calculadora!$B$7,0),IF(MOD(A33,Calculadora!$F$12)=0,Calculadora!$B$7,0)),"") -> 275 | E33: =IF(A33<=Calculadora!$F$11,IF(Calculadora!$F$13=1,(C33+D33)*Calculadora!$F$9,C33*Calculadora!$F$9),"") -> 128.88153 | F33: =IF(A33<=Calculadora!$F$11,IF(Calculadora!$F$13=1,C33+D33+E33,C33+E33+D33),"") -> 22315.053 | G33: =IF(A33<=Calculadora!$F$11,G32+D33,"") -> 21025 | H33: =IF(A33<=Calculadora!$F$11,F33-G33,"") -> 1290.0535 | I33: =IF(A33<=Calculadora!$F$11,ROUNDUP(A33/12,0),"") -> 1 | J33: =IF(A33<=Calculadora!$F$11,IF(AND(Calculadora!$B$14>0,F33>=Calculadora!$B$14),1,""),"")
A34: 12 | B34: =IF(A34<=Calculadora!$F$11,DATE(YEAR(Calculadora!$B$16),MONTH(Calculadora!$B$16)+A34-1,DAY(Calculadora!$B$16)),"") -> 46478 | C34: =IF(A34<=Calculadora!$F$11,F33,"") -> 22315.053 | D34: =IF(A34<=Calculadora!$F$11,IF(Calculadora!$F$13=1,IF(MOD(A34-1,Calculadora!$F$12)=0,Calculadora!$B$7,0),IF(MOD(A34,Calculadora!$F$12)=0,Calculadora!$B$7,0)),"") -> 275 | E34: =IF(A34<=Calculadora!$F$11,IF(Calculadora!$F$13=1,(C34+D34)*Calculadora!$F$9,C34*Calculadora!$F$9),"") -> 131.25716 | F34: =IF(A34<=Calculadora!$F$11,IF(Calculadora!$F$13=1,C34+D34+E34,C34+E34+D34),"") -> 22721.311 | G34: =IF(A34<=Calculadora!$F$11,G33+D34,"") -> 21300 | H34: =IF(A34<=Calculadora!$F$11,F34-G34,"") -> 1421.3106 | I34: =IF(A34<=Calculadora!$F$11,ROUNDUP(A34/12,0),"") -> 1 | J34: =IF(A34<=Calculadora!$F$11,IF(AND(Calculadora!$B$14>0,F34>=Calculadora!$B$14),1,""),"")
A35: 13 | B35: =IF(A35<=Calculadora!$F$11,DATE(YEAR(Calculadora!$B$16),MONTH(Calculadora!$B$16)+A35-1,DAY(Calculadora!$B$16)),"") -> 46508 | C35: =IF(A35<=Calculadora!$F$11,F34,"") -> 22721.311 | D35: =IF(A35<=Calculadora!$F$11,IF(Calculadora!$F$13=1,IF(MOD(A35-1,Calculadora!$F$12)=0,Calculadora!$B$7,0),IF(MOD(A35,Calculadora!$F$12)=0,Calculadora!$B$7,0)),"") -> 275 | E35: =IF(A35<=Calculadora!$F$11,IF(Calculadora!$F$13=1,(C35+D35)*Calculadora!$F$9,C35*Calculadora!$F$9),"") -> 133.64677 | F35: =IF(A35<=Calculadora!$F$11,IF(Calculadora!$F$13=1,C35+D35+E35,C35+E35+D35),"") -> 23129.957 | G35: =IF(A35<=Calculadora!$F$11,G34+D35,"") -> 21575 | H35: =IF(A35<=Calculadora!$F$11,F35-G35,"") -> 1554.9574 | I35: =IF(A35<=Calculadora!$F$11,ROUNDUP(A35/12,0),"") -> 2 | J35: =IF(A35<=Calculadora!$F$11,IF(AND(Calculadora!$B$14>0,F35>=Calculadora!$B$14),1,""),"")
... A622: 600 | B622: =IF(A622<=Calculadora!$F$11,DATE(YEAR(Calculadora!$B$16),MONTH(Calculadora!$B$16)+A622-1,DAY(Calculadora!$B$16)),"") | C622: =IF(A622<=Calculadora!$F$11,F621,"") | D622: =IF(A622<=Calculadora!$F$11,IF(Calculadora!$F$13=1,IF(MOD(A622-1,Calculadora!$F$12)=0,Calculadora!$B$7,0),IF(MOD(A622,Calculadora!$F$12)=0,Calculadora!$B$7,0)),"") | E622: =IF(A622<=Calculadora!$F$11,IF(Calculadora!$F$13=1,(C622+D622)*Calculadora!$F$9,C622*Calculadora!$F$9),"") | F622: =IF(A622<=Calculadora!$F$11,IF(Calculadora!$F$13=1,C622+D622+E622,C622+E622+D622),"") | G622: =IF(A622<=Calculadora!$F$11,G621+D622,"") | H622: =IF(A622<=Calculadora!$F$11,F622-G622,"") | I622: =IF(A622<=Calculadora!$F$11,ROUNDUP(A622/12,0),"") | J622: =IF(A622<=Calculadora!$F$11,IF(AND(Calculadora!$B$14>0,F622>=Calculadora!$B$14),1,""),"")
