Workbook

Sheet Cuadro de ventas
A1: Cuadro de ventas
B4: Periodo | C4: Todos | D4: Canal | F4: Todos | H4: Vendedor | I4: Todos
A7: Ventas netas | F7: Margen bruto | K7: Pedidos
A8: =SUMPRODUCT(Operaciones!$S$2:$S$85*(IF($C$4="Todos",1,Operaciones!$C$2:$C$85=$C$4))*(IF($F$4="Todos",1,Operaciones!$D$2:$D$85=$F$4))*(IF($I$4="Todos",1,Operaciones!$E$2:$E$85=$I$4))) -> 20312.245 | F8: =SUMPRODUCT(Operaciones!$U$2:$U$85*(IF($C$4="Todos",1,Operaciones!$C$2:$C$85=$C$4))*(IF($F$4="Todos",1,Operaciones!$D$2:$D$85=$F$4))*(IF($I$4="Todos",1,Operaciones!$E$2:$E$85=$I$4))) -> 10859.915 | K8: =SUMPRODUCT((Operaciones!$A$2:$A$85<>"")*(IF($C$4="Todos",1,Operaciones!$C$2:$C$85=$C$4))*(IF($F$4="Todos",1,Operaciones!$D$2:$D$85=$F$4))*(IF($I$4="Todos",1,Operaciones!$E$2:$E$85=$I$4))) -> 84
A12: Ticket medio | F12: Unidades netas | K12: % margen
A13: =IF(K8=0,0,A8/K8) -> 241.81245 | F13: =SUMPRODUCT((Operaciones!$K$2:$K$85-Operaciones!$O$2:$O$85)*(IF($C$4="Todos",1,Operaciones!$C$2:$C$85=$C$4))*(IF($F$4="Todos",1,Operaciones!$D$2:$D$85=$F$4))*(IF($I$4="Todos",1,Operaciones!$E$2:$E$85=$I$4))) -> 609 | K13: =IF(A8=0,0,F8/A8) -> 0.53464869
A17: Cumplimiento frente a objetivo | F17: Ventas mensuales
A18: Objetivo ventas | B18: =IF($C$4="Todos",SUM(Parámetros!$E$46:$E$57),SUMPRODUCT((Parámetros!$D$46:$D$57=$C$4)*(Parámetros!$E$46:$E$57))) -> 152250 | C18: Objetivo margen | D18: =IF($C$4="Todos",SUM(Parámetros!$F$46:$F$57),SUMPRODUCT((Parámetros!$D$46:$D$57=$C$4)*(Parámetros!$F$46:$F$57))) -> 65270 | F18: Mes | G18: Ventas netas | H18: Margen | I18: Pedidos | K18: Categoría | L18: Ventas netas | M18: % mix
A19: Desviación | B19: =A8-B18 -> -131937.75 | C19: Desviación | D19: =F8-D18 -> -54410.085 | F19: =A32 -> enero | G19: =SUMPRODUCT((Operaciones!$S$2:$S$85)*(Operaciones!$C$2:$C$85=F19)*(IF($F$4="Todos",1,Operaciones!$D$2:$D$85=$F$4))*(IF($I$4="Todos",1,Operaciones!$E$2:$E$85=$I$4))) -> 1126.222 | H19: =SUMPRODUCT((Operaciones!$U$2:$U$85)*(Operaciones!$C$2:$C$85=F19)*(IF($F$4="Todos",1,Operaciones!$D$2:$D$85=$F$4))*(IF($I$4="Todos",1,Operaciones!$E$2:$E$85=$I$4))) -> 551.842 | I19: =SUMPRODUCT((Operaciones!$A$2:$A$85<>"")*(Operaciones!$C$2:$C$85=F19)*(IF($F$4="Todos",1,Operaciones!$D$2:$D$85=$F$4))*(IF($I$4="Todos",1,Operaciones!$E$2:$E$85=$I$4))) -> 7 | K19: =B32 -> Accesorios outdoor | L19: =SUMPRODUCT((Operaciones!$S$2:$S$85)*(Operaciones!$I$2:$I$85=K19)*(IF($C$4="Todos",1,Operaciones!$C$2:$C$85=$C$4))*(IF($F$4="Todos",1,Operaciones!$D$2:$D$85=$F$4))*(IF($I$4="Todos",1,Operaciones!$E$2:$E$85=$I$4))) -> 4461.6344 | M19: =IF($A$8=0,0,L19/$A$8) -> 0.21965245
F20: =A33 -> febrero | G20: =SUMPRODUCT((Operaciones!$S$2:$S$85)*(Operaciones!$C$2:$C$85=F20)*(IF($F$4="Todos",1,Operaciones!$D$2:$D$85=$F$4))*(IF($I$4="Todos",1,Operaciones!$E$2:$E$85=$I$4))) -> 1930.4376 | H20: =SUMPRODUCT((Operaciones!$U$2:$U$85)*(Operaciones!$C$2:$C$85=F20)*(IF($F$4="Todos",1,Operaciones!$D$2:$D$85=$F$4))*(IF($I$4="Todos",1,Operaciones!$E$2:$E$85=$I$4))) -> 1077.5376 | I20: =SUMPRODUCT((Operaciones!$A$2:$A$85<>"")*(Operaciones!$C$2:$C$85=F20)*(IF($F$4="Todos",1,Operaciones!$D$2:$D$85=$F$4))*(IF($I$4="Todos",1,Operaciones!$E$2:$E$85=$I$4))) -> 8 | K20: =B33 -> Iluminación portátil | L20: =SUMPRODUCT((Operaciones!$S$2:$S$85)*(Operaciones!$I$2:$I$85=K20)*(IF($C$4="Todos",1,Operaciones!$C$2:$C$85=$C$4))*(IF($F$4="Todos",1,Operaciones!$D$2:$D$85=$F$4))*(IF($I$4="Todos",1,Operaciones!$E$2:$E$85=$I$4))) -> 6550.404 | M20: =IF($A$8=0,0,L20/$A$8) -> 0.32248547
F21: =A34 -> marzo | G21: =SUMPRODUCT((Operaciones!$S$2:$S$85)*(Operaciones!$C$2:$C$85=F21)*(IF($F$4="Todos",1,Operaciones!$D$2:$D$85=$F$4))*(IF($I$4="Todos",1,Operaciones!$E$2:$E$85=$I$4))) -> 1815.509 | H21: =SUMPRODUCT((Operaciones!$U$2:$U$85)*(Operaciones!$C$2:$C$85=F21)*(IF($F$4="Todos",1,Operaciones!$D$2:$D$85=$F$4))*(IF($I$4="Todos",1,Operaciones!$E$2:$E$85=$I$4))) -> 901.769 | I21: =SUMPRODUCT((Operaciones!$A$2:$A$85<>"")*(Operaciones!$C$2:$C$85=F21)*(IF($F$4="Todos",1,Operaciones!$D$2:$D$85=$F$4))*(IF($I$4="Todos",1,Operaciones!$E$2:$E$85=$I$4))) -> 6 | K21: =B34 -> Hidratación | L21: =SUMPRODUCT((Operaciones!$S$2:$S$85)*(Operaciones!$I$2:$I$85=K21)*(IF($C$4="Todos",1,Operaciones!$C$2:$C$85=$C$4))*(IF($F$4="Todos",1,Operaciones!$D$2:$D$85=$F$4))*(IF($I$4="Todos",1,Operaciones!$E$2:$E$85=$I$4))) -> 4077.9058 | M21: =IF($A$8=0,0,L21/$A$8) -> 0.20076096
F22: =A35 -> abril | G22: =SUMPRODUCT((Operaciones!$S$2:$S$85)*(Operaciones!$C$2:$C$85=F22)*(IF($F$4="Todos",1,Operaciones!$D$2:$D$85=$F$4))*(IF($I$4="Todos",1,Operaciones!$E$2:$E$85=$I$4))) -> 2703.514 | H22: =SUMPRODUCT((Operaciones!$U$2:$U$85)*(Operaciones!$C$2:$C$85=F22)*(IF($F$4="Todos",1,Operaciones!$D$2:$D$85=$F$4))*(IF($I$4="Todos",1,Operaciones!$E$2:$E$85=$I$4))) -> 1346.384 | I22: =SUMPRODUCT((Operaciones!$A$2:$A$85<>"")*(Operaciones!$C$2:$C$85=F22)*(IF($F$4="Todos",1,Operaciones!$D$2:$D$85=$F$4))*(IF($I$4="Todos",1,Operaciones!$E$2:$E$85=$I$4))) -> 7 | K22: =B35 -> Descanso | L22: =SUMPRODUCT((Operaciones!$S$2:$S$85)*(Operaciones!$I$2:$I$85=K22)*(IF($C$4="Todos",1,Operaciones!$C$2:$C$85=$C$4))*(IF($F$4="Todos",1,Operaciones!$D$2:$D$85=$F$4))*(IF($I$4="Todos",1,Operaciones!$E$2:$E$85=$I$4))) -> 5222.3012 | M22: =IF($A$8=0,0,L22/$A$8) -> 0.25710113
F23: =A36 -> mayo | G23: =SUMPRODUCT((Operaciones!$S$2:$S$85)*(Operaciones!$C$2:$C$85=F23)*(IF($F$4="Todos",1,Operaciones!$D$2:$D$85=$F$4))*(IF($I$4="Todos",1,Operaciones!$E$2:$E$85=$I$4))) -> 967.9616 | H23: =SUMPRODUCT((Operaciones!$U$2:$U$85)*(Operaciones!$C$2:$C$85=F23)*(IF($F$4="Todos",1,Operaciones!$D$2:$D$85=$F$4))*(IF($I$4="Todos",1,Operaciones!$E$2:$E$85=$I$4))) -> 536.7316 | I23: =SUMPRODUCT((Operaciones!$A$2:$A$85<>"")*(Operaciones!$C$2:$C$85=F23)*(IF($F$4="Todos",1,Operaciones!$D$2:$D$85=$F$4))*(IF($I$4="Todos",1,Operaciones!$E$2:$E$85=$I$4))) -> 8
F24: =A37 -> junio | G24: =SUMPRODUCT((Operaciones!$S$2:$S$85)*(Operaciones!$C$2:$C$85=F24)*(IF($F$4="Todos",1,Operaciones!$D$2:$D$85=$F$4))*(IF($I$4="Todos",1,Operaciones!$E$2:$E$85=$I$4))) -> 1257.48 | H24: =SUMPRODUCT((Operaciones!$U$2:$U$85)*(Operaciones!$C$2:$C$85=F24)*(IF($F$4="Todos",1,Operaciones!$D$2:$D$85=$F$4))*(IF($I$4="Todos",1,Operaciones!$E$2:$E$85=$I$4))) -> 675.52 | I24: =SUMPRODUCT((Operaciones!$A$2:$A$85<>"")*(Operaciones!$C$2:$C$85=F24)*(IF($F$4="Todos",1,Operaciones!$D$2:$D$85=$F$4))*(IF($I$4="Todos",1,Operaciones!$E$2:$E$85=$I$4))) -> 6
F25: =A38 -> julio | G25: =SUMPRODUCT((Operaciones!$S$2:$S$85)*(Operaciones!$C$2:$C$85=F25)*(IF($F$4="Todos",1,Operaciones!$D$2:$D$85=$F$4))*(IF($I$4="Todos",1,Operaciones!$E$2:$E$85=$I$4))) -> 1666.7766 | H25: =SUMPRODUCT((Operaciones!$U$2:$U$85)*(Operaciones!$C$2:$C$85=F25)*(IF($F$4="Todos",1,Operaciones!$D$2:$D$85=$F$4))*(IF($I$4="Todos",1,Operaciones!$E$2:$E$85=$I$4))) -> 937.0766 | I25: =SUMPRODUCT((Operaciones!$A$2:$A$85<>"")*(Operaciones!$C$2:$C$85=F25)*(IF($F$4="Todos",1,Operaciones!$D$2:$D$85=$F$4))*(IF($I$4="Todos",1,Operaciones!$E$2:$E$85=$I$4))) -> 7 | K25: Vendedor | L25: Margen | M25: Pedidos
F26: =A39 -> agosto | G26: =SUMPRODUCT((Operaciones!$S$2:$S$85)*(Operaciones!$C$2:$C$85=F26)*(IF($F$4="Todos",1,Operaciones!$D$2:$D$85=$F$4))*(IF($I$4="Todos",1,Operaciones!$E$2:$E$85=$I$4))) -> 1678.484 | H26: =SUMPRODUCT((Operaciones!$U$2:$U$85)*(Operaciones!$C$2:$C$85=F26)*(IF($F$4="Todos",1,Operaciones!$D$2:$D$85=$F$4))*(IF($I$4="Todos",1,Operaciones!$E$2:$E$85=$I$4))) -> 910.334 | I26: =SUMPRODUCT((Operaciones!$A$2:$A$85<>"")*(Operaciones!$C$2:$C$85=F26)*(IF($F$4="Todos",1,Operaciones!$D$2:$D$85=$F$4))*(IF($I$4="Todos",1,Operaciones!$E$2:$E$85=$I$4))) -> 8 | K26: =C32 -> Lucía Ortega | L26: =SUMPRODUCT((Operaciones!$U$2:$U$85)*(Operaciones!$E$2:$E$85=K26)*(IF($C$4="Todos",1,Operaciones!$C$2:$C$85=$C$4))*(IF($F$4="Todos",1,Operaciones!$D$2:$D$85=$F$4))) -> 2532.4982 | M26: =SUMPRODUCT((Operaciones!$A$2:$A$85<>"")*(Operaciones!$E$2:$E$85=K26)*(IF($C$4="Todos",1,Operaciones!$C$2:$C$85=$C$4))*(IF($F$4="Todos",1,Operaciones!$D$2:$D$85=$F$4))) -> 22
F27: =A40 -> septiembre | G27: =SUMPRODUCT((Operaciones!$S$2:$S$85)*(Operaciones!$C$2:$C$85=F27)*(IF($F$4="Todos",1,Operaciones!$D$2:$D$85=$F$4))*(IF($I$4="Todos",1,Operaciones!$E$2:$E$85=$I$4))) -> 1340.91 | H27: =SUMPRODUCT((Operaciones!$U$2:$U$85)*(Operaciones!$C$2:$C$85=F27)*(IF($F$4="Todos",1,Operaciones!$D$2:$D$85=$F$4))*(IF($I$4="Todos",1,Operaciones!$E$2:$E$85=$I$4))) -> 751.07 | I27: =SUMPRODUCT((Operaciones!$A$2:$A$85<>"")*(Operaciones!$C$2:$C$85=F27)*(IF($F$4="Todos",1,Operaciones!$D$2:$D$85=$F$4))*(IF($I$4="Todos",1,Operaciones!$E$2:$E$85=$I$4))) -> 6 | K27: =C33 -> Marco Vidal | L27: =SUMPRODUCT((Operaciones!$U$2:$U$85)*(Operaciones!$E$2:$E$85=K27)*(IF($C$4="Todos",1,Operaciones!$C$2:$C$85=$C$4))*(IF($F$4="Todos",1,Operaciones!$D$2:$D$85=$F$4))) -> 2176.3388 | M27: =SUMPRODUCT((Operaciones!$A$2:$A$85<>"")*(Operaciones!$E$2:$E$85=K27)*(IF($C$4="Todos",1,Operaciones!$C$2:$C$85=$C$4))*(IF($F$4="Todos",1,Operaciones!$D$2:$D$85=$F$4))) -> 19
F28: =A41 -> octubre | G28: =SUMPRODUCT((Operaciones!$S$2:$S$85)*(Operaciones!$C$2:$C$85=F28)*(IF($F$4="Todos",1,Operaciones!$D$2:$D$85=$F$4))*(IF($I$4="Todos",1,Operaciones!$E$2:$E$85=$I$4))) -> 2639.8622 | H28: =SUMPRODUCT((Operaciones!$U$2:$U$85)*(Operaciones!$C$2:$C$85=F28)*(IF($F$4="Todos",1,Operaciones!$D$2:$D$85=$F$4))*(IF($I$4="Todos",1,Operaciones!$E$2:$E$85=$I$4))) -> 1457.0622 | I28: =SUMPRODUCT((Operaciones!$A$2:$A$85<>"")*(Operaciones!$C$2:$C$85=F28)*(IF($F$4="Todos",1,Operaciones!$D$2:$D$85=$F$4))*(IF($I$4="Todos",1,Operaciones!$E$2:$E$85=$I$4))) -> 7 | K28: =C34 -> Noa Campos | L28: =SUMPRODUCT((Operaciones!$U$2:$U$85)*(Operaciones!$E$2:$E$85=K28)*(IF($C$4="Todos",1,Operaciones!$C$2:$C$85=$C$4))*(IF($F$4="Todos",1,Operaciones!$D$2:$D$85=$F$4))) -> 2650.3662 | M28: =SUMPRODUCT((Operaciones!$A$2:$A$85<>"")*(Operaciones!$E$2:$E$85=K28)*(IF($C$4="Todos",1,Operaciones!$C$2:$C$85=$C$4))*(IF($F$4="Todos",1,Operaciones!$D$2:$D$85=$F$4))) -> 19
F29: =A42 -> noviembre | G29: =SUMPRODUCT((Operaciones!$S$2:$S$85)*(Operaciones!$C$2:$C$85=F29)*(IF($F$4="Todos",1,Operaciones!$D$2:$D$85=$F$4))*(IF($I$4="Todos",1,Operaciones!$E$2:$E$85=$I$4))) -> 2034.5384 | H29: =SUMPRODUCT((Operaciones!$U$2:$U$85)*(Operaciones!$C$2:$C$85=F29)*(IF($F$4="Todos",1,Operaciones!$D$2:$D$85=$F$4))*(IF($I$4="Todos",1,Operaciones!$E$2:$E$85=$I$4))) -> 1067.4984 | I29: =SUMPRODUCT((Operaciones!$A$2:$A$85<>"")*(Operaciones!$C$2:$C$85=F29)*(IF($F$4="Todos",1,Operaciones!$D$2:$D$85=$F$4))*(IF($I$4="Todos",1,Operaciones!$E$2:$E$85=$I$4))) -> 8 | K29: =C35 -> Iker Soto | L29: =SUMPRODUCT((Operaciones!$U$2:$U$85)*(Operaciones!$E$2:$E$85=K29)*(IF($C$4="Todos",1,Operaciones!$C$2:$C$85=$C$4))*(IF($F$4="Todos",1,Operaciones!$D$2:$D$85=$F$4))) -> 3500.7122 | M29: =SUMPRODUCT((Operaciones!$A$2:$A$85<>"")*(Operaciones!$E$2:$E$85=K29)*(IF($C$4="Todos",1,Operaciones!$C$2:$C$85=$C$4))*(IF($F$4="Todos",1,Operaciones!$D$2:$D$85=$F$4))) -> 24
F30: =A43 -> diciembre | G30: =SUMPRODUCT((Operaciones!$S$2:$S$85)*(Operaciones!$C$2:$C$85=F30)*(IF($F$4="Todos",1,Operaciones!$D$2:$D$85=$F$4))*(IF($I$4="Todos",1,Operaciones!$E$2:$E$85=$I$4))) -> 1150.55 | H30: =SUMPRODUCT((Operaciones!$U$2:$U$85)*(Operaciones!$C$2:$C$85=F30)*(IF($F$4="Todos",1,Operaciones!$D$2:$D$85=$F$4))*(IF($I$4="Todos",1,Operaciones!$E$2:$E$85=$I$4))) -> 647.09 | I30: =SUMPRODUCT((Operaciones!$A$2:$A$85<>"")*(Operaciones!$C$2:$C$85=F30)*(IF($F$4="Todos",1,Operaciones!$D$2:$D$85=$F$4))*(IF($I$4="Todos",1,Operaciones!$E$2:$E$85=$I$4))) -> 6
A32: enero | B32: Accesorios outdoor | C32: Lucía Ortega | L32: Uso rápido: 1) Cambia los filtros azules. 2) Añade nuevas líneas en Operaciones. 3) El cuadro se actualiza con fórmulas. 4) Puedes sustituir catálogo y objetivos en Parámetros.
A33: febrero | B33: Iluminación portátil | C33: Marco Vidal
A34: marzo | B34: Hidratación | C34: Noa Campos
A35: abril | B35: Descanso | C35: Iker Soto
A36: mayo
A37: junio
A38: julio
A39: agosto
A40: septiembre
A41: octubre
A42: noviembre
A43: diciembre

Sheet Operaciones
A1: ID venta | B1: Fecha | C1: Mes | D1: Canal | E1: Vendedor | F1: Zona | G1: SKU | H1: Producto | I1: Categoría | J1: Cliente | K1: Unidades | L1: Precio unit. | M1: Desc. % | N1: Imp. % | O1: Devolución und. | P1: Coste unit. | Q1: Ventas brutas | R1: Descuento € | S1: Ventas netas | T1: Coste total | U1: Margen bruto | V1: Ticket neto
A2: V-1001 | B2: 46026 | C2: =CHOOSE(MONTH(B2),"enero","febrero","marzo","abril","mayo","junio","julio","agosto","septiembre","octubre","noviembre","diciembre") -> enero | D2: Tienda pop-up | E2: Marco Vidal | F2: Levante | G2: ACC-102 | H2: Funda impermeable universal | I2: Accesorios outdoor | J2: Nexo Urbano | K2: 6 | L2: 17.64 | M2: 0.03 | N2: 0.21 | O2: 0 | P2: 7.21 | Q2: =K2*L2 -> 105.84 | R2: =Q2*M2 -> 3.1752 | S2: =Q2-R2 -> 102.6648 | T2: =MAX(K2-O2,0)*P2 -> 43.26 | U2: =S2-T2 -> 59.4048 | V2: =IF(MAX(K2-O2,0)=0,0,S2/MAX(K2-O2,0)) -> 17.1108
A3: V-1002 | B3: 46029 | C3: =CHOOSE(MONTH(B3),"enero","febrero","marzo","abril","mayo","junio","julio","agosto","septiembre","octubre","noviembre","diciembre") -> enero | D3: Distribuidor | E3: Iker Soto | F3: Norte | G3: HID-302 | H3: Filtro portátil de agua | I3: Hidratación | J3: Órbita Norte | K3: 5 | L3: 49 | M3: 0.03 | N3: 0.21 | O3: 0 | P3: 24.72 | Q3: =K3*L3 -> 245 | R3: =Q3*M3 -> 7.35 | S3: =Q3-R3 -> 237.65 | T3: =MAX(K3-O3,0)*P3 -> 123.6 | U3: =S3-T3 -> 114.05 | V3: =IF(MAX(K3-O3,0)=0,0,S3/MAX(K3-O3,0)) -> 47.53
A4: V-1003 | B4: 46032 | C4: =CHOOSE(MONTH(B4),"enero","febrero","marzo","abril","mayo","junio","julio","agosto","septiembre","octubre","noviembre","diciembre") -> enero | D4: Marketplace | E4: Marco Vidal | F4: Levante | G4: DES-402 | H4: Almohada inflable ergonómica | I4: Descanso | J4: Nube Taller | K4: 2 | L4: 29 | M4: 0.1 | N4: 0.21 | O4: 0 | P4: 12.36 | Q4: =K4*L4 -> 58 | R4: =Q4*M4 -> 5.8 | S4: =Q4-R4 -> 52.2 | T4: =MAX(K4-O4,0)*P4 -> 24.72 | U4: =S4-T4 -> 27.48 | V4: =IF(MAX(K4-O4,0)=0,0,S4/MAX(K4-O4,0)) -> 26.1
A5: V-1004 | B5: 46033 | C5: =CHOOSE(MONTH(B5),"enero","febrero","marzo","abril","mayo","junio","julio","agosto","septiembre","octubre","noviembre","diciembre") -> enero | D5: Web propia | E5: Iker Soto | F5: Sur | G5: ACC-101 | H5: Mochila técnica 22L | I5: Accesorios outdoor | J5: Costa Circular | K5: 9 | L5: 58 | M5: 0.08 | N5: 0.21 | O5: 0 | P5: 31.93 | Q5: =K5*L5 -> 522 | R5: =Q5*M5 -> 41.76 | S5: =Q5-R5 -> 480.24 | T5: =MAX(K5-O5,0)*P5 -> 287.37 | U5: =S5-T5 -> 192.87 | V5: =IF(MAX(K5-O5,0)=0,0,S5/MAX(K5-O5,0)) -> 53.36
A6: V-1005 | B6: 46036 | C6: =CHOOSE(MONTH(B6),"enero","febrero","marzo","abril","mayo","junio","julio","agosto","septiembre","octubre","noviembre","diciembre") -> enero | D6: Tienda pop-up | E6: Iker Soto | F6: Centro | G6: ACC-103 | H6: Kit de cuerdas reflectantes | I6: Accesorios outdoor | J6: Órbita Norte | K6: 9 | L6: 13.72 | M6: 0.08 | N6: 0.21 | O6: 0 | P6: 5.15 | Q6: =K6*L6 -> 123.48 | R6: =Q6*M6 -> 9.8784 | S6: =Q6-R6 -> 113.6016 | T6: =MAX(K6-O6,0)*P6 -> 46.35 | U6: =S6-T6 -> 67.2516 | V6: =IF(MAX(K6-O6,0)=0,0,S6/MAX(K6-O6,0)) -> 12.6224
A7: V-1006 | B7: 46040 | C7: =CHOOSE(MONTH(B7),"enero","febrero","marzo","abril","mayo","junio","julio","agosto","septiembre","octubre","noviembre","diciembre") -> enero | D7: Web propia | E7: Lucía Ortega | F7: Levante | G7: HID-303 | H7: Vaso plegable silicona | I7: Hidratación | J7: Órbita Norte | K7: 3 | L7: 11.76 | M7: 0 | N7: 0.21 | O7: 0 | P7: 4 | Q7: =K7*L7 -> 35.28 | R7: =Q7*M7 -> 0 | S7: =Q7-R7 -> 35.28 | T7: =MAX(K7-O7,0)*P7 -> 12 | U7: =S7-T7 -> 23.28 | V7: =IF(MAX(K7-O7,0)=0,0,S7/MAX(K7-O7,0)) -> 11.76
A8: V-1007 | B8: 46044 | C8: =CHOOSE(MONTH(B8),"enero","febrero","marzo","abril","mayo","junio","julio","agosto","septiembre","octubre","noviembre","diciembre") -> enero | D8: Marketplace | E8: Iker Soto | F8: Sur | G8: DES-402 | H8: Almohada inflable ergonómica | I8: Descanso | J8: Bruma Atelier | K8: 4 | L8: 28.42 | M8: 0.08 | N8: 0.21 | O8: 1 | P8: 12.36 | Q8: =K8*L8 -> 113.68 | R8: =Q8*M8 -> 9.0944 | S8: =Q8-R8 -> 104.5856 | T8: =MAX(K8-O8,0)*P8 -> 37.08 | U8: =S8-T8 -> 67.5056 | V8: =IF(MAX(K8-O8,0)=0,0,S8/MAX(K8-O8,0)) -> 34.861867
A9: V-1008 | B9: 46056 | C9: =CHOOSE(MONTH(B9),"enero","febrero","marzo","abril","mayo","junio","julio","agosto","septiembre","octubre","noviembre","diciembre") -> febrero | D9: Marketplace | E9: Lucía Ortega | F9: Levante | G9: HID-302 | H9: Filtro portátil de agua | I9: Hidratación | J9: Latitud Sur | K9: 8 | L9: 49.98 | M9: 0 | N9: 0.21 | O9: 1 | P9: 23.28 | Q9: =K9*L9 -> 399.84 | R9: =Q9*M9 -> 0 | S9: =Q9-R9 -> 399.84 | T9: =MAX(K9-O9,0)*P9 -> 162.96 | U9: =S9-T9 -> 236.88 | V9: =IF(MAX(K9-O9,0)=0,0,S9/MAX(K9-O9,0)) -> 57.12
A10: V-1009 | B10: 46060 | C10: =CHOOSE(MONTH(B10),"enero","febrero","marzo","abril","mayo","junio","julio","agosto","septiembre","octubre","noviembre","diciembre") -> febrero | D10: Web propia | E10: Noa Campos | F10: Sur | G10: ACC-102 | H10: Funda impermeable universal | I10: Accesorios outdoor | J10: Aurora Base | K10: 13 | L10: 18 | M10: 0.05 | N10: 0.21 | O10: 1 | P10: 7.21 | Q10: =K10*L10 -> 234 | R10: =Q10*M10 -> 11.7 | S10: =Q10-R10 -> 222.3 | T10: =MAX(K10-O10,0)*P10 -> 86.52 | U10: =S10-T10 -> 135.78 | V10: =IF(MAX(K10-O10,0)=0,0,S10/MAX(K10-O10,0)) -> 18.525
A11: V-1010 | B11: 46063 | C11: =CHOOSE(MONTH(B11),"enero","febrero","marzo","abril","mayo","junio","julio","agosto","septiembre","octubre","noviembre","diciembre") -> febrero | D11: Web propia | E11: Iker Soto | F11: Levante | G11: DES-403 | H11: Sábana saco ligera | I11: Descanso | J11: Casa Trama | K11: 6 | L11: 45 | M11: 0.08 | N11: 0.21 | O11: 0 | P11: 20.37 | Q11: =K11*L11 -> 270 | R11: =Q11*M11 -> 21.6 | S11: =Q11-R11 -> 248.4 | T11: =MAX(K11-O11,0)*P11 -> 122.22 | U11: =S11-T11 -> 126.18 | V11: =IF(MAX(K11-O11,0)=0,0,S11/MAX(K11-O11,0)) -> 41.4
A12: V-1011 | B12: 46064 | C12: =CHOOSE(MONTH(B12),"enero","febrero","marzo","abril","mayo","junio","julio","agosto","septiembre","octubre","noviembre","diciembre") -> febrero | D12: Web propia | E12: Lucía Ortega | F12: Centro | G12: LUZ-202 | H12: Lámpara colgante solar | I12: Iluminación portátil | J12: Órbita Norte | K12: 2 | L12: 42.84 | M12: 0 | N12: 0.21 | O12: 0 | P12: 20.6 | Q12: =K12*L12 -> 85.68 | R12: =Q12*M12 -> 0 | S12: =Q12-R12 -> 85.68 | T12: =MAX(K12-O12,0)*P12 -> 41.2 | U12: =S12-T12 -> 44.48 | V12: =IF(MAX(K12-O12,0)=0,0,S12/MAX(K12-O12,0)) -> 42.84
A13: V-1012 | B13: 46067 | C13: =CHOOSE(MONTH(B13),"enero","febrero","marzo","abril","mayo","junio","julio","agosto","septiembre","octubre","noviembre","diciembre") -> febrero | D13: Web propia | E13: Marco Vidal | F13: Centro | G13: LUZ-202 | H13: Lámpara colgante solar | I13: Iluminación portátil | J13: Aurora Base | K13: 5 | L13: 42 | M13: 0.03 | N13: 0.21 | O13: 0 | P13: 20 | Q13: =K13*L13 -> 210 | R13: =Q13*M13 -> 6.3 | S13: =Q13-R13 -> 203.7 | T13: =MAX(K13-O13,0)*P13 -> 100 | U13: =S13-T13 -> 103.7 | V13: =IF(MAX(K13-O13,0)=0,0,S13/MAX(K13-O13,0)) -> 40.74
... A85: V-1084 | B85: 46373 | C85: =CHOOSE(MONTH(B85),"enero","febrero","marzo","abril","mayo","junio","julio","agosto","septiembre","octubre","noviembre","diciembre") -> diciembre | D85: Distribuidor | E85: Marco Vidal | F85: Centro | G85: DES-402 | H85: Almohada inflable ergonómica | I85: Descanso | J85: Nexo Urbano | K85: 5 | L85: 29 | M85: 0.08 | N85: 0.21 | O85: 0 | P85: 12.36 | Q85: =K85*L85 -> 145 | R85: =Q85*M85 -> 11.6 | S85: =Q85-R85 -> 133.4 | T85: =MAX(K85-O85,0)*P85 -> 61.8 | U85: =S85-T85 -> 71.6 | V85: =IF(MAX(K85-O85,0)=0,0,S85/MAX(K85-O85,0)) -> 26.68

Sheet Parámetros
A1: Parámetros y listas
A3: Lista | B3: Valor | D3: SKU | E3: Producto | F3: Categoría | G3: Precio lista | H3: Coste unit.
A4: Canales | B4: Web propia | D4: ACC-101 | E4: Mochila técnica 22L | F4: Accesorios outdoor | G4: 58 | H4: 31
B5: Marketplace | D5: ACC-102 | E5: Funda impermeable universal | F5: Accesorios outdoor | G5: 18 | H5: 7
B6: Tienda pop-up | D6: ACC-103 | E6: Kit de cuerdas reflectantes | F6: Accesorios outdoor | G6: 14 | H6: 5
B7: Distribuidor | D7: LUZ-201 | E7: Linterna recargable compacta | F7: Iluminación portátil | G7: 36 | H7: 16
D8: LUZ-202 | E8: Lámpara colgante solar | F8: Iluminación portátil | G8: 42 | H8: 20
A9: Vendedores | B9: Lucía Ortega | D9: LUZ-203 | E9: Pack luces de señalización | F9: Iluminación portátil | G9: 24 | H9: 10
B10: Marco Vidal | D10: HID-301 | E10: Botella térmica 750ml | F10: Hidratación | G10: 27 | H10: 11
B11: Noa Campos | D11: HID-302 | E11: Filtro portátil de agua | F11: Hidratación | G11: 49 | H11: 24
B12: Iker Soto | D12: HID-303 | E12: Vaso plegable silicona | F12: Hidratación | G12: 12 | H12: 4
D13: DES-401 | E13: Manta térmica premium | F13: Descanso | G13: 39 | H13: 18
A14: Zonas | B14: Norte | D14: DES-402 | E14: Almohada inflable ergonómica | F14: Descanso | G14: 29 | H14: 12
B15: Centro | D15: DES-403 | E15: Sábana saco ligera | F15: Descanso | G15: 45 | H15: 21
B16: Levante
B17: Sur
A19: Meses | B19: Todos
B20: enero
B21: febrero
B22: marzo
B23: abril
B24: mayo
B25: junio
B26: julio
B27: agosto
B28: septiembre
B29: octubre
B30: noviembre
B31: diciembre
A33: Filtro canal | B33: Todos
B34: Web propia
B35: Marketplace
B36: Tienda pop-up
B37: Distribuidor
A39: Filtro vendedor | B39: Todos
B40: Lucía Ortega
B41: Marco Vidal
B42: Noa Campos
B43: Iker Soto
D45: Mes | E45: Objetivo ventas netas | F45: Objetivo margen bruto
...
