Workbook

Sheet Organigrama
A1: Plantilla de organigrama editable
A2: Ejemplo de uso · Centro Cultural Mar Abierto
A4: Entidad | Q4: Total puestos | R4: =COUNTA(Datos!$A$5:$A$21) -> 17
A5: Fecha de revisión | C5: 15/04/2026 | Q5: Cubiertos | R5: =COUNTIF(Datos!$G$5:$G$21,"Cubierto") -> 15
A6: Edita la hoja “Datos”. Esta vista se actualiza automáticamente. | G6: =IF(Datos!$G$5="Vacante",Datos!$D$5&" · VACANTE",IF(Datos!$G$5="En incorporación",Datos!$E$5&" · "&Datos!$D$5&" · alta pendiente",Datos!$E$5&" · "&Datos!$D$5)) -> Clara Montes · Directora ejecutiva | Q6: Vacantes | R6: =COUNTIF(Datos!$G$5:$G$21,"Vacante") -> 1
Q7: En incorporación | R7: =COUNTIF(Datos!$G$5:$G$21,"En incorporación") -> 1
Q8: Cobertura | R8: =IF(R4=0,0,R5/R4) -> 0.88235294
Q9: Áreas nivel 2 | R9: =COUNTIF(Datos!$B$5:$B$21,2) -> 4
A10: =IF(Datos!$G$6="Vacante",Datos!$D$6&" · VACANTE",IF(Datos!$G$6="En incorporación",Datos!$E$6&" · "&Datos!$D$6&" · alta pendiente",Datos!$E$6&" · "&Datos!$D$6)) -> Vera Solís · Coordinadora de programación | E10: =IF(Datos!$G$7="Vacante",Datos!$D$7&" · VACANTE",IF(Datos!$G$7="En incorporación",Datos!$E$7&" · "&Datos!$D$7&" · alta pendiente",Datos!$E$7&" · "&Datos!$D$7)) -> Iván Lobo · Coordinador de mediación | I10: =IF(Datos!$G$8="Vacante",Datos!$D$8&" · VACANTE",IF(Datos!$G$8="En incorporación",Datos!$E$8&" · "&Datos!$D$8&" · alta pendiente",Datos!$E$8&" · "&Datos!$D$8)) -> Lucía Riera · Coordinadora de operaciones | M10: =IF(Datos!$G$9="Vacante",Datos!$D$9&" · VACANTE",IF(Datos!$G$9="En incorporación",Datos!$E$9&" · "&Datos!$D$9&" · alta pendiente",Datos!$E$9&" · "&Datos!$D$9)) -> Tomás Freire · Responsable de escena digital · alta pendiente
Q11: Leyenda
Q12: Los datos se editan en la hoja Datos
A13: =IF(Datos!$G$10="Vacante",Datos!$D$10&" · VACANTE",IF(Datos!$G$10="En incorporación",Datos!$E$10&" · "&Datos!$D$10&" · alta pendiente",Datos!$E$10&" · "&Datos!$D$10)) -> Noa Beltrán · Curadora residente | E13: =IF(Datos!$G$13="Vacante",Datos!$D$13&" · VACANTE",IF(Datos!$G$13="En incorporación",Datos!$E$13&" · "&Datos!$D$13&" · alta pendiente",Datos!$E$13&" · "&Datos!$D$13)) -> Lía Campos · Educadora senior | I13: =IF(Datos!$G$16="Vacante",Datos!$D$16&" · VACANTE",IF(Datos!$G$16="En incorporación",Datos!$E$16&" · "&Datos!$D$16&" · alta pendiente",Datos!$E$16&" · "&Datos!$D$16)) -> Nerea Pons · Técnica de sala | M13: =IF(Datos!$G$19="Vacante",Datos!$D$19&" · VACANTE",IF(Datos!$G$19="En incorporación",Datos!$E$19&" · "&Datos!$D$19&" · alta pendiente",Datos!$E$19&" · "&Datos!$D$19)) -> Celia Vives · Diseñadora UX cultural | Q13: Vacante y alta pendiente se muestran en texto
A16: =IF(Datos!$G$11="Vacante",Datos!$D$11&" · VACANTE",IF(Datos!$G$11="En incorporación",Datos!$E$11&" · "&Datos!$D$11&" · alta pendiente",Datos!$E$11&" · "&Datos!$D$11)) -> Gael Sanz · Productor de exposiciones | E16: =IF(Datos!$G$14="Vacante",Datos!$D$14&" · VACANTE",IF(Datos!$G$14="En incorporación",Datos!$E$14&" · "&Datos!$D$14&" · alta pendiente",Datos!$E$14&" · "&Datos!$D$14)) -> Bruno Estévez · Responsable de comunidades | I16: =IF(Datos!$G$17="Vacante",Datos!$D$17&" · VACANTE",IF(Datos!$G$17="En incorporación",Datos!$E$17&" · "&Datos!$D$17&" · alta pendiente",Datos!$E$17&" · "&Datos!$D$17)) -> Mario Cid · Responsable de taquilla | M16: =IF(Datos!$G$20="Vacante",Datos!$D$20&" · VACANTE",IF(Datos!$G$20="En incorporación",Datos!$E$20&" · "&Datos!$D$20&" · alta pendiente",Datos!$E$20&" · "&Datos!$D$20)) -> Sergio Nadal · Realizador audiovisual
A19: =IF(Datos!$G$12="Vacante",Datos!$D$12&" · VACANTE",IF(Datos!$G$12="En incorporación",Datos!$E$12&" · "&Datos!$D$12&" · alta pendiente",Datos!$E$12&" · "&Datos!$D$12)) -> Aina Duarte · Técnica de agenda artística | E19: =IF(Datos!$G$15="Vacante",Datos!$D$15&" · VACANTE",IF(Datos!$G$15="En incorporación",Datos!$E$15&" · "&Datos!$D$15&" · alta pendiente",Datos!$E$15&" · "&Datos!$D$15)) -> Elsa Quirós · Guía de talleres | I19: =IF(Datos!$G$18="Vacante",Datos!$D$18&" · VACANTE",IF(Datos!$G$18="En incorporación",Datos!$E$18&" · "&Datos!$D$18&" · alta pendiente",Datos!$E$18&" · "&Datos!$D$18)) -> Auxiliar logístico · VACANTE | M19: =IF(Datos!$G$21="Vacante",Datos!$D$21&" · VACANTE",IF(Datos!$G$21="En incorporación",Datos!$E$21&" · "&Datos!$D$21&" · alta pendiente",Datos!$E$21&" · "&Datos!$D$21)) -> Mara Fonseca · Analista de audiencias
A21: Si cambias el orden de las filas en “Datos”, tendrás que reubicar las referencias visuales.

Sheet Datos
A1: Datos del organigrama
A2: Edita solo esta tabla para actualizar la vista del organigrama.
A3: Mantén el orden de las filas si quieres conservar la misma maqueta visual.
A4: Código | B4: Nivel | C4: Área | D4: Puesto | E4: Responsable | F4: Reporta a | G4: Estado
A5: DG-01 | B5: 1 | C5: Dirección General | D5: Directora ejecutiva | E5: Clara Montes | G5: Cubierto
A6: PR-01 | B6: 2 | C6: Programación | D6: Coordinadora de programación | E6: Vera Solís | F6: DG-01 | G6: Cubierto
A7: ME-01 | B7: 2 | C7: Mediación | D7: Coordinador de mediación | E7: Iván Lobo | F7: DG-01 | G7: Cubierto
A8: OP-01 | B8: 2 | C8: Operaciones | D8: Coordinadora de operaciones | E8: Lucía Riera | F8: DG-01 | G8: Cubierto
A9: ED-01 | B9: 2 | C9: Escena digital | D9: Responsable de escena digital | E9: Tomás Freire | F9: DG-01 | G9: En incorporación
A10: PR-02 | B10: 3 | C10: Programación | D10: Curadora residente | E10: Noa Beltrán | F10: PR-01 | G10: Cubierto
A11: PR-03 | B11: 3 | C11: Programación | D11: Productor de exposiciones | E11: Gael Sanz | F11: PR-01 | G11: Cubierto
A12: PR-04 | B12: 3 | C12: Programación | D12: Técnica de agenda artística | E12: Aina Duarte | F12: PR-01 | G12: Cubierto
A13: ME-02 | B13: 3 | C13: Mediación | D13: Educadora senior | E13: Lía Campos | F13: ME-01 | G13: Cubierto
A14: ME-03 | B14: 3 | C14: Mediación | D14: Responsable de comunidades | E14: Bruno Estévez | F14: ME-01 | G14: Cubierto
A15: ME-04 | B15: 3 | C15: Mediación | D15: Guía de talleres | E15: Elsa Quirós | F15: ME-01 | G15: Cubierto
A16: OP-02 | B16: 3 | C16: Operaciones | D16: Técnica de sala | E16: Nerea Pons | F16: OP-01 | G16: Cubierto
A17: OP-03 | B17: 3 | C17: Operaciones | D17: Responsable de taquilla | E17: Mario Cid | F17: OP-01 | G17: Cubierto
A18: OP-04 | B18: 3 | C18: Operaciones | D18: Auxiliar logístico | F18: OP-01 | G18: Vacante
A19: ED-02 | B19: 3 | C19: Escena digital | D19: Diseñadora UX cultural | E19: Celia Vives | F19: ED-01 | G19: Cubierto
A20: ED-03 | B20: 3 | C20: Escena digital | D20: Realizador audiovisual | E20: Sergio Nadal | F20: ED-01 | G20: Cubierto
A21: ED-04 | B21: 3 | C21: Escena digital | D21: Analista de audiencias | E21: Mara Fonseca | F21: ED-01 | G21: Cubierto
