Workbook

Sheet Panel
A1: Contabilidad doméstica inteligente
A2: Panel de control listo para usar: ingresos, gasto esencial, deseos, ahorro, balance y seguimiento del presupuesto.
A4: Mes analizado | B4: Septiembre | D4: Año | E4: 2025 | G4: Inicio | H4: =DATE($E$4,MATCH($B$4,Listas!$B$2:$B$13,0),1) -> 45901 | I4: Fin | K4: Último movimiento | L4: =MAX(Movimientos!$A$9:$A$400) -> 46019
A6: Ingresos reales | D6: Necesidades | G6: Deseos | J6: Ahorro aportado
A7: =SUMIFS(Movimientos!$L$9:$L$400,Movimientos!$A$9:$A$400,">="&$H$4,Movimientos!$A$9:$A$400,"<"&EDATE($H$4,1),Movimientos!$D$9:$D$400,"Ingreso") -> 2724.34 | D7: =SUMIFS(Movimientos!$L$9:$L$400,Movimientos!$A$9:$A$400,">="&$H$4,Movimientos!$A$9:$A$400,"<"&EDATE($H$4,1),Movimientos!$D$9:$D$400,"Gasto",Movimientos!$H$9:$H$400,"Necesidades") -> 1581.46 | G7: =SUMIFS(Movimientos!$L$9:$L$400,Movimientos!$A$9:$A$400,">="&$H$4,Movimientos!$A$9:$A$400,"<"&EDATE($H$4,1),Movimientos!$D$9:$D$400,"Gasto",Movimientos!$H$9:$H$400,"Deseos") -> 67.59 | J7: =SUMIFS(Movimientos!$L$9:$L$400,Movimientos!$A$9:$A$400,">="&$H$4,Movimientos!$A$9:$A$400,"<"&EDATE($H$4,1),Movimientos!$D$9:$D$400,"Ahorro") -> 309.18
A11: Balance del mes | D11: % ahorro | G11: Gasto fijo | J11: Gasto variable
A12: =SUMIFS(Movimientos!$M$9:$M$400,Movimientos!$A$9:$A$400,">="&$H$4,Movimientos!$A$9:$A$400,"<"&EDATE($H$4,1)) -> 766.11 | D12: =IF(A7=0,"",J7/A7) -> 0.11348804 | G12: =SUMIFS(Movimientos!$L$9:$L$400,Movimientos!$A$9:$A$400,">="&$H$4,Movimientos!$A$9:$A$400,"<"&EDATE($H$4,1),Movimientos!$D$9:$D$400,"Gasto",Movimientos!$I$9:$I$400,"Fijo") -> 1104.9 | J12: =SUMIFS(Movimientos!$L$9:$L$400,Movimientos!$A$9:$A$400,">="&$H$4,Movimientos!$A$9:$A$400,"<"&EDATE($H$4,1),Movimientos!$D$9:$D$400,"Gasto",Movimientos!$I$9:$I$400,"Variable") -> 544.15
A15: Chequeo 50/30/20 | G15: Presupuesto vs. real por categoría
A16: Grupo | B16: Objetivo | C16: Real € | D16: Real % | E16: Estado | G16: Categoría | H16: Presupuesto | I16: Real | J16: Desviación | K16: Uso | L16: Estado
A17: Necesidades | B17: 0.5 | C17: =D7 -> 1581.46 | D17: =IF($A$7=0,"",C17/$A$7) -> 0.58049289 | E17: =IF(D17<=0.5,"Dentro",IF(D17<=0.55,"Vigilar","Exceso")) -> Exceso | G17: Vivienda | H17: =SUMIFS(Presupuesto!$E$8:$E$400,Presupuesto!$A$8:$A$400,$H$4,Presupuesto!$C$8:$C$400,$G17) -> 1068 | I17: =SUMIFS(Presupuesto!$F$8:$F$400,Presupuesto!$A$8:$A$400,$H$4,Presupuesto!$C$8:$C$400,$G17) -> 1062.9 | J17: =IF(H17="","",I17-H17) -> -5.1 | K17: =IF(H17=0,"",I17/H17) -> 0.99522472 | L17: =IF(G17="Ahorro planificado",IF(K17>=1,"Bien",IF(K17>=0.9,"Vigilar","Bajo")),IF(K17<=1,"Bien",IF(K17<=1.1,"Vigilar","Exceso"))) -> Bien
A18: Deseos | B18: 0.3 | C18: =G7 -> 67.59 | D18: =IF($A$7=0,"",C18/$A$7) -> 0.024809679 | E18: =IF(D18<=0.3,"Dentro",IF(D18<=0.35,"Vigilar","Exceso")) -> Dentro | G18: Alimentación | H18: =SUMIFS(Presupuesto!$E$8:$E$400,Presupuesto!$A$8:$A$400,$H$4,Presupuesto!$C$8:$C$400,$G18) -> 415 | I18: =SUMIFS(Presupuesto!$F$8:$F$400,Presupuesto!$A$8:$A$400,$H$4,Presupuesto!$C$8:$C$400,$G18) -> 438.35 | J18: =IF(H18="","",I18-H18) -> 23.35 | K18: =IF(H18=0,"",I18/H18) -> 1.0562651 | L18: =IF(G18="Ahorro planificado",IF(K18>=1,"Bien",IF(K18>=0.9,"Vigilar","Bajo")),IF(K18<=1,"Bien",IF(K18<=1.1,"Vigilar","Exceso"))) -> Vigilar
A19: Ahorro | B19: 0.2 | C19: =J7 -> 309.18 | D19: =IF($A$7=0,"",C19/$A$7) -> 0.11348804 | E19: =IF(D19>=0.2,"Dentro",IF(D19>=0.15,"Vigilar","Bajo")) -> Bajo | G19: Movilidad | H19: =SUMIFS(Presupuesto!$E$8:$E$400,Presupuesto!$A$8:$A$400,$H$4,Presupuesto!$C$8:$C$400,$G19) -> 54 | I19: =SUMIFS(Presupuesto!$F$8:$F$400,Presupuesto!$A$8:$A$400,$H$4,Presupuesto!$C$8:$C$400,$G19) -> 38.21 | J19: =IF(H19="","",I19-H19) -> -15.79 | K19: =IF(H19=0,"",I19/H19) -> 0.70759259 | L19: =IF(G19="Ahorro planificado",IF(K19>=1,"Bien",IF(K19>=0.9,"Vigilar","Bajo")),IF(K19<=1,"Bien",IF(K19<=1.1,"Vigilar","Exceso"))) -> Bien
G20: Salud y cuidado | H20: =SUMIFS(Presupuesto!$E$8:$E$400,Presupuesto!$A$8:$A$400,$H$4,Presupuesto!$C$8:$C$400,$G20) -> 36 | I20: =SUMIFS(Presupuesto!$F$8:$F$400,Presupuesto!$A$8:$A$400,$H$4,Presupuesto!$C$8:$C$400,$G20) -> 18 | J20: =IF(H20="","",I20-H20) -> -18 | K20: =IF(H20=0,"",I20/H20) -> 0.5 | L20: =IF(G20="Ahorro planificado",IF(K20>=1,"Bien",IF(K20>=0.9,"Vigilar","Bajo")),IF(K20<=1,"Bien",IF(K20<=1.1,"Vigilar","Exceso"))) -> Bien
G21: Ocio y cultura | H21: =SUMIFS(Presupuesto!$E$8:$E$400,Presupuesto!$A$8:$A$400,$H$4,Presupuesto!$C$8:$C$400,$G21) -> 90 | I21: =SUMIFS(Presupuesto!$F$8:$F$400,Presupuesto!$A$8:$A$400,$H$4,Presupuesto!$C$8:$C$400,$G21) -> 46 | J21: =IF(H21="","",I21-H21) -> -44 | K21: =IF(H21=0,"",I21/H21) -> 0.51111111 | L21: =IF(G21="Ahorro planificado",IF(K21>=1,"Bien",IF(K21>=0.9,"Vigilar","Bajo")),IF(K21<=1,"Bien",IF(K21<=1.1,"Vigilar","Exceso"))) -> Bien
A22: Evolución mensual | G22: Desarrollo personal | H22: =SUMIFS(Presupuesto!$E$8:$E$400,Presupuesto!$A$8:$A$400,$H$4,Presupuesto!$C$8:$C$400,$G22) -> 40 | I22: =SUMIFS(Presupuesto!$F$8:$F$400,Presupuesto!$A$8:$A$400,$H$4,Presupuesto!$C$8:$C$400,$G22) -> 21.59 | J22: =IF(H22="","",I22-H22) -> -18.41 | K22: =IF(H22=0,"",I22/H22) -> 0.53975 | L22: =IF(G22="Ahorro planificado",IF(K22>=1,"Bien",IF(K22>=0.9,"Vigilar","Bajo")),IF(K22<=1,"Bien",IF(K22<=1.1,"Vigilar","Exceso"))) -> Bien
A23: Mes | B23: Ingresos | C23: Necesidades | D23: Deseos | E23: Ahorro | F23: Balance | G23: Tecnología | H23: =SUMIFS(Presupuesto!$E$8:$E$400,Presupuesto!$A$8:$A$400,$H$4,Presupuesto!$C$8:$C$400,$G23) -> 24 | I23: =SUMIFS(Presupuesto!$F$8:$F$400,Presupuesto!$A$8:$A$400,$H$4,Presupuesto!$C$8:$C$400,$G23) -> 24 | J23: =IF(H23="","",I23-H23) -> 0 | K23: =IF(H23=0,"",I23/H23) -> 1 | L23: =IF(G23="Ahorro planificado",IF(K23>=1,"Bien",IF(K23>=0.9,"Vigilar","Bajo")),IF(K23<=1,"Bien",IF(K23<=1.1,"Vigilar","Exceso"))) -> Bien
A24: Enero | B24: =SUMIFS(Movimientos!$L$9:$L$400,Movimientos!$A$9:$A$400,">="&DATE($E$4,1,1),Movimientos!$A$9:$A$400,"<"&EDATE(DATE($E$4,1,1),1),Movimientos!$D$9:$D$400,"Ingreso") -> 2436.35 | C24: =SUMIFS(Movimientos!$L$9:$L$400,Movimientos!$A$9:$A$400,">="&DATE($E$4,1,1),Movimientos!$A$9:$A$400,"<"&EDATE(DATE($E$4,1,1),1),Movimientos!$D$9:$D$400,"Gasto",Movimientos!$H$9:$H$400,"Necesidades") -> 1578.69 | D24: =SUMIFS(Movimientos!$L$9:$L$400,Movimientos!$A$9:$A$400,">="&DATE($E$4,1,1),Movimientos!$A$9:$A$400,"<"&EDATE(DATE($E$4,1,1),1),Movimientos!$D$9:$D$400,"Gasto",Movimientos!$H$9:$H$400,"Deseos") -> 150.43 | E24: =SUMIFS(Movimientos!$L$9:$L$400,Movimientos!$A$9:$A$400,">="&DATE($E$4,1,1),Movimientos!$A$9:$A$400,"<"&EDATE(DATE($E$4,1,1),1),Movimientos!$D$9:$D$400,"Ahorro") -> 295.4 | F24: =B24-C24-D24-E24 -> 411.83 | G24: Ahorro planificado | H24: =SUMIFS(Presupuesto!$E$8:$E$400,Presupuesto!$A$8:$A$400,$H$4,Presupuesto!$C$8:$C$400,$G24) -> 310 | I24: =SUMIFS(Presupuesto!$F$8:$F$400,Presupuesto!$A$8:$A$400,$H$4,Presupuesto!$C$8:$C$400,$G24) -> 309.18 | J24: =IF(H24="","",I24-H24) -> -0.82 | K24: =IF(H24=0,"",I24/H24) -> 0.99735484 | L24: =IF(G24="Ahorro planificado",IF(K24>=1,"Bien",IF(K24>=0.9,"Vigilar","Bajo")),IF(K24<=1,"Bien",IF(K24<=1.1,"Vigilar","Exceso"))) -> Vigilar
A25: Febrero | B25: =SUMIFS(Movimientos!$L$9:$L$400,Movimientos!$A$9:$A$400,">="&DATE($E$4,2,1),Movimientos!$A$9:$A$400,"<"&EDATE(DATE($E$4,2,1),1),Movimientos!$D$9:$D$400,"Ingreso") -> 2565.76 | C25: =SUMIFS(Movimientos!$L$9:$L$400,Movimientos!$A$9:$A$400,">="&DATE($E$4,2,1),Movimientos!$A$9:$A$400,"<"&EDATE(DATE($E$4,2,1),1),Movimientos!$D$9:$D$400,"Gasto",Movimientos!$H$9:$H$400,"Necesidades") -> 1541.82 | D25: =SUMIFS(Movimientos!$L$9:$L$400,Movimientos!$A$9:$A$400,">="&DATE($E$4,2,1),Movimientos!$A$9:$A$400,"<"&EDATE(DATE($E$4,2,1),1),Movimientos!$D$9:$D$400,"Gasto",Movimientos!$H$9:$H$400,"Deseos") -> 111.34 | E25: =SUMIFS(Movimientos!$L$9:$L$400,Movimientos!$A$9:$A$400,">="&DATE($E$4,2,1),Movimientos!$A$9:$A$400,"<"&EDATE(DATE($E$4,2,1),1),Movimientos!$D$9:$D$400,"Ahorro") -> 298.49 | F25: =B25-C25-D25-E25 -> 614.11
A26: Marzo | B26: =SUMIFS(Movimientos!$L$9:$L$400,Movimientos!$A$9:$A$400,">="&DATE($E$4,3,1),Movimientos!$A$9:$A$400,"<"&EDATE(DATE($E$4,3,1),1),Movimientos!$D$9:$D$400,"Ingreso") -> 2418.69 | C26: =SUMIFS(Movimientos!$L$9:$L$400,Movimientos!$A$9:$A$400,">="&DATE($E$4,3,1),Movimientos!$A$9:$A$400,"<"&EDATE(DATE($E$4,3,1),1),Movimientos!$D$9:$D$400,"Gasto",Movimientos!$H$9:$H$400,"Necesidades") -> 1568.17 | D26: =SUMIFS(Movimientos!$L$9:$L$400,Movimientos!$A$9:$A$400,">="&DATE($E$4,3,1),Movimientos!$A$9:$A$400,"<"&EDATE(DATE($E$4,3,1),1),Movimientos!$D$9:$D$400,"Gasto",Movimientos!$H$9:$H$400,"Deseos") -> 94.64 | E26: =SUMIFS(Movimientos!$L$9:$L$400,Movimientos!$A$9:$A$400,">="&DATE($E$4,3,1),Movimientos!$A$9:$A$400,"<"&EDATE(DATE($E$4,3,1),1),Movimientos!$D$9:$D$400,"Ahorro") -> 303.27 | F26: =B26-C26-D26-E26 -> 452.61 | G26: Lectura rápida
A27: Abril | B27: =SUMIFS(Movimientos!$L$9:$L$400,Movimientos!$A$9:$A$400,">="&DATE($E$4,4,1),Movimientos!$A$9:$A$400,"<"&EDATE(DATE($E$4,4,1),1),Movimientos!$D$9:$D$400,"Ingreso") -> 2667.07 | C27: =SUMIFS(Movimientos!$L$9:$L$400,Movimientos!$A$9:$A$400,">="&DATE($E$4,4,1),Movimientos!$A$9:$A$400,"<"&EDATE(DATE($E$4,4,1),1),Movimientos!$D$9:$D$400,"Gasto",Movimientos!$H$9:$H$400,"Necesidades") -> 1585.78 | D27: =SUMIFS(Movimientos!$L$9:$L$400,Movimientos!$A$9:$A$400,">="&DATE($E$4,4,1),Movimientos!$A$9:$A$400,"<"&EDATE(DATE($E$4,4,1),1),Movimientos!$D$9:$D$400,"Gasto",Movimientos!$H$9:$H$400,"Deseos") -> 138.57 | E27: =SUMIFS(Movimientos!$L$9:$L$400,Movimientos!$A$9:$A$400,">="&DATE($E$4,4,1),Movimientos!$A$9:$A$400,"<"&EDATE(DATE($E$4,4,1),1),Movimientos!$D$9:$D$400,"Ahorro") -> 306.61 | F27: =B27-C27-D27-E27 -> 636.11 | G27: Mayor sobrecoste | H27: =IFERROR(INDEX($G$17:$G$24,MATCH(MAX($J$17:$J$24),$J$17:$J$24,0)),"") -> Alimentación
A28: Mayo | B28: =SUMIFS(Movimientos!$L$9:$L$400,Movimientos!$A$9:$A$400,">="&DATE($E$4,5,1),Movimientos!$A$9:$A$400,"<"&EDATE(DATE($E$4,5,1),1),Movimientos!$D$9:$D$400,"Ingreso") -> 2491.07 | C28: =SUMIFS(Movimientos!$L$9:$L$400,Movimientos!$A$9:$A$400,">="&DATE($E$4,5,1),Movimientos!$A$9:$A$400,"<"&EDATE(DATE($E$4,5,1),1),Movimientos!$D$9:$D$400,"Gasto",Movimientos!$H$9:$H$400,"Necesidades") -> 1584.81 | D28: =SUMIFS(Movimientos!$L$9:$L$400,Movimientos!$A$9:$A$400,">="&DATE($E$4,5,1),Movimientos!$A$9:$A$400,"<"&EDATE(DATE($E$4,5,1),1),Movimientos!$D$9:$D$400,"Gasto",Movimientos!$H$9:$H$400,"Deseos") -> 89.45 | E28: =SUMIFS(Movimientos!$L$9:$L$400,Movimientos!$A$9:$A$400,">="&DATE($E$4,5,1),Movimientos!$A$9:$A$400,"<"&EDATE(DATE($E$4,5,1),1),Movimientos!$D$9:$D$400,"Ahorro") -> 295.16 | F28: =B28-C28-D28-E28 -> 521.65 | G28: Presupuesto usado | H28: =IF(SUM($H$17:$H$24)=0,"",SUM($I$17:$I$24)/SUM($H$17:$H$24)) -> 0.96133039
A29: Junio | B29: =SUMIFS(Movimientos!$L$9:$L$400,Movimientos!$A$9:$A$400,">="&DATE($E$4,6,1),Movimientos!$A$9:$A$400,"<"&EDATE(DATE($E$4,6,1),1),Movimientos!$D$9:$D$400,"Ingreso") -> 2422.88 | C29: =SUMIFS(Movimientos!$L$9:$L$400,Movimientos!$A$9:$A$400,">="&DATE($E$4,6,1),Movimientos!$A$9:$A$400,"<"&EDATE(DATE($E$4,6,1),1),Movimientos!$D$9:$D$400,"Gasto",Movimientos!$H$9:$H$400,"Necesidades") -> 1581.39 | D29: =SUMIFS(Movimientos!$L$9:$L$400,Movimientos!$A$9:$A$400,">="&DATE($E$4,6,1),Movimientos!$A$9:$A$400,"<"&EDATE(DATE($E$4,6,1),1),Movimientos!$D$9:$D$400,"Gasto",Movimientos!$H$9:$H$400,"Deseos") -> 74.71 | E29: =SUMIFS(Movimientos!$L$9:$L$400,Movimientos!$A$9:$A$400,">="&DATE($E$4,6,1),Movimientos!$A$9:$A$400,"<"&EDATE(DATE($E$4,6,1),1),Movimientos!$D$9:$D$400,"Ahorro") -> 297.74 | F29: =B29-C29-D29-E29 -> 469.04 | G29: Mejor balance | H29: =IFERROR(INDEX($A$23:$A$34,MATCH(MAX($F$23:$F$34),$F$23:$F$34,0)),"") -> Septiembre
A30: Julio | B30: =SUMIFS(Movimientos!$L$9:$L$400,Movimientos!$A$9:$A$400,">="&DATE($E$4,7,1),Movimientos!$A$9:$A$400,"<"&EDATE(DATE($E$4,7,1),1),Movimientos!$D$9:$D$400,"Ingreso") -> 2535.12 | C30: =SUMIFS(Movimientos!$L$9:$L$400,Movimientos!$A$9:$A$400,">="&DATE($E$4,7,1),Movimientos!$A$9:$A$400,"<"&EDATE(DATE($E$4,7,1),1),Movimientos!$D$9:$D$400,"Gasto",Movimientos!$H$9:$H$400,"Necesidades") -> 1546.96 | D30: =SUMIFS(Movimientos!$L$9:$L$400,Movimientos!$A$9:$A$400,">="&DATE($E$4,7,1),Movimientos!$A$9:$A$400,"<"&EDATE(DATE($E$4,7,1),1),Movimientos!$D$9:$D$400,"Gasto",Movimientos!$H$9:$H$400,"Deseos") -> 140.48 | E30: =SUMIFS(Movimientos!$L$9:$L$400,Movimientos!$A$9:$A$400,">="&DATE($E$4,7,1),Movimientos!$A$9:$A$400,"<"&EDATE(DATE($E$4,7,1),1),Movimientos!$D$9:$D$400,"Ahorro") -> 293.77 | F30: =B30-C30-D30-E30 -> 553.91 | G30: Ahorro medio | H30: =IF(SUM($B$23:$B$34)=0,"",SUM($E$23:$E$34)/SUM($B$23:$B$34)) -> 0.1188676
A31: Agosto | B31: =SUMIFS(Movimientos!$L$9:$L$400,Movimientos!$A$9:$A$400,">="&DATE($E$4,8,1),Movimientos!$A$9:$A$400,"<"&EDATE(DATE($E$4,8,1),1),Movimientos!$D$9:$D$400,"Ingreso") -> 2469.13 | C31: =SUMIFS(Movimientos!$L$9:$L$400,Movimientos!$A$9:$A$400,">="&DATE($E$4,8,1),Movimientos!$A$9:$A$400,"<"&EDATE(DATE($E$4,8,1),1),Movimientos!$D$9:$D$400,"Gasto",Movimientos!$H$9:$H$400,"Necesidades") -> 1618.53 | D31: =SUMIFS(Movimientos!$L$9:$L$400,Movimientos!$A$9:$A$400,">="&DATE($E$4,8,1),Movimientos!$A$9:$A$400,"<"&EDATE(DATE($E$4,8,1),1),Movimientos!$D$9:$D$400,"Gasto",Movimientos!$H$9:$H$400,"Deseos") -> 100.31 | E31: =SUMIFS(Movimientos!$L$9:$L$400,Movimientos!$A$9:$A$400,">="&DATE($E$4,8,1),Movimientos!$A$9:$A$400,"<"&EDATE(DATE($E$4,8,1),1),Movimientos!$D$9:$D$400,"Ahorro") -> 307.2 | F31: =B31-C31-D31-E31 -> 443.09
A32: Septiembre | B32: =SUMIFS(Movimientos!$L$9:$L$400,Movimientos!$A$9:$A$400,">="&DATE($E$4,9,1),Movimientos!$A$9:$A$400,"<"&EDATE(DATE($E$4,9,1),1),Movimientos!$D$9:$D$400,"Ingreso") -> 2724.34 | C32: =SUMIFS(Movimientos!$L$9:$L$400,Movimientos!$A$9:$A$400,">="&DATE($E$4,9,1),Movimientos!$A$9:$A$400,"<"&EDATE(DATE($E$4,9,1),1),Movimientos!$D$9:$D$400,"Gasto",Movimientos!$H$9:$H$400,"Necesidades") -> 1581.46 | D32: =SUMIFS(Movimientos!$L$9:$L$400,Movimientos!$A$9:$A$400,">="&DATE($E$4,9,1),Movimientos!$A$9:$A$400,"<"&EDATE(DATE($E$4,9,1),1),Movimientos!$D$9:$D$400,"Gasto",Movimientos!$H$9:$H$400,"Deseos") -> 67.59 | E32: =SUMIFS(Movimientos!$L$9:$L$400,Movimientos!$A$9:$A$400,">="&DATE($E$4,9,1),Movimientos!$A$9:$A$400,"<"&EDATE(DATE($E$4,9,1),1),Movimientos!$D$9:$D$400,"Ahorro") -> 309.18 | F32: =B32-C32-D32-E32 -> 766.11
A33: Octubre | B33: =SUMIFS(Movimientos!$L$9:$L$400,Movimientos!$A$9:$A$400,">="&DATE($E$4,10,1),Movimientos!$A$9:$A$400,"<"&EDATE(DATE($E$4,10,1),1),Movimientos!$D$9:$D$400,"Ingreso") -> 2489.44 | C33: =SUMIFS(Movimientos!$L$9:$L$400,Movimientos!$A$9:$A$400,">="&DATE($E$4,10,1),Movimientos!$A$9:$A$400,"<"&EDATE(DATE($E$4,10,1),1),Movimientos!$D$9:$D$400,"Gasto",Movimientos!$H$9:$H$400,"Necesidades") -> 1604.47 | D33: =SUMIFS(Movimientos!$L$9:$L$400,Movimientos!$A$9:$A$400,">="&DATE($E$4,10,1),Movimientos!$A$9:$A$400,"<"&EDATE(DATE($E$4,10,1),1),Movimientos!$D$9:$D$400,"Gasto",Movimientos!$H$9:$H$400,"Deseos") -> 85.34 | E33: =SUMIFS(Movimientos!$L$9:$L$400,Movimientos!$A$9:$A$400,">="&DATE($E$4,10,1),Movimientos!$A$9:$A$400,"<"&EDATE(DATE($E$4,10,1),1),Movimientos!$D$9:$D$400,"Ahorro") -> 319.8 | F33: =B33-C33-D33-E33 -> 479.83
A34: Noviembre | B34: =SUMIFS(Movimientos!$L$9:$L$400,Movimientos!$A$9:$A$400,">="&DATE($E$4,11,1),Movimientos!$A$9:$A$400,"<"&EDATE(DATE($E$4,11,1),1),Movimientos!$D$9:$D$400,"Ingreso") -> 2738.82 | C34: =SUMIFS(Movimientos!$L$9:$L$400,Movimientos!$A$9:$A$400,">="&DATE($E$4,11,1),Movimientos!$A$9:$A$400,"<"&EDATE(DATE($E$4,11,1),1),Movimientos!$D$9:$D$400,"Gasto",Movimientos!$H$9:$H$400,"Necesidades") -> 1598 | D34: =SUMIFS(Movimientos!$L$9:$L$400,Movimientos!$A$9:$A$400,">="&DATE($E$4,11,1),Movimientos!$A$9:$A$400,"<"&EDATE(DATE($E$4,11,1),1),Movimientos!$D$9:$D$400,"Gasto",Movimientos!$H$9:$H$400,"Deseos") -> 131.55 | E34: =SUMIFS(Movimientos!$L$9:$L$400,Movimientos!$A$9:$A$400,">="&DATE($E$4,11,1),Movimientos!$A$9:$A$400,"<"&EDATE(DATE($E$4,11,1),1),Movimientos!$D$9:$D$400,"Ahorro") -> 296.76 | F34: =B34-C34-D34-E34 -> 712.51
A35: Diciembre | B35: =SUMIFS(Movimientos!$L$9:$L$400,Movimientos!$A$9:$A$400,">="&DATE($E$4,12,1),Movimientos!$A$9:$A$400,"<"&EDATE(DATE($E$4,12,1),1),Movimientos!$D$9:$D$400,"Ingreso") -> 2518.98 | C35: =SUMIFS(Movimientos!$L$9:$L$400,Movimientos!$A$9:$A$400,">="&DATE($E$4,12,1),Movimientos!$A$9:$A$400,"<"&EDATE(DATE($E$4,12,1),1),Movimientos!$D$9:$D$400,"Gasto",Movimientos!$H$9:$H$400,"Necesidades") -> 1596.37 | D35: =SUMIFS(Movimientos!$L$9:$L$400,Movimientos!$A$9:$A$400,">="&DATE($E$4,12,1),Movimientos!$A$9:$A$400,"<"&EDATE(DATE($E$4,12,1),1),Movimientos!$D$9:$D$400,"Gasto",Movimientos!$H$9:$H$400,"Deseos") -> 99.86 | E35: =SUMIFS(Movimientos!$L$9:$L$400,Movimientos!$A$9:$A$400,">="&DATE($E$4,12,1),Movimientos!$A$9:$A$400,"<"&EDATE(DATE($E$4,12,1),1),Movimientos!$D$9:$D$400,"Ahorro") -> 308.23 | F35: =B35-C35-D35-E35 -> 514.52

Sheet Movimientos
A1: Registro de movimientos
A2: Escribe solo las columnas en azul. El resto se calcula automáticamente.
A8: Fecha | B8: Mes | C8: Año | D8: Tipo | E8: Cuenta | F8: Subcategoría | G8: Categoría | H8: Grupo 50/30/20 | I8: Naturaleza | J8: Concepto | K8: Medio de pago | L8: Importe (€) | M8: Flujo neto (€) | N8: Observaciones | O8: Control
A9: 45658 | B9: =IF(A9="","",CHOOSE(MONTH(A9),"Enero","Febrero","Marzo","Abril","Mayo","Junio","Julio","Agosto","Septiembre","Octubre","Noviembre","Diciembre")) -> Enero | C9: =IF(A9="","",YEAR(A9)) -> 2025 | D9: Ingreso | E9: Cuenta nómina | F9: Nómina principal | G9: Ingresos fijos | H9: Ingresos | I9: Fijo | J9: Ingreso mensual neto | K9: Transferencia | L9: 2436.35 | M9: =IF(A9="","",IF(D9="Ingreso",L9,IF(D9="Ahorro",-L9,IF(D9="Transferencia",0,-L9)))) -> 2436.35 | O9: =IF(COUNTA(A9:N9)=0,"",IF(OR(A9="",D9="",F9="",G9="",H9="",I9="",L9=""),"Revisar","OK")) -> OK
A10: 45659 | B10: =IF(A10="","",CHOOSE(MONTH(A10),"Enero","Febrero","Marzo","Abril","Mayo","Junio","Julio","Agosto","Septiembre","Octubre","Noviembre","Diciembre")) -> Enero | C10: =IF(A10="","",YEAR(A10)) -> 2025 | D10: Gasto | E10: Cuenta hogar | F10: Alquiler | G10: Vivienda | H10: Necesidades | I10: Fijo | J10: Pago del alquiler | K10: Transferencia | L10: 980 | M10: =IF(A10="","",IF(D10="Ingreso",L10,IF(D10="Ahorro",-L10,IF(D10="Transferencia",0,-L10)))) -> -980 | O10: =IF(COUNTA(A10:N10)=0,"",IF(OR(A10="",D10="",F10="",G10="",H10="",I10="",L10=""),"Revisar","OK")) -> OK
A11: 45660 | B11: =IF(A11="","",CHOOSE(MONTH(A11),"Enero","Febrero","Marzo","Abril","Mayo","Junio","Julio","Agosto","Septiembre","Octubre","Noviembre","Diciembre")) -> Enero | C11: =IF(A11="","",YEAR(A11)) -> 2025 | D11: Gasto | E11: Tarjeta débito | F11: Supermercado | G11: Alimentación | H11: Necesidades | I11: Variable | J11: Compra de supermercado | K11: Tarjeta | L11: 71.08 | M11: =IF(A11="","",IF(D11="Ingreso",L11,IF(D11="Ahorro",-L11,IF(D11="Transferencia",0,-L11)))) -> -71.08 | O11: =IF(COUNTA(A11:N11)=0,"",IF(OR(A11="",D11="",F11="",G11="",H11="",I11="",L11=""),"Revisar","OK")) -> OK
A12: 45661 | B12: =IF(A12="","",CHOOSE(MONTH(A12),"Enero","Febrero","Marzo","Abril","Mayo","Junio","Julio","Agosto","Septiembre","Octubre","Noviembre","Diciembre")) -> Enero | C12: =IF(A12="","",YEAR(A12)) -> 2025 | D12: Gasto | E12: Tarjeta transporte | F12: Transporte público | G12: Movilidad | H12: Necesidades | I12: Variable | J12: Recarga o trayecto urbano | K12: Tarjeta | L12: 8.43 | M12: =IF(A12="","",IF(D12="Ingreso",L12,IF(D12="Ahorro",-L12,IF(D12="Transferencia",0,-L12)))) -> -8.43 | O12: =IF(COUNTA(A12:N12)=0,"",IF(OR(A12="",D12="",F12="",G12="",H12="",I12="",L12=""),"Revisar","OK")) -> OK
A13: 45662 | B13: =IF(A13="","",CHOOSE(MONTH(A13),"Enero","Febrero","Marzo","Abril","Mayo","Junio","Julio","Agosto","Septiembre","Octubre","Noviembre","Diciembre")) -> Enero | C13: =IF(A13="","",YEAR(A13)) -> 2025 | D13: Gasto | E13: Cuenta hogar | F13: Electricidad | G13: Vivienda | H13: Necesidades | I13: Fijo | J13: Factura de electricidad | K13: Domiciliado | L13: 31.5 | M13: =IF(A13="","",IF(D13="Ingreso",L13,IF(D13="Ahorro",-L13,IF(D13="Transferencia",0,-L13)))) -> -31.5 | O13: =IF(COUNTA(A13:N13)=0,"",IF(OR(A13="",D13="",F13="",G13="",H13="",I13="",L13=""),"Revisar","OK")) -> OK
A14: 45663 | B14: =IF(A14="","",CHOOSE(MONTH(A14),"Enero","Febrero","Marzo","Abril","Mayo","Junio","Julio","Agosto","Septiembre","Octubre","Noviembre","Diciembre")) -> Enero | C14: =IF(A14="","",YEAR(A14)) -> 2025 | D14: Gasto | E14: Cuenta hogar | F14: Agua | G14: Vivienda | H14: Necesidades | I14: Fijo | J14: Factura de agua | K14: Domiciliado | L14: 20.61 | M14: =IF(A14="","",IF(D14="Ingreso",L14,IF(D14="Ahorro",-L14,IF(D14="Transferencia",0,-L14)))) -> -20.61 | O14: =IF(COUNTA(A14:N14)=0,"",IF(OR(A14="",D14="",F14="",G14="",H14="",I14="",L14=""),"Revisar","OK")) -> OK
A15: 45664 | B15: =IF(A15="","",CHOOSE(MONTH(A15),"Enero","Febrero","Marzo","Abril","Mayo","Junio","Julio","Agosto","Septiembre","Octubre","Noviembre","Diciembre")) -> Enero | C15: =IF(A15="","",YEAR(A15)) -> 2025 | D15: Gasto | E15: Cuenta hogar | F15: Internet hogar | G15: Vivienda | H15: Necesidades | I15: Fijo | J15: Internet doméstico | K15: Domiciliado | L15: 35 | M15: =IF(A15="","",IF(D15="Ingreso",L15,IF(D15="Ahorro",-L15,IF(D15="Transferencia",0,-L15)))) -> -35 | O15: =IF(COUNTA(A15:N15)=0,"",IF(OR(A15="",D15="",F15="",G15="",H15="",I15="",L15=""),"Revisar","OK")) -> OK
A16: 45665 | B16: =IF(A16="","",CHOOSE(MONTH(A16),"Enero","Febrero","Marzo","Abril","Mayo","Junio","Julio","Agosto","Septiembre","Octubre","Noviembre","Diciembre")) -> Enero | C16: =IF(A16="","",YEAR(A16)) -> 2025 | D16: Gasto | E16: Cuenta hogar | F16: Seguro salud | G16: Salud y cuidado | H16: Necesidades | I16: Fijo | J16: Cuota del seguro | K16: Domiciliado | L16: 18 | M16: =IF(A16="","",IF(D16="Ingreso",L16,IF(D16="Ahorro",-L16,IF(D16="Transferencia",0,-L16)))) -> -18 | O16: =IF(COUNTA(A16:N16)=0,"",IF(OR(A16="",D16="",F16="",G16="",H16="",I16="",L16=""),"Revisar","OK")) -> OK
A17: 45666 | B17: =IF(A17="","",CHOOSE(MONTH(A17),"Enero","Febrero","Marzo","Abril","Mayo","Junio","Julio","Agosto","Septiembre","Octubre","Noviembre","Diciembre")) -> Enero | C17: =IF(A17="","",YEAR(A17)) -> 2025 | D17: Gasto | E17: Tarjeta débito | F17: Suscripciones | G17: Tecnología | H17: Necesidades | I17: Fijo | J17: Servicios digitales | K17: Tarjeta | L17: 24 | M17: =IF(A17="","",IF(D17="Ingreso",L17,IF(D17="Ahorro",-L17,IF(D17="Transferencia",0,-L17)))) -> -24 | O17: =IF(COUNTA(A17:N17)=0,"",IF(OR(A17="",D17="",F17="",G17="",H17="",I17="",L17=""),"Revisar","OK")) -> OK
A18: 45667 | B18: =IF(A18="","",CHOOSE(MONTH(A18),"Enero","Febrero","Marzo","Abril","Mayo","Junio","Julio","Agosto","Septiembre","Octubre","Noviembre","Diciembre")) -> Enero | C18: =IF(A18="","",YEAR(A18)) -> 2025 | D18: Gasto | E18: Tarjeta débito | F18: Supermercado | G18: Alimentación | H18: Necesidades | I18: Variable | J18: Compra de supermercado | K18: Tarjeta | L18: 92.25 | M18: =IF(A18="","",IF(D18="Ingreso",L18,IF(D18="Ahorro",-L18,IF(D18="Transferencia",0,-L18)))) -> -92.25 | O18: =IF(COUNTA(A18:N18)=0,"",IF(OR(A18="",D18="",F18="",G18="",H18="",I18="",L18=""),"Revisar","OK")) -> OK
A19: 45668 | B19: =IF(A19="","",CHOOSE(MONTH(A19),"Enero","Febrero","Marzo","Abril","Mayo","Junio","Julio","Agosto","Septiembre","Octubre","Noviembre","Diciembre")) -> Enero | C19: =IF(A19="","",YEAR(A19)) -> 2025 | D19: Gasto | E19: Tarjeta transporte | F19: Transporte público | G19: Movilidad | H19: Necesidades | I19: Variable | J19: Recarga o trayecto urbano | K19: Tarjeta | L19: 10.54 | M19: =IF(A19="","",IF(D19="Ingreso",L19,IF(D19="Ahorro",-L19,IF(D19="Transferencia",0,-L19)))) -> -10.54 | O19: =IF(COUNTA(A19:N19)=0,"",IF(OR(A19="",D19="",F19="",G19="",H19="",I19="",L19=""),"Revisar","OK")) -> OK
A20: 45669 | B20: =IF(A20="","",CHOOSE(MONTH(A20),"Enero","Febrero","Marzo","Abril","Mayo","Junio","Julio","Agosto","Septiembre","Octubre","Noviembre","Diciembre")) -> Enero | C20: =IF(A20="","",YEAR(A20)) -> 2025 | D20: Gasto | E20: Tarjeta débito | F20: Mercado local | G20: Alimentación | H20: Necesidades | I20: Variable | J20: Compra en mercado local | K20: Efectivo | L20: 31.97 | M20: =IF(A20="","",IF(D20="Ingreso",L20,IF(D20="Ahorro",-L20,IF(D20="Transferencia",0,-L20)))) -> -31.97 | O20: =IF(COUNTA(A20:N20)=0,"",IF(OR(A20="",D20="",F20="",G20="",H20="",I20="",L20=""),"Revisar","OK")) -> OK
... A45: 45700 | B45: =IF(A45="","",CHOOSE(MONTH(A45),"Enero","Febrero","Marzo","Abril","Mayo","Junio","Julio","Agosto","Septiembre","Octubre","Noviembre","Diciembre")) -> Febrero | C45: =IF(A45="","",YEAR(A45)) -> 2025 | D45: Gasto | E45: Tarjeta débito | F45: Mercado local | G45: Alimentación | H45: Necesidades | I45: Variable | J45: Compra en mercado local | K45: Tarjeta | L45: 53.27 | M45: =IF(A45="","",IF(D45="Ingreso",L45,IF(D45="Ahorro",-L45,IF(D45="Transferencia",0,-L45)))) -> -53.27 | O45: =IF(COUNTA(A45:N45)=0,"",IF(OR(A45="",D45="",F45="",G45="",H45="",I45="",L45=""),"Revisar","OK")) -> OK
A46: 45702 | B46: =IF(A46="","",CHOOSE(MONTH(A46),"Enero","Febrero","Marzo","Abril","Mayo","Junio","Julio","Agosto","Septiembre","Octubre","Noviembre","Diciembre")) -> Febrero | C46: =IF(A46="","",YEAR(A46)) -> 2025 | D46: Ingreso | E46: Cuenta nómina | F46: Ingreso puntual | G46: Ingresos extra | H46: Ingresos | I46: Variable | J46: Trabajo extra de fin de semana | K46: Transferencia | L46: 111.86 | M46: =IF(A46="","",IF(D46="Ingreso",L46,IF(D46="Ahorro",-L46,IF(D46="Transferencia",0,-L46)))) -> 111.86 | N46: Ingreso no recurrente | O46: =IF(COUNTA(A46:N46)=0,"",IF(OR(A46="",D46="",F46="",G46="",H46="",I46="",L46=""),"Revisar","OK")) -> OK
A47: 45702 | B47: =IF(A47="","",CHOOSE(MONTH(A47),"Enero","Febrero","Marzo","Abril","Mayo","Junio","Julio","Agosto","Septiembre","Octubre","Noviembre","Diciembre")) -> Febrero | C47: =IF(A47="","",YEAR(A47)) -> 2025 | D47: Gasto | E47: Tarjeta débito | F47: Cafetería | G47: Ocio y cultura | H47: Deseos | I47: Variable | J47: Consumo fuera de casa | K47: Tarjeta | L47: 11.56 | M47: =IF(A47="","",IF(D47="Ingreso",L47,IF(D47="Ahorro",-L47,IF(D47="Transferencia",0,-L47)))) -> -11.56 | O47: =IF(COUNTA(A47:N47)=0,"",IF(OR(A47="",D47="",F47="",G47="",H47="",I47="",L47=""),"Revisar","OK")) -> OK
A48: 45703 | B48: =IF(A48="","",CHOOSE(MONTH(A48),"Enero","Febrero","Marzo","Abril","Mayo","Junio","Julio","Agosto","Septiembre","Octubre","Noviembre","Diciembre")) -> Febrero | C48: =IF(A48="","",YEAR(A48)) -> 2025 | D48: Gasto | E48: Tarjeta débito | F48: Libros y cursos | G48: Desarrollo personal | H48: Deseos | I48: Variable | J48: Libro, curso o material | K48: Tarjeta | L48: 53.36 | M48: =IF(A48="","",IF(D48="Ingreso",L48,IF(D48="Ahorro",-L48,IF(D48="Transferencia",0,-L48)))) -> -53.36 | O48: =IF(COUNTA(A48:N48)=0,"",IF(OR(A48="",D48="",F48="",G48="",H48="",I48="",L48=""),"Revisar","OK")) -> OK
A49: 45705 | B49: =IF(A49="","",CHOOSE(MONTH(A49),"Enero","Febrero","Marzo","Abril","Mayo","Junio","Julio","Agosto","Septiembre","Octubre","Noviembre","Diciembre")) -> Febrero | C49: =IF(A49="","",YEAR(A49)) -> 2025 | D49: Gasto | E49: Tarjeta débito | F49: Supermercado | G49: Alimentación | H49: Necesidades | I49: Variable | J49: Compra de supermercado | K49: Tarjeta | L49: 80.83 | M49: =IF(A49="","",IF(D49="Ingreso",L49,IF(D49="Ahorro",-L49,IF(D49="Transferencia",0,-L49)))) -> -80.83 | O49: =IF(COUNTA(A49:N49)=0,"",IF(OR(A49="",D49="",F49="",G49="",H49="",I49="",L49=""),"Revisar","OK")) -> OK
A50: 45706 | B50: =IF(A50="","",CHOOSE(MONTH(A50),"Enero","Febrero","Marzo","Abril","Mayo","Junio","Julio","Agosto","Septiembre","Octubre","Noviembre","Diciembre")) -> Febrero | C50: =IF(A50="","",YEAR(A50)) -> 2025 | D50: Gasto | E50: Tarjeta transporte | F50: Transporte público | G50: Movilidad | H50: Necesidades | I50: Variable | J50: Recarga o trayecto urbano | K50: Tarjeta | L50: 7.16 | M50: =IF(A50="","",IF(D50="Ingreso",L50,IF(D50="Ahorro",-L50,IF(D50="Transferencia",0,-L50)))) -> -7.16 | O50: =IF(COUNTA(A50:N50)=0,"",IF(OR(A50="",D50="",F50="",G50="",H50="",I50="",L50=""),"Revisar","OK")) -> OK
A51: 45708 | B51: =IF(A51="","",CHOOSE(MONTH(A51),"Enero","Febrero","Marzo","Abril","Mayo","Junio","Julio","Agosto","Septiembre","Octubre","Noviembre","Diciembre")) -> Febrero | C51: =IF(A51="","",YEAR(A51)) -> 2025 | D51: Gasto | E51: Tarjeta débito | F51: Cafetería | G51: Ocio y cultura | H51: Deseos | I51: Variable | J51: Consumo fuera de casa | K51: Efectivo | L51: 30.17 | M51: =IF(A51="","",IF(D51="Ingreso",L51,IF(D51="Ahorro",-L51,IF(D51="Transferencia",0,-L51)))) -> -30.17 | O51: =IF(COUNTA(A51:N51)=0,"",IF(OR(A51="",D51="",F51="",G51="",H51="",I51="",L51=""),"Revisar","OK")) -> OK
A52: 45709 | B52: =IF(A52="","",CHOOSE(MONTH(A52),"Enero","Febrero","Marzo","Abril","Mayo","Junio","Julio","Agosto","Septiembre","Octubre","Noviembre","Diciembre")) -> Febrero | C52: =IF(A52="","",YEAR(A52)) -> 2025 | D52: Gasto | E52: Tarjeta débito | F52: Bicicleta / taller | G52: Movilidad | H52: Necesidades | I52: Variable | J52: Ajuste o repuesto | K52: Tarjeta | L52: 9.47 | M52: =IF(A52="","",IF(D52="Ingreso",L52,IF(D52="Ahorro",-L52,IF(D52="Transferencia",0,-L52)))) -> -9.47 | O52: =IF(COUNTA(A52:N52)=0,"",IF(OR(A52="",D52="",F52="",G52="",H52="",I52="",L52=""),"Revisar","OK")) -> OK
A53: 45712 | B53: =IF(A53="","",CHOOSE(MONTH(A53),"Enero","Febrero","Marzo","Abril","Mayo","Junio","Julio","Agosto","Septiembre","Octubre","Noviembre","Diciembre")) -> Febrero | C53: =IF(A53="","",YEAR(A53)) -> 2025 | D53: Gasto | E53: Tarjeta débito | F53: Supermercado | G53: Alimentación | H53: Necesidades | I53: Variable | J53: Compra de supermercado | K53: Tarjeta | L53: 67.02 | M53: =IF(A53="","",IF(D53="Ingreso",L53,IF(D53="Ahorro",-L53,IF(D53="Transferencia",0,-L53)))) -> -67.02 | O53: =IF(COUNTA(A53:N53)=0,"",IF(OR(A53="",D53="",F53="",G53="",H53="",I53="",L53=""),"Revisar","OK")) -> OK
A54: 45713 | B54: =IF(A54="","",CHOOSE(MONTH(A54),"Enero","Febrero","Marzo","Abril","Mayo","Junio","Julio","Agosto","Septiembre","Octubre","Noviembre","Diciembre")) -> Febrero | C54: =IF(A54="","",YEAR(A54)) -> 2025 | D54: Gasto | E54: Tarjeta transporte | F54: Transporte público | G54: Movilidad | H54: Necesidades | I54: Variable | J54: Recarga o trayecto urbano | K54: Tarjeta | L54: 8.5 | M54: =IF(A54="","",IF(D54="Ingreso",L54,IF(D54="Ahorro",-L54,IF(D54="Transferencia",0,-L54)))) -> -8.5 | O54: =IF(COUNTA(A54:N54)=0,"",IF(OR(A54="",D54="",F54="",G54="",H54="",I54="",L54=""),"Revisar","OK")) -> OK
A55: 45714 | B55: =IF(A55="","",CHOOSE(MONTH(A55),"Enero","Febrero","Marzo","Abril","Mayo","Junio","Julio","Agosto","Septiembre","Octubre","Noviembre","Diciembre")) -> Febrero | C55: =IF(A55="","",YEAR(A55)) -> 2025 | D55: Gasto | E55: Tarjeta débito | F55: Mercado local | G55: Alimentación | H55: Necesidades | I55: Variable | J55: Compra en mercado local | K55: Efectivo | L55: 43.83 | M55: =IF(A55="","",IF(D55="Ingreso",L55,IF(D55="Ahorro",-L55,IF(D55="Transferencia",0,-L55)))) -> -43.83 | O55: =IF(COUNTA(A55:N55)=0,"",IF(OR(A55="",D55="",F55="",G55="",H55="",I55="",L55=""),"Revisar","OK")) -> OK
A56: 45715 | B56: =IF(A56="","",CHOOSE(MONTH(A56),"Enero","Febrero","Marzo","Abril","Mayo","Junio","Julio","Agosto","Septiembre","Octubre","Noviembre","Diciembre")) -> Febrero | C56: =IF(A56="","",YEAR(A56)) -> 2025 | D56: Ahorro | E56: Cuenta ahorro | F56: Fondo de emergencia | G56: Ahorro planificado | H56: Ahorro | I56: Fijo | J56: Transferencia a ahorro base | K56: Transferencia | L56: 245.46 | M56: =IF(A56="","",IF(D56="Ingreso",L56,IF(D56="Ahorro",-L56,IF(D56="Transferencia",0,-L56)))) -> -245.46 | O56: =IF(COUNTA(A56:N56)=0,"",IF(OR(A56="",D56="",F56="",G56="",H56="",I56="",L56=""),"Revisar","OK")) -> OK
A57: 45716 | B57: =IF(A57="","",CHOOSE(MONTH(A57),"Enero","Febrero","Marzo","Abril","Mayo","Junio","Julio","Agosto","Septiembre","Octubre","Noviembre","Diciembre")) -> Febrero | C57: =IF(A57="","",YEAR(A57)) -> 2025 | D57: Gasto | E57: Tarjeta débito | F57: Cafetería | G57: Ocio y cultura | H57: Deseos | I57: Variable | J57: Consumo fuera de casa | K57: Bizum | L57: 16.25 | M57: =IF(A57="","",IF(D57="Ingreso",L57,IF(D57="Ahorro",-L57,IF(D57="Transferencia",0,-L57)))) -> -16.25 | O57: =IF(COUNTA(A57:N57)=0,"",IF(OR(A57="",D57="",F57="",G57="",H57="",I57="",L57=""),"Revisar","OK")) -> OK
A58: 45716 | B58: =IF(A58="","",CHOOSE(MONTH(A58),"Enero","Febrero","Marzo","Abril","Mayo","Junio","Julio","Agosto","Septiembre","Octubre","Noviembre","Diciembre")) -> Febrero | C58: =IF(A58="","",YEAR(A58)) -> 2025 | D58: Ahorro | E58: Cuenta ahorro | F58: Viaje anual | G58: Ahorro planificado | H58: Ahorro | I58: Variable | J58: Ahorro para objetivo anual | K58: Transferencia | L58: 53.03 | M58: =IF(A58="","",IF(D58="Ingreso",L58,IF(D58="Ahorro",-L58,IF(D58="Transferencia",0,-L58)))) -> -53.03 | O58: =IF(COUNTA(A58:N58)=0,"",IF(OR(A58="",D58="",F58="",G58="",H58="",I58="",L58=""),"Revisar","OK")) -> OK
... A97: 45765 | B97: =IF(A97="","",CHOOSE(MONTH(A97),"Enero","Febrero","Marzo","Abril","Mayo","Junio","Julio","Agosto","Septiembre","Octubre","Noviembre","Diciembre")) -> Abril | C97: =IF(A97="","",YEAR(A97)) -> 2025 | D97: Gasto | E97: Tarjeta transporte | F97: Transporte público | G97: Movilidad | H97: Necesidades | I97: Variable | J97: Recarga o trayecto urbano | K97: Tarjeta | L97: 11.2 | M97: =IF(A97="","",IF(D97="Ingreso",L97,IF(D97="Ahorro",-L97,IF(D97="Transferencia",0,-L97)))) -> -11.2 | O97: =IF(COUNTA(A97:N97)=0,"",IF(OR(A97="",D97="",F97="",G97="",H97="",I97="",L97=""),"Revisar","OK")) -> OK
A98: 45766 | B98: =IF(A98="","",CHOOSE(MONTH(A98),"Enero","Febrero","Marzo","Abril","Mayo","Junio","Julio","Agosto","Septiembre","Octubre","Noviembre","Diciembre")) -> Abril | C98: =IF(A98="","",YEAR(A98)) -> 2025 | D98: Ingreso | E98: Cuenta nómina | F98: Ingreso puntual | G98: Ingresos extra | H98: Ingresos | I98: Variable | J98: Trabajo extra de fin de semana | K98: Transferencia | L98: 218.26 | M98: =IF(A98="","",IF(D98="Ingreso",L98,IF(D98="Ahorro",-L98,IF(D98="Transferencia",0,-L98)))) -> 218.26 | N98: Ingreso no recurrente | O98: =IF(COUNTA(A98:N98)=0,"",IF(OR(A98="",D98="",F98="",G98="",H98="",I98="",L98=""),"Revisar","OK")) -> OK
A99: 45766 | B99: =IF(A99="","",CHOOSE(MONTH(A99),"Enero","Febrero","Marzo","Abril","Mayo","Junio","Julio","Agosto","Septiembre","Octubre","Noviembre","Diciembre")) -> Abril | C99: =IF(A99="","",YEAR(A99)) -> 2025 | D99: Gasto | E99: Tarjeta débito | F99: Libros y cursos | G99: Desarrollo personal | H99: Deseos | I99: Variable | J99: Libro, curso o material | K99: Tarjeta | L99: 33.61 | M99: =IF(A99="","",IF(D99="Ingreso",L99,IF(D99="Ahorro",-L99,IF(D99="Transferencia",0,-L99)))) -> -33.61 | O99: =IF(COUNTA(A99:N99)=0,"",IF(OR(A99="",D99="",F99="",G99="",H99="",I99="",L99=""),"Revisar","OK")) -> OK
A100: 45767 | B100: =IF(A100="","",CHOOSE(MONTH(A100),"Enero","Febrero","Marzo","Abril","Mayo","Junio","Julio","Agosto","Septiembre","Octubre","Noviembre","Diciembre")) -> Abril | C100: =IF(A100="","",YEAR(A100)) -> 2025 | D100: Gasto | E100: Tarjeta débito | F100: Cafetería | G100: Ocio y cultura | H100: Deseos | I100: Variable | J100: Consumo fuera de casa | K100: Tarjeta | L100: 25.76 | M100: =IF(A100="","",IF(D100="Ingreso",L100,IF(D100="Ahorro",-L100,IF(D100="Transferencia",0,-L100)))) -> -25.76 | O100: =IF(COUNTA(A100:N100)=0,"",IF(OR(A100="",D100="",F100="",G100="",H100="",I100="",L100=""),"Revisar","OK")) -> OK
A101: 45768 | B101: =IF(A101="","",CHOOSE(MONTH(A101),"Enero","Febrero","Marzo","Abril","Mayo","Junio","Julio","Agosto","Septiembre","Octubre","Noviembre","Diciembre")) -> Abril | C101: =IF(A101="","",YEAR(A101)) -> 2025 | D101: Gasto | E101: Tarjeta débito | F101: Bicicleta / taller | G101: Movilidad | H101: Necesidades | I101: Variable | J101: Ajuste o repuesto | K101: Tarjeta | L101: 9.02 | M101: =IF(A101="","",IF(D101="Ingreso",L101,IF(D101="Ahorro",-L101,IF(D101="Transferencia",0,-L101)))) -> -9.02 | O101: =IF(COUNTA(A101:N101)=0,"",IF(OR(A101="",D101="",F101="",G101="",H101="",I101="",L101=""),"Revisar","OK")) -> OK
A102: 45770 | B102: =IF(A102="","",CHOOSE(MONTH(A102),"Enero","Febrero","Marzo","Abril","Mayo","Junio","Julio","Agosto","Septiembre","Octubre","Noviembre","Diciembre")) -> Abril | C102: =IF(A102="","",YEAR(A102)) -> 2025 | D102: Gasto | E102: Tarjeta débito | F102: Cine o eventos | G102: Ocio y cultura | H102: Deseos | I102: Variable | J102: Plan cultural o evento | K102: Tarjeta | L102: 30.64 | M102: =IF(A102="","",IF(D102="Ingreso",L102,IF(D102="Ahorro",-L102,IF(D102="Transferencia",0,-L102)))) -> -30.64 | O102: =IF(COUNTA(A102:N102)=0,"",IF(OR(A102="",D102="",F102="",G102="",H102="",I102="",L102=""),"Revisar","OK")) -> OK
A103: 45771 | B103: =IF(A103="","",CHOOSE(MONTH(A103),"Enero","Febrero","Marzo","Abril","Mayo","Junio","Julio","Agosto","Septiembre","Octubre","Noviembre","Diciembre")) -> Abril | C103: =IF(A103="","",YEAR(A103)) -> 2025 | D103: Gasto | E103: Tarjeta débito | F103: Supermercado | G103: Alimentación | H103: Necesidades | I103: Variable | J103: Compra de supermercado | K103: Tarjeta | L103: 97.4 | M103: =IF(A103="","",IF(D103="Ingreso",L103,IF(D103="Ahorro",-L103,IF(D103="Transferencia",0,-L103)))) -> -97.4 | O103: =IF(COUNTA(A103:N103)=0,"",IF(OR(A103="",D103="",F103="",G103="",H103="",I103="",L103=""),"Revisar","OK")) -> OK
A104: 45772 | B104: =IF(A104="","",CHOOSE(MONTH(A104),"Enero","Febrero","Marzo","Abril","Mayo","Junio","Julio","Agosto","Septiembre","Octubre","Noviembre","Diciembre")) -> Abril | C104: =IF(A104="","",YEAR(A104)) -> 2025 | D104: Gasto | E104: Tarjeta transporte | F104: Transporte público | G104: Movilidad | H104: Necesidades | I104: Variable | J104: Recarga o trayecto urbano | K104: Tarjeta | L104: 10.27 | M104: =IF(A104="","",IF(D104="Ingreso",L104,IF(D104="Ahorro",-L104,IF(D104="Transferencia",0,-L104)))) -> -10.27 | O104: =IF(COUNTA(A104:N104)=0,"",IF(OR(A104="",D104="",F104="",G104="",H104="",I104="",L104=""),"Revisar","OK")) -> OK
A105: 45773 | B105: =IF(A105="","",CHOOSE(MONTH(A105),"Enero","Febrero","Marzo","Abril","Mayo","Junio","Julio","Agosto","Septiembre","Octubre","Noviembre","Diciembre")) -> Abril | C105: =IF(A105="","",YEAR(A105)) -> 2025 | D105: Gasto | E105: Tarjeta débito | F105: Mercado local | G105: Alimentación | H105: Necesidades | I105: Variable | J105: Compra en mercado local | K105: Efectivo | L105: 49.95 | M105: =IF(A105="","",IF(D105="Ingreso",L105,IF(D105="Ahorro",-L105,IF(D105="Transferencia",0,-L105)))) -> -49.95 | O105: =IF(COUNTA(A105:N105)=0,"",IF(OR(A105="",D105="",F105="",G105="",H105="",I105="",L105=""),"Revisar","OK")) -> OK
A106: 45774 | B106: =IF(A106="","",CHOOSE(MONTH(A106),"Enero","Febrero","Marzo","Abril","Mayo","Junio","Julio","Agosto","Septiembre","Octubre","Noviembre","Diciembre")) -> Abril | C106: =IF(A106="","",YEAR(A106)) -> 2025 | D106: Ahorro | E106: Cuenta ahorro | F106: Fondo de emergencia | G106: Ahorro planificado | H106: Ahorro | I106: Fijo | J106: Transferencia a ahorro base | K106: Transferencia | L106: 247.72 | M106: =IF(A106="","",IF(D106="Ingreso",L106,IF(D106="Ahorro",-L106,IF(D106="Transferencia",0,-L106)))) -> -247.72 | O106: =IF(COUNTA(A106:N106)=0,"",IF(OR(A106="",D106="",F106="",G106="",H106="",I106="",L106=""),"Revisar","OK")) -> OK
A107: 45775 | B107: =IF(A107="","",CHOOSE(MONTH(A107),"Enero","Febrero","Marzo","Abril","Mayo","Junio","Julio","Agosto","Septiembre","Octubre","Noviembre","Diciembre")) -> Abril | C107: =IF(A107="","",YEAR(A107)) -> 2025 | D107: Gasto | E107: Tarjeta débito | F107: Cafetería | G107: Ocio y cultura | H107: Deseos | I107: Variable | J107: Consumo fuera de casa | K107: Bizum | L107: 25.8 | M107: =IF(A107="","",IF(D107="Ingreso",L107,IF(D107="Ahorro",-L107,IF(D107="Transferencia",0,-L107)))) -> -25.8 | O107: =IF(COUNTA(A107:N107)=0,"",IF(OR(A107="",D107="",F107="",G107="",H107="",I107="",L107=""),"Revisar","OK")) -> OK
...

Sheet Presupuesto
A1: Presupuesto mensual vs. realidad
A2: Puedes cambiar importes presupuestados o añadir nuevas líneas con tus propias subcategorías.
A7: Periodo | B7: Subcategoría | C7: Categoría | D7: Grupo 50/30/20 | E7: Presupuesto | F7: Real | G7: Desviación | H7: Cumplimiento | I7: Estado
A8: 45658 | B8: Nómina principal | C8: Ingresos fijos | D8: Ingresos | E8: 2450 | F8: =IF(A8="","",SUMIFS(Movimientos!$L$9:$L$400,Movimientos!$A$9:$A$400,">="&$A8,Movimientos!$A$9:$A$400,"<"&EDATE($A8,1),Movimientos!$F$9:$F$400,$B8,Movimientos!$G$9:$G$400,$C8,Movimientos!$D$9:$D$400,IF($D8="Ingresos","Ingreso",IF($D8="Ahorro","Ahorro","Gasto")))) -> 2436.35 | G8: =IF(E8="","",F8-E8) -> -13.65 | H8: =IF(E8=0,"",F8/E8) -> 0.99442857 | I8: =IF(E8="","",IF($D8="Ingresos",IF(H8>=1,"Bien",IF(H8>=0.95,"Casi","Bajo")),IF($D8="Ahorro",IF(H8>=1,"Bien",IF(H8>=0.9,"Casi","Bajo")),IF(H8<=1,"Bien",IF(H8<=1.1,"Vigilar","Exceso"))))) -> Casi
A9: 45658 | B9: Ingreso puntual | C9: Ingresos extra | D9: Ingresos | E9: 0 | F9: =IF(A9="","",SUMIFS(Movimientos!$L$9:$L$400,Movimientos!$A$9:$A$400,">="&$A9,Movimientos!$A$9:$A$400,"<"&EDATE($A9,1),Movimientos!$F$9:$F$400,$B9,Movimientos!$G$9:$G$400,$C9,Movimientos!$D$9:$D$400,IF($D9="Ingresos","Ingreso",IF($D9="Ahorro","Ahorro","Gasto")))) -> 0 | G9: =IF(E9="","",F9-E9) -> 0 | H9: =IF(E9=0,"",F9/E9) | I9: =IF(E9="","",IF($D9="Ingresos",IF(H9>=1,"Bien",IF(H9>=0.95,"Casi","Bajo")),IF($D9="Ahorro",IF(H9>=1,"Bien",IF(H9>=0.9,"Casi","Bajo")),IF(H9<=1,"Bien",IF(H9<=1.1,"Vigilar","Exceso"))))) -> Bien
A10: 45658 | B10: Alquiler | C10: Vivienda | D10: Necesidades | E10: 980 | F10: =IF(A10="","",SUMIFS(Movimientos!$L$9:$L$400,Movimientos!$A$9:$A$400,">="&$A10,Movimientos!$A$9:$A$400,"<"&EDATE($A10,1),Movimientos!$F$9:$F$400,$B10,Movimientos!$G$9:$G$400,$C10,Movimientos!$D$9:$D$400,IF($D10="Ingresos","Ingreso",IF($D10="Ahorro","Ahorro","Gasto")))) -> 980 | G10: =IF(E10="","",F10-E10) -> 0 | H10: =IF(E10=0,"",F10/E10) -> 1 | I10: =IF(E10="","",IF($D10="Ingresos",IF(H10>=1,"Bien",IF(H10>=0.95,"Casi","Bajo")),IF($D10="Ahorro",IF(H10>=1,"Bien",IF(H10>=0.9,"Casi","Bajo")),IF(H10<=1,"Bien",IF(H10<=1.1,"Vigilar","Exceso"))))) -> Bien
A11: 45658 | B11: Electricidad | C11: Vivienda | D11: Necesidades | E11: 38 | F11: =IF(A11="","",SUMIFS(Movimientos!$L$9:$L$400,Movimientos!$A$9:$A$400,">="&$A11,Movimientos!$A$9:$A$400,"<"&EDATE($A11,1),Movimientos!$F$9:$F$400,$B11,Movimientos!$G$9:$G$400,$C11,Movimientos!$D$9:$D$400,IF($D11="Ingresos","Ingreso",IF($D11="Ahorro","Ahorro","Gasto")))) -> 31.5 | G11: =IF(E11="","",F11-E11) -> -6.5 | H11: =IF(E11=0,"",F11/E11) -> 0.82894737 | I11: =IF(E11="","",IF($D11="Ingresos",IF(H11>=1,"Bien",IF(H11>=0.95,"Casi","Bajo")),IF($D11="Ahorro",IF(H11>=1,"Bien",IF(H11>=0.9,"Casi","Bajo")),IF(H11<=1,"Bien",IF(H11<=1.1,"Vigilar","Exceso"))))) -> Bien
A12: 45658 | B12: Agua | C12: Vivienda | D12: Necesidades | E12: 22 | F12: =IF(A12="","",SUMIFS(Movimientos!$L$9:$L$400,Movimientos!$A$9:$A$400,">="&$A12,Movimientos!$A$9:$A$400,"<"&EDATE($A12,1),Movimientos!$F$9:$F$400,$B12,Movimientos!$G$9:$G$400,$C12,Movimientos!$D$9:$D$400,IF($D12="Ingresos","Ingreso",IF($D12="Ahorro","Ahorro","Gasto")))) -> 20.61 | G12: =IF(E12="","",F12-E12) -> -1.39 | H12: =IF(E12=0,"",F12/E12) -> 0.93681818 | I12: =IF(E12="","",IF($D12="Ingresos",IF(H12>=1,"Bien",IF(H12>=0.95,"Casi","Bajo")),IF($D12="Ahorro",IF(H12>=1,"Bien",IF(H12>=0.9,"Casi","Bajo")),IF(H12<=1,"Bien",IF(H12<=1.1,"Vigilar","Exceso"))))) -> Bien
A13: 45658 | B13: Internet hogar | C13: Vivienda | D13: Necesidades | E13: 35 | F13: =IF(A13="","",SUMIFS(Movimientos!$L$9:$L$400,Movimientos!$A$9:$A$400,">="&$A13,Movimientos!$A$9:$A$400,"<"&EDATE($A13,1),Movimientos!$F$9:$F$400,$B13,Movimientos!$G$9:$G$400,$C13,Movimientos!$D$9:$D$400,IF($D13="Ingresos","Ingreso",IF($D13="Ahorro","Ahorro","Gasto")))) -> 35 | G13: =IF(E13="","",F13-E13) -> 0 | H13: =IF(E13=0,"",F13/E13) -> 1 | I13: =IF(E13="","",IF($D13="Ingresos",IF(H13>=1,"Bien",IF(H13>=0.95,"Casi","Bajo")),IF($D13="Ahorro",IF(H13>=1,"Bien",IF(H13>=0.9,"Casi","Bajo")),IF(H13<=1,"Bien",IF(H13<=1.1,"Vigilar","Exceso"))))) -> Bien
A14: 45658 | B14: Suscripciones | C14: Tecnología | D14: Necesidades | E14: 24 | F14: =IF(A14="","",SUMIFS(Movimientos!$L$9:$L$400,Movimientos!$A$9:$A$400,">="&$A14,Movimientos!$A$9:$A$400,"<"&EDATE($A14,1),Movimientos!$F$9:$F$400,$B14,Movimientos!$G$9:$G$400,$C14,Movimientos!$D$9:$D$400,IF($D14="Ingresos","Ingreso",IF($D14="Ahorro","Ahorro","Gasto")))) -> 24 | G14: =IF(E14="","",F14-E14) -> 0 | H14: =IF(E14=0,"",F14/E14) -> 1 | I14: =IF(E14="","",IF($D14="Ingresos",IF(H14>=1,"Bien",IF(H14>=0.95,"Casi","Bajo")),IF($D14="Ahorro",IF(H14>=1,"Bien",IF(H14>=0.9,"Casi","Bajo")),IF(H14<=1,"Bien",IF(H14<=1.1,"Vigilar","Exceso"))))) -> Bien
A15: 45658 | B15: Supermercado | C15: Alimentación | D15: Necesidades | E15: 330 | F15: =IF(A15="","",SUMIFS(Movimientos!$L$9:$L$400,Movimientos!$A$9:$A$400,">="&$A15,Movimientos!$A$9:$A$400,"<"&EDATE($A15,1),Movimientos!$F$9:$F$400,$B15,Movimientos!$G$9:$G$400,$C15,Movimientos!$D$9:$D$400,IF($D15="Ingresos","Ingreso",IF($D15="Ahorro","Ahorro","Gasto")))) -> 351.8 | G15: =IF(E15="","",F15-E15) -> 21.8 | H15: =IF(E15=0,"",F15/E15) -> 1.0660606 | I15: =IF(E15="","",IF($D15="Ingresos",IF(H15>=1,"Bien",IF(H15>=0.95,"Casi","Bajo")),IF($D15="Ahorro",IF(H15>=1,"Bien",IF(H15>=0.9,"Casi","Bajo")),IF(H15<=1,"Bien",IF(H15<=1.1,"Vigilar","Exceso"))))) -> Vigilar
A16: 45658 | B16: Mercado local | C16: Alimentación | D16: Necesidades | E16: 85 | F16: =IF(A16="","",SUMIFS(Movimientos!$L$9:$L$400,Movimientos!$A$9:$A$400,">="&$A16,Movimientos!$A$9:$A$400,"<"&EDATE($A16,1),Movimientos!$F$9:$F$400,$B16,Movimientos!$G$9:$G$400,$C16,Movimientos!$D$9:$D$400,IF($D16="Ingresos","Ingreso",IF($D16="Ahorro","Ahorro","Gasto")))) -> 62.53 | G16: =IF(E16="","",F16-E16) -> -22.47 | H16: =IF(E16=0,"",F16/E16) -> 0.73564706 | I16: =IF(E16="","",IF($D16="Ingresos",IF(H16>=1,"Bien",IF(H16>=0.95,"Casi","Bajo")),IF($D16="Ahorro",IF(H16>=1,"Bien",IF(H16>=0.9,"Casi","Bajo")),IF(H16<=1,"Bien",IF(H16<=1.1,"Vigilar","Exceso"))))) -> Bien
A17: 45658 | B17: Transporte público | C17: Movilidad | D17: Necesidades | E17: 42 | F17: =IF(A17="","",SUMIFS(Movimientos!$L$9:$L$400,Movimientos!$A$9:$A$400,">="&$A17,Movimientos!$A$9:$A$400,"<"&EDATE($A17,1),Movimientos!$F$9:$F$400,$B17,Movimientos!$G$9:$G$400,$C17,Movimientos!$D$9:$D$400,IF($D17="Ingresos","Ingreso",IF($D17="Ahorro","Ahorro","Gasto")))) -> 34.28 | G17: =IF(E17="","",F17-E17) -> -7.72 | H17: =IF(E17=0,"",F17/E17) -> 0.81619048 | I17: =IF(E17="","",IF($D17="Ingresos",IF(H17>=1,"Bien",IF(H17>=0.95,"Casi","Bajo")),IF($D17="Ahorro",IF(H17>=1,"Bien",IF(H17>=0.9,"Casi","Bajo")),IF(H17<=1,"Bien",IF(H17<=1.1,"Vigilar","Exceso"))))) -> Bien
A18: 45658 | B18: Bicicleta / taller | C18: Movilidad | D18: Necesidades | E18: 12 | F18: =IF(A18="","",SUMIFS(Movimientos!$L$9:$L$400,Movimientos!$A$9:$A$400,">="&$A18,Movimientos!$A$9:$A$400,"<"&EDATE($A18,1),Movimientos!$F$9:$F$400,$B18,Movimientos!$G$9:$G$400,$C18,Movimientos!$D$9:$D$400,IF($D18="Ingresos","Ingreso",IF($D18="Ahorro","Ahorro","Gasto")))) -> 0 | G18: =IF(E18="","",F18-E18) -> -12 | H18: =IF(E18=0,"",F18/E18) -> 0 | I18: =IF(E18="","",IF($D18="Ingresos",IF(H18>=1,"Bien",IF(H18>=0.95,"Casi","Bajo")),IF($D18="Ahorro",IF(H18>=1,"Bien",IF(H18>=0.9,"Casi","Bajo")),IF(H18<=1,"Bien",IF(H18<=1.1,"Vigilar","Exceso"))))) -> Bien
A19: 45658 | B19: Farmacia | C19: Salud y cuidado | D19: Necesidades | E19: 18 | F19: =IF(A19="","",SUMIFS(Movimientos!$L$9:$L$400,Movimientos!$A$9:$A$400,">="&$A19,Movimientos!$A$9:$A$400,"<"&EDATE($A19,1),Movimientos!$F$9:$F$400,$B19,Movimientos!$G$9:$G$400,$C19,Movimientos!$D$9:$D$400,IF($D19="Ingresos","Ingreso",IF($D19="Ahorro","Ahorro","Gasto")))) -> 20.97 | G19: =IF(E19="","",F19-E19) -> 2.97 | H19: =IF(E19=0,"",F19/E19) -> 1.165 | I19: =IF(E19="","",IF($D19="Ingresos",IF(H19>=1,"Bien",IF(H19>=0.95,"Casi","Bajo")),IF($D19="Ahorro",IF(H19>=1,"Bien",IF(H19>=0.9,"Casi","Bajo")),IF(H19<=1,"Bien",IF(H19<=1.1,"Vigilar","Exceso"))))) -> Exceso
... A223: 45992 | B223: Viaje anual | C223: Ahorro planificado | D223: Ahorro | E223: 60 | F223: =IF(A223="","",SUMIFS(Movimientos!$L$9:$L$400,Movimientos!$A$9:$A$400,">="&$A223,Movimientos!$A$9:$A$400,"<"&EDATE($A223,1),Movimientos!$F$9:$F$400,$B223,Movimientos!$G$9:$G$400,$C223,Movimientos!$D$9:$D$400,IF($D223="Ingresos","Ingreso",IF($D223="Ahorro","Ahorro","Gasto")))) -> 70.32 | G223: =IF(E223="","",F223-E223) -> 10.32 | H223: =IF(E223=0,"",F223/E223) -> 1.172 | I223: =IF(E223="","",IF($D223="Ingresos",IF(H223>=1,"Bien",IF(H223>=0.95,"Casi","Bajo")),IF($D223="Ahorro",IF(H223>=1,"Bien",IF(H223>=0.9,"Casi","Bajo")),IF(H223<=1,"Bien",IF(H223<=1.1,"Vigilar","Exceso"))))) -> Bien
F224: =IF(A224="","",SUMIFS(Movimientos!$L$9:$L$400,Movimientos!$A$9:$A$400,">="&$A224,Movimientos!$A$9:$A$400,"<"&EDATE($A224,1),Movimientos!$F$9:$F$400,$B224,Movimientos!$G$9:$G$400,$C224,Movimientos!$D$9:$D$400,IF($D224="Ingresos","Ingreso",IF($D224="Ahorro","Ahorro","Gasto")))) | G224: =IF(E224="","",F224-E224) | H224: =IF(E224=0,"",F224/E224) | I224: =IF(E224="","",IF($D224="Ingresos",IF(H224>=1,"Bien",IF(H224>=0.95,"Casi","Bajo")),IF($D224="Ahorro",IF(H224>=1,"Bien",IF(H224>=0.9,"Casi","Bajo")),IF(H224<=1,"Bien",IF(H224<=1.1,"Vigilar","Exceso")))))
F225: =IF(A225="","",SUMIFS(Movimientos!$L$9:$L$400,Movimientos!$A$9:$A$400,">="&$A225,Movimientos!$A$9:$A$400,"<"&EDATE($A225,1),Movimientos!$F$9:$F$400,$B225,Movimientos!$G$9:$G$400,$C225,Movimientos!$D$9:$D$400,IF($D225="Ingresos","Ingreso",IF($D225="Ahorro","Ahorro","Gasto")))) | G225: =IF(E225="","",F225-E225) | H225: =IF(E225=0,"",F225/E225) | I225: =IF(E225="","",IF($D225="Ingresos",IF(H225>=1,"Bien",IF(H225>=0.95,"Casi","Bajo")),IF($D225="Ahorro",IF(H225>=1,"Bien",IF(H225>=0.9,"Casi","Bajo")),IF(H225<=1,"Bien",IF(H225<=1.1,"Vigilar","Exceso")))))
F226: =IF(A226="","",SUMIFS(Movimientos!$L$9:$L$400,Movimientos!$A$9:$A$400,">="&$A226,Movimientos!$A$9:$A$400,"<"&EDATE($A226,1),Movimientos!$F$9:$F$400,$B226,Movimientos!$G$9:$G$400,$C226,Movimientos!$D$9:$D$400,IF($D226="Ingresos","Ingreso",IF($D226="Ahorro","Ahorro","Gasto")))) | G226: =IF(E226="","",F226-E226) | H226: =IF(E226=0,"",F226/E226) | I226: =IF(E226="","",IF($D226="Ingresos",IF(H226>=1,"Bien",IF(H226>=0.95,"Casi","Bajo")),IF($D226="Ahorro",IF(H226>=1,"Bien",IF(H226>=0.9,"Casi","Bajo")),IF(H226<=1,"Bien",IF(H226<=1.1,"Vigilar","Exceso")))))
F227: =IF(A227="","",SUMIFS(Movimientos!$L$9:$L$400,Movimientos!$A$9:$A$400,">="&$A227,Movimientos!$A$9:$A$400,"<"&EDATE($A227,1),Movimientos!$F$9:$F$400,$B227,Movimientos!$G$9:$G$400,$C227,Movimientos!$D$9:$D$400,IF($D227="Ingresos","Ingreso",IF($D227="Ahorro","Ahorro","Gasto")))) | G227: =IF(E227="","",F227-E227) | H227: =IF(E227=0,"",F227/E227) | I227: =IF(E227="","",IF($D227="Ingresos",IF(H227>=1,"Bien",IF(H227>=0.95,"Casi","Bajo")),IF($D227="Ahorro",IF(H227>=1,"Bien",IF(H227>=0.9,"Casi","Bajo")),IF(H227<=1,"Bien",IF(H227<=1.1,"Vigilar","Exceso")))))
F228: =IF(A228="","",SUMIFS(Movimientos!$L$9:$L$400,Movimientos!$A$9:$A$400,">="&$A228,Movimientos!$A$9:$A$400,"<"&EDATE($A228,1),Movimientos!$F$9:$F$400,$B228,Movimientos!$G$9:$G$400,$C228,Movimientos!$D$9:$D$400,IF($D228="Ingresos","Ingreso",IF($D228="Ahorro","Ahorro","Gasto")))) | G228: =IF(E228="","",F228-E228) | H228: =IF(E228=0,"",F228/E228) | I228: =IF(E228="","",IF($D228="Ingresos",IF(H228>=1,"Bien",IF(H228>=0.95,"Casi","Bajo")),IF($D228="Ahorro",IF(H228>=1,"Bien",IF(H228>=0.9,"Casi","Bajo")),IF(H228<=1,"Bien",IF(H228<=1.1,"Vigilar","Exceso")))))
F229: =IF(A229="","",SUMIFS(Movimientos!$L$9:$L$400,Movimientos!$A$9:$A$400,">="&$A229,Movimientos!$A$9:$A$400,"<"&EDATE($A229,1),Movimientos!$F$9:$F$400,$B229,Movimientos!$G$9:$G$400,$C229,Movimientos!$D$9:$D$400,IF($D229="Ingresos","Ingreso",IF($D229="Ahorro","Ahorro","Gasto")))) | G229: =IF(E229="","",F229-E229) | H229: =IF(E229=0,"",F229/E229) | I229: =IF(E229="","",IF($D229="Ingresos",IF(H229>=1,"Bien",IF(H229>=0.95,"Casi","Bajo")),IF($D229="Ahorro",IF(H229>=1,"Bien",IF(H229>=0.9,"Casi","Bajo")),IF(H229<=1,"Bien",IF(H229<=1.1,"Vigilar","Exceso")))))
F230: =IF(A230="","",SUMIFS(Movimientos!$L$9:$L$400,Movimientos!$A$9:$A$400,">="&$A230,Movimientos!$A$9:$A$400,"<"&EDATE($A230,1),Movimientos!$F$9:$F$400,$B230,Movimientos!$G$9:$G$400,$C230,Movimientos!$D$9:$D$400,IF($D230="Ingresos","Ingreso",IF($D230="Ahorro","Ahorro","Gasto")))) | G230: =IF(E230="","",F230-E230) | H230: =IF(E230=0,"",F230/E230) | I230: =IF(E230="","",IF($D230="Ingresos",IF(H230>=1,"Bien",IF(H230>=0.95,"Casi","Bajo")),IF($D230="Ahorro",IF(H230>=1,"Bien",IF(H230>=0.9,"Casi","Bajo")),IF(H230<=1,"Bien",IF(H230<=1.1,"Vigilar","Exceso")))))
F231: =IF(A231="","",SUMIFS(Movimientos!$L$9:$L$400,Movimientos!$A$9:$A$400,">="&$A231,Movimientos!$A$9:$A$400,"<"&EDATE($A231,1),Movimientos!$F$9:$F$400,$B231,Movimientos!$G$9:$G$400,$C231,Movimientos!$D$9:$D$400,IF($D231="Ingresos","Ingreso",IF($D231="Ahorro","Ahorro","Gasto")))) | G231: =IF(E231="","",F231-E231) | H231: =IF(E231=0,"",F231/E231) | I231: =IF(E231="","",IF($D231="Ingresos",IF(H231>=1,"Bien",IF(H231>=0.95,"Casi","Bajo")),IF($D231="Ahorro",IF(H231>=1,"Bien",IF(H231>=0.9,"Casi","Bajo")),IF(H231<=1,"Bien",IF(H231<=1.1,"Vigilar","Exceso")))))
F232: =IF(A232="","",SUMIFS(Movimientos!$L$9:$L$400,Movimientos!$A$9:$A$400,">="&$A232,Movimientos!$A$9:$A$400,"<"&EDATE($A232,1),Movimientos!$F$9:$F$400,$B232,Movimientos!$G$9:$G$400,$C232,Movimientos!$D$9:$D$400,IF($D232="Ingresos","Ingreso",IF($D232="Ahorro","Ahorro","Gasto")))) | G232: =IF(E232="","",F232-E232) | H232: =IF(E232=0,"",F232/E232) | I232: =IF(E232="","",IF($D232="Ingresos",IF(H232>=1,"Bien",IF(H232>=0.95,"Casi","Bajo")),IF($D232="Ahorro",IF(H232>=1,"Bien",IF(H232>=0.9,"Casi","Bajo")),IF(H232<=1,"Bien",IF(H232<=1.1,"Vigilar","Exceso")))))
F233: =IF(A233="","",SUMIFS(Movimientos!$L$9:$L$400,Movimientos!$A$9:$A$400,">="&$A233,Movimientos!$A$9:$A$400,"<"&EDATE($A233,1),Movimientos!$F$9:$F$400,$B233,Movimientos!$G$9:$G$400,$C233,Movimientos!$D$9:$D$400,IF($D233="Ingresos","Ingreso",IF($D233="Ahorro","Ahorro","Gasto")))) | G233: =IF(E233="","",F233-E233) | H233: =IF(E233=0,"",F233/E233) | I233: =IF(E233="","",IF($D233="Ingresos",IF(H233>=1,"Bien",IF(H233>=0.95,"Casi","Bajo")),IF($D233="Ahorro",IF(H233>=1,"Bien",IF(H233>=0.9,"Casi","Bajo")),IF(H233<=1,"Bien",IF(H233<=1.1,"Vigilar","Exceso")))))
F234: =IF(A234="","",SUMIFS(Movimientos!$L$9:$L$400,Movimientos!$A$9:$A$400,">="&$A234,Movimientos!$A$9:$A$400,"<"&EDATE($A234,1),Movimientos!$F$9:$F$400,$B234,Movimientos!$G$9:$G$400,$C234,Movimientos!$D$9:$D$400,IF($D234="Ingresos","Ingreso",IF($D234="Ahorro","Ahorro","Gasto")))) | G234: =IF(E234="","",F234-E234) | H234: =IF(E234=0,"",F234/E234) | I234: =IF(E234="","",IF($D234="Ingresos",IF(H234>=1,"Bien",IF(H234>=0.95,"Casi","Bajo")),IF($D234="Ahorro",IF(H234>=1,"Bien",IF(H234>=0.9,"Casi","Bajo")),IF(H234<=1,"Bien",IF(H234<=1.1,"Vigilar","Exceso")))))
F235: =IF(A235="","",SUMIFS(Movimientos!$L$9:$L$400,Movimientos!$A$9:$A$400,">="&$A235,Movimientos!$A$9:$A$400,"<"&EDATE($A235,1),Movimientos!$F$9:$F$400,$B235,Movimientos!$G$9:$G$400,$C235,Movimientos!$D$9:$D$400,IF($D235="Ingresos","Ingreso",IF($D235="Ahorro","Ahorro","Gasto")))) | G235: =IF(E235="","",F235-E235) | H235: =IF(E235=0,"",F235/E235) | I235: =IF(E235="","",IF($D235="Ingresos",IF(H235>=1,"Bien",IF(H235>=0.95,"Casi","Bajo")),IF($D235="Ahorro",IF(H235>=1,"Bien",IF(H235>=0.9,"Casi","Bajo")),IF(H235<=1,"Bien",IF(H235<=1.1,"Vigilar","Exceso")))))
... F262: =IF(A262="","",SUMIFS(Movimientos!$L$9:$L$400,Movimientos!$A$9:$A$400,">="&$A262,Movimientos!$A$9:$A$400,"<"&EDATE($A262,1),Movimientos!$F$9:$F$400,$B262,Movimientos!$G$9:$G$400,$C262,Movimientos!$D$9:$D$400,IF($D262="Ingresos","Ingreso",IF($D262="Ahorro","Ahorro","Gasto")))) | G262: =IF(E262="","",F262-E262) | H262: =IF(E262=0,"",F262/E262) | I262: =IF(E262="","",IF($D262="Ingresos",IF(H262>=1,"Bien",IF(H262>=0.95,"Casi","Bajo")),IF($D262="Ahorro",IF(H262>=1,"Bien",IF(H262>=0.9,"Casi","Bajo")),IF(H262<=1,"Bien",IF(H262<=1.1,"Vigilar","Exceso")))))

Sheet Listas
A1: Mes | B1: Nombre del mes | D1: Tipo | F1: Grupo 50/30/20 | H1: Naturaleza | J1: Cuenta | L1: Medio de pago | N1: Subcategoría | P1: Categoría | R1: Año | T1: Mapa editable
A2: 1 | B2: Enero | D2: Ingreso | F2: Ingresos | H2: Fijo | J2: Cuenta nómina | L2: Transferencia | N2: Nómina principal | P2: Ingresos fijos | R2: 2025 | T2: Subcategoría | U2: Categoría | V2: Grupo | W2: Naturaleza
A3: 2 | B3: Febrero | D3: Gasto | F3: Necesidades | H3: Variable | J3: Cuenta hogar | L3: Domiciliado | N3: Ingreso puntual | P3: Ingresos extra | R3: 2026 | T3: Nómina principal | U3: Ingresos fijos | V3: Ingresos | W3: Fijo
A4: 3 | B4: Marzo | D4: Ahorro | F4: Deseos | J4: Tarjeta débito | L4: Tarjeta | N4: Alquiler | P4: Vivienda | R4: 2027 | T4: Ingreso puntual | U4: Ingresos extra | V4: Ingresos | W4: Variable
A5: 4 | B5: Abril | D5: Transferencia | F5: Ahorro | J5: Tarjeta transporte | L5: Bizum | N5: Electricidad | P5: Tecnología | T5: Alquiler | U5: Vivienda | V5: Necesidades | W5: Fijo
A6: 5 | B6: Mayo | J6: Cuenta ahorro | L6: Efectivo | N6: Agua | P6: Alimentación | T6: Electricidad | U6: Vivienda | V6: Necesidades | W6: Fijo
A7: 6 | B7: Junio | N7: Internet hogar | P7: Movilidad | T7: Agua | U7: Vivienda | V7: Necesidades | W7: Fijo
A8: 7 | B8: Julio | N8: Suscripciones | P8: Salud y cuidado | T8: Internet hogar | U8: Vivienda | V8: Necesidades | W8: Fijo
A9: 8 | B9: Agosto | N9: Supermercado | P9: Ocio y cultura | T9: Suscripciones | U9: Tecnología | V9: Necesidades | W9: Fijo
A10: 9 | B10: Septiembre | N10: Mercado local | P10: Desarrollo personal | T10: Supermercado | U10: Alimentación | V10: Necesidades | W10: Variable
A11: 10 | B11: Octubre | N11: Transporte público | P11: Ahorro planificado | T11: Mercado local | U11: Alimentación | V11: Necesidades | W11: Variable
A12: 11 | B12: Noviembre | N12: Bicicleta / taller | T12: Transporte público | U12: Movilidad | V12: Necesidades | W12: Variable
A13: 12 | B13: Diciembre | N13: Farmacia | T13: Bicicleta / taller | U13: Movilidad | V13: Necesidades | W13: Variable
N14: Seguro salud | T14: Farmacia | U14: Salud y cuidado | V14: Necesidades | W14: Variable
N15: Cafetería | T15: Seguro salud | U15: Salud y cuidado | V15: Necesidades | W15: Fijo
N16: Cine o eventos | T16: Cafetería | U16: Ocio y cultura | V16: Deseos | W16: Variable
N17: Libros y cursos | T17: Cine o eventos | U17: Ocio y cultura | V17: Deseos | W17: Variable
N18: Fondo de emergencia | T18: Libros y cursos | U18: Desarrollo personal | V18: Deseos | W18: Variable
N19: Viaje anual | T19: Fondo de emergencia | U19: Ahorro planificado | V19: Ahorro | W19: Fijo
T20: Viaje anual | U20: Ahorro planificado | V20: Ahorro | W20: Variable
