Workbook
Name ListaCentros: Listas!$M$3:$M$8
Name ListaCondiciones: Listas!$J$3:$J$7
Name ListaEstadoPago: Listas!$U$3:$U$5
Name ListaIVA: Listas!$O$3:$O$6
Name ListaMetodos: Listas!$S$3:$S$6
Name ListaProveedores: Listas!$A$3:$A$13
Name ListaResponsables: Listas!$W$3:$W$7
Name ListaRet: Listas!$Q$3:$Q$5

Sheet Inicio
B1: Panel de control - facturas proveedores
B2: La hoja usa una fecha de corte editable. Cambia F3 para recalcular prioridades, vencimientos y próximos pagos.
B3: Empresa ejemplo | C3: Aurora Sonora Studio S.L. | E3: Fecha de corte | F3: 46132 | H3: Moneda | I3: EUR (€)
B6: Total facturas | E6: Saldo pendiente | H6: Vencidas | K6: Próximas 7 días | N6: Cómo usarla
B7: =COUNTIF(Facturas!$A$8:$A$300,"<>") -> 20 | E7: =SUM(Facturas!$T$8:$T$300) -> 11354.95 | H7: =COUNTIF(Facturas!$U$8:$U$300,"Vencida")+COUNTIF(Facturas!$U$8:$U$300,"Parcial vencida") -> 7 | K7: =COUNTIF(Facturas!$U$8:$U$300,"Próxima") -> 2 | N7: 1) Alta facturas en la hoja Facturas. 2) Registra pagos reales o programados en Pagos. 3) Cambia la fecha de corte en F3 para revisar cierres o previsiones. 4) Los colores ayudan: azul = dato editable; gris = cálculo; rojo suave = riesgo.
B10: Pagadas | E10: Pago parcial | H10: Importe vencido | K10: Ticket medio
B11: =COUNTIF(Facturas!$U$8:$U$300,"Pagada") -> 4 | E11: =COUNTIF(Facturas!$U$8:$U$300,"Pago parcial")+COUNTIF(Facturas!$U$8:$U$300,"Parcial vencida") -> 3 | H11: =SUMIFS(Facturas!$T$8:$T$300,Facturas!$U$8:$U$300,"Vencida")+SUMIFS(Facturas!$T$8:$T$300,Facturas!$U$8:$U$300,"Parcial vencida") -> 5339 | K11: =AVERAGEIF(Facturas!$R$8:$R$300,">0",Facturas!$R$8:$R$300) -> 949.0475
B14: Resumen por estado | H14: Agenda de pagos abierta
B15: Estado | C15: Facturas | D15: Importe total | E15: Saldo actual | H15: Vence | I15: Proveedor | J15: Factura | K15: Estado | L15: Saldo
B16: Pagada | C16: =COUNTIF(Facturas!$U$8:$U$300,$B16) -> 4 | D16: =SUMIF(Facturas!$U$8:$U$300,$B16,Facturas!$R$8:$R$300) -> 4826 | E16: =SUMIF(Facturas!$U$8:$U$300,$B16,Facturas!$T$8:$T$300) -> 0 | H16: =IFERROR(INDEX(Facturas!$J$8:$J$300,MATCH(ROW(A1),Facturas!$AA$8:$AA$300,0)),"") -> 46066 | I16: =IF($H16="","",INDEX(Facturas!$B$8:$B$300,MATCH(ROW(A1),Facturas!$AA$8:$AA$300,0))) -> Pixel Bruma Creativa S.L. | J16: =IF($H16="","",INDEX(Facturas!$A$8:$A$300,MATCH(ROW(A1),Facturas!$AA$8:$AA$300,0))) -> FPR-26002 | K16: =IF($H16="","",INDEX(Facturas!$U$8:$U$300,MATCH(ROW(A1),Facturas!$AA$8:$AA$300,0))) -> Parcial vencida | L16: =IF($H16="","",INDEX(Facturas!$T$8:$T$300,MATCH(ROW(A1),Facturas!$AA$8:$AA$300,0))) -> 754.5
B17: Pendiente | C17: =COUNTIF(Facturas!$U$8:$U$300,$B17) -> 7 | D17: =SUMIF(Facturas!$U$8:$U$300,$B17,Facturas!$R$8:$R$300) -> 5021.55 | E17: =SUMIF(Facturas!$U$8:$U$300,$B17,Facturas!$T$8:$T$300) -> 5021.55 | H17: =IFERROR(INDEX(Facturas!$J$8:$J$300,MATCH(ROW(A2),Facturas!$AA$8:$AA$300,0)),"") -> 46071 | I17: =IF($H17="","",INDEX(Facturas!$B$8:$B$300,MATCH(ROW(A2),Facturas!$AA$8:$AA$300,0))) -> Grano Norte Coffee Supply S.L. | J17: =IF($H17="","",INDEX(Facturas!$A$8:$A$300,MATCH(ROW(A2),Facturas!$AA$8:$AA$300,0))) -> FPR-26004 | K17: =IF($H17="","",INDEX(Facturas!$U$8:$U$300,MATCH(ROW(A2),Facturas!$AA$8:$AA$300,0))) -> Vencida | L17: =IF($H17="","",INDEX(Facturas!$T$8:$T$300,MATCH(ROW(A2),Facturas!$AA$8:$AA$300,0))) -> 594
B18: Próxima | C18: =COUNTIF(Facturas!$U$8:$U$300,$B18) -> 2 | D18: =SUMIF(Facturas!$U$8:$U$300,$B18,Facturas!$R$8:$R$300) -> 994.4 | E18: =SUMIF(Facturas!$U$8:$U$300,$B18,Facturas!$T$8:$T$300) -> 994.4 | H18: =IFERROR(INDEX(Facturas!$J$8:$J$300,MATCH(ROW(A3),Facturas!$AA$8:$AA$300,0)),"") -> 46074 | I18: =IF($H18="","",INDEX(Facturas!$B$8:$B$300,MATCH(ROW(A3),Facturas!$AA$8:$AA$300,0))) -> Ruta Clara Mensajería S.L. | J18: =IF($H18="","",INDEX(Facturas!$A$8:$A$300,MATCH(ROW(A3),Facturas!$AA$8:$AA$300,0))) -> FPR-26003 | K18: =IF($H18="","",INDEX(Facturas!$U$8:$U$300,MATCH(ROW(A3),Facturas!$AA$8:$AA$300,0))) -> Vencida | L18: =IF($H18="","",INDEX(Facturas!$T$8:$T$300,MATCH(ROW(A3),Facturas!$AA$8:$AA$300,0))) -> 387.2
B19: Vencida | C19: =COUNTIF(Facturas!$U$8:$U$300,$B19) -> 4 | D19: =SUMIF(Facturas!$U$8:$U$300,$B19,Facturas!$R$8:$R$300) -> 2648.8 | E19: =SUMIF(Facturas!$U$8:$U$300,$B19,Facturas!$T$8:$T$300) -> 2648.8 | H19: =IFERROR(INDEX(Facturas!$J$8:$J$300,MATCH(ROW(A4),Facturas!$AA$8:$AA$300,0)),"") -> 46113 | I19: =IF($H19="","",INDEX(Facturas!$B$8:$B$300,MATCH(ROW(A4),Facturas!$AA$8:$AA$300,0))) -> Órbita Limpieza Técnica S.L. | J19: =IF($H19="","",INDEX(Facturas!$A$8:$A$300,MATCH(ROW(A4),Facturas!$AA$8:$AA$300,0))) -> FPR-26007 | K19: =IF($H19="","",INDEX(Facturas!$U$8:$U$300,MATCH(ROW(A4),Facturas!$AA$8:$AA$300,0))) -> Vencida | L19: =IF($H19="","",INDEX(Facturas!$T$8:$T$300,MATCH(ROW(A4),Facturas!$AA$8:$AA$300,0))) -> 919.6
B20: Pago parcial | C20: =COUNTIF(Facturas!$U$8:$U$300,$B20) -> 0 | D20: =SUMIF(Facturas!$U$8:$U$300,$B20,Facturas!$R$8:$R$300) -> 0 | E20: =SUMIF(Facturas!$U$8:$U$300,$B20,Facturas!$T$8:$T$300) -> 0 | H20: =IFERROR(INDEX(Facturas!$J$8:$J$300,MATCH(ROW(A5),Facturas!$AA$8:$AA$300,0)),"") -> 46120 | I20: =IF($H20="","",INDEX(Facturas!$B$8:$B$300,MATCH(ROW(A5),Facturas!$AA$8:$AA$300,0))) -> Taller Vía Dos S.L. | J20: =IF($H20="","",INDEX(Facturas!$A$8:$A$300,MATCH(ROW(A5),Facturas!$AA$8:$AA$300,0))) -> FPR-26009 | K20: =IF($H20="","",INDEX(Facturas!$U$8:$U$300,MATCH(ROW(A5),Facturas!$AA$8:$AA$300,0))) -> Parcial vencida | L20: =IF($H20="","",INDEX(Facturas!$T$8:$T$300,MATCH(ROW(A5),Facturas!$AA$8:$AA$300,0))) -> 1183
B21: Parcial vencida | C21: =COUNTIF(Facturas!$U$8:$U$300,$B21) -> 3 | D21: =SUMIF(Facturas!$U$8:$U$300,$B21,Facturas!$R$8:$R$300) -> 5490.2 | E21: =SUMIF(Facturas!$U$8:$U$300,$B21,Facturas!$T$8:$T$300) -> 2690.2 | H21: =IFERROR(INDEX(Facturas!$J$8:$J$300,MATCH(ROW(A6),Facturas!$AA$8:$AA$300,0)),"") -> 46122 | I21: =IF($H21="","",INDEX(Facturas!$B$8:$B$300,MATCH(ROW(A6),Facturas!$AA$8:$AA$300,0))) -> Grano Norte Coffee Supply S.L. | J21: =IF($H21="","",INDEX(Facturas!$A$8:$A$300,MATCH(ROW(A6),Facturas!$AA$8:$AA$300,0))) -> FPR-26012 | K21: =IF($H21="","",INDEX(Facturas!$U$8:$U$300,MATCH(ROW(A6),Facturas!$AA$8:$AA$300,0))) -> Vencida | L21: =IF($H21="","",INDEX(Facturas!$T$8:$T$300,MATCH(ROW(A6),Facturas!$AA$8:$AA$300,0))) -> 748
H22: =IFERROR(INDEX(Facturas!$J$8:$J$300,MATCH(ROW(A7),Facturas!$AA$8:$AA$300,0)),"") -> 46129 | I22: =IF($H22="","",INDEX(Facturas!$B$8:$B$300,MATCH(ROW(A7),Facturas!$AA$8:$AA$300,0))) -> Pixel Bruma Creativa S.L. | J22: =IF($H22="","",INDEX(Facturas!$A$8:$A$300,MATCH(ROW(A7),Facturas!$AA$8:$AA$300,0))) -> FPR-26011 | K22: =IF($H22="","",INDEX(Facturas!$U$8:$U$300,MATCH(ROW(A7),Facturas!$AA$8:$AA$300,0))) -> Parcial vencida | L22: =IF($H22="","",INDEX(Facturas!$T$8:$T$300,MATCH(ROW(A7),Facturas!$AA$8:$AA$300,0))) -> 752.7
H23: =IFERROR(INDEX(Facturas!$J$8:$J$300,MATCH(ROW(A8),Facturas!$AA$8:$AA$300,0)),"") -> 46135 | I23: =IF($H23="","",INDEX(Facturas!$B$8:$B$300,MATCH(ROW(A8),Facturas!$AA$8:$AA$300,0))) -> Pulso Formación Técnica S.L. | J23: =IF($H23="","",INDEX(Facturas!$A$8:$A$300,MATCH(ROW(A8),Facturas!$AA$8:$AA$300,0))) -> FPR-26016 | K23: =IF($H23="","",INDEX(Facturas!$U$8:$U$300,MATCH(ROW(A8),Facturas!$AA$8:$AA$300,0))) -> Próxima | L23: =IF($H23="","",INDEX(Facturas!$T$8:$T$300,MATCH(ROW(A8),Facturas!$AA$8:$AA$300,0))) -> 653.4
B26: Seguimiento mensual | H26: Top proveedores por saldo
B27: Mes | C27: Facturado | D27: Pagado aplicado | E27: Programado | F27: Saldo emitido | H27: Proveedor | I27: Saldo actual | J27: Facturado YTD | K27: Contacto
B28: 46023 | C28: =SUMIFS(Facturas!$R$8:$R$300,Facturas!$G$8:$G$300,">="&$B28,Facturas!$G$8:$G$300,"<"&EDATE($B28,1)) -> 3327.5 | D28: =SUMIFS(Pagos!$D$8:$D$300,Pagos!$C$8:$C$300,">="&$B28,Pagos!$C$8:$C$300,"<"&EDATE($B28,1),Pagos!$F$8:$F$300,"Aplicado") -> 0 | E28: =SUMIFS(Pagos!$D$8:$D$300,Pagos!$C$8:$C$300,">="&$B28,Pagos!$C$8:$C$300,"<"&EDATE($B28,1),Pagos!$F$8:$F$300,"Programado") -> 0 | F28: =SUMIFS(Facturas!$T$8:$T$300,Facturas!$G$8:$G$300,">="&$B28,Facturas!$G$8:$G$300,"<"&EDATE($B28,1)) -> 1141.7 | H28: =IFERROR(INDEX(Listas!$A$3:$A$13,MATCH(LARGE(Listas!$L$3:$L$13,ROW(A1)),Listas!$L$3:$L$13,0)),"") -> Grano Norte Coffee Supply S.L. | I28: =IF($H28="","",SUMIFS(Facturas!$T$8:$T$300,Facturas!$B$8:$B$300,$H28)) -> 1683 | J28: =IF($H28="","",SUMIFS(Facturas!$R$8:$R$300,Facturas!$B$8:$B$300,$H28)) -> 1683 | K28: =IF($H28="","",IFERROR(VLOOKUP($H28,Listas!$A$3:$F$13,6,FALSE),"")) -> Nora Vidal
B29: 46054 | C29: =SUMIFS(Facturas!$R$8:$R$300,Facturas!$G$8:$G$300,">="&$B29,Facturas!$G$8:$G$300,"<"&EDATE($B29,1)) -> 3726 | D29: =SUMIFS(Pagos!$D$8:$D$300,Pagos!$C$8:$C$300,">="&$B29,Pagos!$C$8:$C$300,"<"&EDATE($B29,1),Pagos!$F$8:$F$300,"Aplicado") -> 2185.8 | E29: =SUMIFS(Pagos!$D$8:$D$300,Pagos!$C$8:$C$300,">="&$B29,Pagos!$C$8:$C$300,"<"&EDATE($B29,1),Pagos!$F$8:$F$300,"Programado") -> 0 | F29: =SUMIFS(Facturas!$T$8:$T$300,Facturas!$G$8:$G$300,">="&$B29,Facturas!$G$8:$G$300,"<"&EDATE($B29,1)) -> 594 | H29: =IFERROR(INDEX(Listas!$A$3:$A$13,MATCH(LARGE(Listas!$L$3:$L$13,ROW(A2)),Listas!$L$3:$L$13,0)),"") -> Pixel Bruma Creativa S.L. | I29: =IF($H29="","",SUMIFS(Facturas!$T$8:$T$300,Facturas!$B$8:$B$300,$H29)) -> 1507.2 | J29: =IF($H29="","",SUMIFS(Facturas!$R$8:$R$300,Facturas!$B$8:$B$300,$H29)) -> 2807.2 | K29: =IF($H29="","",IFERROR(VLOOKUP($H29,Listas!$A$3:$F$13,6,FALSE),"")) -> Víctor Lago
B30: 46082 | C30: =SUMIFS(Facturas!$R$8:$R$300,Facturas!$G$8:$G$300,">="&$B30,Facturas!$G$8:$G$300,"<"&EDATE($B30,1)) -> 7169.9 | D30: =SUMIFS(Pagos!$D$8:$D$300,Pagos!$C$8:$C$300,">="&$B30,Pagos!$C$8:$C$300,"<"&EDATE($B30,1),Pagos!$F$8:$F$300,"Aplicado") -> 3132 | E30: =SUMIFS(Pagos!$D$8:$D$300,Pagos!$C$8:$C$300,">="&$B30,Pagos!$C$8:$C$300,"<"&EDATE($B30,1),Pagos!$F$8:$F$300,"Programado") -> 0 | F30: =SUMIFS(Facturas!$T$8:$T$300,Facturas!$G$8:$G$300,">="&$B30,Facturas!$G$8:$G$300,"<"&EDATE($B30,1)) -> 4861.7 | H30: =IFERROR(INDEX(Listas!$A$3:$A$13,MATCH(LARGE(Listas!$L$3:$L$13,ROW(A3)),Listas!$L$3:$L$13,0)),"") -> Órbita Limpieza Técnica S.L. | I30: =IF($H30="","",SUMIFS(Facturas!$T$8:$T$300,Facturas!$B$8:$B$300,$H30)) -> 1427.8 | J30: =IF($H30="","",SUMIFS(Facturas!$R$8:$R$300,Facturas!$B$8:$B$300,$H30)) -> 1427.8 | K30: =IF($H30="","",IFERROR(VLOOKUP($H30,Listas!$A$3:$F$13,6,FALSE),"")) -> Pablo Riu
B31: 46113 | C31: =SUMIFS(Facturas!$R$8:$R$300,Facturas!$G$8:$G$300,">="&$B31,Facturas!$G$8:$G$300,"<"&EDATE($B31,1)) -> 4757.55 | D31: =SUMIFS(Pagos!$D$8:$D$300,Pagos!$C$8:$C$300,">="&$B31,Pagos!$C$8:$C$300,"<"&EDATE($B31,1),Pagos!$F$8:$F$300,"Aplicado") -> 2308.2 | E31: =SUMIFS(Pagos!$D$8:$D$300,Pagos!$C$8:$C$300,">="&$B31,Pagos!$C$8:$C$300,"<"&EDATE($B31,1),Pagos!$F$8:$F$300,"Programado") -> 1907.9 | F31: =SUMIFS(Facturas!$T$8:$T$300,Facturas!$G$8:$G$300,">="&$B31,Facturas!$G$8:$G$300,"<"&EDATE($B31,1)) -> 4757.55 | H31: =IFERROR(INDEX(Listas!$A$3:$A$13,MATCH(LARGE(Listas!$L$3:$L$13,ROW(A4)),Listas!$L$3:$L$13,0)),"") -> Foco y Trama Escenografía S.L. | I31: =IF($H31="","",SUMIFS(Facturas!$T$8:$T$300,Facturas!$B$8:$B$300,$H31)) -> 1355.2 | J31: =IF($H31="","",SUMIFS(Facturas!$R$8:$R$300,Facturas!$B$8:$B$300,$H31)) -> 1355.2 | K31: =IF($H31="","",IFERROR(VLOOKUP($H31,Listas!$A$3:$F$13,6,FALSE),"")) -> Saúl Mena
B32: 46143 | C32: =SUMIFS(Facturas!$R$8:$R$300,Facturas!$G$8:$G$300,">="&$B32,Facturas!$G$8:$G$300,"<"&EDATE($B32,1)) -> 0 | D32: =SUMIFS(Pagos!$D$8:$D$300,Pagos!$C$8:$C$300,">="&$B32,Pagos!$C$8:$C$300,"<"&EDATE($B32,1),Pagos!$F$8:$F$300,"Aplicado") -> 0 | E32: =SUMIFS(Pagos!$D$8:$D$300,Pagos!$C$8:$C$300,">="&$B32,Pagos!$C$8:$C$300,"<"&EDATE($B32,1),Pagos!$F$8:$F$300,"Programado") -> 0 | F32: =SUMIFS(Facturas!$T$8:$T$300,Facturas!$G$8:$G$300,">="&$B32,Facturas!$G$8:$G$300,"<"&EDATE($B32,1)) -> 0 | H32: =IFERROR(INDEX(Listas!$A$3:$A$13,MATCH(LARGE(Listas!$L$3:$L$13,ROW(A5)),Listas!$L$3:$L$13,0)),"") -> Prisma Legal Advisory S.L.P. | I32: =IF($H32="","",SUMIFS(Facturas!$T$8:$T$300,Facturas!$B$8:$B$300,$H32)) -> 1325 | J32: =IF($H32="","",SUMIFS(Facturas!$R$8:$R$300,Facturas!$B$8:$B$300,$H32)) -> 2279 | K32: =IF($H32="","",IFERROR(VLOOKUP($H32,Listas!$A$3:$F$13,6,FALSE),"")) -> Irene Cobo
B33: 46174 | C33: =SUMIFS(Facturas!$R$8:$R$300,Facturas!$G$8:$G$300,">="&$B33,Facturas!$G$8:$G$300,"<"&EDATE($B33,1)) -> 0 | D33: =SUMIFS(Pagos!$D$8:$D$300,Pagos!$C$8:$C$300,">="&$B33,Pagos!$C$8:$C$300,"<"&EDATE($B33,1),Pagos!$F$8:$F$300,"Aplicado") -> 0 | E33: =SUMIFS(Pagos!$D$8:$D$300,Pagos!$C$8:$C$300,">="&$B33,Pagos!$C$8:$C$300,"<"&EDATE($B33,1),Pagos!$F$8:$F$300,"Programado") -> 0 | F33: =SUMIFS(Facturas!$T$8:$T$300,Facturas!$G$8:$G$300,">="&$B33,Facturas!$G$8:$G$300,"<"&EDATE($B33,1)) -> 0 | H33: =IFERROR(INDEX(Listas!$A$3:$A$13,MATCH(LARGE(Listas!$L$3:$L$13,ROW(A6)),Listas!$L$3:$L$13,0)),"") -> Taller Vía Dos S.L. | I33: =IF($H33="","",SUMIFS(Facturas!$T$8:$T$300,Facturas!$B$8:$B$300,$H33)) -> 1183 | J33: =IF($H33="","",SUMIFS(Facturas!$R$8:$R$300,Facturas!$B$8:$B$300,$H33)) -> 2683 | K33: =IF($H33="","",IFERROR(VLOOKUP($H33,Listas!$A$3:$F$13,6,FALSE),"")) -> Rocío Alba
B34: 46204 | C34: =SUMIFS(Facturas!$R$8:$R$300,Facturas!$G$8:$G$300,">="&$B34,Facturas!$G$8:$G$300,"<"&EDATE($B34,1)) -> 0 | D34: =SUMIFS(Pagos!$D$8:$D$300,Pagos!$C$8:$C$300,">="&$B34,Pagos!$C$8:$C$300,"<"&EDATE($B34,1),Pagos!$F$8:$F$300,"Aplicado") -> 0 | E34: =SUMIFS(Pagos!$D$8:$D$300,Pagos!$C$8:$C$300,">="&$B34,Pagos!$C$8:$C$300,"<"&EDATE($B34,1),Pagos!$F$8:$F$300,"Programado") -> 0 | F34: =SUMIFS(Facturas!$T$8:$T$300,Facturas!$G$8:$G$300,">="&$B34,Facturas!$G$8:$G$300,"<"&EDATE($B34,1)) -> 0
B35: 46235 | C35: =SUMIFS(Facturas!$R$8:$R$300,Facturas!$G$8:$G$300,">="&$B35,Facturas!$G$8:$G$300,"<"&EDATE($B35,1)) -> 0 | D35: =SUMIFS(Pagos!$D$8:$D$300,Pagos!$C$8:$C$300,">="&$B35,Pagos!$C$8:$C$300,"<"&EDATE($B35,1),Pagos!$F$8:$F$300,"Aplicado") -> 0 | E35: =SUMIFS(Pagos!$D$8:$D$300,Pagos!$C$8:$C$300,">="&$B35,Pagos!$C$8:$C$300,"<"&EDATE($B35,1),Pagos!$F$8:$F$300,"Programado") -> 0 | F35: =SUMIFS(Facturas!$T$8:$T$300,Facturas!$G$8:$G$300,">="&$B35,Facturas!$G$8:$G$300,"<"&EDATE($B35,1)) -> 0
B36: 46266 | C36: =SUMIFS(Facturas!$R$8:$R$300,Facturas!$G$8:$G$300,">="&$B36,Facturas!$G$8:$G$300,"<"&EDATE($B36,1)) -> 0 | D36: =SUMIFS(Pagos!$D$8:$D$300,Pagos!$C$8:$C$300,">="&$B36,Pagos!$C$8:$C$300,"<"&EDATE($B36,1),Pagos!$F$8:$F$300,"Aplicado") -> 0 | E36: =SUMIFS(Pagos!$D$8:$D$300,Pagos!$C$8:$C$300,">="&$B36,Pagos!$C$8:$C$300,"<"&EDATE($B36,1),Pagos!$F$8:$F$300,"Programado") -> 0 | F36: =SUMIFS(Facturas!$T$8:$T$300,Facturas!$G$8:$G$300,">="&$B36,Facturas!$G$8:$G$300,"<"&EDATE($B36,1)) -> 0
B37: 46296 | C37: =SUMIFS(Facturas!$R$8:$R$300,Facturas!$G$8:$G$300,">="&$B37,Facturas!$G$8:$G$300,"<"&EDATE($B37,1)) -> 0 | D37: =SUMIFS(Pagos!$D$8:$D$300,Pagos!$C$8:$C$300,">="&$B37,Pagos!$C$8:$C$300,"<"&EDATE($B37,1),Pagos!$F$8:$F$300,"Aplicado") -> 0 | E37: =SUMIFS(Pagos!$D$8:$D$300,Pagos!$C$8:$C$300,">="&$B37,Pagos!$C$8:$C$300,"<"&EDATE($B37,1),Pagos!$F$8:$F$300,"Programado") -> 0 | F37: =SUMIFS(Facturas!$T$8:$T$300,Facturas!$G$8:$G$300,">="&$B37,Facturas!$G$8:$G$300,"<"&EDATE($B37,1)) -> 0
B38: 46327 | C38: =SUMIFS(Facturas!$R$8:$R$300,Facturas!$G$8:$G$300,">="&$B38,Facturas!$G$8:$G$300,"<"&EDATE($B38,1)) -> 0 | D38: =SUMIFS(Pagos!$D$8:$D$300,Pagos!$C$8:$C$300,">="&$B38,Pagos!$C$8:$C$300,"<"&EDATE($B38,1),Pagos!$F$8:$F$300,"Aplicado") -> 0 | E38: =SUMIFS(Pagos!$D$8:$D$300,Pagos!$C$8:$C$300,">="&$B38,Pagos!$C$8:$C$300,"<"&EDATE($B38,1),Pagos!$F$8:$F$300,"Programado") -> 0 | F38: =SUMIFS(Facturas!$T$8:$T$300,Facturas!$G$8:$G$300,">="&$B38,Facturas!$G$8:$G$300,"<"&EDATE($B38,1)) -> 0
B39: 46357 | C39: =SUMIFS(Facturas!$R$8:$R$300,Facturas!$G$8:$G$300,">="&$B39,Facturas!$G$8:$G$300,"<"&EDATE($B39,1)) -> 0 | D39: =SUMIFS(Pagos!$D$8:$D$300,Pagos!$C$8:$C$300,">="&$B39,Pagos!$C$8:$C$300,"<"&EDATE($B39,1),Pagos!$F$8:$F$300,"Aplicado") -> 0 | E39: =SUMIFS(Pagos!$D$8:$D$300,Pagos!$C$8:$C$300,">="&$B39,Pagos!$C$8:$C$300,"<"&EDATE($B39,1),Pagos!$F$8:$F$300,"Programado") -> 0 | F39: =SUMIFS(Facturas!$T$8:$T$300,Facturas!$G$8:$G$300,">="&$B39,Facturas!$G$8:$G$300,"<"&EDATE($B39,1)) -> 0

Sheet Facturas
A1: Control de facturas de proveedores
A2: Escribe los datos azules. Las columnas calculadas se actualizan solas y admiten pagos parciales desde la hoja Pagos.
B4: Facturas registradas | E4: Saldo pendiente | H4: Vencidas | K4: Próximas 7 días
B5: =COUNTIF($A$8:$A$300,"<>") -> 20 | E5: =SUM($T$8:$T$300) -> 11354.95 | H5: =COUNTIF($U$8:$U$300,"Vencida")+COUNTIF($U$8:$U$300,"Parcial vencida") -> 7 | K5: =COUNTIF($U$8:$U$300,"Próxima") -> 2
A7: ID factura | B7: Proveedor | C7: NIF proveedor | D7: Categoría | E7: Centro de coste | F7: Fecha recepción | G7: Fecha factura | H7: Condición pago | I7: Plazo (días) | J7: Fecha vencimiento | K7: Concepto | L7: Base imponible | M7: % IVA | N7: Cuota IVA | O7: % Ret. | P7: Retención | Q7: Descuento | R7: Total factura | S7: Pagado acumulado | T7: Saldo pendiente | U7: Estado | V7: Días vencidos | W7: Responsable | X7: Pedido/Contrato | Y7: Prioridad | Z7: Observaciones | AA7: Orden agenda
A8: FPR-26001 | B8: Nebula Audio Services S.L. | C8: =IF($B8="","",IFERROR(VLOOKUP($B8,Listas!$A$3:$G$13,2,FALSE),"")) -> B18345671 | D8: =IF($B8="","",IFERROR(VLOOKUP($B8,Listas!$A$3:$G$13,3,FALSE),"")) -> Mantenimiento técnico | E8: Producción | F8: 46034 | G8: 46034 | H8: =IF($B8="","",IFERROR(VLOOKUP($B8,Listas!$A$3:$G$13,4,FALSE),"")) -> 30 días | I8: =IF($H8="","",IFERROR(VLOOKUP($H8,Listas!$J$3:$K$7,2,FALSE),"")) -> 30 | J8: =IF($G8="","",$G8+$I8) -> 46064 | K8: Mantenimiento trimestral de mesas de sonido | L8: 980 | M8: 0.21 | N8: =IF($L8="","",$L8*$M8) -> 205.8 | O8: 0 | P8: =IF($L8="","",$L8*$O8) -> 0 | Q8: 0 | R8: =IF($L8="","",$L8+$N8-$P8-$Q8) -> 1185.8 | S8: =IF($A8="","",SUMIFS(Pagos!$D$8:$D$300,Pagos!$A$8:$A$300,$A8,Pagos!$F$8:$F$300,"Aplicado")) -> 1185.8 | T8: =IF($A8="","",MAX(0,$R8-$S8)) -> 0 | U8: =IF($A8="","",IF($T8<=0.005,"Pagada",IF($S8>0,IF($J8<Inicio!$F$3,"Parcial vencida","Pago parcial"),IF($J8<Inicio!$F$3,"Vencida",IF($J8-Inicio!$F$3<=7,"Próxima","Pendiente"))))) -> Pagada | V8: =IF(OR($A8="",$T8<=0,$J8>=Inicio!$F$3),0,Inicio!$F$3-$J8) -> 0 | W8: Ana Torres | X8: OC-2418 | Y8: =IF($A8="","",IF($T8<=0,"Cerrada",IF($J8<Inicio!$F$3,"Alta",IF($J8-Inicio!$F$3<=7,"Media","Normal")))) -> Cerrada | Z8: Revisión completada | AA8: =IF($A8="","",IF($T8>0,COUNTIFS($J$8:$J$300,"<"&$J8,$T$8:$T$300,">0")+COUNTIFS($J$8:$J$300,$J8,$A$8:$A$300,"<"&$A8,$T$8:$T$300,">0")+1,""))
A9: FPR-26002 | B9: Pixel Bruma Creativa S.L. | C9: =IF($B9="","",IFERROR(VLOOKUP($B9,Listas!$A$3:$G$13,2,FALSE),"")) -> B29456182 | D9: =IF($B9="","",IFERROR(VLOOKUP($B9,Listas!$A$3:$G$13,3,FALSE),"")) -> Servicios creativos | E9: Marketing | F9: 46036 | G9: 46036 | H9: =IF($B9="","",IFERROR(VLOOKUP($B9,Listas!$A$3:$G$13,4,FALSE),"")) -> 30 días | I9: =IF($H9="","",IFERROR(VLOOKUP($H9,Listas!$J$3:$K$7,2,FALSE),"")) -> 30 | J9: =IF($G9="","",$G9+$I9) -> 46066 | K9: Campaña teaser de primavera para redes | L9: 1450 | M9: 0.21 | N9: =IF($L9="","",$L9*$M9) -> 304.5 | O9: 0 | P9: =IF($L9="","",$L9*$O9) -> 0 | Q9: 0 | R9: =IF($L9="","",$L9+$N9-$P9-$Q9) -> 1754.5 | S9: =IF($A9="","",SUMIFS(Pagos!$D$8:$D$300,Pagos!$A$8:$A$300,$A9,Pagos!$F$8:$F$300,"Aplicado")) -> 1000 | T9: =IF($A9="","",MAX(0,$R9-$S9)) -> 754.5 | U9: =IF($A9="","",IF($T9<=0.005,"Pagada",IF($S9>0,IF($J9<Inicio!$F$3,"Parcial vencida","Pago parcial"),IF($J9<Inicio!$F$3,"Vencida",IF($J9-Inicio!$F$3<=7,"Próxima","Pendiente"))))) -> Parcial vencida | V9: =IF(OR($A9="",$T9<=0,$J9>=Inicio!$F$3),0,Inicio!$F$3-$J9) -> 66 | W9: Clara Ros | X9: OC-2423 | Y9: =IF($A9="","",IF($T9<=0,"Cerrada",IF($J9<Inicio!$F$3,"Alta",IF($J9-Inicio!$F$3<=7,"Media","Normal")))) -> Alta | Z9: Entrega en dos fases | AA9: =IF($A9="","",IF($T9>0,COUNTIFS($J$8:$J$300,"<"&$J9,$T$8:$T$300,">0")+COUNTIFS($J$8:$J$300,$J9,$A$8:$A$300,"<"&$A9,$T$8:$T$300,">0")+1,"")) -> 1
A10: FPR-26003 | B10: Ruta Clara Mensajería S.L. | C10: =IF($B10="","",IFERROR(VLOOKUP($B10,Listas!$A$3:$G$13,2,FALSE),"")) -> B37561294 | D10: =IF($B10="","",IFERROR(VLOOKUP($B10,Listas!$A$3:$G$13,3,FALSE),"")) -> Logística | E10: Operaciones | F10: 46044 | G10: 46044 | H10: =IF($B10="","",IFERROR(VLOOKUP($B10,Listas!$A$3:$G$13,4,FALSE),"")) -> 30 días | I10: =IF($H10="","",IFERROR(VLOOKUP($H10,Listas!$J$3:$K$7,2,FALSE),"")) -> 30 | J10: =IF($G10="","",$G10+$I10) -> 46074 | K10: Mensajería mensual de kits promocionales | L10: 320 | M10: 0.21 | N10: =IF($L10="","",$L10*$M10) -> 67.2 | O10: 0 | P10: =IF($L10="","",$L10*$O10) -> 0 | Q10: 0 | R10: =IF($L10="","",$L10+$N10-$P10-$Q10) -> 387.2 | S10: =IF($A10="","",SUMIFS(Pagos!$D$8:$D$300,Pagos!$A$8:$A$300,$A10,Pagos!$F$8:$F$300,"Aplicado")) -> 0 | T10: =IF($A10="","",MAX(0,$R10-$S10)) -> 387.2 | U10: =IF($A10="","",IF($T10<=0.005,"Pagada",IF($S10>0,IF($J10<Inicio!$F$3,"Parcial vencida","Pago parcial"),IF($J10<Inicio!$F$3,"Vencida",IF($J10-Inicio!$F$3<=7,"Próxima","Pendiente"))))) -> Vencida | V10: =IF(OR($A10="",$T10<=0,$J10>=Inicio!$F$3),0,Inicio!$F$3-$J10) -> 58 | W10: Diego Mena | X10: OC-2430 | Y10: =IF($A10="","",IF($T10<=0,"Cerrada",IF($J10<Inicio!$F$3,"Alta",IF($J10-Inicio!$F$3<=7,"Media","Normal")))) -> Alta | Z10: Sin incidencias | AA10: =IF($A10="","",IF($T10>0,COUNTIFS($J$8:$J$300,"<"&$J10,$T$8:$T$300,">0")+COUNTIFS($J$8:$J$300,$J10,$A$8:$A$300,"<"&$A10,$T$8:$T$300,">0")+1,"")) -> 3
A11: FPR-26004 | B11: Grano Norte Coffee Supply S.L. | C11: =IF($B11="","",IFERROR(VLOOKUP($B11,Listas!$A$3:$G$13,2,FALSE),"")) -> B48672315 | D11: =IF($B11="","",IFERROR(VLOOKUP($B11,Listas!$A$3:$G$13,3,FALSE),"")) -> Catering y office | E11: Administración | F11: 46056 | G11: 46056 | H11: =IF($B11="","",IFERROR(VLOOKUP($B11,Listas!$A$3:$G$13,4,FALSE),"")) -> 15 días | I11: =IF($H11="","",IFERROR(VLOOKUP($H11,Listas!$J$3:$K$7,2,FALSE),"")) -> 15 | J11: =IF($G11="","",$G11+$I11) -> 46071 | K11: Suministro café e infusiones febrero | L11: 540 | M11: 0.1 | N11: =IF($L11="","",$L11*$M11) -> 54 | O11: 0 | P11: =IF($L11="","",$L11*$O11) -> 0 | Q11: 0 | R11: =IF($L11="","",$L11+$N11-$P11-$Q11) -> 594 | S11: =IF($A11="","",SUMIFS(Pagos!$D$8:$D$300,Pagos!$A$8:$A$300,$A11,Pagos!$F$8:$F$300,"Aplicado")) -> 0 | T11: =IF($A11="","",MAX(0,$R11-$S11)) -> 594 | U11: =IF($A11="","",IF($T11<=0.005,"Pagada",IF($S11>0,IF($J11<Inicio!$F$3,"Parcial vencida","Pago parcial"),IF($J11<Inicio!$F$3,"Vencida",IF($J11-Inicio!$F$3<=7,"Próxima","Pendiente"))))) -> Vencida | V11: =IF(OR($A11="",$T11<=0,$J11>=Inicio!$F$3),0,Inicio!$F$3-$J11) -> 61 | W11: Mireia Sol | X11: OC-2438 | Y11: =IF($A11="","",IF($T11<=0,"Cerrada",IF($J11<Inicio!$F$3,"Alta",IF($J11-Inicio!$F$3<=7,"Media","Normal")))) -> Alta | Z11: Consumo oficina | AA11: =IF($A11="","",IF($T11>0,COUNTIFS($J$8:$J$300,"<"&$J11,$T$8:$T$300,">0")+COUNTIFS($J$8:$J$300,$J11,$A$8:$A$300,"<"&$A11,$T$8:$T$300,">0")+1,"")) -> 2
A12: FPR-26005 | B12: Aster Cloud Hosting S.L. | C12: =IF($B12="","",IFERROR(VLOOKUP($B12,Listas!$A$3:$G$13,2,FALSE),"")) -> B73905648 | D12: =IF($B12="","",IFERROR(VLOOKUP($B12,Listas!$A$3:$G$13,3,FALSE),"")) -> Software y cloud | E12: Tecnología | F12: 46058 | G12: 46058 | H12: =IF($B12="","",IFERROR(VLOOKUP($B12,Listas!$A$3:$G$13,4,FALSE),"")) -> 30 días | I12: =IF($H12="","",IFERROR(VLOOKUP($H12,Listas!$J$3:$K$7,2,FALSE),"")) -> 30 | J12: =IF($G12="","",$G12+$I12) -> 46088 | K12: Licencia anual de copias de seguridad | L12: 1800 | M12: 0.21 | N12: =IF($L12="","",$L12*$M12) -> 378 | O12: 0 | P12: =IF($L12="","",$L12*$O12) -> 0 | Q12: 0 | R12: =IF($L12="","",$L12+$N12-$P12-$Q12) -> 2178 | S12: =IF($A12="","",SUMIFS(Pagos!$D$8:$D$300,Pagos!$A$8:$A$300,$A12,Pagos!$F$8:$F$300,"Aplicado")) -> 2178 | T12: =IF($A12="","",MAX(0,$R12-$S12)) -> 0 | U12: =IF($A12="","",IF($T12<=0.005,"Pagada",IF($S12>0,IF($J12<Inicio!$F$3,"Parcial vencida","Pago parcial"),IF($J12<Inicio!$F$3,"Vencida",IF($J12-Inicio!$F$3<=7,"Próxima","Pendiente"))))) -> Pagada | V12: =IF(OR($A12="",$T12<=0,$J12>=Inicio!$F$3),0,Inicio!$F$3-$J12) -> 0 | W12: Julián Ferrer | X12: OC-2441 | Y12: =IF($A12="","",IF($T12<=0,"Cerrada",IF($J12<Inicio!$F$3,"Alta",IF($J12-Inicio!$F$3<=7,"Media","Normal")))) -> Cerrada | Z12: Pago domiciliado | AA12: =IF($A12="","",IF($T12>0,COUNTIFS($J$8:$J$300,"<"&$J12,$T$8:$T$300,">0")+COUNTIFS($J$8:$J$300,$J12,$A$8:$A$300,"<"&$A12,$T$8:$T$300,">0")+1,""))
A13: FPR-26006 | B13: Prisma Legal Advisory S.L.P. | C13: =IF($B13="","",IFERROR(VLOOKUP($B13,Listas!$A$3:$G$13,2,FALSE),"")) -> B62894537 | D13: =IF($B13="","",IFERROR(VLOOKUP($B13,Listas!$A$3:$G$13,3,FALSE),"")) -> Asesoría legal | E13: Administración | F13: 46072 | G13: 46072 | H13: =IF($B13="","",IFERROR(VLOOKUP($B13,Listas!$A$3:$G$13,4,FALSE),"")) -> 30 días | I13: =IF($H13="","",IFERROR(VLOOKUP($H13,Listas!$J$3:$K$7,2,FALSE),"")) -> 30 | J13: =IF($G13="","",$G13+$I13) -> 46102 | K13: Revisión contractual con patrocinadores | L13: 900 | M13: 0.21 | N13: =IF($L13="","",$L13*$M13) -> 189 | O13: 0.15 | P13: =IF($L13="","",$L13*$O13) -> 135 | Q13: 0 | R13: =IF($L13="","",$L13+$N13-$P13-$Q13) -> 954 | S13: =IF($A13="","",SUMIFS(Pagos!$D$8:$D$300,Pagos!$A$8:$A$300,$A13,Pagos!$F$8:$F$300,"Aplicado")) -> 954 | T13: =IF($A13="","",MAX(0,$R13-$S13)) -> 0 | U13: =IF($A13="","",IF($T13<=0.005,"Pagada",IF($S13>0,IF($J13<Inicio!$F$3,"Parcial vencida","Pago parcial"),IF($J13<Inicio!$F$3,"Vencida",IF($J13-Inicio!$F$3<=7,"Próxima","Pendiente"))))) -> Pagada | V13: =IF(OR($A13="",$T13<=0,$J13>=Inicio!$F$3),0,Inicio!$F$3-$J13) -> 0 | W13: Ana Torres | X13: OC-2449 | Y13: =IF($A13="","",IF($T13<=0,"Cerrada",IF($J13<Inicio!$F$3,"Alta",IF($J13-Inicio!$F$3<=7,"Media","Normal")))) -> Cerrada | Z13: Servicio profesional con retención | AA13: =IF($A13="","",IF($T13>0,COUNTIFS($J$8:$J$300,"<"&$J13,$T$8:$T$300,">0")+COUNTIFS($J$8:$J$300,$J13,$A$8:$A$300,"<"&$A13,$T$8:$T$300,">0")+1,""))
A14: FPR-26007 | B14: Órbita Limpieza Técnica S.L. | C14: =IF($B14="","",IFERROR(VLOOKUP($B14,Listas!$A$3:$G$13,2,FALSE),"")) -> B95127860 | D14: =IF($B14="","",IFERROR(VLOOKUP($B14,Listas!$A$3:$G$13,3,FALSE),"")) -> Limpieza | E14: Producción | F14: 46083 | G14: 46083 | H14: =IF($B14="","",IFERROR(VLOOKUP($B14,Listas!$A$3:$G$13,4,FALSE),"")) -> 30 días | I14: =IF($H14="","",IFERROR(VLOOKUP($H14,Listas!$J$3:$K$7,2,FALSE),"")) -> 30 | J14: =IF($G14="","",$G14+$I14) -> 46113 | K14: Limpieza técnica de plató principal | L14: 760 | M14: 0.21 | N14: =IF($L14="","",$L14*$M14) -> 159.6 | O14: 0 | P14: =IF($L14="","",$L14*$O14) -> 0 | Q14: 0 | R14: =IF($L14="","",$L14+$N14-$P14-$Q14) -> 919.6 | S14: =IF($A14="","",SUMIFS(Pagos!$D$8:$D$300,Pagos!$A$8:$A$300,$A14,Pagos!$F$8:$F$300,"Aplicado")) -> 0 | T14: =IF($A14="","",MAX(0,$R14-$S14)) -> 919.6 | U14: =IF($A14="","",IF($T14<=0.005,"Pagada",IF($S14>0,IF($J14<Inicio!$F$3,"Parcial vencida","Pago parcial"),IF($J14<Inicio!$F$3,"Vencida",IF($J14-Inicio!$F$3<=7,"Próxima","Pendiente"))))) -> Vencida | V14: =IF(OR($A14="",$T14<=0,$J14>=Inicio!$F$3),0,Inicio!$F$3-$J14) -> 19 | W14: Diego Mena | X14: OC-2456 | Y14: =IF($A14="","",IF($T14<=0,"Cerrada",IF($J14<Inicio!$F$3,"Alta",IF($J14-Inicio!$F$3<=7,"Media","Normal")))) -> Alta | Z14: Pendiente validación interna | AA14: =IF($A14="","",IF($T14>0,COUNTIFS($J$8:$J$300,"<"&$J14,$T$8:$T$300,">0")+COUNTIFS($J$8:$J$300,$J14,$A$8:$A$300,"<"&$A14,$T$8:$T$300,">0")+1,"")) -> 4
A15: FPR-26008 | B15: Faro Seguridad Integral S.L. | C15: =IF($B15="","",IFERROR(VLOOKUP($B15,Listas!$A$3:$G$13,2,FALSE),"")) -> B84016759 | D15: =IF($B15="","",IFERROR(VLOOKUP($B15,Listas!$A$3:$G$13,3,FALSE),"")) -> Seguridad | E15: Operaciones | F15: 46085 | G15: 46085 | H15: =IF($B15="","",IFERROR(VLOOKUP($B15,Listas!$A$3:$G$13,4,FALSE),"")) -> 60 días | I15: =IF($H15="","",IFERROR(VLOOKUP($H15,Listas!$J$3:$K$7,2,FALSE),"")) -> 60 | J15: =IF($G15="","",$G15+$I15) -> 46145 | K15: Monitorización y vigilancia Q2 | L15: 650 | M15: 0.21 | N15: =IF($L15="","",$L15*$M15) -> 136.5 | O15: 0 | P15: =IF($L15="","",$L15*$O15) -> 0 | Q15: 0 | R15: =IF($L15="","",$L15+$N15-$P15-$Q15) -> 786.5 | S15: =IF($A15="","",SUMIFS(Pagos!$D$8:$D$300,Pagos!$A$8:$A$300,$A15,Pagos!$F$8:$F$300,"Aplicado")) -> 0 | T15: =IF($A15="","",MAX(0,$R15-$S15)) -> 786.5 | U15: =IF($A15="","",IF($T15<=0.005,"Pagada",IF($S15>0,IF($J15<Inicio!$F$3,"Parcial vencida","Pago parcial"),IF($J15<Inicio!$F$3,"Vencida",IF($J15-Inicio!$F$3<=7,"Próxima","Pendiente"))))) -> Pendiente | V15: =IF(OR($A15="",$T15<=0,$J15>=Inicio!$F$3),0,Inicio!$F$3-$J15) -> 0 | W15: Mireia Sol | X15: OC-2460 | Y15: =IF($A15="","",IF($T15<=0,"Cerrada",IF($J15<Inicio!$F$3,"Alta",IF($J15-Inicio!$F$3<=7,"Media","Normal")))) -> Normal | Z15: Servicio recurrente | AA15: =IF($A15="","",IF($T15>0,COUNTIFS($J$8:$J$300,"<"&$J15,$T$8:$T$300,">0")+COUNTIFS($J$8:$J$300,$J15,$A$8:$A$300,"<"&$A15,$T$8:$T$300,">0")+1,"")) -> 12
A16: FPR-26009 | B16: Taller Vía Dos S.L. | C16: =IF($B16="","",IFERROR(VLOOKUP($B16,Listas!$A$3:$G$13,2,FALSE),"")) -> B16238971 | D16: =IF($B16="","",IFERROR(VLOOKUP($B16,Listas!$A$3:$G$13,3,FALSE),"")) -> Carpintería y sets | E16: Producción | F16: 46090 | G16: 46090 | H16: =IF($B16="","",IFERROR(VLOOKUP($B16,Listas!$A$3:$G$13,4,FALSE),"")) -> 30 días | I16: =IF($H16="","",IFERROR(VLOOKUP($H16,Listas!$J$3:$K$7,2,FALSE),"")) -> 30 | J16: =IF($G16="","",$G16+$I16) -> 46120 | K16: Carpintería para set de entrevistas | L16: 2300 | M16: 0.21 | N16: =IF($L16="","",$L16*$M16) -> 483 | O16: 0 | P16: =IF($L16="","",$L16*$O16) -> 0 | Q16: 100 | R16: =IF($L16="","",$L16+$N16-$P16-$Q16) -> 2683 | S16: =IF($A16="","",SUMIFS(Pagos!$D$8:$D$300,Pagos!$A$8:$A$300,$A16,Pagos!$F$8:$F$300,"Aplicado")) -> 1500 | T16: =IF($A16="","",MAX(0,$R16-$S16)) -> 1183 | U16: =IF($A16="","",IF($T16<=0.005,"Pagada",IF($S16>0,IF($J16<Inicio!$F$3,"Parcial vencida","Pago parcial"),IF($J16<Inicio!$F$3,"Vencida",IF($J16-Inicio!$F$3<=7,"Próxima","Pendiente"))))) -> Parcial vencida | V16: =IF(OR($A16="",$T16<=0,$J16>=Inicio!$F$3),0,Inicio!$F$3-$J16) -> 12 | W16: Ana Torres | X16: OC-2464 | Y16: =IF($A16="","",IF($T16<=0,"Cerrada",IF($J16<Inicio!$F$3,"Alta",IF($J16-Inicio!$F$3<=7,"Media","Normal")))) -> Alta | Z16: Descuento acordado por volumen | AA16: =IF($A16="","",IF($T16>0,COUNTIFS($J$8:$J$300,"<"&$J16,$T$8:$T$300,">0")+COUNTIFS($J$8:$J$300,$J16,$A$8:$A$300,"<"&$A16,$T$8:$T$300,">0")+1,"")) -> 5
A17: FPR-26010 | B17: Nebula Audio Services S.L. | C17: =IF($B17="","",IFERROR(VLOOKUP($B17,Listas!$A$3:$G$13,2,FALSE),"")) -> B18345671 | D17: =IF($B17="","",IFERROR(VLOOKUP($B17,Listas!$A$3:$G$13,3,FALSE),"")) -> Mantenimiento técnico | E17: Producción | F17: 46092 | G17: 46092 | H17: =IF($B17="","",IFERROR(VLOOKUP($B17,Listas!$A$3:$G$13,4,FALSE),"")) -> 30 días | I17: =IF($H17="","",IFERROR(VLOOKUP($H17,Listas!$J$3:$K$7,2,FALSE),"")) -> 30 | J17: =IF($G17="","",$G17+$I17) -> 46122 | K17: Reposición de micrófonos de ambiente | L17: 420 | M17: 0.21 | N17: =IF($L17="","",$L17*$M17) -> 88.2 | O17: 0 | P17: =IF($L17="","",$L17*$O17) -> 0 | Q17: 0 | R17: =IF($L17="","",$L17+$N17-$P17-$Q17) -> 508.2 | S17: =IF($A17="","",SUMIFS(Pagos!$D$8:$D$300,Pagos!$A$8:$A$300,$A17,Pagos!$F$8:$F$300,"Aplicado")) -> 508.2 | T17: =IF($A17="","",MAX(0,$R17-$S17)) -> 0 | U17: =IF($A17="","",IF($T17<=0.005,"Pagada",IF($S17>0,IF($J17<Inicio!$F$3,"Parcial vencida","Pago parcial"),IF($J17<Inicio!$F$3,"Vencida",IF($J17-Inicio!$F$3<=7,"Próxima","Pendiente"))))) -> Pagada | V17: =IF(OR($A17="",$T17<=0,$J17>=Inicio!$F$3),0,Inicio!$F$3-$J17) -> 0 | W17: Diego Mena | X17: OC-2466 | Y17: =IF($A17="","",IF($T17<=0,"Cerrada",IF($J17<Inicio!$F$3,"Alta",IF($J17-Inicio!$F$3<=7,"Media","Normal")))) -> Cerrada | Z17: Recibido completo | AA17: =IF($A17="","",IF($T17>0,COUNTIFS($J$8:$J$300,"<"&$J17,$T$8:$T$300,">0")+COUNTIFS($J$8:$J$300,$J17,$A$8:$A$300,"<"&$A17,$T$8:$T$300,">0")+1,""))
A18: FPR-26011 | B18: Pixel Bruma Creativa S.L. | C18: =IF($B18="","",IFERROR(VLOOKUP($B18,Listas!$A$3:$G$13,2,FALSE),"")) -> B29456182 | D18: =IF($B18="","",IFERROR(VLOOKUP($B18,Listas!$A$3:$G$13,3,FALSE),"")) -> Servicios creativos | E18: Marketing | F18: 46099 | G18: 46099 | H18: =IF($B18="","",IFERROR(VLOOKUP($B18,Listas!$A$3:$G$13,4,FALSE),"")) -> 30 días | I18: =IF($H18="","",IFERROR(VLOOKUP($H18,Listas!$J$3:$K$7,2,FALSE),"")) -> 30 | J18: =IF($G18="","",$G18+$I18) -> 46129 | K18: Piezas visuales para serie de abril | L18: 870 | M18: 0.21 | N18: =IF($L18="","",$L18*$M18) -> 182.7 | O18: 0 | P18: =IF($L18="","",$L18*$O18) -> 0 | Q18: 0 | R18: =IF($L18="","",$L18+$N18-$P18-$Q18) -> 1052.7 | S18: =IF($A18="","",SUMIFS(Pagos!$D$8:$D$300,Pagos!$A$8:$A$300,$A18,Pagos!$F$8:$F$300,"Aplicado")) -> 300 | T18: =IF($A18="","",MAX(0,$R18-$S18)) -> 752.7 | U18: =IF($A18="","",IF($T18<=0.005,"Pagada",IF($S18>0,IF($J18<Inicio!$F$3,"Parcial vencida","Pago parcial"),IF($J18<Inicio!$F$3,"Vencida",IF($J18-Inicio!$F$3<=7,"Próxima","Pendiente"))))) -> Parcial vencida | V18: =IF(OR($A18="",$T18<=0,$J18>=Inicio!$F$3),0,Inicio!$F$3-$J18) -> 3 | W18: Clara Ros | X18: OC-2471 | Y18: =IF($A18="","",IF($T18<=0,"Cerrada",IF($J18<Inicio!$F$3,"Alta",IF($J18-Inicio!$F$3<=7,"Media","Normal")))) -> Alta | Z18: Se acordó anticipo parcial | AA18: =IF($A18="","",IF($T18>0,COUNTIFS($J$8:$J$300,"<"&$J18,$T$8:$T$300,">0")+COUNTIFS($J$8:$J$300,$J18,$A$8:$A$300,"<"&$A18,$T$8:$T$300,">0")+1,"")) -> 7
A19: FPR-26012 | B19: Grano Norte Coffee Supply S.L. | C19: =IF($B19="","",IFERROR(VLOOKUP($B19,Listas!$A$3:$G$13,2,FALSE),"")) -> B48672315 | D19: =IF($B19="","",IFERROR(VLOOKUP($B19,Listas!$A$3:$G$13,3,FALSE),"")) -> Catering y office | E19: Eventos | F19: 46107 | G19: 46107 | H19: =IF($B19="","",IFERROR(VLOOKUP($B19,Listas!$A$3:$G$13,4,FALSE),"")) -> 15 días | I19: =IF($H19="","",IFERROR(VLOOKUP($H19,Listas!$J$3:$K$7,2,FALSE),"")) -> 15 | J19: =IF($G19="","",$G19+$I19) -> 46122 | K19: Catering jornada de lanzamiento | L19: 680 | M19: 0.1 | N19: =IF($L19="","",$L19*$M19) -> 68 | O19: 0 | P19: =IF($L19="","",$L19*$O19) -> 0 | Q19: 0 | R19: =IF($L19="","",$L19+$N19-$P19-$Q19) -> 748 | S19: =IF($A19="","",SUMIFS(Pagos!$D$8:$D$300,Pagos!$A$8:$A$300,$A19,Pagos!$F$8:$F$300,"Aplicado")) -> 0 | T19: =IF($A19="","",MAX(0,$R19-$S19)) -> 748 | U19: =IF($A19="","",IF($T19<=0.005,"Pagada",IF($S19>0,IF($J19<Inicio!$F$3,"Parcial vencida","Pago parcial"),IF($J19<Inicio!$F$3,"Vencida",IF($J19-Inicio!$F$3<=7,"Próxima","Pendiente"))))) -> Vencida | V19: =IF(OR($A19="",$T19<=0,$J19>=Inicio!$F$3),0,Inicio!$F$3-$J19) -> 10 | W19: Mireia Sol | X19: OC-2478 | Y19: =IF($A19="","",IF($T19<=0,"Cerrada",IF($J19<Inicio!$F$3,"Alta",IF($J19-Inicio!$F$3<=7,"Media","Normal")))) -> Alta | Z19: Evento de 120 asistentes | AA19: =IF($A19="","",IF($T19>0,COUNTIFS($J$8:$J$300,"<"&$J19,$T$8:$T$300,">0")+COUNTIFS($J$8:$J$300,$J19,$A$8:$A$300,"<"&$A19,$T$8:$T$300,">0")+1,"")) -> 6
... A27: FPR-26020 | B27: Aster Cloud Hosting S.L. | C27: =IF($B27="","",IFERROR(VLOOKUP($B27,Listas!$A$3:$G$13,2,FALSE),"")) -> B73905648 | D27: =IF($B27="","",IFERROR(VLOOKUP($B27,Listas!$A$3:$G$13,3,FALSE),"")) -> Software y cloud | E27: Tecnología | F27: 46127 | G27: 46127 | H27: =IF($B27="","",IFERROR(VLOOKUP($B27,Listas!$A$3:$G$13,4,FALSE),"")) -> 30 días | I27: =IF($H27="","",IFERROR(VLOOKUP($H27,Listas!$J$3:$K$7,2,FALSE),"")) -> 30 | J27: =IF($G27="","",$G27+$I27) -> 46157 | K27: Refuerzo de CDN para streaming en directo | L27: 215 | M27: 0.21 | N27: =IF($L27="","",$L27*$M27) -> 45.15 | O27: 0 | P27: =IF($L27="","",$L27*$O27) -> 0 | Q27: 0 | R27: =IF($L27="","",$L27+$N27-$P27-$Q27) -> 260.15 | S27: =IF($A27="","",SUMIFS(Pagos!$D$8:$D$300,Pagos!$A$8:$A$300,$A27,Pagos!$F$8:$F$300,"Aplicado")) -> 0 | T27: =IF($A27="","",MAX(0,$R27-$S27)) -> 260.15 | U27: =IF($A27="","",IF($T27<=0.005,"Pagada",IF($S27>0,IF($J27<Inicio!$F$3,"Parcial vencida","Pago parcial"),IF($J27<Inicio!$F$3,"Vencida",IF($J27-Inicio!$F$3<=7,"Próxima","Pendiente"))))) -> Pendiente | V27: =IF(OR($A27="",$T27<=0,$J27>=Inicio!$F$3),0,Inicio!$F$3-$J27) -> 0 | W27: Julián Ferrer | X27: OC-2504 | Y27: =IF($A27="","",IF($T27<=0,"Cerrada",IF($J27<Inicio!$F$3,"Alta",IF($J27-Inicio!$F$3<=7,"Media","Normal")))) -> Normal | Z27: Cargo variable del mes | AA27: =IF($A27="","",IF($T27>0,COUNTIFS($J$8:$J$300,"<"&$J27,$T$8:$T$300,">0")+COUNTIFS($J$8:$J$300,$J27,$A$8:$A$300,"<"&$A27,$T$8:$T$300,">0")+1,"")) -> 16
C28: =IF($B28="","",IFERROR(VLOOKUP($B28,Listas!$A$3:$G$13,2,FALSE),"")) | D28: =IF($B28="","",IFERROR(VLOOKUP($B28,Listas!$A$3:$G$13,3,FALSE),"")) | H28: =IF($B28="","",IFERROR(VLOOKUP($B28,Listas!$A$3:$G$13,4,FALSE),"")) | I28: =IF($H28="","",IFERROR(VLOOKUP($H28,Listas!$J$3:$K$7,2,FALSE),"")) | J28: =IF($G28="","",$G28+$I28) | N28: =IF($L28="","",$L28*$M28) | P28: =IF($L28="","",$L28*$O28) | R28: =IF($L28="","",$L28+$N28-$P28-$Q28) | S28: =IF($A28="","",SUMIFS(Pagos!$D$8:$D$300,Pagos!$A$8:$A$300,$A28,Pagos!$F$8:$F$300,"Aplicado")) | T28: =IF($A28="","",MAX(0,$R28-$S28)) | U28: =IF($A28="","",IF($T28<=0.005,"Pagada",IF($S28>0,IF($J28<Inicio!$F$3,"Parcial vencida","Pago parcial"),IF($J28<Inicio!$F$3,"Vencida",IF($J28-Inicio!$F$3<=7,"Próxima","Pendiente"))))) | V28: =IF(OR($A28="",$T28<=0,$J28>=Inicio!$F$3),0,Inicio!$F$3-$J28) -> 0 | Y28: =IF($A28="","",IF($T28<=0,"Cerrada",IF($J28<Inicio!$F$3,"Alta",IF($J28-Inicio!$F$3<=7,"Media","Normal")))) | AA28: =IF($A28="","",IF($T28>0,COUNTIFS($J$8:$J$300,"<"&$J28,$T$8:$T$300,">0")+COUNTIFS($J$8:$J$300,$J28,$A$8:$A$300,"<"&$A28,$T$8:$T$300,">0")+1,""))
C29: =IF($B29="","",IFERROR(VLOOKUP($B29,Listas!$A$3:$G$13,2,FALSE),"")) | D29: =IF($B29="","",IFERROR(VLOOKUP($B29,Listas!$A$3:$G$13,3,FALSE),"")) | H29: =IF($B29="","",IFERROR(VLOOKUP($B29,Listas!$A$3:$G$13,4,FALSE),"")) | I29: =IF($H29="","",IFERROR(VLOOKUP($H29,Listas!$J$3:$K$7,2,FALSE),"")) | J29: =IF($G29="","",$G29+$I29) | N29: =IF($L29="","",$L29*$M29) | P29: =IF($L29="","",$L29*$O29) | R29: =IF($L29="","",$L29+$N29-$P29-$Q29) | S29: =IF($A29="","",SUMIFS(Pagos!$D$8:$D$300,Pagos!$A$8:$A$300,$A29,Pagos!$F$8:$F$300,"Aplicado")) | T29: =IF($A29="","",MAX(0,$R29-$S29)) | U29: =IF($A29="","",IF($T29<=0.005,"Pagada",IF($S29>0,IF($J29<Inicio!$F$3,"Parcial vencida","Pago parcial"),IF($J29<Inicio!$F$3,"Vencida",IF($J29-Inicio!$F$3<=7,"Próxima","Pendiente"))))) | V29: =IF(OR($A29="",$T29<=0,$J29>=Inicio!$F$3),0,Inicio!$F$3-$J29) -> 0 | Y29: =IF($A29="","",IF($T29<=0,"Cerrada",IF($J29<Inicio!$F$3,"Alta",IF($J29-Inicio!$F$3<=7,"Media","Normal")))) | AA29: =IF($A29="","",IF($T29>0,COUNTIFS($J$8:$J$300,"<"&$J29,$T$8:$T$300,">0")+COUNTIFS($J$8:$J$300,$J29,$A$8:$A$300,"<"&$A29,$T$8:$T$300,">0")+1,""))
C30: =IF($B30="","",IFERROR(VLOOKUP($B30,Listas!$A$3:$G$13,2,FALSE),"")) | D30: =IF($B30="","",IFERROR(VLOOKUP($B30,Listas!$A$3:$G$13,3,FALSE),"")) | H30: =IF($B30="","",IFERROR(VLOOKUP($B30,Listas!$A$3:$G$13,4,FALSE),"")) | I30: =IF($H30="","",IFERROR(VLOOKUP($H30,Listas!$J$3:$K$7,2,FALSE),"")) | J30: =IF($G30="","",$G30+$I30) | N30: =IF($L30="","",$L30*$M30) | P30: =IF($L30="","",$L30*$O30) | R30: =IF($L30="","",$L30+$N30-$P30-$Q30) | S30: =IF($A30="","",SUMIFS(Pagos!$D$8:$D$300,Pagos!$A$8:$A$300,$A30,Pagos!$F$8:$F$300,"Aplicado")) | T30: =IF($A30="","",MAX(0,$R30-$S30)) | U30: =IF($A30="","",IF($T30<=0.005,"Pagada",IF($S30>0,IF($J30<Inicio!$F$3,"Parcial vencida","Pago parcial"),IF($J30<Inicio!$F$3,"Vencida",IF($J30-Inicio!$F$3<=7,"Próxima","Pendiente"))))) | V30: =IF(OR($A30="",$T30<=0,$J30>=Inicio!$F$3),0,Inicio!$F$3-$J30) -> 0 | Y30: =IF($A30="","",IF($T30<=0,"Cerrada",IF($J30<Inicio!$F$3,"Alta",IF($J30-Inicio!$F$3<=7,"Media","Normal")))) | AA30: =IF($A30="","",IF($T30>0,COUNTIFS($J$8:$J$300,"<"&$J30,$T$8:$T$300,">0")+COUNTIFS($J$8:$J$300,$J30,$A$8:$A$300,"<"&$A30,$T$8:$T$300,">0")+1,""))
C31: =IF($B31="","",IFERROR(VLOOKUP($B31,Listas!$A$3:$G$13,2,FALSE),"")) | D31: =IF($B31="","",IFERROR(VLOOKUP($B31,Listas!$A$3:$G$13,3,FALSE),"")) | H31: =IF($B31="","",IFERROR(VLOOKUP($B31,Listas!$A$3:$G$13,4,FALSE),"")) | I31: =IF($H31="","",IFERROR(VLOOKUP($H31,Listas!$J$3:$K$7,2,FALSE),"")) | J31: =IF($G31="","",$G31+$I31) | N31: =IF($L31="","",$L31*$M31) | P31: =IF($L31="","",$L31*$O31) | R31: =IF($L31="","",$L31+$N31-$P31-$Q31) | S31: =IF($A31="","",SUMIFS(Pagos!$D$8:$D$300,Pagos!$A$8:$A$300,$A31,Pagos!$F$8:$F$300,"Aplicado")) | T31: =IF($A31="","",MAX(0,$R31-$S31)) | U31: =IF($A31="","",IF($T31<=0.005,"Pagada",IF($S31>0,IF($J31<Inicio!$F$3,"Parcial vencida","Pago parcial"),IF($J31<Inicio!$F$3,"Vencida",IF($J31-Inicio!$F$3<=7,"Próxima","Pendiente"))))) | V31: =IF(OR($A31="",$T31<=0,$J31>=Inicio!$F$3),0,Inicio!$F$3-$J31) -> 0 | Y31: =IF($A31="","",IF($T31<=0,"Cerrada",IF($J31<Inicio!$F$3,"Alta",IF($J31-Inicio!$F$3<=7,"Media","Normal")))) | AA31: =IF($A31="","",IF($T31>0,COUNTIFS($J$8:$J$300,"<"&$J31,$T$8:$T$300,">0")+COUNTIFS($J$8:$J$300,$J31,$A$8:$A$300,"<"&$A31,$T$8:$T$300,">0")+1,""))
C32: =IF($B32="","",IFERROR(VLOOKUP($B32,Listas!$A$3:$G$13,2,FALSE),"")) | D32: =IF($B32="","",IFERROR(VLOOKUP($B32,Listas!$A$3:$G$13,3,FALSE),"")) | H32: =IF($B32="","",IFERROR(VLOOKUP($B32,Listas!$A$3:$G$13,4,FALSE),"")) | I32: =IF($H32="","",IFERROR(VLOOKUP($H32,Listas!$J$3:$K$7,2,FALSE),"")) | J32: =IF($G32="","",$G32+$I32) | N32: =IF($L32="","",$L32*$M32) | P32: =IF($L32="","",$L32*$O32) | R32: =IF($L32="","",$L32+$N32-$P32-$Q32) | S32: =IF($A32="","",SUMIFS(Pagos!$D$8:$D$300,Pagos!$A$8:$A$300,$A32,Pagos!$F$8:$F$300,"Aplicado")) | T32: =IF($A32="","",MAX(0,$R32-$S32)) | U32: =IF($A32="","",IF($T32<=0.005,"Pagada",IF($S32>0,IF($J32<Inicio!$F$3,"Parcial vencida","Pago parcial"),IF($J32<Inicio!$F$3,"Vencida",IF($J32-Inicio!$F$3<=7,"Próxima","Pendiente"))))) | V32: =IF(OR($A32="",$T32<=0,$J32>=Inicio!$F$3),0,Inicio!$F$3-$J32) -> 0 | Y32: =IF($A32="","",IF($T32<=0,"Cerrada",IF($J32<Inicio!$F$3,"Alta",IF($J32-Inicio!$F$3<=7,"Media","Normal")))) | AA32: =IF($A32="","",IF($T32>0,COUNTIFS($J$8:$J$300,"<"&$J32,$T$8:$T$300,">0")+COUNTIFS($J$8:$J$300,$J32,$A$8:$A$300,"<"&$A32,$T$8:$T$300,">0")+1,""))
C33: =IF($B33="","",IFERROR(VLOOKUP($B33,Listas!$A$3:$G$13,2,FALSE),"")) | D33: =IF($B33="","",IFERROR(VLOOKUP($B33,Listas!$A$3:$G$13,3,FALSE),"")) | H33: =IF($B33="","",IFERROR(VLOOKUP($B33,Listas!$A$3:$G$13,4,FALSE),"")) | I33: =IF($H33="","",IFERROR(VLOOKUP($H33,Listas!$J$3:$K$7,2,FALSE),"")) | J33: =IF($G33="","",$G33+$I33) | N33: =IF($L33="","",$L33*$M33) | P33: =IF($L33="","",$L33*$O33) | R33: =IF($L33="","",$L33+$N33-$P33-$Q33) | S33: =IF($A33="","",SUMIFS(Pagos!$D$8:$D$300,Pagos!$A$8:$A$300,$A33,Pagos!$F$8:$F$300,"Aplicado")) | T33: =IF($A33="","",MAX(0,$R33-$S33)) | U33: =IF($A33="","",IF($T33<=0.005,"Pagada",IF($S33>0,IF($J33<Inicio!$F$3,"Parcial vencida","Pago parcial"),IF($J33<Inicio!$F$3,"Vencida",IF($J33-Inicio!$F$3<=7,"Próxima","Pendiente"))))) | V33: =IF(OR($A33="",$T33<=0,$J33>=Inicio!$F$3),0,Inicio!$F$3-$J33) -> 0 | Y33: =IF($A33="","",IF($T33<=0,"Cerrada",IF($J33<Inicio!$F$3,"Alta",IF($J33-Inicio!$F$3<=7,"Media","Normal")))) | AA33: =IF($A33="","",IF($T33>0,COUNTIFS($J$8:$J$300,"<"&$J33,$T$8:$T$300,">0")+COUNTIFS($J$8:$J$300,$J33,$A$8:$A$300,"<"&$A33,$T$8:$T$300,">0")+1,""))
C34: =IF($B34="","",IFERROR(VLOOKUP($B34,Listas!$A$3:$G$13,2,FALSE),"")) | D34: =IF($B34="","",IFERROR(VLOOKUP($B34,Listas!$A$3:$G$13,3,FALSE),"")) | H34: =IF($B34="","",IFERROR(VLOOKUP($B34,Listas!$A$3:$G$13,4,FALSE),"")) | I34: =IF($H34="","",IFERROR(VLOOKUP($H34,Listas!$J$3:$K$7,2,FALSE),"")) | J34: =IF($G34="","",$G34+$I34) | N34: =IF($L34="","",$L34*$M34) | P34: =IF($L34="","",$L34*$O34) | R34: =IF($L34="","",$L34+$N34-$P34-$Q34) | S34: =IF($A34="","",SUMIFS(Pagos!$D$8:$D$300,Pagos!$A$8:$A$300,$A34,Pagos!$F$8:$F$300,"Aplicado")) | T34: =IF($A34="","",MAX(0,$R34-$S34)) | U34: =IF($A34="","",IF($T34<=0.005,"Pagada",IF($S34>0,IF($J34<Inicio!$F$3,"Parcial vencida","Pago parcial"),IF($J34<Inicio!$F$3,"Vencida",IF($J34-Inicio!$F$3<=7,"Próxima","Pendiente"))))) | V34: =IF(OR($A34="",$T34<=0,$J34>=Inicio!$F$3),0,Inicio!$F$3-$J34) -> 0 | Y34: =IF($A34="","",IF($T34<=0,"Cerrada",IF($J34<Inicio!$F$3,"Alta",IF($J34-Inicio!$F$3<=7,"Media","Normal")))) | AA34: =IF($A34="","",IF($T34>0,COUNTIFS($J$8:$J$300,"<"&$J34,$T$8:$T$300,">0")+COUNTIFS($J$8:$J$300,$J34,$A$8:$A$300,"<"&$A34,$T$8:$T$300,">0")+1,""))
C35: =IF($B35="","",IFERROR(VLOOKUP($B35,Listas!$A$3:$G$13,2,FALSE),"")) | D35: =IF($B35="","",IFERROR(VLOOKUP($B35,Listas!$A$3:$G$13,3,FALSE),"")) | H35: =IF($B35="","",IFERROR(VLOOKUP($B35,Listas!$A$3:$G$13,4,FALSE),"")) | I35: =IF($H35="","",IFERROR(VLOOKUP($H35,Listas!$J$3:$K$7,2,FALSE),"")) | J35: =IF($G35="","",$G35+$I35) | N35: =IF($L35="","",$L35*$M35) | P35: =IF($L35="","",$L35*$O35) | R35: =IF($L35="","",$L35+$N35-$P35-$Q35) | S35: =IF($A35="","",SUMIFS(Pagos!$D$8:$D$300,Pagos!$A$8:$A$300,$A35,Pagos!$F$8:$F$300,"Aplicado")) | T35: =IF($A35="","",MAX(0,$R35-$S35)) | U35: =IF($A35="","",IF($T35<=0.005,"Pagada",IF($S35>0,IF($J35<Inicio!$F$3,"Parcial vencida","Pago parcial"),IF($J35<Inicio!$F$3,"Vencida",IF($J35-Inicio!$F$3<=7,"Próxima","Pendiente"))))) | V35: =IF(OR($A35="",$T35<=0,$J35>=Inicio!$F$3),0,Inicio!$F$3-$J35) -> 0 | Y35: =IF($A35="","",IF($T35<=0,"Cerrada",IF($J35<Inicio!$F$3,"Alta",IF($J35-Inicio!$F$3<=7,"Media","Normal")))) | AA35: =IF($A35="","",IF($T35>0,COUNTIFS($J$8:$J$300,"<"&$J35,$T$8:$T$300,">0")+COUNTIFS($J$8:$J$300,$J35,$A$8:$A$300,"<"&$A35,$T$8:$T$300,">0")+1,""))
C36: =IF($B36="","",IFERROR(VLOOKUP($B36,Listas!$A$3:$G$13,2,FALSE),"")) | D36: =IF($B36="","",IFERROR(VLOOKUP($B36,Listas!$A$3:$G$13,3,FALSE),"")) | H36: =IF($B36="","",IFERROR(VLOOKUP($B36,Listas!$A$3:$G$13,4,FALSE),"")) | I36: =IF($H36="","",IFERROR(VLOOKUP($H36,Listas!$J$3:$K$7,2,FALSE),"")) | J36: =IF($G36="","",$G36+$I36) | N36: =IF($L36="","",$L36*$M36) | P36: =IF($L36="","",$L36*$O36) | R36: =IF($L36="","",$L36+$N36-$P36-$Q36) | S36: =IF($A36="","",SUMIFS(Pagos!$D$8:$D$300,Pagos!$A$8:$A$300,$A36,Pagos!$F$8:$F$300,"Aplicado")) | T36: =IF($A36="","",MAX(0,$R36-$S36)) | U36: =IF($A36="","",IF($T36<=0.005,"Pagada",IF($S36>0,IF($J36<Inicio!$F$3,"Parcial vencida","Pago parcial"),IF($J36<Inicio!$F$3,"Vencida",IF($J36-Inicio!$F$3<=7,"Próxima","Pendiente"))))) | V36: =IF(OR($A36="",$T36<=0,$J36>=Inicio!$F$3),0,Inicio!$F$3-$J36) -> 0 | Y36: =IF($A36="","",IF($T36<=0,"Cerrada",IF($J36<Inicio!$F$3,"Alta",IF($J36-Inicio!$F$3<=7,"Media","Normal")))) | AA36: =IF($A36="","",IF($T36>0,COUNTIFS($J$8:$J$300,"<"&$J36,$T$8:$T$300,">0")+COUNTIFS($J$8:$J$300,$J36,$A$8:$A$300,"<"&$A36,$T$8:$T$300,">0")+1,""))
C37: =IF($B37="","",IFERROR(VLOOKUP($B37,Listas!$A$3:$G$13,2,FALSE),"")) | D37: =IF($B37="","",IFERROR(VLOOKUP($B37,Listas!$A$3:$G$13,3,FALSE),"")) | H37: =IF($B37="","",IFERROR(VLOOKUP($B37,Listas!$A$3:$G$13,4,FALSE),"")) | I37: =IF($H37="","",IFERROR(VLOOKUP($H37,Listas!$J$3:$K$7,2,FALSE),"")) | J37: =IF($G37="","",$G37+$I37) | N37: =IF($L37="","",$L37*$M37) | P37: =IF($L37="","",$L37*$O37) | R37: =IF($L37="","",$L37+$N37-$P37-$Q37) | S37: =IF($A37="","",SUMIFS(Pagos!$D$8:$D$300,Pagos!$A$8:$A$300,$A37,Pagos!$F$8:$F$300,"Aplicado")) | T37: =IF($A37="","",MAX(0,$R37-$S37)) | U37: =IF($A37="","",IF($T37<=0.005,"Pagada",IF($S37>0,IF($J37<Inicio!$F$3,"Parcial vencida","Pago parcial"),IF($J37<Inicio!$F$3,"Vencida",IF($J37-Inicio!$F$3<=7,"Próxima","Pendiente"))))) | V37: =IF(OR($A37="",$T37<=0,$J37>=Inicio!$F$3),0,Inicio!$F$3-$J37) -> 0 | Y37: =IF($A37="","",IF($T37<=0,"Cerrada",IF($J37<Inicio!$F$3,"Alta",IF($J37-Inicio!$F$3<=7,"Media","Normal")))) | AA37: =IF($A37="","",IF($T37>0,COUNTIFS($J$8:$J$300,"<"&$J37,$T$8:$T$300,">0")+COUNTIFS($J$8:$J$300,$J37,$A$8:$A$300,"<"&$A37,$T$8:$T$300,">0")+1,""))
C38: =IF($B38="","",IFERROR(VLOOKUP($B38,Listas!$A$3:$G$13,2,FALSE),"")) | D38: =IF($B38="","",IFERROR(VLOOKUP($B38,Listas!$A$3:$G$13,3,FALSE),"")) | H38: =IF($B38="","",IFERROR(VLOOKUP($B38,Listas!$A$3:$G$13,4,FALSE),"")) | I38: =IF($H38="","",IFERROR(VLOOKUP($H38,Listas!$J$3:$K$7,2,FALSE),"")) | J38: =IF($G38="","",$G38+$I38) | N38: =IF($L38="","",$L38*$M38) | P38: =IF($L38="","",$L38*$O38) | R38: =IF($L38="","",$L38+$N38-$P38-$Q38) | S38: =IF($A38="","",SUMIFS(Pagos!$D$8:$D$300,Pagos!$A$8:$A$300,$A38,Pagos!$F$8:$F$300,"Aplicado")) | T38: =IF($A38="","",MAX(0,$R38-$S38)) | U38: =IF($A38="","",IF($T38<=0.005,"Pagada",IF($S38>0,IF($J38<Inicio!$F$3,"Parcial vencida","Pago parcial"),IF($J38<Inicio!$F$3,"Vencida",IF($J38-Inicio!$F$3<=7,"Próxima","Pendiente"))))) | V38: =IF(OR($A38="",$T38<=0,$J38>=Inicio!$F$3),0,Inicio!$F$3-$J38) -> 0 | Y38: =IF($A38="","",IF($T38<=0,"Cerrada",IF($J38<Inicio!$F$3,"Alta",IF($J38-Inicio!$F$3<=7,"Media","Normal")))) | AA38: =IF($A38="","",IF($T38>0,COUNTIFS($J$8:$J$300,"<"&$J38,$T$8:$T$300,">0")+COUNTIFS($J$8:$J$300,$J38,$A$8:$A$300,"<"&$A38,$T$8:$T$300,">0")+1,""))
C39: =IF($B39="","",IFERROR(VLOOKUP($B39,Listas!$A$3:$G$13,2,FALSE),"")) | D39: =IF($B39="","",IFERROR(VLOOKUP($B39,Listas!$A$3:$G$13,3,FALSE),"")) | H39: =IF($B39="","",IFERROR(VLOOKUP($B39,Listas!$A$3:$G$13,4,FALSE),"")) | I39: =IF($H39="","",IFERROR(VLOOKUP($H39,Listas!$J$3:$K$7,2,FALSE),"")) | J39: =IF($G39="","",$G39+$I39) | N39: =IF($L39="","",$L39*$M39) | P39: =IF($L39="","",$L39*$O39) | R39: =IF($L39="","",$L39+$N39-$P39-$Q39) | S39: =IF($A39="","",SUMIFS(Pagos!$D$8:$D$300,Pagos!$A$8:$A$300,$A39,Pagos!$F$8:$F$300,"Aplicado")) | T39: =IF($A39="","",MAX(0,$R39-$S39)) | U39: =IF($A39="","",IF($T39<=0.005,"Pagada",IF($S39>0,IF($J39<Inicio!$F$3,"Parcial vencida","Pago parcial"),IF($J39<Inicio!$F$3,"Vencida",IF($J39-Inicio!$F$3<=7,"Próxima","Pendiente"))))) | V39: =IF(OR($A39="",$T39<=0,$J39>=Inicio!$F$3),0,Inicio!$F$3-$J39) -> 0 | Y39: =IF($A39="","",IF($T39<=0,"Cerrada",IF($J39<Inicio!$F$3,"Alta",IF($J39-Inicio!$F$3<=7,"Media","Normal")))) | AA39: =IF($A39="","",IF($T39>0,COUNTIFS($J$8:$J$300,"<"&$J39,$T$8:$T$300,">0")+COUNTIFS($J$8:$J$300,$J39,$A$8:$A$300,"<"&$A39,$T$8:$T$300,">0")+1,""))
... C120: =IF($B120="","",IFERROR(VLOOKUP($B120,Listas!$A$3:$G$13,2,FALSE),"")) | D120: =IF($B120="","",IFERROR(VLOOKUP($B120,Listas!$A$3:$G$13,3,FALSE),"")) | H120: =IF($B120="","",IFERROR(VLOOKUP($B120,Listas!$A$3:$G$13,4,FALSE),"")) | I120: =IF($H120="","",IFERROR(VLOOKUP($H120,Listas!$J$3:$K$7,2,FALSE),"")) | J120: =IF($G120="","",$G120+$I120) | N120: =IF($L120="","",$L120*$M120) | P120: =IF($L120="","",$L120*$O120) | R120: =IF($L120="","",$L120+$N120-$P120-$Q120) | S120: =IF($A120="","",SUMIFS(Pagos!$D$8:$D$300,Pagos!$A$8:$A$300,$A120,Pagos!$F$8:$F$300,"Aplicado")) | T120: =IF($A120="","",MAX(0,$R120-$S120)) | U120: =IF($A120="","",IF($T120<=0.005,"Pagada",IF($S120>0,IF($J120<Inicio!$F$3,"Parcial vencida","Pago parcial"),IF($J120<Inicio!$F$3,"Vencida",IF($J120-Inicio!$F$3<=7,"Próxima","Pendiente"))))) | V120: =IF(OR($A120="",$T120<=0,$J120>=Inicio!$F$3),0,Inicio!$F$3-$J120) -> 0 | Y120: =IF($A120="","",IF($T120<=0,"Cerrada",IF($J120<Inicio!$F$3,"Alta",IF($J120-Inicio!$F$3<=7,"Media","Normal")))) | AA120: =IF($A120="","",IF($T120>0,COUNTIFS($J$8:$J$300,"<"&$J120,$T$8:$T$300,">0")+COUNTIFS($J$8:$J$300,$J120,$A$8:$A$300,"<"&$A120,$T$8:$T$300,">0")+1,""))

Sheet Pagos
A1: Registro de pagos y previsiones
A2: Usa Estado pago = Aplicado para descontar saldo. Programado sirve para dejar previsiones sin afectar el saldo pendiente.
B4: Pagado aplicado | E4: Pagado programado | H4: Movimientos
B5: =SUMIFS($D$8:$D$300,$F$8:$F$300,"Aplicado") -> 7626 | E5: =SUMIFS($D$8:$D$300,$F$8:$F$300,"Programado") -> 1907.9 | H5: =COUNTIF($A$8:$A$300,"<>") -> 10
A7: ID factura | B7: Proveedor | C7: Fecha pago | D7: Importe pago | E7: Método | F7: Estado pago | G7: Referencia | H7: Observaciones | I7: Mes pago
A8: FPR-26001 | B8: =IF($A8="","",IFERROR(VLOOKUP($A8,Facturas!$A$8:$B$300,2,FALSE),"")) -> Nebula Audio Services S.L. | C8: 46063 | D8: 1185.8 | E8: Transferencia | F8: Aplicado | G8: TRX-820145 | H8: Pago único | I8: =IF($C8="","",DATE(YEAR($C8),MONTH($C8),1)) -> 46054
A9: FPR-26002 | B9: =IF($A9="","",IFERROR(VLOOKUP($A9,Facturas!$A$8:$B$300,2,FALSE),"")) -> Pixel Bruma Creativa S.L. | C9: 46068 | D9: 1000 | E9: Transferencia | F9: Aplicado | G9: TRX-820821 | H9: Anticipo fase 1 | I9: =IF($C9="","",DATE(YEAR($C9),MONTH($C9),1)) -> 46054
A10: FPR-26002 | B10: =IF($A10="","",IFERROR(VLOOKUP($A10,Facturas!$A$8:$B$300,2,FALSE),"")) -> Pixel Bruma Creativa S.L. | C10: 46134 | D10: 754.5 | E10: Transferencia | F10: Programado | G10: PRG-260422 | H10: Liquidación prevista | I10: =IF($C10="","",DATE(YEAR($C10),MONTH($C10),1)) -> 46113
A11: FPR-26005 | B11: =IF($A11="","",IFERROR(VLOOKUP($A11,Facturas!$A$8:$B$300,2,FALSE),"")) -> Aster Cloud Hosting S.L. | C11: 46087 | D11: 2178 | E11: Domiciliación | F11: Aplicado | G11: DOM-0306 | H11: Cargo automático | I11: =IF($C11="","",DATE(YEAR($C11),MONTH($C11),1)) -> 46082
A12: FPR-26006 | B12: =IF($A12="","",IFERROR(VLOOKUP($A12,Facturas!$A$8:$B$300,2,FALSE),"")) -> Prisma Legal Advisory S.L.P. | C12: 46101 | D12: 954 | E12: Transferencia | F12: Aplicado | G12: TRX-831114 | H12: Pago según retención | I12: =IF($C12="","",DATE(YEAR($C12),MONTH($C12),1)) -> 46082
A13: FPR-26009 | B13: =IF($A13="","",IFERROR(VLOOKUP($A13,Facturas!$A$8:$B$300,2,FALSE),"")) -> Taller Vía Dos S.L. | C13: 46119 | D13: 1500 | E13: Transferencia | F13: Aplicado | G13: TRX-840771 | H13: Primer pago por hito | I13: =IF($C13="","",DATE(YEAR($C13),MONTH($C13),1)) -> 46113
A14: FPR-26010 | B14: =IF($A14="","",IFERROR(VLOOKUP($A14,Facturas!$A$8:$B$300,2,FALSE),"")) -> Nebula Audio Services S.L. | C14: 46121 | D14: 508.2 | E14: Transferencia | F14: Aplicado | G14: TRX-840952 | H14: Pago completo | I14: =IF($C14="","",DATE(YEAR($C14),MONTH($C14),1)) -> 46113
A15: FPR-26011 | B15: =IF($A15="","",IFERROR(VLOOKUP($A15,Facturas!$A$8:$B$300,2,FALSE),"")) -> Pixel Bruma Creativa S.L. | C15: 46128 | D15: 300 | E15: Tarjeta corporativa | F15: Aplicado | G15: TC-4410 | H15: Anticipo campaña | I15: =IF($C15="","",DATE(YEAR($C15),MONTH($C15),1)) -> 46113
A16: FPR-26014 | B16: =IF($A16="","",IFERROR(VLOOKUP($A16,Facturas!$A$8:$B$300,2,FALSE),"")) -> Foco y Trama Escenografía S.L. | C16: 46141 | D16: 500 | E16: Transferencia | F16: Programado | G16: PRG-260429 | H16: Señal prevista | I16: =IF($C16="","",DATE(YEAR($C16),MONTH($C16),1)) -> 46113
A17: FPR-26016 | B17: =IF($A17="","",IFERROR(VLOOKUP($A17,Facturas!$A$8:$B$300,2,FALSE),"")) -> Pulso Formación Técnica S.L. | C17: 46134 | D17: 653.4 | E17: Transferencia | F17: Programado | G17: PRG-260422-2 | H17: Pago al cierre de formación | I17: =IF($C17="","",DATE(YEAR($C17),MONTH($C17),1)) -> 46113
B18: =IF($A18="","",IFERROR(VLOOKUP($A18,Facturas!$A$8:$B$300,2,FALSE),"")) | I18: =IF($C18="","",DATE(YEAR($C18),MONTH($C18),1))
B19: =IF($A19="","",IFERROR(VLOOKUP($A19,Facturas!$A$8:$B$300,2,FALSE),"")) | I19: =IF($C19="","",DATE(YEAR($C19),MONTH($C19),1))
B20: =IF($A20="","",IFERROR(VLOOKUP($A20,Facturas!$A$8:$B$300,2,FALSE),"")) | I20: =IF($C20="","",DATE(YEAR($C20),MONTH($C20),1))
B21: =IF($A21="","",IFERROR(VLOOKUP($A21,Facturas!$A$8:$B$300,2,FALSE),"")) | I21: =IF($C21="","",DATE(YEAR($C21),MONTH($C21),1))
B22: =IF($A22="","",IFERROR(VLOOKUP($A22,Facturas!$A$8:$B$300,2,FALSE),"")) | I22: =IF($C22="","",DATE(YEAR($C22),MONTH($C22),1))
B23: =IF($A23="","",IFERROR(VLOOKUP($A23,Facturas!$A$8:$B$300,2,FALSE),"")) | I23: =IF($C23="","",DATE(YEAR($C23),MONTH($C23),1))
B24: =IF($A24="","",IFERROR(VLOOKUP($A24,Facturas!$A$8:$B$300,2,FALSE),"")) | I24: =IF($C24="","",DATE(YEAR($C24),MONTH($C24),1))
B25: =IF($A25="","",IFERROR(VLOOKUP($A25,Facturas!$A$8:$B$300,2,FALSE),"")) | I25: =IF($C25="","",DATE(YEAR($C25),MONTH($C25),1))
B26: =IF($A26="","",IFERROR(VLOOKUP($A26,Facturas!$A$8:$B$300,2,FALSE),"")) | I26: =IF($C26="","",DATE(YEAR($C26),MONTH($C26),1))
B27: =IF($A27="","",IFERROR(VLOOKUP($A27,Facturas!$A$8:$B$300,2,FALSE),"")) | I27: =IF($C27="","",DATE(YEAR($C27),MONTH($C27),1))
B28: =IF($A28="","",IFERROR(VLOOKUP($A28,Facturas!$A$8:$B$300,2,FALSE),"")) | I28: =IF($C28="","",DATE(YEAR($C28),MONTH($C28),1))
B29: =IF($A29="","",IFERROR(VLOOKUP($A29,Facturas!$A$8:$B$300,2,FALSE),"")) | I29: =IF($C29="","",DATE(YEAR($C29),MONTH($C29),1))
... B120: =IF($A120="","",IFERROR(VLOOKUP($A120,Facturas!$A$8:$B$300,2,FALSE),"")) | I120: =IF($C120="","",DATE(YEAR($C120),MONTH($C120),1))

Sheet Listas
A1: Proveedores
A2: Proveedor | B2: NIF | C2: Categoría | D2: Condición por defecto | E2: Método preferido | F2: Contacto | G2: Email | H2: Facturado YTD | I2: Saldo actual | J2: Condición | K2: Días | L2: Clave ranking | M2: Centros de coste | O2: % IVA | Q2: % Retención | S2: Método de pago | U2: Estado pago | W2: Responsable
A3: Nebula Audio Services S.L. | B3: B18345671 | C3: Mantenimiento técnico | D3: 30 días | E3: Transferencia | F3: Marta Pineda | G3: martap@nebula-audio.example | H3: =SUMIFS(Facturas!$R$8:$R$300,Facturas!$B$8:$B$300,$A3) -> 1694 | I3: =SUMIFS(Facturas!$T$8:$T$300,Facturas!$B$8:$B$300,$A3) -> 0 | J3: Contado | K3: 0 | L3: =I3+ROW()/100000 -> 3e-05 | M3: Producción | O3: 0 | Q3: 0 | S3: Transferencia | U3: Aplicado | W3: Ana Torres
A4: Pixel Bruma Creativa S.L. | B4: B29456182 | C4: Servicios creativos | D4: 30 días | E4: Transferencia | F4: Víctor Lago | G4: victor@pixelbruma.example | H4: =SUMIFS(Facturas!$R$8:$R$300,Facturas!$B$8:$B$300,$A4) -> 2807.2 | I4: =SUMIFS(Facturas!$T$8:$T$300,Facturas!$B$8:$B$300,$A4) -> 1507.2 | J4: 15 días | K4: 15 | L4: =I4+ROW()/100000 -> 1507.2 | M4: Marketing | O4: 0.04 | Q4: 0.07 | S4: Domiciliación | U4: Programado | W4: Diego Mena
A5: Ruta Clara Mensajería S.L. | B5: B37561294 | C5: Logística | D5: 30 días | E5: Transferencia | F5: Elena Sol | G5: elena@rutaclara.example | H5: =SUMIFS(Facturas!$R$8:$R$300,Facturas!$B$8:$B$300,$A5) -> 701.8 | I5: =SUMIFS(Facturas!$T$8:$T$300,Facturas!$B$8:$B$300,$A5) -> 701.8 | J5: 30 días | K5: 30 | L5: =I5+ROW()/100000 -> 701.80005 | M5: Operaciones | O5: 0.1 | Q5: 0.15 | S5: Tarjeta corporativa | U5: Anulado | W5: Clara Ros
A6: Grano Norte Coffee Supply S.L. | B6: B48672315 | C6: Catering y office | D6: 15 días | E6: Transferencia | F6: Nora Vidal | G6: nora@granonorte.example | H6: =SUMIFS(Facturas!$R$8:$R$300,Facturas!$B$8:$B$300,$A6) -> 1683 | I6: =SUMIFS(Facturas!$T$8:$T$300,Facturas!$B$8:$B$300,$A6) -> 1683 | J6: 45 días | K6: 45 | L6: =I6+ROW()/100000 -> 1683.0001 | M6: Tecnología | O6: 0.21 | S6: Confirming | W6: Julián Ferrer
A7: Foco y Trama Escenografía S.L. | B7: B51783426 | C7: Producción escénica | D7: 30 días | E7: Transferencia | F7: Saúl Mena | G7: saul@focoytrama.example | H7: =SUMIFS(Facturas!$R$8:$R$300,Facturas!$B$8:$B$300,$A7) -> 1355.2 | I7: =SUMIFS(Facturas!$T$8:$T$300,Facturas!$B$8:$B$300,$A7) -> 1355.2 | J7: 60 días | K7: 60 | L7: =I7+ROW()/100000 -> 1355.2001 | M7: Administración | W7: Mireia Sol
A8: Prisma Legal Advisory S.L.P. | B8: B62894537 | C8: Asesoría legal | D8: 30 días | E8: Transferencia | F8: Irene Cobo | G8: irene@prismalegal.example | H8: =SUMIFS(Facturas!$R$8:$R$300,Facturas!$B$8:$B$300,$A8) -> 2279 | I8: =SUMIFS(Facturas!$T$8:$T$300,Facturas!$B$8:$B$300,$A8) -> 1325 | L8: =I8+ROW()/100000 -> 1325.0001 | M8: Eventos
A9: Aster Cloud Hosting S.L. | B9: B73905648 | C9: Software y cloud | D9: 30 días | E9: Domiciliación | F9: Óscar Rey | G9: oscar@astercloud.example | H9: =SUMIFS(Facturas!$R$8:$R$300,Facturas!$B$8:$B$300,$A9) -> 2910.05 | I9: =SUMIFS(Facturas!$T$8:$T$300,Facturas!$B$8:$B$300,$A9) -> 732.05 | L9: =I9+ROW()/100000 -> 732.05009
A10: Faro Seguridad Integral S.L. | B10: B84016759 | C10: Seguridad | D10: 60 días | E10: Transferencia | F10: Lucía Naharro | G10: lucia@faroseguridad.example | H10: =SUMIFS(Facturas!$R$8:$R$300,Facturas!$B$8:$B$300,$A10) -> 786.5 | I10: =SUMIFS(Facturas!$T$8:$T$300,Facturas!$B$8:$B$300,$A10) -> 786.5 | L10: =I10+ROW()/100000 -> 786.5001
A11: Órbita Limpieza Técnica S.L. | B11: B95127860 | C11: Limpieza | D11: 30 días | E11: Transferencia | F11: Pablo Riu | G11: pablo@orbitalimpieza.example | H11: =SUMIFS(Facturas!$R$8:$R$300,Facturas!$B$8:$B$300,$A11) -> 1427.8 | I11: =SUMIFS(Facturas!$T$8:$T$300,Facturas!$B$8:$B$300,$A11) -> 1427.8 | L11: =I11+ROW()/100000 -> 1427.8001
A12: Taller Vía Dos S.L. | B12: B16238971 | C12: Carpintería y sets | D12: 30 días | E12: Transferencia | F12: Rocío Alba | G12: rocio@tallerviados.example | H12: =SUMIFS(Facturas!$R$8:$R$300,Facturas!$B$8:$B$300,$A12) -> 2683 | I12: =SUMIFS(Facturas!$T$8:$T$300,Facturas!$B$8:$B$300,$A12) -> 1183 | L12: =I12+ROW()/100000 -> 1183.0001
