Workbook
Name Lista_Proveedores: 'Proveedores'!$B$6:$B$105
Name EstadosFactura: 'Proveedores'!$M$2:$M$7
Name Responsables: 'Proveedores'!$N$2:$N$6
Name TiposIVA: 'Proveedores'!$O$2:$O$5
Name TiposRetencion: 'Proveedores'!$P$2:$P$4
Name FormasPago: 'Proveedores'!$Q$2:$Q$6
Name Categorias: 'Proveedores'!$R$2:$R$12
Name EstadosProveedor: 'Proveedores'!$S$2:$S$4

Sheet Panel
A1: Panel de control · Facturas de proveedores
A2: Resumen ejecutivo de pagos, vencimientos y evolución mensual. Las celdas azules son de entrada manual.
A4: Año del panel | B4: 2026 | D4: Flujo recomendado: 1) actualiza Proveedores 2) registra o sustituye ejemplos en Facturas 3) revisa aquí el saldo pendiente y las alertas.
A7: Total registrado | D7: Pendiente de pago | G7: Pagado | J7: Saldo vencido
A8: =SUM(Facturas!$Q$7:$Q$106) | D8: =SUM(Facturas!$S$7:$S$106) | G8: =SUM(Facturas!$R$7:$R$106) | J8: =SUMIFS(Facturas!$S$7:$S$106,Facturas!$U$7:$U$106,"<0")
A11: Próx. 7 días | D11: Nº facturas | G11: % liquidadas | J11: Días medios pago
A12: =SUMIFS(Facturas!$S$7:$S$106,Facturas!$U$7:$U$106,">=0",Facturas!$U$7:$U$106,"<=7") | D12: =COUNTIF(Facturas!$B$7:$B$106,"<>") | G12: =IFERROR(COUNTIFS(Facturas!$B$7:$B$106,"<>",Facturas!$S$7:$S$106,0)/COUNTIF(Facturas!$B$7:$B$106,"<>"),0) | J12: =IFERROR(AVERAGEIF(Facturas!$AB$7:$AB$106,">0"),0)
A15: Antigüedad del saldo | E15: Estado de facturas | I15: Evolución mensual
A16: Tramo | B16: Nº | C16: Pendiente (€) | E16: Estado | F16: Nº | G16: Total (€) | I16: Mes | J16: Facturado (€) | K16: Pendiente (€) | M16: Etiqueta mes
A17: 0. En plazo | B17: =COUNTIFS(Facturas!$V$7:$V$106,A17) | C17: =SUMIFS(Facturas!$S$7:$S$106,Facturas!$V$7:$V$106,A17) | E17: Pendiente | F17: =COUNTIFS(Facturas!$J$7:$J$106,E17) | G17: =SUMIFS(Facturas!$Q$7:$Q$106,Facturas!$J$7:$J$106,E17) | I17: =DATE($B$4,1,1) | J17: =SUMIFS(Facturas!$Q$7:$Q$106,Facturas!$Z$7:$Z$106,I17) | K17: =SUMIFS(Facturas!$S$7:$S$106,Facturas!$Z$7:$Z$106,I17) | M17: Ene
A18: 1. 1-30 venc. | B18: =COUNTIFS(Facturas!$V$7:$V$106,A18) | C18: =SUMIFS(Facturas!$S$7:$S$106,Facturas!$V$7:$V$106,A18) | E18: Programada | F18: =COUNTIFS(Facturas!$J$7:$J$106,E18) | G18: =SUMIFS(Facturas!$Q$7:$Q$106,Facturas!$J$7:$J$106,E18) | I18: =EDATE(I17,1) | J18: =SUMIFS(Facturas!$Q$7:$Q$106,Facturas!$Z$7:$Z$106,I18) | K18: =SUMIFS(Facturas!$S$7:$S$106,Facturas!$Z$7:$Z$106,I18) | M18: Feb
A19: 2. 31-60 venc. | B19: =COUNTIFS(Facturas!$V$7:$V$106,A19) | C19: =SUMIFS(Facturas!$S$7:$S$106,Facturas!$V$7:$V$106,A19) | E19: Parcial | F19: =COUNTIFS(Facturas!$J$7:$J$106,E19) | G19: =SUMIFS(Facturas!$Q$7:$Q$106,Facturas!$J$7:$J$106,E19) | I19: =EDATE(I18,1) | J19: =SUMIFS(Facturas!$Q$7:$Q$106,Facturas!$Z$7:$Z$106,I19) | K19: =SUMIFS(Facturas!$S$7:$S$106,Facturas!$Z$7:$Z$106,I19) | M19: Mar
A20: 3. 61-90 venc. | B20: =COUNTIFS(Facturas!$V$7:$V$106,A20) | C20: =SUMIFS(Facturas!$S$7:$S$106,Facturas!$V$7:$V$106,A20) | E20: Pagada | F20: =COUNTIFS(Facturas!$J$7:$J$106,E20) | G20: =SUMIFS(Facturas!$Q$7:$Q$106,Facturas!$J$7:$J$106,E20) | I20: =EDATE(I19,1) | J20: =SUMIFS(Facturas!$Q$7:$Q$106,Facturas!$Z$7:$Z$106,I20) | K20: =SUMIFS(Facturas!$S$7:$S$106,Facturas!$Z$7:$Z$106,I20) | M20: Abr
A21: 4. +90 venc. | B21: =COUNTIFS(Facturas!$V$7:$V$106,A21) | C21: =SUMIFS(Facturas!$S$7:$S$106,Facturas!$V$7:$V$106,A21) | E21: Bloqueada | F21: =COUNTIFS(Facturas!$J$7:$J$106,E21) | G21: =SUMIFS(Facturas!$Q$7:$Q$106,Facturas!$J$7:$J$106,E21) | I21: =EDATE(I20,1) | J21: =SUMIFS(Facturas!$Q$7:$Q$106,Facturas!$Z$7:$Z$106,I21) | K21: =SUMIFS(Facturas!$S$7:$S$106,Facturas!$Z$7:$Z$106,I21) | M21: May
A22: Liquidada | B22: =COUNTIFS(Facturas!$V$7:$V$106,A22) | C22: =SUMIFS(Facturas!$S$7:$S$106,Facturas!$V$7:$V$106,A22) | E22: Revisar | F22: =COUNTIFS(Facturas!$J$7:$J$106,E22) | G22: =SUMIFS(Facturas!$Q$7:$Q$106,Facturas!$J$7:$J$106,E22) | I22: =EDATE(I21,1) | J22: =SUMIFS(Facturas!$Q$7:$Q$106,Facturas!$Z$7:$Z$106,I22) | K22: =SUMIFS(Facturas!$S$7:$S$106,Facturas!$Z$7:$Z$106,I22) | M22: Jun
I23: =EDATE(I22,1) | J23: =SUMIFS(Facturas!$Q$7:$Q$106,Facturas!$Z$7:$Z$106,I23) | K23: =SUMIFS(Facturas!$S$7:$S$106,Facturas!$Z$7:$Z$106,I23) | M23: Jul
I24: =EDATE(I23,1) | J24: =SUMIFS(Facturas!$Q$7:$Q$106,Facturas!$Z$7:$Z$106,I24) | K24: =SUMIFS(Facturas!$S$7:$S$106,Facturas!$Z$7:$Z$106,I24) | M24: Ago
A25: Gasto por categoría | I25: =EDATE(I24,1) | J25: =SUMIFS(Facturas!$Q$7:$Q$106,Facturas!$Z$7:$Z$106,I25) | K25: =SUMIFS(Facturas!$S$7:$S$106,Facturas!$Z$7:$Z$106,I25) | M25: Sep
A26: Categoría | B26: Total (€) | C26: Pendiente (€) | I26: =EDATE(I25,1) | J26: =SUMIFS(Facturas!$Q$7:$Q$106,Facturas!$Z$7:$Z$106,I26) | K26: =SUMIFS(Facturas!$S$7:$S$106,Facturas!$Z$7:$Z$106,I26) | M26: Oct
A27: Mantenimiento | B27: =SUMIFS(Facturas!$Q$7:$Q$106,Facturas!$C$7:$C$106,A27) | C27: =SUMIFS(Facturas!$S$7:$S$106,Facturas!$C$7:$C$106,A27) | I27: =EDATE(I26,1) | J27: =SUMIFS(Facturas!$Q$7:$Q$106,Facturas!$Z$7:$Z$106,I27) | K27: =SUMIFS(Facturas!$S$7:$S$106,Facturas!$Z$7:$Z$106,I27) | M27: Nov
A28: Material oficina | B28: =SUMIFS(Facturas!$Q$7:$Q$106,Facturas!$C$7:$C$106,A28) | C28: =SUMIFS(Facturas!$S$7:$S$106,Facturas!$C$7:$C$106,A28) | I28: =EDATE(I27,1) | J28: =SUMIFS(Facturas!$Q$7:$Q$106,Facturas!$Z$7:$Z$106,I28) | K28: =SUMIFS(Facturas!$S$7:$S$106,Facturas!$Z$7:$Z$106,I28) | M28: Dic
A29: Marketing | B29: =SUMIFS(Facturas!$Q$7:$Q$106,Facturas!$C$7:$C$106,A29) | C29: =SUMIFS(Facturas!$S$7:$S$106,Facturas!$C$7:$C$106,A29)
A30: Tecnología | B30: =SUMIFS(Facturas!$Q$7:$Q$106,Facturas!$C$7:$C$106,A30) | C30: =SUMIFS(Facturas!$S$7:$S$106,Facturas!$C$7:$C$106,A30)
A31: Limpieza | B31: =SUMIFS(Facturas!$Q$7:$Q$106,Facturas!$C$7:$C$106,A31) | C31: =SUMIFS(Facturas!$S$7:$S$106,Facturas!$C$7:$C$106,A31)
A32: Logística | B32: =SUMIFS(Facturas!$Q$7:$Q$106,Facturas!$C$7:$C$106,A32) | C32: =SUMIFS(Facturas!$S$7:$S$106,Facturas!$C$7:$C$106,A32)
A33: Servicios profesionales | B33: =SUMIFS(Facturas!$Q$7:$Q$106,Facturas!$C$7:$C$106,A33) | C33: =SUMIFS(Facturas!$S$7:$S$106,Facturas!$C$7:$C$106,A33)
A34: Suministros | B34: =SUMIFS(Facturas!$Q$7:$Q$106,Facturas!$C$7:$C$106,A34) | C34: =SUMIFS(Facturas!$S$7:$S$106,Facturas!$C$7:$C$106,A34)
A35: Formación | B35: =SUMIFS(Facturas!$Q$7:$Q$106,Facturas!$C$7:$C$106,A35) | C35: =SUMIFS(Facturas!$S$7:$S$106,Facturas!$C$7:$C$106,A35)
A36: Equipamiento | B36: =SUMIFS(Facturas!$Q$7:$Q$106,Facturas!$C$7:$C$106,A36) | C36: =SUMIFS(Facturas!$S$7:$S$106,Facturas!$C$7:$C$106,A36)
A37: Producción eventos | B37: =SUMIFS(Facturas!$Q$7:$Q$106,Facturas!$C$7:$C$106,A37) | C37: =SUMIFS(Facturas!$S$7:$S$106,Facturas!$C$7:$C$106,A37)

Sheet Facturas
A1: Control de facturas de proveedores
A2: Introduce solo las celdas de entrada. Las columnas calculadas completan vencimientos, impuestos, saldos, alertas y antigüedad.
A4: Leyenda: | B4: Editable | D4: Calculado | F4: Seguimiento
A6: ID interno | B6: Proveedor | C6: Categoría | D6: Nº factura | E6: Concepto | F6: Fecha emisión | G6: Fecha recepción | H6: Plazo pago (días) | I6: Fecha vencimiento | J6: Estado | K6: Forma pago | L6: Base imponible (€) | M6: IVA % | N6: Cuota IVA (€) | O6: Retención % | P6: Retención (€) | Q6: Total factura (€) | R6: Pagado (€) | S6: Pendiente (€) | T6: Fecha pago | U6: Días a vencimiento | V6: Tramo antigüedad | W6: Alerta | X6: Duplicado | Y6: Responsable | Z6: Mes | AA6: Observaciones | AB6: Días pago real
A7: =IF(B7="","","AP-"&TEXT(F7,"YYMM")&"-"&TEXT(ROW()-6,"000")) | B7: Atlas IT Continuidad SL | C7: =IF(B7="","",IFERROR(VLOOKUP(B7,Proveedores!$B$6:$I$105,2,FALSE),"")) | D7: ATI-26008 | E7: Renovación antivirus y backup corporativo | F7: 46030 | G7: 46031 | H7: =IF(B7="","",IFERROR(VLOOKUP(B7,Proveedores!$B$6:$I$105,7,FALSE),"")) | I7: =IF(OR(F7="",H7=""),"",F7+H7) | J7: Pagada | K7: =IF(B7="","",IFERROR(VLOOKUP(B7,Proveedores!$B$6:$I$105,8,FALSE),"")) | L7: 1280 | M7: 0.21 | N7: =IF(L7="","",L7*M7) | O7: 0 | P7: =IF(L7="","",L7*O7) | Q7: =IF(L7="","",L7+N7-P7) | R7: 1548.8 | S7: =IF(Q7="","",MAX(Q7-R7,0)) | T7: 46073 | U7: =IF(I7="","",IF(S7<=0,"",I7-TODAY())) | V7: =IF(B7="","",IF(S7<=0,"Liquidada",IF(U7>=0,"0. En plazo",IF(U7>=-30,"1. 1-30 venc.",IF(U7>=-60,"2. 31-60 venc.",IF(U7>=-90,"3. 61-90 venc.","4. +90 venc.")))))) | W7: =IF(B7="","",IF(X7="Sí","Duplicada",IF(S7<=0,"OK",IF(U7<0,"Vencida",IF(U7<=7,"Vence <=7 días",IF(U7<=15,"Vence 8-15 días","En plazo")))))) | X7: =IF(OR(B7="",D7=""),"",IF(COUNTIFS($B$7:$B$106,B7,$D$7:$D$106,D7)>1,"Sí","")) | Y7: Administración | Z7: =IF(F7="","",DATE(YEAR(F7),MONTH(F7),1)) | AA7: Contrato anual prorrateado | AB7: =IF(OR(T7="",F7="",S7>0),"",T7-F7)
A8: =IF(B8="","","AP-"&TEXT(F8,"YYMM")&"-"&TEXT(ROW()-6,"000")) | B8: Lumen Oficina Integral SL | C8: =IF(B8="","",IFERROR(VLOOKUP(B8,Proveedores!$B$6:$I$105,2,FALSE),"")) | D8: LOI-1145 | E8: Papelería y consumibles Q1 | F8: 46037 | G8: 46038 | H8: =IF(B8="","",IFERROR(VLOOKUP(B8,Proveedores!$B$6:$I$105,7,FALSE),"")) | I8: =IF(OR(F8="",H8=""),"",F8+H8) | J8: Pagada | K8: =IF(B8="","",IFERROR(VLOOKUP(B8,Proveedores!$B$6:$I$105,8,FALSE),"")) | L8: 342 | M8: 0.21 | N8: =IF(L8="","",L8*M8) | O8: 0 | P8: =IF(L8="","",L8*O8) | Q8: =IF(L8="","",L8+N8-P8) | R8: 413.82 | S8: =IF(Q8="","",MAX(Q8-R8,0)) | T8: 46051 | U8: =IF(I8="","",IF(S8<=0,"",I8-TODAY())) | V8: =IF(B8="","",IF(S8<=0,"Liquidada",IF(U8>=0,"0. En plazo",IF(U8>=-30,"1. 1-30 venc.",IF(U8>=-60,"2. 31-60 venc.",IF(U8>=-90,"3. 61-90 venc.","4. +90 venc.")))))) | W8: =IF(B8="","",IF(X8="Sí","Duplicada",IF(S8<=0,"OK",IF(U8<0,"Vencida",IF(U8<=7,"Vence <=7 días",IF(U8<=15,"Vence 8-15 días","En plazo")))))) | X8: =IF(OR(B8="",D8=""),"",IF(COUNTIFS($B$7:$B$106,B8,$D$7:$D$106,D8)>1,"Sí","")) | Y8: Compras | Z8: =IF(F8="","",DATE(YEAR(F8),MONTH(F8),1)) | AA8: Pedido centralizado | AB8: =IF(OR(T8="",F8="",S8>0),"",T8-F8)
A9: =IF(B9="","","AP-"&TEXT(F9,"YYMM")&"-"&TEXT(ROW()-6,"000")) | B9: Verde Urbano Servicios SL | C9: =IF(B9="","",IFERROR(VLOOKUP(B9,Proveedores!$B$6:$I$105,2,FALSE),"")) | D9: VUS-2026-011 | E9: Limpieza sede enero | F9: 46053 | G9: 46054 | H9: =IF(B9="","",IFERROR(VLOOKUP(B9,Proveedores!$B$6:$I$105,7,FALSE),"")) | I9: =IF(OR(F9="",H9=""),"",F9+H9) | J9: Pagada | K9: =IF(B9="","",IFERROR(VLOOKUP(B9,Proveedores!$B$6:$I$105,8,FALSE),"")) | L9: 760 | M9: 0.21 | N9: =IF(L9="","",L9*M9) | O9: 0 | P9: =IF(L9="","",L9*O9) | Q9: =IF(L9="","",L9+N9-P9) | R9: 919.6 | S9: =IF(Q9="","",MAX(Q9-R9,0)) | T9: 46078 | U9: =IF(I9="","",IF(S9<=0,"",I9-TODAY())) | V9: =IF(B9="","",IF(S9<=0,"Liquidada",IF(U9>=0,"0. En plazo",IF(U9>=-30,"1. 1-30 venc.",IF(U9>=-60,"2. 31-60 venc.",IF(U9>=-90,"3. 61-90 venc.","4. +90 venc.")))))) | W9: =IF(B9="","",IF(X9="Sí","Duplicada",IF(S9<=0,"OK",IF(U9<0,"Vencida",IF(U9<=7,"Vence <=7 días",IF(U9<=15,"Vence 8-15 días","En plazo")))))) | X9: =IF(OR(B9="",D9=""),"",IF(COUNTIFS($B$7:$B$106,B9,$D$7:$D$106,D9)>1,"Sí","")) | Y9: Operaciones | Z9: =IF(F9="","",DATE(YEAR(F9),MONTH(F9),1)) | AA9: Servicio recurrente | AB9: =IF(OR(T9="",F9="",S9>0),"",T9-F9)
A10: =IF(B10="","","AP-"&TEXT(F10,"YYMM")&"-"&TEXT(ROW()-6,"000")) | B10: Senda Energía Comercializadora SA | C10: =IF(B10="","",IFERROR(VLOOKUP(B10,Proveedores!$B$6:$I$105,2,FALSE),"")) | D10: SEC-04102 | E10: Consumo electricidad enero | F10: 46055 | G10: 46056 | H10: =IF(B10="","",IFERROR(VLOOKUP(B10,Proveedores!$B$6:$I$105,7,FALSE),"")) | I10: =IF(OR(F10="",H10=""),"",F10+H10) | J10: Pagada | K10: =IF(B10="","",IFERROR(VLOOKUP(B10,Proveedores!$B$6:$I$105,8,FALSE),"")) | L10: 1180 | M10: 0.21 | N10: =IF(L10="","",L10*M10) | O10: 0 | P10: =IF(L10="","",L10*O10) | Q10: =IF(L10="","",L10+N10-P10) | R10: 1427.8 | S10: =IF(Q10="","",MAX(Q10-R10,0)) | T10: 46070 | U10: =IF(I10="","",IF(S10<=0,"",I10-TODAY())) | V10: =IF(B10="","",IF(S10<=0,"Liquidada",IF(U10>=0,"0. En plazo",IF(U10>=-30,"1. 1-30 venc.",IF(U10>=-60,"2. 31-60 venc.",IF(U10>=-90,"3. 61-90 venc.","4. +90 venc.")))))) | W10: =IF(B10="","",IF(X10="Sí","Duplicada",IF(S10<=0,"OK",IF(U10<0,"Vencida",IF(U10<=7,"Vence <=7 días",IF(U10<=15,"Vence 8-15 días","En plazo")))))) | X10: =IF(OR(B10="",D10=""),"",IF(COUNTIFS($B$7:$B$106,B10,$D$7:$D$106,D10)>1,"Sí","")) | Y10: Administración | Z10: =IF(F10="","",DATE(YEAR(F10),MONTH(F10),1)) | AA10: Suministro oficina central | AB10: =IF(OR(T10="",F10="",S10>0),"",T10-F10)
A11: =IF(B11="","","AP-"&TEXT(F11,"YYMM")&"-"&TEXT(ROW()-6,"000")) | B11: Delta Logística Regional SL | C11: =IF(B11="","",IFERROR(VLOOKUP(B11,Proveedores!$B$6:$I$105,2,FALSE),"")) | D11: DLR-5531 | E11: Rutas de distribución febrero | F11: 46063 | G11: 46064 | H11: =IF(B11="","",IFERROR(VLOOKUP(B11,Proveedores!$B$6:$I$105,7,FALSE),"")) | I11: =IF(OR(F11="",H11=""),"",F11+H11) | J11: Pagada | K11: =IF(B11="","",IFERROR(VLOOKUP(B11,Proveedores!$B$6:$I$105,8,FALSE),"")) | L11: 2190 | M11: 0.21 | N11: =IF(L11="","",L11*M11) | O11: 0 | P11: =IF(L11="","",L11*O11) | Q11: =IF(L11="","",L11+N11-P11) | R11: 2649.9 | S11: =IF(Q11="","",MAX(Q11-R11,0)) | T11: 46089 | U11: =IF(I11="","",IF(S11<=0,"",I11-TODAY())) | V11: =IF(B11="","",IF(S11<=0,"Liquidada",IF(U11>=0,"0. En plazo",IF(U11>=-30,"1. 1-30 venc.",IF(U11>=-60,"2. 31-60 venc.",IF(U11>=-90,"3. 61-90 venc.","4. +90 venc.")))))) | W11: =IF(B11="","",IF(X11="Sí","Duplicada",IF(S11<=0,"OK",IF(U11<0,"Vencida",IF(U11<=7,"Vence <=7 días",IF(U11<=15,"Vence 8-15 días","En plazo")))))) | X11: =IF(OR(B11="",D11=""),"",IF(COUNTIFS($B$7:$B$106,B11,$D$7:$D$106,D11)>1,"Sí","")) | Y11: Operaciones | Z11: =IF(F11="","",DATE(YEAR(F11),MONTH(F11),1)) | AA11: Cierre mensual | AB11: =IF(OR(T11="",F11="",S11>0),"",T11-F11)
A12: =IF(B12="","","AP-"&TEXT(F12,"YYMM")&"-"&TEXT(ROW()-6,"000")) | B12: Brisa Creativa Estudio SL | C12: =IF(B12="","",IFERROR(VLOOKUP(B12,Proveedores!$B$6:$I$105,2,FALSE),"")) | D12: BCE-2402-A | E12: Diseño de catálogo primavera | F12: 46065 | G12: 46066 | H12: =IF(B12="","",IFERROR(VLOOKUP(B12,Proveedores!$B$6:$I$105,7,FALSE),"")) | I12: =IF(OR(F12="",H12=""),"",F12+H12) | J12: Parcial | K12: =IF(B12="","",IFERROR(VLOOKUP(B12,Proveedores!$B$6:$I$105,8,FALSE),"")) | L12: 1850 | M12: 0.21 | N12: =IF(L12="","",L12*M12) | O12: 0 | P12: =IF(L12="","",L12*O12) | Q12: =IF(L12="","",L12+N12-P12) | R12: 1000 | S12: =IF(Q12="","",MAX(Q12-R12,0)) | T12: 46095 | U12: =IF(I12="","",IF(S12<=0,"",I12-TODAY())) | V12: =IF(B12="","",IF(S12<=0,"Liquidada",IF(U12>=0,"0. En plazo",IF(U12>=-30,"1. 1-30 venc.",IF(U12>=-60,"2. 31-60 venc.",IF(U12>=-90,"3. 61-90 venc.","4. +90 venc.")))))) | W12: =IF(B12="","",IF(X12="Sí","Duplicada",IF(S12<=0,"OK",IF(U12<0,"Vencida",IF(U12<=7,"Vence <=7 días",IF(U12<=15,"Vence 8-15 días","En plazo")))))) | X12: =IF(OR(B12="",D12=""),"",IF(COUNTIFS($B$7:$B$106,B12,$D$7:$D$106,D12)>1,"Sí","")) | Y12: Proyectos | Z12: =IF(F12="","",DATE(YEAR(F12),MONTH(F12),1)) | AA12: Primer anticipo abonado | AB12: =IF(OR(T12="",F12="",S12>0),"",T12-F12)
A13: =IF(B13="","","AP-"&TEXT(F13,"YYMM")&"-"&TEXT(ROW()-6,"000")) | B13: Pórtico Consultoría Legal SL | C13: =IF(B13="","",IFERROR(VLOOKUP(B13,Proveedores!$B$6:$I$105,2,FALSE),"")) | D13: PCL-026-19 | E13: Revisión de contrato marco | F13: 46071 | G13: 46072 | H13: =IF(B13="","",IFERROR(VLOOKUP(B13,Proveedores!$B$6:$I$105,7,FALSE),"")) | I13: =IF(OR(F13="",H13=""),"",F13+H13) | J13: Pendiente | K13: =IF(B13="","",IFERROR(VLOOKUP(B13,Proveedores!$B$6:$I$105,8,FALSE),"")) | L13: 640 | M13: 0.21 | N13: =IF(L13="","",L13*M13) | O13: 0.15 | P13: =IF(L13="","",L13*O13) | Q13: =IF(L13="","",L13+N13-P13) | R13: 0 | S13: =IF(Q13="","",MAX(Q13-R13,0)) | U13: =IF(I13="","",IF(S13<=0,"",I13-TODAY())) | V13: =IF(B13="","",IF(S13<=0,"Liquidada",IF(U13>=0,"0. En plazo",IF(U13>=-30,"1. 1-30 venc.",IF(U13>=-60,"2. 31-60 venc.",IF(U13>=-90,"3. 61-90 venc.","4. +90 venc.")))))) | W13: =IF(B13="","",IF(X13="Sí","Duplicada",IF(S13<=0,"OK",IF(U13<0,"Vencida",IF(U13<=7,"Vence <=7 días",IF(U13<=15,"Vence 8-15 días","En plazo")))))) | X13: =IF(OR(B13="",D13=""),"",IF(COUNTIFS($B$7:$B$106,B13,$D$7:$D$106,D13)>1,"Sí","")) | Y13: Dirección | Z13: =IF(F13="","",DATE(YEAR(F13),MONTH(F13),1)) | AA13: Pendiente visto bueno final | AB13: =IF(OR(T13="",F13="",S13>0),"",T13-F13)
A14: =IF(B14="","","AP-"&TEXT(F14,"YYMM")&"-"&TEXT(ROW()-6,"000")) | B14: Taller Prisma Mobiliario SL | C14: =IF(B14="","",IFERROR(VLOOKUP(B14,Proveedores!$B$6:$I$105,2,FALSE),"")) | D14: TPM-773 | E14: Mesa operativa para equipo producto | F14: 46082 | G14: 46083 | H14: =IF(B14="","",IFERROR(VLOOKUP(B14,Proveedores!$B$6:$I$105,7,FALSE),"")) | I14: =IF(OR(F14="",H14=""),"",F14+H14) | J14: Pendiente | K14: =IF(B14="","",IFERROR(VLOOKUP(B14,Proveedores!$B$6:$I$105,8,FALSE),"")) | L14: 2240 | M14: 0.21 | N14: =IF(L14="","",L14*M14) | O14: 0 | P14: =IF(L14="","",L14*O14) | Q14: =IF(L14="","",L14+N14-P14) | R14: 0 | S14: =IF(Q14="","",MAX(Q14-R14,0)) | U14: =IF(I14="","",IF(S14<=0,"",I14-TODAY())) | V14: =IF(B14="","",IF(S14<=0,"Liquidada",IF(U14>=0,"0. En plazo",IF(U14>=-30,"1. 1-30 venc.",IF(U14>=-60,"2. 31-60 venc.",IF(U14>=-90,"3. 61-90 venc.","4. +90 venc.")))))) | W14: =IF(B14="","",IF(X14="Sí","Duplicada",IF(S14<=0,"OK",IF(U14<0,"Vencida",IF(U14<=7,"Vence <=7 días",IF(U14<=15,"Vence 8-15 días","En plazo")))))) | X14: =IF(OR(B14="",D14=""),"",IF(COUNTIFS($B$7:$B$106,B14,$D$7:$D$106,D14)>1,"Sí","")) | Y14: Compras | Z14: =IF(F14="","",DATE(YEAR(F14),MONTH(F14),1)) | AA14: Entrega ya recibida | AB14: =IF(OR(T14="",F14="",S14>0),"",T14-F14)
A15: =IF(B15="","","AP-"&TEXT(F15,"YYMM")&"-"&TEXT(ROW()-6,"000")) | B15: Acuarela Eventos Técnicos SL | C15: =IF(B15="","",IFERROR(VLOOKUP(B15,Proveedores!$B$6:$I$105,2,FALSE),"")) | D15: AET-092 | E15: Soporte audiovisual demo interna | F15: 46085 | G15: 46086 | H15: =IF(B15="","",IFERROR(VLOOKUP(B15,Proveedores!$B$6:$I$105,7,FALSE),"")) | I15: =IF(OR(F15="",H15=""),"",F15+H15) | J15: Pagada | K15: =IF(B15="","",IFERROR(VLOOKUP(B15,Proveedores!$B$6:$I$105,8,FALSE),"")) | L15: 1380 | M15: 0.21 | N15: =IF(L15="","",L15*M15) | O15: 0 | P15: =IF(L15="","",L15*O15) | Q15: =IF(L15="","",L15+N15-P15) | R15: 1669.8 | S15: =IF(Q15="","",MAX(Q15-R15,0)) | T15: 46114 | U15: =IF(I15="","",IF(S15<=0,"",I15-TODAY())) | V15: =IF(B15="","",IF(S15<=0,"Liquidada",IF(U15>=0,"0. En plazo",IF(U15>=-30,"1. 1-30 venc.",IF(U15>=-60,"2. 31-60 venc.",IF(U15>=-90,"3. 61-90 venc.","4. +90 venc.")))))) | W15: =IF(B15="","",IF(X15="Sí","Duplicada",IF(S15<=0,"OK",IF(U15<0,"Vencida",IF(U15<=7,"Vence <=7 días",IF(U15<=15,"Vence 8-15 días","En plazo")))))) | X15: =IF(OR(B15="",D15=""),"",IF(COUNTIFS($B$7:$B$106,B15,$D$7:$D$106,D15)>1,"Sí","")) | Y15: Proyectos | Z15: =IF(F15="","",DATE(YEAR(F15),MONTH(F15),1)) | AA15: Evento trimestral | AB15: =IF(OR(T15="",F15="",S15>0),"",T15-F15)
A16: =IF(B16="","","AP-"&TEXT(F16,"YYMM")&"-"&TEXT(ROW()-6,"000")) | B16: Nexo Soluciones Industriales SL | C16: =IF(B16="","",IFERROR(VLOOKUP(B16,Proveedores!$B$6:$I$105,2,FALSE),"")) | D16: NSI-3321 | E16: Revisión climatización y filtros | F16: 46087 | G16: 46088 | H16: =IF(B16="","",IFERROR(VLOOKUP(B16,Proveedores!$B$6:$I$105,7,FALSE),"")) | I16: =IF(OR(F16="",H16=""),"",F16+H16) | J16: Pagada | K16: =IF(B16="","",IFERROR(VLOOKUP(B16,Proveedores!$B$6:$I$105,8,FALSE),"")) | L16: 890 | M16: 0.21 | N16: =IF(L16="","",L16*M16) | O16: 0 | P16: =IF(L16="","",L16*O16) | Q16: =IF(L16="","",L16+N16-P16) | R16: 1076.9 | S16: =IF(Q16="","",MAX(Q16-R16,0)) | T16: 46109 | U16: =IF(I16="","",IF(S16<=0,"",I16-TODAY())) | V16: =IF(B16="","",IF(S16<=0,"Liquidada",IF(U16>=0,"0. En plazo",IF(U16>=-30,"1. 1-30 venc.",IF(U16>=-60,"2. 31-60 venc.",IF(U16>=-90,"3. 61-90 venc.","4. +90 venc.")))))) | W16: =IF(B16="","",IF(X16="Sí","Duplicada",IF(S16<=0,"OK",IF(U16<0,"Vencida",IF(U16<=7,"Vence <=7 días",IF(U16<=15,"Vence 8-15 días","En plazo")))))) | X16: =IF(OR(B16="",D16=""),"",IF(COUNTIFS($B$7:$B$106,B16,$D$7:$D$106,D16)>1,"Sí","")) | Y16: Operaciones | Z16: =IF(F16="","",DATE(YEAR(F16),MONTH(F16),1)) | AA16: Mantenimiento preventivo | AB16: =IF(OR(T16="",F16="",S16>0),"",T16-F16)
A17: =IF(B17="","","AP-"&TEXT(F17,"YYMM")&"-"&TEXT(ROW()-6,"000")) | B17: Lumen Oficina Integral SL | C17: =IF(B17="","",IFERROR(VLOOKUP(B17,Proveedores!$B$6:$I$105,2,FALSE),"")) | D17: LOI-1198 | E17: Consumibles de impresión marzo | F17: 46092 | G17: 46093 | H17: =IF(B17="","",IFERROR(VLOOKUP(B17,Proveedores!$B$6:$I$105,7,FALSE),"")) | I17: =IF(OR(F17="",H17=""),"",F17+H17) | J17: Pagada | K17: =IF(B17="","",IFERROR(VLOOKUP(B17,Proveedores!$B$6:$I$105,8,FALSE),"")) | L17: 286 | M17: 0.21 | N17: =IF(L17="","",L17*M17) | O17: 0 | P17: =IF(L17="","",L17*O17) | Q17: =IF(L17="","",L17+N17-P17) | R17: 346.06 | S17: =IF(Q17="","",MAX(Q17-R17,0)) | T17: 46103 | U17: =IF(I17="","",IF(S17<=0,"",I17-TODAY())) | V17: =IF(B17="","",IF(S17<=0,"Liquidada",IF(U17>=0,"0. En plazo",IF(U17>=-30,"1. 1-30 venc.",IF(U17>=-60,"2. 31-60 venc.",IF(U17>=-90,"3. 61-90 venc.","4. +90 venc.")))))) | W17: =IF(B17="","",IF(X17="Sí","Duplicada",IF(S17<=0,"OK",IF(U17<0,"Vencida",IF(U17<=7,"Vence <=7 días",IF(U17<=15,"Vence 8-15 días","En plazo")))))) | X17: =IF(OR(B17="",D17=""),"",IF(COUNTIFS($B$7:$B$106,B17,$D$7:$D$106,D17)>1,"Sí","")) | Y17: Compras | Z17: =IF(F17="","",DATE(YEAR(F17),MONTH(F17),1)) | AA17: Reposición mensual | AB17: =IF(OR(T17="",F17="",S17>0),"",T17-F17)
A18: =IF(B18="","","AP-"&TEXT(F18,"YYMM")&"-"&TEXT(ROW()-6,"000")) | B18: Senda Energía Comercializadora SA | C18: =IF(B18="","",IFERROR(VLOOKUP(B18,Proveedores!$B$6:$I$105,2,FALSE),"")) | D18: SEC-04589 | E18: Consumo electricidad febrero | F18: 46094 | G18: 46095 | H18: =IF(B18="","",IFERROR(VLOOKUP(B18,Proveedores!$B$6:$I$105,7,FALSE),"")) | I18: =IF(OR(F18="",H18=""),"",F18+H18) | J18: Pagada | K18: =IF(B18="","",IFERROR(VLOOKUP(B18,Proveedores!$B$6:$I$105,8,FALSE),"")) | L18: 1215 | M18: 0.21 | N18: =IF(L18="","",L18*M18) | O18: 0 | P18: =IF(L18="","",L18*O18) | Q18: =IF(L18="","",L18+N18-P18) | R18: 1470.15 | S18: =IF(Q18="","",MAX(Q18-R18,0)) | T18: 46108 | U18: =IF(I18="","",IF(S18<=0,"",I18-TODAY())) | V18: =IF(B18="","",IF(S18<=0,"Liquidada",IF(U18>=0,"0. En plazo",IF(U18>=-30,"1. 1-30 venc.",IF(U18>=-60,"2. 31-60 venc.",IF(U18>=-90,"3. 61-90 venc.","4. +90 venc.")))))) | W18: =IF(B18="","",IF(X18="Sí","Duplicada",IF(S18<=0,"OK",IF(U18<0,"Vencida",IF(U18<=7,"Vence <=7 días",IF(U18<=15,"Vence 8-15 días","En plazo")))))) | X18: =IF(OR(B18="",D18=""),"",IF(COUNTIFS($B$7:$B$106,B18,$D$7:$D$106,D18)>1,"Sí","")) | Y18: Administración | Z18: =IF(F18="","",DATE(YEAR(F18),MONTH(F18),1)) | AA18: Sede principal | AB18: =IF(OR(T18="",F18="",S18>0),"",T18-F18)
A19: =IF(B19="","","AP-"&TEXT(F19,"YYMM")&"-"&TEXT(ROW()-6,"000")) | B19: Brisa Creativa Estudio SL | C19: =IF(B19="","",IFERROR(VLOOKUP(B19,Proveedores!$B$6:$I$105,2,FALSE),"")) | D19: BCE-2403-B | E19: Landing y piezas sociales campaña empleo | F19: 46100 | G19: 46101 | H19: =IF(B19="","",IFERROR(VLOOKUP(B19,Proveedores!$B$6:$I$105,7,FALSE),"")) | I19: =IF(OR(F19="",H19=""),"",F19+H19) | J19: Pendiente | K19: =IF(B19="","",IFERROR(VLOOKUP(B19,Proveedores!$B$6:$I$105,8,FALSE),"")) | L19: 1320 | M19: 0.21 | N19: =IF(L19="","",L19*M19) | O19: 0 | P19: =IF(L19="","",L19*O19) | Q19: =IF(L19="","",L19+N19-P19) | R19: 0 | S19: =IF(Q19="","",MAX(Q19-R19,0)) | U19: =IF(I19="","",IF(S19<=0,"",I19-TODAY())) | V19: =IF(B19="","",IF(S19<=0,"Liquidada",IF(U19>=0,"0. En plazo",IF(U19>=-30,"1. 1-30 venc.",IF(U19>=-60,"2. 31-60 venc.",IF(U19>=-90,"3. 61-90 venc.","4. +90 venc.")))))) | W19: =IF(B19="","",IF(X19="Sí","Duplicada",IF(S19<=0,"OK",IF(U19<0,"Vencida",IF(U19<=7,"Vence <=7 días",IF(U19<=15,"Vence 8-15 días","En plazo")))))) | X19: =IF(OR(B19="",D19=""),"",IF(COUNTIFS($B$7:$B$106,B19,$D$7:$D$106,D19)>1,"Sí","")) | Y19: Proyectos | Z19: =IF(F19="","",DATE(YEAR(F19),MONTH(F19),1)) | AA19: Pendiente de cierre creativo | AB19: =IF(OR(T19="",F19="",S19>0),"",T19-F19)
A20: =IF(B20="","","AP-"&TEXT(F20,"YYMM")&"-"&TEXT(ROW()-6,"000")) | B20: Atlas IT Continuidad SL | C20: =IF(B20="","",IFERROR(VLOOKUP(B20,Proveedores!$B$6:$I$105,2,FALSE),"")) | D20: ATI-26041 | E20: Licencias colaboración 25 usuarios | F20: 46102 | G20: 46103 | H20: =IF(B20="","",IFERROR(VLOOKUP(B20,Proveedores!$B$6:$I$105,7,FALSE),"")) | I20: =IF(OR(F20="",H20=""),"",F20+H20) | J20: Programada | K20: =IF(B20="","",IFERROR(VLOOKUP(B20,Proveedores!$B$6:$I$105,8,FALSE),"")) | L20: 610 | M20: 0.21 | N20: =IF(L20="","",L20*M20) | O20: 0 | P20: =IF(L20="","",L20*O20) | Q20: =IF(L20="","",L20+N20-P20) | R20: 0 | S20: =IF(Q20="","",MAX(Q20-R20,0)) | U20: =IF(I20="","",IF(S20<=0,"",I20-TODAY())) | V20: =IF(B20="","",IF(S20<=0,"Liquidada",IF(U20>=0,"0. En plazo",IF(U20>=-30,"1. 1-30 venc.",IF(U20>=-60,"2. 31-60 venc.",IF(U20>=-90,"3. 61-90 venc.","4. +90 venc.")))))) | W20: =IF(B20="","",IF(X20="Sí","Duplicada",IF(S20<=0,"OK",IF(U20<0,"Vencida",IF(U20<=7,"Vence <=7 días",IF(U20<=15,"Vence 8-15 días","En plazo")))))) | X20: =IF(OR(B20="",D20=""),"",IF(COUNTIFS($B$7:$B$106,B20,$D$7:$D$106,D20)>1,"Sí","")) | Y20: Administración | Z20: =IF(F20="","",DATE(YEAR(F20),MONTH(F20),1)) | AA20: Pago previsto en remesa próxima | AB20: =IF(OR(T20="",F20="",S20>0),"",T20-F20)
A21: =IF(B21="","","AP-"&TEXT(F21,"YYMM")&"-"&TEXT(ROW()-6,"000")) | B21: Delta Logística Regional SL | C21: =IF(B21="","",IFERROR(VLOOKUP(B21,Proveedores!$B$6:$I$105,2,FALSE),"")) | D21: DLR-5599 | E21: Rutas de distribución marzo | F21: 46109 | G21: 46110 | H21: =IF(B21="","",IFERROR(VLOOKUP(B21,Proveedores!$B$6:$I$105,7,FALSE),"")) | I21: =IF(OR(F21="",H21=""),"",F21+H21) | J21: Parcial | K21: =IF(B21="","",IFERROR(VLOOKUP(B21,Proveedores!$B$6:$I$105,8,FALSE),"")) | L21: 2420 | M21: 0.21 | N21: =IF(L21="","",L21*M21) | O21: 0 | P21: =IF(L21="","",L21*O21) | Q21: =IF(L21="","",L21+N21-P21) | R21: 1500 | S21: =IF(Q21="","",MAX(Q21-R21,0)) | T21: 46122 | U21: =IF(I21="","",IF(S21<=0,"",I21-TODAY())) | V21: =IF(B21="","",IF(S21<=0,"Liquidada",IF(U21>=0,"0. En plazo",IF(U21>=-30,"1. 1-30 venc.",IF(U21>=-60,"2. 31-60 venc.",IF(U21>=-90,"3. 61-90 venc.","4. +90 venc.")))))) | W21: =IF(B21="","",IF(X21="Sí","Duplicada",IF(S21<=0,"OK",IF(U21<0,"Vencida",IF(U21<=7,"Vence <=7 días",IF(U21<=15,"Vence 8-15 días","En plazo")))))) | X21: =IF(OR(B21="",D21=""),"",IF(COUNTIFS($B$7:$B$106,B21,$D$7:$D$106,D21)>1,"Sí","")) | Y21: Operaciones | Z21: =IF(F21="","",DATE(YEAR(F21),MONTH(F21),1)) | AA21: Pendiente regularización combustible | AB21: =IF(OR(T21="",F21="",S21>0),"",T21-F21)
A22: =IF(B22="","","AP-"&TEXT(F22,"YYMM")&"-"&TEXT(ROW()-6,"000")) | B22: Verde Urbano Servicios SL | C22: =IF(B22="","",IFERROR(VLOOKUP(B22,Proveedores!$B$6:$I$105,2,FALSE),"")) | D22: VUS-2026-032 | E22: Limpieza sede marzo | F22: 46112 | G22: 46113 | H22: =IF(B22="","",IFERROR(VLOOKUP(B22,Proveedores!$B$6:$I$105,7,FALSE),"")) | I22: =IF(OR(F22="",H22=""),"",F22+H22) | J22: Programada | K22: =IF(B22="","",IFERROR(VLOOKUP(B22,Proveedores!$B$6:$I$105,8,FALSE),"")) | L22: 760 | M22: 0.21 | N22: =IF(L22="","",L22*M22) | O22: 0 | P22: =IF(L22="","",L22*O22) | Q22: =IF(L22="","",L22+N22-P22) | R22: 0 | S22: =IF(Q22="","",MAX(Q22-R22,0)) | U22: =IF(I22="","",IF(S22<=0,"",I22-TODAY())) | V22: =IF(B22="","",IF(S22<=0,"Liquidada",IF(U22>=0,"0. En plazo",IF(U22>=-30,"1. 1-30 venc.",IF(U22>=-60,"2. 31-60 venc.",IF(U22>=-90,"3. 61-90 venc.","4. +90 venc.")))))) | W22: =IF(B22="","",IF(X22="Sí","Duplicada",IF(S22<=0,"OK",IF(U22<0,"Vencida",IF(U22<=7,"Vence <=7 días",IF(U22<=15,"Vence 8-15 días","En plazo")))))) | X22: =IF(OR(B22="",D22=""),"",IF(COUNTIFS($B$7:$B$106,B22,$D$7:$D$106,D22)>1,"Sí","")) | Y22: Operaciones | Z22: =IF(F22="","",DATE(YEAR(F22),MONTH(F22),1)) | AA22: Se pagará con remesa fin de mes | AB22: =IF(OR(T22="",F22="",S22>0),"",T22-F22)
A23: =IF(B23="","","AP-"&TEXT(F23,"YYMM")&"-"&TEXT(ROW()-6,"000")) | B23: Nova Formación Aplicada SL | C23: =IF(B23="","",IFERROR(VLOOKUP(B23,Proveedores!$B$6:$I$105,2,FALSE),"")) | D23: NFA-0403 | E23: Taller de mandos intermedios - fase 1 | F23: 46115 | G23: 46116 | H23: =IF(B23="","",IFERROR(VLOOKUP(B23,Proveedores!$B$6:$I$105,7,FALSE),"")) | I23: =IF(OR(F23="",H23=""),"",F23+H23) | J23: Programada | K23: =IF(B23="","",IFERROR(VLOOKUP(B23,Proveedores!$B$6:$I$105,8,FALSE),"")) | L23: 950 | M23: 0.21 | N23: =IF(L23="","",L23*M23) | O23: 0 | P23: =IF(L23="","",L23*O23) | Q23: =IF(L23="","",L23+N23-P23) | R23: 0 | S23: =IF(Q23="","",MAX(Q23-R23,0)) | U23: =IF(I23="","",IF(S23<=0,"",I23-TODAY())) | V23: =IF(B23="","",IF(S23<=0,"Liquidada",IF(U23>=0,"0. En plazo",IF(U23>=-30,"1. 1-30 venc.",IF(U23>=-60,"2. 31-60 venc.",IF(U23>=-90,"3. 61-90 venc.","4. +90 venc.")))))) | W23: =IF(B23="","",IF(X23="Sí","Duplicada",IF(S23<=0,"OK",IF(U23<0,"Vencida",IF(U23<=7,"Vence <=7 días",IF(U23<=15,"Vence 8-15 días","En plazo")))))) | X23: =IF(OR(B23="",D23=""),"",IF(COUNTIFS($B$7:$B$106,B23,$D$7:$D$106,D23)>1,"Sí","")) | Y23: Dirección | Z23: =IF(F23="","",DATE(YEAR(F23),MONTH(F23),1)) | AA23: Primera edición | AB23: =IF(OR(T23="",F23="",S23>0),"",T23-F23)
A24: =IF(B24="","","AP-"&TEXT(F24,"YYMM")&"-"&TEXT(ROW()-6,"000")) | B24: Pórtico Consultoría Legal SL | C24: =IF(B24="","",IFERROR(VLOOKUP(B24,Proveedores!$B$6:$I$105,2,FALSE),"")) | D24: PCL-026-27 | E24: Informe de compliance de proveedores | F24: 46117 | G24: 46118 | H24: =IF(B24="","",IFERROR(VLOOKUP(B24,Proveedores!$B$6:$I$105,7,FALSE),"")) | I24: =IF(OR(F24="",H24=""),"",F24+H24) | J24: Bloqueada | K24: =IF(B24="","",IFERROR(VLOOKUP(B24,Proveedores!$B$6:$I$105,8,FALSE),"")) | L24: 780 | M24: 0.21 | N24: =IF(L24="","",L24*M24) | O24: 0.15 | P24: =IF(L24="","",L24*O24) | Q24: =IF(L24="","",L24+N24-P24) | R24: 0 | S24: =IF(Q24="","",MAX(Q24-R24,0)) | U24: =IF(I24="","",IF(S24<=0,"",I24-TODAY())) | V24: =IF(B24="","",IF(S24<=0,"Liquidada",IF(U24>=0,"0. En plazo",IF(U24>=-30,"1. 1-30 venc.",IF(U24>=-60,"2. 31-60 venc.",IF(U24>=-90,"3. 61-90 venc.","4. +90 venc.")))))) | W24: =IF(B24="","",IF(X24="Sí","Duplicada",IF(S24<=0,"OK",IF(U24<0,"Vencida",IF(U24<=7,"Vence <=7 días",IF(U24<=15,"Vence 8-15 días","En plazo")))))) | X24: =IF(OR(B24="",D24=""),"",IF(COUNTIFS($B$7:$B$106,B24,$D$7:$D$106,D24)>1,"Sí","")) | Y24: Dirección | Z24: =IF(F24="","",DATE(YEAR(F24),MONTH(F24),1)) | AA24: Bloqueada hasta aprobación interna | AB24: =IF(OR(T24="",F24="",S24>0),"",T24-F24)
A25: =IF(B25="","","AP-"&TEXT(F25,"YYMM")&"-"&TEXT(ROW()-6,"000")) | B25: Senda Energía Comercializadora SA | C25: =IF(B25="","",IFERROR(VLOOKUP(B25,Proveedores!$B$6:$I$105,2,FALSE),"")) | D25: SEC-04912 | E25: Consumo electricidad marzo | F25: 46119 | G25: 46120 | H25: =IF(B25="","",IFERROR(VLOOKUP(B25,Proveedores!$B$6:$I$105,7,FALSE),"")) | I25: =IF(OR(F25="",H25=""),"",F25+H25) | J25: Pendiente | K25: =IF(B25="","",IFERROR(VLOOKUP(B25,Proveedores!$B$6:$I$105,8,FALSE),"")) | L25: 1196 | M25: 0.21 | N25: =IF(L25="","",L25*M25) | O25: 0 | P25: =IF(L25="","",L25*O25) | Q25: =IF(L25="","",L25+N25-P25) | R25: 0 | S25: =IF(Q25="","",MAX(Q25-R25,0)) | U25: =IF(I25="","",IF(S25<=0,"",I25-TODAY())) | V25: =IF(B25="","",IF(S25<=0,"Liquidada",IF(U25>=0,"0. En plazo",IF(U25>=-30,"1. 1-30 venc.",IF(U25>=-60,"2. 31-60 venc.",IF(U25>=-90,"3. 61-90 venc.","4. +90 venc.")))))) | W25: =IF(B25="","",IF(X25="Sí","Duplicada",IF(S25<=0,"OK",IF(U25<0,"Vencida",IF(U25<=7,"Vence <=7 días",IF(U25<=15,"Vence 8-15 días","En plazo")))))) | X25: =IF(OR(B25="",D25=""),"",IF(COUNTIFS($B$7:$B$106,B25,$D$7:$D$106,D25)>1,"Sí","")) | Y25: Administración | Z25: =IF(F25="","",DATE(YEAR(F25),MONTH(F25),1)) | AA25: Vence muy pronto | AB25: =IF(OR(T25="",F25="",S25>0),"",T25-F25)
A26: =IF(B26="","","AP-"&TEXT(F26,"YYMM")&"-"&TEXT(ROW()-6,"000")) | B26: Taller Prisma Mobiliario SL | C26: =IF(B26="","",IFERROR(VLOOKUP(B26,Proveedores!$B$6:$I$105,2,FALSE),"")) | D26: TPM-779 | E26: Armario modular de archivo | F26: 46121 | G26: 46122 | H26: =IF(B26="","",IFERROR(VLOOKUP(B26,Proveedores!$B$6:$I$105,7,FALSE),"")) | I26: =IF(OR(F26="",H26=""),"",F26+H26) | J26: Pendiente | K26: =IF(B26="","",IFERROR(VLOOKUP(B26,Proveedores!$B$6:$I$105,8,FALSE),"")) | L26: 1780 | M26: 0.21 | N26: =IF(L26="","",L26*M26) | O26: 0 | P26: =IF(L26="","",L26*O26) | Q26: =IF(L26="","",L26+N26-P26) | R26: 0 | S26: =IF(Q26="","",MAX(Q26-R26,0)) | U26: =IF(I26="","",IF(S26<=0,"",I26-TODAY())) | V26: =IF(B26="","",IF(S26<=0,"Liquidada",IF(U26>=0,"0. En plazo",IF(U26>=-30,"1. 1-30 venc.",IF(U26>=-60,"2. 31-60 venc.",IF(U26>=-90,"3. 61-90 venc.","4. +90 venc.")))))) | W26: =IF(B26="","",IF(X26="Sí","Duplicada",IF(S26<=0,"OK",IF(U26<0,"Vencida",IF(U26<=7,"Vence <=7 días",IF(U26<=15,"Vence 8-15 días","En plazo")))))) | X26: =IF(OR(B26="",D26=""),"",IF(COUNTIFS($B$7:$B$106,B26,$D$7:$D$106,D26)>1,"Sí","")) | Y26: Compras | Z26: =IF(F26="","",DATE(YEAR(F26),MONTH(F26),1)) | AA26: Instalación prevista la próxima semana | AB26: =IF(OR(T26="",F26="",S26>0),"",T26-F26)
A27: =IF(B27="","","AP-"&TEXT(F27,"YYMM")&"-"&TEXT(ROW()-6,"000")) | B27: Acuarela Eventos Técnicos SL | C27: =IF(B27="","",IFERROR(VLOOKUP(B27,Proveedores!$B$6:$I$105,2,FALSE),"")) | D27: AET-097 | E27: Señalética y montaje showroom | F27: 46123 | G27: 46124 | H27: =IF(B27="","",IFERROR(VLOOKUP(B27,Proveedores!$B$6:$I$105,7,FALSE),"")) | I27: =IF(OR(F27="",H27=""),"",F27+H27) | J27: Revisar | K27: =IF(B27="","",IFERROR(VLOOKUP(B27,Proveedores!$B$6:$I$105,8,FALSE),"")) | L27: 840 | M27: 0.21 | N27: =IF(L27="","",L27*M27) | O27: 0 | P27: =IF(L27="","",L27*O27) | Q27: =IF(L27="","",L27+N27-P27) | R27: 0 | S27: =IF(Q27="","",MAX(Q27-R27,0)) | U27: =IF(I27="","",IF(S27<=0,"",I27-TODAY())) | V27: =IF(B27="","",IF(S27<=0,"Liquidada",IF(U27>=0,"0. En plazo",IF(U27>=-30,"1. 1-30 venc.",IF(U27>=-60,"2. 31-60 venc.",IF(U27>=-90,"3. 61-90 venc.","4. +90 venc.")))))) | W27: =IF(B27="","",IF(X27="Sí","Duplicada",IF(S27<=0,"OK",IF(U27<0,"Vencida",IF(U27<=7,"Vence <=7 días",IF(U27<=15,"Vence 8-15 días","En plazo")))))) | X27: =IF(OR(B27="",D27=""),"",IF(COUNTIFS($B$7:$B$106,B27,$D$7:$D$106,D27)>1,"Sí","")) | Y27: Proyectos | Z27: =IF(F27="","",DATE(YEAR(F27),MONTH(F27),1)) | AA27: Pendiente validar medición final | AB27: =IF(OR(T27="",F27="",S27>0),"",T27-F27)
A28: =IF(B28="","","AP-"&TEXT(F28,"YYMM")&"-"&TEXT(ROW()-6,"000")) | B28: Brisa Creativa Estudio SL | C28: =IF(B28="","",IFERROR(VLOOKUP(B28,Proveedores!$B$6:$I$105,2,FALSE),"")) | D28: BCE-2404-C | E28: Producción creativa de webinar | F28: 46124 | G28: 46125 | H28: =IF(B28="","",IFERROR(VLOOKUP(B28,Proveedores!$B$6:$I$105,7,FALSE),"")) | I28: =IF(OR(F28="",H28=""),"",F28+H28) | J28: Pendiente | K28: =IF(B28="","",IFERROR(VLOOKUP(B28,Proveedores!$B$6:$I$105,8,FALSE),"")) | L28: 920 | M28: 0.21 | N28: =IF(L28="","",L28*M28) | O28: 0 | P28: =IF(L28="","",L28*O28) | Q28: =IF(L28="","",L28+N28-P28) | R28: 0 | S28: =IF(Q28="","",MAX(Q28-R28,0)) | U28: =IF(I28="","",IF(S28<=0,"",I28-TODAY())) | V28: =IF(B28="","",IF(S28<=0,"Liquidada",IF(U28>=0,"0. En plazo",IF(U28>=-30,"1. 1-30 venc.",IF(U28>=-60,"2. 31-60 venc.",IF(U28>=-90,"3. 61-90 venc.","4. +90 venc.")))))) | W28: =IF(B28="","",IF(X28="Sí","Duplicada",IF(S28<=0,"OK",IF(U28<0,"Vencida",IF(U28<=7,"Vence <=7 días",IF(U28<=15,"Vence 8-15 días","En plazo")))))) | X28: =IF(OR(B28="",D28=""),"",IF(COUNTIFS($B$7:$B$106,B28,$D$7:$D$106,D28)>1,"Sí","")) | Y28: Marketing | Z28: =IF(F28="","",DATE(YEAR(F28),MONTH(F28),1)) | AA28: Pendiente conformidad | AB28: =IF(OR(T28="",F28="",S28>0),"",T28-F28)
A29: =IF(B29="","","AP-"&TEXT(F29,"YYMM")&"-"&TEXT(ROW()-6,"000")) | B29: Lumen Oficina Integral SL | C29: =IF(B29="","",IFERROR(VLOOKUP(B29,Proveedores!$B$6:$I$105,2,FALSE),"")) | D29: LOI-1205 | E29: Reposición de sillas para visitas | F29: 46126 | G29: 46127 | H29: =IF(B29="","",IFERROR(VLOOKUP(B29,Proveedores!$B$6:$I$105,7,FALSE),"")) | I29: =IF(OR(F29="",H29=""),"",F29+H29) | J29: Pendiente | K29: =IF(B29="","",IFERROR(VLOOKUP(B29,Proveedores!$B$6:$I$105,8,FALSE),"")) | L29: 560 | M29: 0.21 | N29: =IF(L29="","",L29*M29) | O29: 0 | P29: =IF(L29="","",L29*O29) | Q29: =IF(L29="","",L29+N29-P29) | R29: 0 | S29: =IF(Q29="","",MAX(Q29-R29,0)) | U29: =IF(I29="","",IF(S29<=0,"",I29-TODAY())) | V29: =IF(B29="","",IF(S29<=0,"Liquidada",IF(U29>=0,"0. En plazo",IF(U29>=-30,"1. 1-30 venc.",IF(U29>=-60,"2. 31-60 venc.",IF(U29>=-90,"3. 61-90 venc.","4. +90 venc.")))))) | W29: =IF(B29="","",IF(X29="Sí","Duplicada",IF(S29<=0,"OK",IF(U29<0,"Vencida",IF(U29<=7,"Vence <=7 días",IF(U29<=15,"Vence 8-15 días","En plazo")))))) | X29: =IF(OR(B29="",D29=""),"",IF(COUNTIFS($B$7:$B$106,B29,$D$7:$D$106,D29)>1,"Sí","")) | Y29: Compras | Z29: =IF(F29="","",DATE(YEAR(F29),MONTH(F29),1)) | AA29: Pedido ya entregado | AB29: =IF(OR(T29="",F29="",S29>0),"",T29-F29)
A30: =IF(B30="","","AP-"&TEXT(F30,"YYMM")&"-"&TEXT(ROW()-6,"000")) | B30: Delta Logística Regional SL | C30: =IF(B30="","",IFERROR(VLOOKUP(B30,Proveedores!$B$6:$I$105,2,FALSE),"")) | D30: DLR-5600 | E30: Rutas de distribución abril | F30: 46127 | G30: 46128 | H30: =IF(B30="","",IFERROR(VLOOKUP(B30,Proveedores!$B$6:$I$105,7,FALSE),"")) | I30: =IF(OR(F30="",H30=""),"",F30+H30) | J30: Programada | K30: =IF(B30="","",IFERROR(VLOOKUP(B30,Proveedores!$B$6:$I$105,8,FALSE),"")) | L30: 2510 | M30: 0.21 | N30: =IF(L30="","",L30*M30) | O30: 0 | P30: =IF(L30="","",L30*O30) | Q30: =IF(L30="","",L30+N30-P30) | R30: 0 | S30: =IF(Q30="","",MAX(Q30-R30,0)) | U30: =IF(I30="","",IF(S30<=0,"",I30-TODAY())) | V30: =IF(B30="","",IF(S30<=0,"Liquidada",IF(U30>=0,"0. En plazo",IF(U30>=-30,"1. 1-30 venc.",IF(U30>=-60,"2. 31-60 venc.",IF(U30>=-90,"3. 61-90 venc.","4. +90 venc.")))))) | W30: =IF(B30="","",IF(X30="Sí","Duplicada",IF(S30<=0,"OK",IF(U30<0,"Vencida",IF(U30<=7,"Vence <=7 días",IF(U30<=15,"Vence 8-15 días","En plazo")))))) | X30: =IF(OR(B30="",D30=""),"",IF(COUNTIFS($B$7:$B$106,B30,$D$7:$D$106,D30)>1,"Sí","")) | Y30: Operaciones | Z30: =IF(F30="","",DATE(YEAR(F30),MONTH(F30),1)) | AA30: Planificada en remesa mayo | AB30: =IF(OR(T30="",F30="",S30>0),"",T30-F30)
A31: =IF(B31="","","AP-"&TEXT(F31,"YYMM")&"-"&TEXT(ROW()-6,"000")) | C31: =IF(B31="","",IFERROR(VLOOKUP(B31,Proveedores!$B$6:$I$105,2,FALSE),"")) | H31: =IF(B31="","",IFERROR(VLOOKUP(B31,Proveedores!$B$6:$I$105,7,FALSE),"")) | I31: =IF(OR(F31="",H31=""),"",F31+H31) | K31: =IF(B31="","",IFERROR(VLOOKUP(B31,Proveedores!$B$6:$I$105,8,FALSE),"")) | N31: =IF(L31="","",L31*M31) | P31: =IF(L31="","",L31*O31) | Q31: =IF(L31="","",L31+N31-P31) | S31: =IF(Q31="","",MAX(Q31-R31,0)) | U31: =IF(I31="","",IF(S31<=0,"",I31-TODAY())) | V31: =IF(B31="","",IF(S31<=0,"Liquidada",IF(U31>=0,"0. En plazo",IF(U31>=-30,"1. 1-30 venc.",IF(U31>=-60,"2. 31-60 venc.",IF(U31>=-90,"3. 61-90 venc.","4. +90 venc.")))))) | W31: =IF(B31="","",IF(X31="Sí","Duplicada",IF(S31<=0,"OK",IF(U31<0,"Vencida",IF(U31<=7,"Vence <=7 días",IF(U31<=15,"Vence 8-15 días","En plazo")))))) | X31: =IF(OR(B31="",D31=""),"",IF(COUNTIFS($B$7:$B$106,B31,$D$7:$D$106,D31)>1,"Sí","")) | Z31: =IF(F31="","",DATE(YEAR(F31),MONTH(F31),1)) | AB31: =IF(OR(T31="",F31="",S31>0),"",T31-F31)
A32: =IF(B32="","","AP-"&TEXT(F32,"YYMM")&"-"&TEXT(ROW()-6,"000")) | C32: =IF(B32="","",IFERROR(VLOOKUP(B32,Proveedores!$B$6:$I$105,2,FALSE),"")) | H32: =IF(B32="","",IFERROR(VLOOKUP(B32,Proveedores!$B$6:$I$105,7,FALSE),"")) | I32: =IF(OR(F32="",H32=""),"",F32+H32) | K32: =IF(B32="","",IFERROR(VLOOKUP(B32,Proveedores!$B$6:$I$105,8,FALSE),"")) | N32: =IF(L32="","",L32*M32) | P32: =IF(L32="","",L32*O32) | Q32: =IF(L32="","",L32+N32-P32) | S32: =IF(Q32="","",MAX(Q32-R32,0)) | U32: =IF(I32="","",IF(S32<=0,"",I32-TODAY())) | V32: =IF(B32="","",IF(S32<=0,"Liquidada",IF(U32>=0,"0. En plazo",IF(U32>=-30,"1. 1-30 venc.",IF(U32>=-60,"2. 31-60 venc.",IF(U32>=-90,"3. 61-90 venc.","4. +90 venc.")))))) | W32: =IF(B32="","",IF(X32="Sí","Duplicada",IF(S32<=0,"OK",IF(U32<0,"Vencida",IF(U32<=7,"Vence <=7 días",IF(U32<=15,"Vence 8-15 días","En plazo")))))) | X32: =IF(OR(B32="",D32=""),"",IF(COUNTIFS($B$7:$B$106,B32,$D$7:$D$106,D32)>1,"Sí","")) | Z32: =IF(F32="","",DATE(YEAR(F32),MONTH(F32),1)) | AB32: =IF(OR(T32="",F32="",S32>0),"",T32-F32)
A33: =IF(B33="","","AP-"&TEXT(F33,"YYMM")&"-"&TEXT(ROW()-6,"000")) | C33: =IF(B33="","",IFERROR(VLOOKUP(B33,Proveedores!$B$6:$I$105,2,FALSE),"")) | H33: =IF(B33="","",IFERROR(VLOOKUP(B33,Proveedores!$B$6:$I$105,7,FALSE),"")) | I33: =IF(OR(F33="",H33=""),"",F33+H33) | K33: =IF(B33="","",IFERROR(VLOOKUP(B33,Proveedores!$B$6:$I$105,8,FALSE),"")) | N33: =IF(L33="","",L33*M33) | P33: =IF(L33="","",L33*O33) | Q33: =IF(L33="","",L33+N33-P33) | S33: =IF(Q33="","",MAX(Q33-R33,0)) | U33: =IF(I33="","",IF(S33<=0,"",I33-TODAY())) | V33: =IF(B33="","",IF(S33<=0,"Liquidada",IF(U33>=0,"0. En plazo",IF(U33>=-30,"1. 1-30 venc.",IF(U33>=-60,"2. 31-60 venc.",IF(U33>=-90,"3. 61-90 venc.","4. +90 venc.")))))) | W33: =IF(B33="","",IF(X33="Sí","Duplicada",IF(S33<=0,"OK",IF(U33<0,"Vencida",IF(U33<=7,"Vence <=7 días",IF(U33<=15,"Vence 8-15 días","En plazo")))))) | X33: =IF(OR(B33="",D33=""),"",IF(COUNTIFS($B$7:$B$106,B33,$D$7:$D$106,D33)>1,"Sí","")) | Z33: =IF(F33="","",DATE(YEAR(F33),MONTH(F33),1)) | AB33: =IF(OR(T33="",F33="",S33>0),"",T33-F33)
A34: =IF(B34="","","AP-"&TEXT(F34,"YYMM")&"-"&TEXT(ROW()-6,"000")) | C34: =IF(B34="","",IFERROR(VLOOKUP(B34,Proveedores!$B$6:$I$105,2,FALSE),"")) | H34: =IF(B34="","",IFERROR(VLOOKUP(B34,Proveedores!$B$6:$I$105,7,FALSE),"")) | I34: =IF(OR(F34="",H34=""),"",F34+H34) | K34: =IF(B34="","",IFERROR(VLOOKUP(B34,Proveedores!$B$6:$I$105,8,FALSE),"")) | N34: =IF(L34="","",L34*M34) | P34: =IF(L34="","",L34*O34) | Q34: =IF(L34="","",L34+N34-P34) | S34: =IF(Q34="","",MAX(Q34-R34,0)) | U34: =IF(I34="","",IF(S34<=0,"",I34-TODAY())) | V34: =IF(B34="","",IF(S34<=0,"Liquidada",IF(U34>=0,"0. En plazo",IF(U34>=-30,"1. 1-30 venc.",IF(U34>=-60,"2. 31-60 venc.",IF(U34>=-90,"3. 61-90 venc.","4. +90 venc.")))))) | W34: =IF(B34="","",IF(X34="Sí","Duplicada",IF(S34<=0,"OK",IF(U34<0,"Vencida",IF(U34<=7,"Vence <=7 días",IF(U34<=15,"Vence 8-15 días","En plazo")))))) | X34: =IF(OR(B34="",D34=""),"",IF(COUNTIFS($B$7:$B$106,B34,$D$7:$D$106,D34)>1,"Sí","")) | Z34: =IF(F34="","",DATE(YEAR(F34),MONTH(F34),1)) | AB34: =IF(OR(T34="",F34="",S34>0),"",T34-F34)
A35: =IF(B35="","","AP-"&TEXT(F35,"YYMM")&"-"&TEXT(ROW()-6,"000")) | C35: =IF(B35="","",IFERROR(VLOOKUP(B35,Proveedores!$B$6:$I$105,2,FALSE),"")) | H35: =IF(B35="","",IFERROR(VLOOKUP(B35,Proveedores!$B$6:$I$105,7,FALSE),"")) | I35: =IF(OR(F35="",H35=""),"",F35+H35) | K35: =IF(B35="","",IFERROR(VLOOKUP(B35,Proveedores!$B$6:$I$105,8,FALSE),"")) | N35: =IF(L35="","",L35*M35) | P35: =IF(L35="","",L35*O35) | Q35: =IF(L35="","",L35+N35-P35) | S35: =IF(Q35="","",MAX(Q35-R35,0)) | U35: =IF(I35="","",IF(S35<=0,"",I35-TODAY())) | V35: =IF(B35="","",IF(S35<=0,"Liquidada",IF(U35>=0,"0. En plazo",IF(U35>=-30,"1. 1-30 venc.",IF(U35>=-60,"2. 31-60 venc.",IF(U35>=-90,"3. 61-90 venc.","4. +90 venc.")))))) | W35: =IF(B35="","",IF(X35="Sí","Duplicada",IF(S35<=0,"OK",IF(U35<0,"Vencida",IF(U35<=7,"Vence <=7 días",IF(U35<=15,"Vence 8-15 días","En plazo")))))) | X35: =IF(OR(B35="",D35=""),"",IF(COUNTIFS($B$7:$B$106,B35,$D$7:$D$106,D35)>1,"Sí","")) | Z35: =IF(F35="","",DATE(YEAR(F35),MONTH(F35),1)) | AB35: =IF(OR(T35="",F35="",S35>0),"",T35-F35)
A36: =IF(B36="","","AP-"&TEXT(F36,"YYMM")&"-"&TEXT(ROW()-6,"000")) | C36: =IF(B36="","",IFERROR(VLOOKUP(B36,Proveedores!$B$6:$I$105,2,FALSE),"")) | H36: =IF(B36="","",IFERROR(VLOOKUP(B36,Proveedores!$B$6:$I$105,7,FALSE),"")) | I36: =IF(OR(F36="",H36=""),"",F36+H36) | K36: =IF(B36="","",IFERROR(VLOOKUP(B36,Proveedores!$B$6:$I$105,8,FALSE),"")) | N36: =IF(L36="","",L36*M36) | P36: =IF(L36="","",L36*O36) | Q36: =IF(L36="","",L36+N36-P36) | S36: =IF(Q36="","",MAX(Q36-R36,0)) | U36: =IF(I36="","",IF(S36<=0,"",I36-TODAY())) | V36: =IF(B36="","",IF(S36<=0,"Liquidada",IF(U36>=0,"0. En plazo",IF(U36>=-30,"1. 1-30 venc.",IF(U36>=-60,"2. 31-60 venc.",IF(U36>=-90,"3. 61-90 venc.","4. +90 venc.")))))) | W36: =IF(B36="","",IF(X36="Sí","Duplicada",IF(S36<=0,"OK",IF(U36<0,"Vencida",IF(U36<=7,"Vence <=7 días",IF(U36<=15,"Vence 8-15 días","En plazo")))))) | X36: =IF(OR(B36="",D36=""),"",IF(COUNTIFS($B$7:$B$106,B36,$D$7:$D$106,D36)>1,"Sí","")) | Z36: =IF(F36="","",DATE(YEAR(F36),MONTH(F36),1)) | AB36: =IF(OR(T36="",F36="",S36>0),"",T36-F36)
A37: =IF(B37="","","AP-"&TEXT(F37,"YYMM")&"-"&TEXT(ROW()-6,"000")) | C37: =IF(B37="","",IFERROR(VLOOKUP(B37,Proveedores!$B$6:$I$105,2,FALSE),"")) | H37: =IF(B37="","",IFERROR(VLOOKUP(B37,Proveedores!$B$6:$I$105,7,FALSE),"")) | I37: =IF(OR(F37="",H37=""),"",F37+H37) | K37: =IF(B37="","",IFERROR(VLOOKUP(B37,Proveedores!$B$6:$I$105,8,FALSE),"")) | N37: =IF(L37="","",L37*M37) | P37: =IF(L37="","",L37*O37) | Q37: =IF(L37="","",L37+N37-P37) | S37: =IF(Q37="","",MAX(Q37-R37,0)) | U37: =IF(I37="","",IF(S37<=0,"",I37-TODAY())) | V37: =IF(B37="","",IF(S37<=0,"Liquidada",IF(U37>=0,"0. En plazo",IF(U37>=-30,"1. 1-30 venc.",IF(U37>=-60,"2. 31-60 venc.",IF(U37>=-90,"3. 61-90 venc.","4. +90 venc.")))))) | W37: =IF(B37="","",IF(X37="Sí","Duplicada",IF(S37<=0,"OK",IF(U37<0,"Vencida",IF(U37<=7,"Vence <=7 días",IF(U37<=15,"Vence 8-15 días","En plazo")))))) | X37: =IF(OR(B37="",D37=""),"",IF(COUNTIFS($B$7:$B$106,B37,$D$7:$D$106,D37)>1,"Sí","")) | Z37: =IF(F37="","",DATE(YEAR(F37),MONTH(F37),1)) | AB37: =IF(OR(T37="",F37="",S37>0),"",T37-F37)
A38: =IF(B38="","","AP-"&TEXT(F38,"YYMM")&"-"&TEXT(ROW()-6,"000")) | C38: =IF(B38="","",IFERROR(VLOOKUP(B38,Proveedores!$B$6:$I$105,2,FALSE),"")) | H38: =IF(B38="","",IFERROR(VLOOKUP(B38,Proveedores!$B$6:$I$105,7,FALSE),"")) | I38: =IF(OR(F38="",H38=""),"",F38+H38) | K38: =IF(B38="","",IFERROR(VLOOKUP(B38,Proveedores!$B$6:$I$105,8,FALSE),"")) | N38: =IF(L38="","",L38*M38) | P38: =IF(L38="","",L38*O38) | Q38: =IF(L38="","",L38+N38-P38) | S38: =IF(Q38="","",MAX(Q38-R38,0)) | U38: =IF(I38="","",IF(S38<=0,"",I38-TODAY())) | V38: =IF(B38="","",IF(S38<=0,"Liquidada",IF(U38>=0,"0. En plazo",IF(U38>=-30,"1. 1-30 venc.",IF(U38>=-60,"2. 31-60 venc.",IF(U38>=-90,"3. 61-90 venc.","4. +90 venc.")))))) | W38: =IF(B38="","",IF(X38="Sí","Duplicada",IF(S38<=0,"OK",IF(U38<0,"Vencida",IF(U38<=7,"Vence <=7 días",IF(U38<=15,"Vence 8-15 días","En plazo")))))) | X38: =IF(OR(B38="",D38=""),"",IF(COUNTIFS($B$7:$B$106,B38,$D$7:$D$106,D38)>1,"Sí","")) | Z38: =IF(F38="","",DATE(YEAR(F38),MONTH(F38),1)) | AB38: =IF(OR(T38="",F38="",S38>0),"",T38-F38)
A39: =IF(B39="","","AP-"&TEXT(F39,"YYMM")&"-"&TEXT(ROW()-6,"000")) | C39: =IF(B39="","",IFERROR(VLOOKUP(B39,Proveedores!$B$6:$I$105,2,FALSE),"")) | H39: =IF(B39="","",IFERROR(VLOOKUP(B39,Proveedores!$B$6:$I$105,7,FALSE),"")) | I39: =IF(OR(F39="",H39=""),"",F39+H39) | K39: =IF(B39="","",IFERROR(VLOOKUP(B39,Proveedores!$B$6:$I$105,8,FALSE),"")) | N39: =IF(L39="","",L39*M39) | P39: =IF(L39="","",L39*O39) | Q39: =IF(L39="","",L39+N39-P39) | S39: =IF(Q39="","",MAX(Q39-R39,0)) | U39: =IF(I39="","",IF(S39<=0,"",I39-TODAY())) | V39: =IF(B39="","",IF(S39<=0,"Liquidada",IF(U39>=0,"0. En plazo",IF(U39>=-30,"1. 1-30 venc.",IF(U39>=-60,"2. 31-60 venc.",IF(U39>=-90,"3. 61-90 venc.","4. +90 venc.")))))) | W39: =IF(B39="","",IF(X39="Sí","Duplicada",IF(S39<=0,"OK",IF(U39<0,"Vencida",IF(U39<=7,"Vence <=7 días",IF(U39<=15,"Vence 8-15 días","En plazo")))))) | X39: =IF(OR(B39="",D39=""),"",IF(COUNTIFS($B$7:$B$106,B39,$D$7:$D$106,D39)>1,"Sí","")) | Z39: =IF(F39="","",DATE(YEAR(F39),MONTH(F39),1)) | AB39: =IF(OR(T39="",F39="",S39>0),"",T39-F39)
A40: =IF(B40="","","AP-"&TEXT(F40,"YYMM")&"-"&TEXT(ROW()-6,"000")) | C40: =IF(B40="","",IFERROR(VLOOKUP(B40,Proveedores!$B$6:$I$105,2,FALSE),"")) | H40: =IF(B40="","",IFERROR(VLOOKUP(B40,Proveedores!$B$6:$I$105,7,FALSE),"")) | I40: =IF(OR(F40="",H40=""),"",F40+H40) | K40: =IF(B40="","",IFERROR(VLOOKUP(B40,Proveedores!$B$6:$I$105,8,FALSE),"")) | N40: =IF(L40="","",L40*M40) | P40: =IF(L40="","",L40*O40) | Q40: =IF(L40="","",L40+N40-P40) | S40: =IF(Q40="","",MAX(Q40-R40,0)) | U40: =IF(I40="","",IF(S40<=0,"",I40-TODAY())) | V40: =IF(B40="","",IF(S40<=0,"Liquidada",IF(U40>=0,"0. En plazo",IF(U40>=-30,"1. 1-30 venc.",IF(U40>=-60,"2. 31-60 venc.",IF(U40>=-90,"3. 61-90 venc.","4. +90 venc.")))))) | W40: =IF(B40="","",IF(X40="Sí","Duplicada",IF(S40<=0,"OK",IF(U40<0,"Vencida",IF(U40<=7,"Vence <=7 días",IF(U40<=15,"Vence 8-15 días","En plazo")))))) | X40: =IF(OR(B40="",D40=""),"",IF(COUNTIFS($B$7:$B$106,B40,$D$7:$D$106,D40)>1,"Sí","")) | Z40: =IF(F40="","",DATE(YEAR(F40),MONTH(F40),1)) | AB40: =IF(OR(T40="",F40="",S40>0),"",T40-F40)
A41: =IF(B41="","","AP-"&TEXT(F41,"YYMM")&"-"&TEXT(ROW()-6,"000")) | C41: =IF(B41="","",IFERROR(VLOOKUP(B41,Proveedores!$B$6:$I$105,2,FALSE),"")) | H41: =IF(B41="","",IFERROR(VLOOKUP(B41,Proveedores!$B$6:$I$105,7,FALSE),"")) | I41: =IF(OR(F41="",H41=""),"",F41+H41) | K41: =IF(B41="","",IFERROR(VLOOKUP(B41,Proveedores!$B$6:$I$105,8,FALSE),"")) | N41: =IF(L41="","",L41*M41) | P41: =IF(L41="","",L41*O41) | Q41: =IF(L41="","",L41+N41-P41) | S41: =IF(Q41="","",MAX(Q41-R41,0)) | U41: =IF(I41="","",IF(S41<=0,"",I41-TODAY())) | V41: =IF(B41="","",IF(S41<=0,"Liquidada",IF(U41>=0,"0. En plazo",IF(U41>=-30,"1. 1-30 venc.",IF(U41>=-60,"2. 31-60 venc.",IF(U41>=-90,"3. 61-90 venc.","4. +90 venc.")))))) | W41: =IF(B41="","",IF(X41="Sí","Duplicada",IF(S41<=0,"OK",IF(U41<0,"Vencida",IF(U41<=7,"Vence <=7 días",IF(U41<=15,"Vence 8-15 días","En plazo")))))) | X41: =IF(OR(B41="",D41=""),"",IF(COUNTIFS($B$7:$B$106,B41,$D$7:$D$106,D41)>1,"Sí","")) | Z41: =IF(F41="","",DATE(YEAR(F41),MONTH(F41),1)) | AB41: =IF(OR(T41="",F41="",S41>0),"",T41-F41)
A42: =IF(B42="","","AP-"&TEXT(F42,"YYMM")&"-"&TEXT(ROW()-6,"000")) | C42: =IF(B42="","",IFERROR(VLOOKUP(B42,Proveedores!$B$6:$I$105,2,FALSE),"")) | H42: =IF(B42="","",IFERROR(VLOOKUP(B42,Proveedores!$B$6:$I$105,7,FALSE),"")) | I42: =IF(OR(F42="",H42=""),"",F42+H42) | K42: =IF(B42="","",IFERROR(VLOOKUP(B42,Proveedores!$B$6:$I$105,8,FALSE),"")) | N42: =IF(L42="","",L42*M42) | P42: =IF(L42="","",L42*O42) | Q42: =IF(L42="","",L42+N42-P42) | S42: =IF(Q42="","",MAX(Q42-R42,0)) | U42: =IF(I42="","",IF(S42<=0,"",I42-TODAY())) | V42: =IF(B42="","",IF(S42<=0,"Liquidada",IF(U42>=0,"0. En plazo",IF(U42>=-30,"1. 1-30 venc.",IF(U42>=-60,"2. 31-60 venc.",IF(U42>=-90,"3. 61-90 venc.","4. +90 venc.")))))) | W42: =IF(B42="","",IF(X42="Sí","Duplicada",IF(S42<=0,"OK",IF(U42<0,"Vencida",IF(U42<=7,"Vence <=7 días",IF(U42<=15,"Vence 8-15 días","En plazo")))))) | X42: =IF(OR(B42="",D42=""),"",IF(COUNTIFS($B$7:$B$106,B42,$D$7:$D$106,D42)>1,"Sí","")) | Z42: =IF(F42="","",DATE(YEAR(F42),MONTH(F42),1)) | AB42: =IF(OR(T42="",F42="",S42>0),"",T42-F42)
...

Sheet Proveedores
A1: Maestro de proveedores
A2: Actualiza aquí la ficha de cada proveedor. Las listas de la hoja Facturas se alimentan de este registro. | M2: Pendiente | N2: Administración | O2: 0 | P2: 0 | Q2: Transferencia | R2: Mantenimiento | S2: Activo
M3: Programada | N3: Compras | O3: 0.04 | P3: 0.07 | Q3: Domiciliación | R3: Material oficina | S3: En revisión
M4: Parcial | N4: Operaciones | O4: 0.1 | P4: 0.15 | Q4: Tarjeta | R4: Marketing | S4: Inactivo
A5: Código | B5: Proveedor | C5: Categoría por defecto | D5: CIF/NIF | E5: Contacto | F5: Email | G5: Teléfono | H5: Plazo pago (días) | I5: Forma pago habitual | J5: Estado proveedor | M5: Pagada | N5: Proyectos | O5: 0.21 | Q5: Confirming | R5: Tecnología
A6: PRV-001 | B6: Nexo Soluciones Industriales SL | C6: Mantenimiento | D6: B10458231 | E6: Soporte técnico | F6: pagos@nexo.test | G6: 91 410 23 11 | H6: 30 | I6: Transferencia | J6: Activo | M6: Bloqueada | N6: Dirección | Q6: Bizum empresa | R6: Limpieza
A7: PRV-002 | B7: Lumen Oficina Integral SL | C7: Material oficina | D7: B20891344 | E7: Compras | F7: facturas@lumen.test | G7: 91 535 14 28 | H7: 15 | I7: Tarjeta | J7: Activo | M7: Revisar | R7: Logística
A8: PRV-003 | B8: Brisa Creativa Estudio SL | C8: Marketing | D8: B30977420 | E8: Producción | F8: admin@brisa.test | G8: 93 220 45 17 | H8: 30 | I8: Transferencia | J8: Activo | R8: Servicios profesionales
A9: PRV-004 | B9: Atlas IT Continuidad SL | C9: Tecnología | D9: B41266531 | E9: Helpdesk | F9: billing@atlasit.test | G9: 91 631 98 44 | H9: 45 | I9: Transferencia | J9: Activo | R9: Suministros
A10: PRV-005 | B10: Verde Urbano Servicios SL | C10: Limpieza | D10: B51902813 | E10: Operaciones | F10: pagos@verdeurbano.test | G10: 96 143 20 16 | H10: 30 | I10: Domiciliación | J10: Activo | R10: Formación
A11: PRV-006 | B11: Delta Logística Regional SL | C11: Logística | D11: B62014785 | E11: Administración | F11: ap@deltalog.test | G11: 94 501 62 19 | H11: 30 | I11: Transferencia | J11: Activo | R11: Equipamiento
A12: PRV-007 | B12: Pórtico Consultoría Legal SL | C12: Servicios profesionales | D12: B73190547 | E12: Secretaría | F12: facturacion@porticolegal.test | G12: 91 278 41 36 | H12: 30 | I12: Transferencia | J12: Activo | R12: Producción eventos
A13: PRV-008 | B13: Senda Energía Comercializadora SA | C13: Suministros | D13: A84267014 | E13: Atención empresa | F13: empresas@sendaenergia.test | G13: 96 205 39 02 | H13: 15 | I13: Domiciliación | J13: Activo
A14: PRV-009 | B14: Nova Formación Aplicada SL | C14: Formación | D14: B95311866 | E14: Coordinación | F14: cobros@novaformacion.test | G14: 93 315 71 42 | H14: 30 | I14: Transferencia | J14: Activo
A15: PRV-010 | B15: Taller Prisma Mobiliario SL | C15: Equipamiento | D15: B06451297 | E15: Backoffice | F15: proveedores@prisma.test | G15: 95 401 28 55 | H15: 60 | I15: Confirming | J15: Activo
A16: PRV-011 | B16: Acuarela Eventos Técnicos SL | C16: Producción eventos | D16: B17569083 | E16: Project office | F16: facturas@acuarela.test | G16: 93 419 87 63 | H16: 30 | I16: Transferencia | J16: Activo
