Workbook

Sheet Plan semanal
A1: Turnos rotativos de lunes a domingo · Plan semanal
A3: Controles | H3: Indicadores rápidos
A4: Centro / operación | B4: Centro de control de movilidad urbana | D4: Edita solo las celdas azules. El patrón y el desfase determinan toda la semana. | F4: =IF(WEEKDAY(B5,2)=1,"Semana válida","La fecha debe ser lunes") -> Semana válida | H4: Horas planificadas | J4: Coste estimado | L4: Turnos nocturnos | N4: Huecos
A5: Lunes de la semana | B5: 46097 | H5: =SUM(O11:O20) -> 320 | J5: =SUM(P11:P20) -> 5440 | L5: =SUM(Q11:Q20) -> 15 | N5: =COUNTIF(H36:N39,"<0") -> 3
A6: Fecha ancla del ciclo | B6: 46083 | F6: La cobertura y el equipo se editan en la hoja Configuración.
A7: Horas objetivo / persona | B7: 40
A9: Asignación automática de la semana
A10: ID | B10: Nombre | C10: Área | D10: Patrón | E10: Desfase | F10: Contrato | G10: €/h | H10: =B5 -> 46097 | I10: =H10+1 -> 46098 | J10: =I10+1 -> 46099 | K10: =J10+1 -> 46100 | L10: =K10+1 -> 46101 | M10: =L10+1 -> 46102 | N10: =M10+1 -> 46103 | O10: Horas | P10: Coste | Q10: Noches | R10: Fin sem. | S10: Estado
A11: =IF(Configuración!$H29="Sí",Configuración!$A29,"") -> MOV-01 | B11: =IF($A11="","",Configuración!$B29) -> Alba Cifuentes | C11: =IF($A11="","",Configuración!$C29) -> Monitoreo | D11: =IF($A11="","",Configuración!$D29) -> ALFA | E11: =IF($A11="","",Configuración!$E29) -> 1 | F11: =IF($A11="","",Configuración!$F29) -> 40 | G11: =IF($A11="","",Configuración!$G29) -> 18 | H11: =IF($A11="","",INDEX(Configuración!$C$22:$AD$25,MATCH($D11,Configuración!$A$22:$A$25,0),1+MOD((H$10-$B$6)+$E11-1,28))) -> N | I11: =IF($A11="","",INDEX(Configuración!$C$22:$AD$25,MATCH($D11,Configuración!$A$22:$A$25,0),1+MOD((I$10-$B$6)+$E11-1,28))) -> N | J11: =IF($A11="","",INDEX(Configuración!$C$22:$AD$25,MATCH($D11,Configuración!$A$22:$A$25,0),1+MOD((J$10-$B$6)+$E11-1,28))) -> N | K11: =IF($A11="","",INDEX(Configuración!$C$22:$AD$25,MATCH($D11,Configuración!$A$22:$A$25,0),1+MOD((K$10-$B$6)+$E11-1,28))) -> N | L11: =IF($A11="","",INDEX(Configuración!$C$22:$AD$25,MATCH($D11,Configuración!$A$22:$A$25,0),1+MOD((L$10-$B$6)+$E11-1,28))) -> N | M11: =IF($A11="","",INDEX(Configuración!$C$22:$AD$25,MATCH($D11,Configuración!$A$22:$A$25,0),1+MOD((M$10-$B$6)+$E11-1,28))) -> L | N11: =IF($A11="","",INDEX(Configuración!$C$22:$AD$25,MATCH($D11,Configuración!$A$22:$A$25,0),1+MOD((N$10-$B$6)+$E11-1,28))) -> L | O11: =IF($A11="","",COUNTIF(H11:N11,"M")*8+COUNTIF(H11:N11,"T")*8+COUNTIF(H11:N11,"N")*8+COUNTIF(H11:N11,"A")*8+COUNTIF(H11:N11,"F")*6) -> 40 | P11: =IF($A11="","",O11*G11) -> 720 | Q11: =IF($A11="","",COUNTIF(H11:N11,"N")) -> 5 | R11: =IF($A11="","",COUNTIF(M11:N11,"M")+COUNTIF(M11:N11,"T")+COUNTIF(M11:N11,"N")+COUNTIF(M11:N11,"A")+COUNTIF(M11:N11,"F")) -> 0 | S11: =IF($A11="","",IF(O11>F11,"Horas extra",IF(COUNTIF(H11:N11,"L")+COUNTIF(H11:N11,"V")=0,"Revisar descanso","OK"))) -> OK
A12: =IF(Configuración!$H30="Sí",Configuración!$A30,"") -> MOV-02 | B12: =IF($A12="","",Configuración!$B30) -> Bruno Requena | C12: =IF($A12="","",Configuración!$C30) -> Incidencias | D12: =IF($A12="","",Configuración!$D30) -> BETA | E12: =IF($A12="","",Configuración!$E30) -> 3 | F12: =IF($A12="","",Configuración!$F30) -> 40 | G12: =IF($A12="","",Configuración!$G30) -> 17 | H12: =IF($A12="","",INDEX(Configuración!$C$22:$AD$25,MATCH($D12,Configuración!$A$22:$A$25,0),1+MOD((H$10-$B$6)+$E12-1,28))) -> A | I12: =IF($A12="","",INDEX(Configuración!$C$22:$AD$25,MATCH($D12,Configuración!$A$22:$A$25,0),1+MOD((I$10-$B$6)+$E12-1,28))) -> A | J12: =IF($A12="","",INDEX(Configuración!$C$22:$AD$25,MATCH($D12,Configuración!$A$22:$A$25,0),1+MOD((J$10-$B$6)+$E12-1,28))) -> A | K12: =IF($A12="","",INDEX(Configuración!$C$22:$AD$25,MATCH($D12,Configuración!$A$22:$A$25,0),1+MOD((K$10-$B$6)+$E12-1,28))) -> L | L12: =IF($A12="","",INDEX(Configuración!$C$22:$AD$25,MATCH($D12,Configuración!$A$22:$A$25,0),1+MOD((L$10-$B$6)+$E12-1,28))) -> L | M12: =IF($A12="","",INDEX(Configuración!$C$22:$AD$25,MATCH($D12,Configuración!$A$22:$A$25,0),1+MOD((M$10-$B$6)+$E12-1,28))) -> M | N12: =IF($A12="","",INDEX(Configuración!$C$22:$AD$25,MATCH($D12,Configuración!$A$22:$A$25,0),1+MOD((N$10-$B$6)+$E12-1,28))) -> M | O12: =IF($A12="","",COUNTIF(H12:N12,"M")*8+COUNTIF(H12:N12,"T")*8+COUNTIF(H12:N12,"N")*8+COUNTIF(H12:N12,"A")*8+COUNTIF(H12:N12,"F")*6) -> 40 | P12: =IF($A12="","",O12*G12) -> 680 | Q12: =IF($A12="","",COUNTIF(H12:N12,"N")) -> 0 | R12: =IF($A12="","",COUNTIF(M12:N12,"M")+COUNTIF(M12:N12,"T")+COUNTIF(M12:N12,"N")+COUNTIF(M12:N12,"A")+COUNTIF(M12:N12,"F")) -> 2 | S12: =IF($A12="","",IF(O12>F12,"Horas extra",IF(COUNTIF(H12:N12,"L")+COUNTIF(H12:N12,"V")=0,"Revisar descanso","OK"))) -> OK
A13: =IF(Configuración!$H31="Sí",Configuración!$A31,"") -> MOV-03 | B13: =IF($A13="","",Configuración!$B31) -> Carla Mena | C13: =IF($A13="","",Configuración!$C31) -> Rutas | D13: =IF($A13="","",Configuración!$D31) -> GAMMA | E13: =IF($A13="","",Configuración!$E31) -> 5 | F13: =IF($A13="","",Configuración!$F31) -> 40 | G13: =IF($A13="","",Configuración!$G31) -> 16 | H13: =IF($A13="","",INDEX(Configuración!$C$22:$AD$25,MATCH($D13,Configuración!$A$22:$A$25,0),1+MOD((H$10-$B$6)+$E13-1,28))) -> M | I13: =IF($A13="","",INDEX(Configuración!$C$22:$AD$25,MATCH($D13,Configuración!$A$22:$A$25,0),1+MOD((I$10-$B$6)+$E13-1,28))) -> L | J13: =IF($A13="","",INDEX(Configuración!$C$22:$AD$25,MATCH($D13,Configuración!$A$22:$A$25,0),1+MOD((J$10-$B$6)+$E13-1,28))) -> L | K13: =IF($A13="","",INDEX(Configuración!$C$22:$AD$25,MATCH($D13,Configuración!$A$22:$A$25,0),1+MOD((K$10-$B$6)+$E13-1,28))) -> T | L13: =IF($A13="","",INDEX(Configuración!$C$22:$AD$25,MATCH($D13,Configuración!$A$22:$A$25,0),1+MOD((L$10-$B$6)+$E13-1,28))) -> T | M13: =IF($A13="","",INDEX(Configuración!$C$22:$AD$25,MATCH($D13,Configuración!$A$22:$A$25,0),1+MOD((M$10-$B$6)+$E13-1,28))) -> T | N13: =IF($A13="","",INDEX(Configuración!$C$22:$AD$25,MATCH($D13,Configuración!$A$22:$A$25,0),1+MOD((N$10-$B$6)+$E13-1,28))) -> T | O13: =IF($A13="","",COUNTIF(H13:N13,"M")*8+COUNTIF(H13:N13,"T")*8+COUNTIF(H13:N13,"N")*8+COUNTIF(H13:N13,"A")*8+COUNTIF(H13:N13,"F")*6) -> 40 | P13: =IF($A13="","",O13*G13) -> 640 | Q13: =IF($A13="","",COUNTIF(H13:N13,"N")) -> 0 | R13: =IF($A13="","",COUNTIF(M13:N13,"M")+COUNTIF(M13:N13,"T")+COUNTIF(M13:N13,"N")+COUNTIF(M13:N13,"A")+COUNTIF(M13:N13,"F")) -> 2 | S13: =IF($A13="","",IF(O13>F13,"Horas extra",IF(COUNTIF(H13:N13,"L")+COUNTIF(H13:N13,"V")=0,"Revisar descanso","OK"))) -> OK
A14: =IF(Configuración!$H32="Sí",Configuración!$A32,"") -> MOV-04 | B14: =IF($A14="","",Configuración!$B32) -> Diego Salas | C14: =IF($A14="","",Configuración!$C32) -> Rutas | D14: =IF($A14="","",Configuración!$D32) -> DELTA | E14: =IF($A14="","",Configuración!$E32) -> 7 | F14: =IF($A14="","",Configuración!$F32) -> 40 | G14: =IF($A14="","",Configuración!$G32) -> 16 | H14: =IF($A14="","",INDEX(Configuración!$C$22:$AD$25,MATCH($D14,Configuración!$A$22:$A$25,0),1+MOD((H$10-$B$6)+$E14-1,28))) -> L | I14: =IF($A14="","",INDEX(Configuración!$C$22:$AD$25,MATCH($D14,Configuración!$A$22:$A$25,0),1+MOD((I$10-$B$6)+$E14-1,28))) -> N | J14: =IF($A14="","",INDEX(Configuración!$C$22:$AD$25,MATCH($D14,Configuración!$A$22:$A$25,0),1+MOD((J$10-$B$6)+$E14-1,28))) -> N | K14: =IF($A14="","",INDEX(Configuración!$C$22:$AD$25,MATCH($D14,Configuración!$A$22:$A$25,0),1+MOD((K$10-$B$6)+$E14-1,28))) -> N | L14: =IF($A14="","",INDEX(Configuración!$C$22:$AD$25,MATCH($D14,Configuración!$A$22:$A$25,0),1+MOD((L$10-$B$6)+$E14-1,28))) -> N | M14: =IF($A14="","",INDEX(Configuración!$C$22:$AD$25,MATCH($D14,Configuración!$A$22:$A$25,0),1+MOD((M$10-$B$6)+$E14-1,28))) -> N | N14: =IF($A14="","",INDEX(Configuración!$C$22:$AD$25,MATCH($D14,Configuración!$A$22:$A$25,0),1+MOD((N$10-$B$6)+$E14-1,28))) -> L | O14: =IF($A14="","",COUNTIF(H14:N14,"M")*8+COUNTIF(H14:N14,"T")*8+COUNTIF(H14:N14,"N")*8+COUNTIF(H14:N14,"A")*8+COUNTIF(H14:N14,"F")*6) -> 40 | P14: =IF($A14="","",O14*G14) -> 640 | Q14: =IF($A14="","",COUNTIF(H14:N14,"N")) -> 5 | R14: =IF($A14="","",COUNTIF(M14:N14,"M")+COUNTIF(M14:N14,"T")+COUNTIF(M14:N14,"N")+COUNTIF(M14:N14,"A")+COUNTIF(M14:N14,"F")) -> 1 | S14: =IF($A14="","",IF(O14>F14,"Horas extra",IF(COUNTIF(H14:N14,"L")+COUNTIF(H14:N14,"V")=0,"Revisar descanso","OK"))) -> OK
A15: =IF(Configuración!$H33="Sí",Configuración!$A33,"") -> MOV-05 | B15: =IF($A15="","",Configuración!$B33) -> Eva Pardo | C15: =IF($A15="","",Configuración!$C33) -> Monitoreo | D15: =IF($A15="","",Configuración!$D33) -> ALFA | E15: =IF($A15="","",Configuración!$E33) -> 9 | F15: =IF($A15="","",Configuración!$F33) -> 40 | G15: =IF($A15="","",Configuración!$G33) -> 18 | H15: =IF($A15="","",INDEX(Configuración!$C$22:$AD$25,MATCH($D15,Configuración!$A$22:$A$25,0),1+MOD((H$10-$B$6)+$E15-1,28))) -> A | I15: =IF($A15="","",INDEX(Configuración!$C$22:$AD$25,MATCH($D15,Configuración!$A$22:$A$25,0),1+MOD((I$10-$B$6)+$E15-1,28))) -> A | J15: =IF($A15="","",INDEX(Configuración!$C$22:$AD$25,MATCH($D15,Configuración!$A$22:$A$25,0),1+MOD((J$10-$B$6)+$E15-1,28))) -> A | K15: =IF($A15="","",INDEX(Configuración!$C$22:$AD$25,MATCH($D15,Configuración!$A$22:$A$25,0),1+MOD((K$10-$B$6)+$E15-1,28))) -> A | L15: =IF($A15="","",INDEX(Configuración!$C$22:$AD$25,MATCH($D15,Configuración!$A$22:$A$25,0),1+MOD((L$10-$B$6)+$E15-1,28))) -> L | M15: =IF($A15="","",INDEX(Configuración!$C$22:$AD$25,MATCH($D15,Configuración!$A$22:$A$25,0),1+MOD((M$10-$B$6)+$E15-1,28))) -> L | N15: =IF($A15="","",INDEX(Configuración!$C$22:$AD$25,MATCH($D15,Configuración!$A$22:$A$25,0),1+MOD((N$10-$B$6)+$E15-1,28))) -> M | O15: =IF($A15="","",COUNTIF(H15:N15,"M")*8+COUNTIF(H15:N15,"T")*8+COUNTIF(H15:N15,"N")*8+COUNTIF(H15:N15,"A")*8+COUNTIF(H15:N15,"F")*6) -> 40 | P15: =IF($A15="","",O15*G15) -> 720 | Q15: =IF($A15="","",COUNTIF(H15:N15,"N")) -> 0 | R15: =IF($A15="","",COUNTIF(M15:N15,"M")+COUNTIF(M15:N15,"T")+COUNTIF(M15:N15,"N")+COUNTIF(M15:N15,"A")+COUNTIF(M15:N15,"F")) -> 1 | S15: =IF($A15="","",IF(O15>F15,"Horas extra",IF(COUNTIF(H15:N15,"L")+COUNTIF(H15:N15,"V")=0,"Revisar descanso","OK"))) -> OK
A16: =IF(Configuración!$H34="Sí",Configuración!$A34,"") -> MOV-06 | B16: =IF($A16="","",Configuración!$B34) -> Fabio Llorente | C16: =IF($A16="","",Configuración!$C34) -> Incidencias | D16: =IF($A16="","",Configuración!$D34) -> BETA | E16: =IF($A16="","",Configuración!$E34) -> 11 | F16: =IF($A16="","",Configuración!$F34) -> 40 | G16: =IF($A16="","",Configuración!$G34) -> 17 | H16: =IF($A16="","",INDEX(Configuración!$C$22:$AD$25,MATCH($D16,Configuración!$A$22:$A$25,0),1+MOD((H$10-$B$6)+$E16-1,28))) -> M | I16: =IF($A16="","",INDEX(Configuración!$C$22:$AD$25,MATCH($D16,Configuración!$A$22:$A$25,0),1+MOD((I$10-$B$6)+$E16-1,28))) -> M | J16: =IF($A16="","",INDEX(Configuración!$C$22:$AD$25,MATCH($D16,Configuración!$A$22:$A$25,0),1+MOD((J$10-$B$6)+$E16-1,28))) -> L | K16: =IF($A16="","",INDEX(Configuración!$C$22:$AD$25,MATCH($D16,Configuración!$A$22:$A$25,0),1+MOD((K$10-$B$6)+$E16-1,28))) -> L | L16: =IF($A16="","",INDEX(Configuración!$C$22:$AD$25,MATCH($D16,Configuración!$A$22:$A$25,0),1+MOD((L$10-$B$6)+$E16-1,28))) -> T | M16: =IF($A16="","",INDEX(Configuración!$C$22:$AD$25,MATCH($D16,Configuración!$A$22:$A$25,0),1+MOD((M$10-$B$6)+$E16-1,28))) -> T | N16: =IF($A16="","",INDEX(Configuración!$C$22:$AD$25,MATCH($D16,Configuración!$A$22:$A$25,0),1+MOD((N$10-$B$6)+$E16-1,28))) -> T | O16: =IF($A16="","",COUNTIF(H16:N16,"M")*8+COUNTIF(H16:N16,"T")*8+COUNTIF(H16:N16,"N")*8+COUNTIF(H16:N16,"A")*8+COUNTIF(H16:N16,"F")*6) -> 40 | P16: =IF($A16="","",O16*G16) -> 680 | Q16: =IF($A16="","",COUNTIF(H16:N16,"N")) -> 0 | R16: =IF($A16="","",COUNTIF(M16:N16,"M")+COUNTIF(M16:N16,"T")+COUNTIF(M16:N16,"N")+COUNTIF(M16:N16,"A")+COUNTIF(M16:N16,"F")) -> 2 | S16: =IF($A16="","",IF(O16>F16,"Horas extra",IF(COUNTIF(H16:N16,"L")+COUNTIF(H16:N16,"V")=0,"Revisar descanso","OK"))) -> OK
A17: =IF(Configuración!$H35="Sí",Configuración!$A35,"") -> MOV-07 | B17: =IF($A17="","",Configuración!$B35) -> Gina Varela | C17: =IF($A17="","",Configuración!$C35) -> Monitoreo | D17: =IF($A17="","",Configuración!$D35) -> GAMMA | E17: =IF($A17="","",Configuración!$E35) -> 13 | F17: =IF($A17="","",Configuración!$F35) -> 40 | G17: =IF($A17="","",Configuración!$G35) -> 18 | H17: =IF($A17="","",INDEX(Configuración!$C$22:$AD$25,MATCH($D17,Configuración!$A$22:$A$25,0),1+MOD((H$10-$B$6)+$E17-1,28))) -> L | I17: =IF($A17="","",INDEX(Configuración!$C$22:$AD$25,MATCH($D17,Configuración!$A$22:$A$25,0),1+MOD((I$10-$B$6)+$E17-1,28))) -> L | J17: =IF($A17="","",INDEX(Configuración!$C$22:$AD$25,MATCH($D17,Configuración!$A$22:$A$25,0),1+MOD((J$10-$B$6)+$E17-1,28))) -> N | K17: =IF($A17="","",INDEX(Configuración!$C$22:$AD$25,MATCH($D17,Configuración!$A$22:$A$25,0),1+MOD((K$10-$B$6)+$E17-1,28))) -> N | L17: =IF($A17="","",INDEX(Configuración!$C$22:$AD$25,MATCH($D17,Configuración!$A$22:$A$25,0),1+MOD((L$10-$B$6)+$E17-1,28))) -> N | M17: =IF($A17="","",INDEX(Configuración!$C$22:$AD$25,MATCH($D17,Configuración!$A$22:$A$25,0),1+MOD((M$10-$B$6)+$E17-1,28))) -> N | N17: =IF($A17="","",INDEX(Configuración!$C$22:$AD$25,MATCH($D17,Configuración!$A$22:$A$25,0),1+MOD((N$10-$B$6)+$E17-1,28))) -> N | O17: =IF($A17="","",COUNTIF(H17:N17,"M")*8+COUNTIF(H17:N17,"T")*8+COUNTIF(H17:N17,"N")*8+COUNTIF(H17:N17,"A")*8+COUNTIF(H17:N17,"F")*6) -> 40 | P17: =IF($A17="","",O17*G17) -> 720 | Q17: =IF($A17="","",COUNTIF(H17:N17,"N")) -> 5 | R17: =IF($A17="","",COUNTIF(M17:N17,"M")+COUNTIF(M17:N17,"T")+COUNTIF(M17:N17,"N")+COUNTIF(M17:N17,"A")+COUNTIF(M17:N17,"F")) -> 2 | S17: =IF($A17="","",IF(O17>F17,"Horas extra",IF(COUNTIF(H17:N17,"L")+COUNTIF(H17:N17,"V")=0,"Revisar descanso","OK"))) -> OK
A18: =IF(Configuración!$H36="Sí",Configuración!$A36,"") -> MOV-08 | B18: =IF($A18="","",Configuración!$B36) -> Hugo Serra | C18: =IF($A18="","",Configuración!$C36) -> Rutas | D18: =IF($A18="","",Configuración!$D36) -> DELTA | E18: =IF($A18="","",Configuración!$E36) -> 15 | F18: =IF($A18="","",Configuración!$F36) -> 40 | G18: =IF($A18="","",Configuración!$G36) -> 16 | H18: =IF($A18="","",INDEX(Configuración!$C$22:$AD$25,MATCH($D18,Configuración!$A$22:$A$25,0),1+MOD((H$10-$B$6)+$E18-1,28))) -> A | I18: =IF($A18="","",INDEX(Configuración!$C$22:$AD$25,MATCH($D18,Configuración!$A$22:$A$25,0),1+MOD((I$10-$B$6)+$E18-1,28))) -> A | J18: =IF($A18="","",INDEX(Configuración!$C$22:$AD$25,MATCH($D18,Configuración!$A$22:$A$25,0),1+MOD((J$10-$B$6)+$E18-1,28))) -> A | K18: =IF($A18="","",INDEX(Configuración!$C$22:$AD$25,MATCH($D18,Configuración!$A$22:$A$25,0),1+MOD((K$10-$B$6)+$E18-1,28))) -> A | L18: =IF($A18="","",INDEX(Configuración!$C$22:$AD$25,MATCH($D18,Configuración!$A$22:$A$25,0),1+MOD((L$10-$B$6)+$E18-1,28))) -> A | M18: =IF($A18="","",INDEX(Configuración!$C$22:$AD$25,MATCH($D18,Configuración!$A$22:$A$25,0),1+MOD((M$10-$B$6)+$E18-1,28))) -> L | N18: =IF($A18="","",INDEX(Configuración!$C$22:$AD$25,MATCH($D18,Configuración!$A$22:$A$25,0),1+MOD((N$10-$B$6)+$E18-1,28))) -> L | O18: =IF($A18="","",COUNTIF(H18:N18,"M")*8+COUNTIF(H18:N18,"T")*8+COUNTIF(H18:N18,"N")*8+COUNTIF(H18:N18,"A")*8+COUNTIF(H18:N18,"F")*6) -> 40 | P18: =IF($A18="","",O18*G18) -> 640 | Q18: =IF($A18="","",COUNTIF(H18:N18,"N")) -> 0 | R18: =IF($A18="","",COUNTIF(M18:N18,"M")+COUNTIF(M18:N18,"T")+COUNTIF(M18:N18,"N")+COUNTIF(M18:N18,"A")+COUNTIF(M18:N18,"F")) -> 0 | S18: =IF($A18="","",IF(O18>F18,"Horas extra",IF(COUNTIF(H18:N18,"L")+COUNTIF(H18:N18,"V")=0,"Revisar descanso","OK"))) -> OK
A19: =IF(Configuración!$H37="Sí",Configuración!$A37,"") | B19: =IF($A19="","",Configuración!$B37) | C19: =IF($A19="","",Configuración!$C37) | D19: =IF($A19="","",Configuración!$D37) | E19: =IF($A19="","",Configuración!$E37) | F19: =IF($A19="","",Configuración!$F37) | G19: =IF($A19="","",Configuración!$G37) | H19: =IF($A19="","",INDEX(Configuración!$C$22:$AD$25,MATCH($D19,Configuración!$A$22:$A$25,0),1+MOD((H$10-$B$6)+$E19-1,28))) | I19: =IF($A19="","",INDEX(Configuración!$C$22:$AD$25,MATCH($D19,Configuración!$A$22:$A$25,0),1+MOD((I$10-$B$6)+$E19-1,28))) | J19: =IF($A19="","",INDEX(Configuración!$C$22:$AD$25,MATCH($D19,Configuración!$A$22:$A$25,0),1+MOD((J$10-$B$6)+$E19-1,28))) | K19: =IF($A19="","",INDEX(Configuración!$C$22:$AD$25,MATCH($D19,Configuración!$A$22:$A$25,0),1+MOD((K$10-$B$6)+$E19-1,28))) | L19: =IF($A19="","",INDEX(Configuración!$C$22:$AD$25,MATCH($D19,Configuración!$A$22:$A$25,0),1+MOD((L$10-$B$6)+$E19-1,28))) | M19: =IF($A19="","",INDEX(Configuración!$C$22:$AD$25,MATCH($D19,Configuración!$A$22:$A$25,0),1+MOD((M$10-$B$6)+$E19-1,28))) | N19: =IF($A19="","",INDEX(Configuración!$C$22:$AD$25,MATCH($D19,Configuración!$A$22:$A$25,0),1+MOD((N$10-$B$6)+$E19-1,28))) | O19: =IF($A19="","",COUNTIF(H19:N19,"M")*8+COUNTIF(H19:N19,"T")*8+COUNTIF(H19:N19,"N")*8+COUNTIF(H19:N19,"A")*8+COUNTIF(H19:N19,"F")*6) | P19: =IF($A19="","",O19*G19) | Q19: =IF($A19="","",COUNTIF(H19:N19,"N")) | R19: =IF($A19="","",COUNTIF(M19:N19,"M")+COUNTIF(M19:N19,"T")+COUNTIF(M19:N19,"N")+COUNTIF(M19:N19,"A")+COUNTIF(M19:N19,"F")) | S19: =IF($A19="","",IF(O19>F19,"Horas extra",IF(COUNTIF(H19:N19,"L")+COUNTIF(H19:N19,"V")=0,"Revisar descanso","OK")))
A20: =IF(Configuración!$H38="Sí",Configuración!$A38,"") | B20: =IF($A20="","",Configuración!$B38) | C20: =IF($A20="","",Configuración!$C38) | D20: =IF($A20="","",Configuración!$D38) | E20: =IF($A20="","",Configuración!$E38) | F20: =IF($A20="","",Configuración!$F38) | G20: =IF($A20="","",Configuración!$G38) | H20: =IF($A20="","",INDEX(Configuración!$C$22:$AD$25,MATCH($D20,Configuración!$A$22:$A$25,0),1+MOD((H$10-$B$6)+$E20-1,28))) | I20: =IF($A20="","",INDEX(Configuración!$C$22:$AD$25,MATCH($D20,Configuración!$A$22:$A$25,0),1+MOD((I$10-$B$6)+$E20-1,28))) | J20: =IF($A20="","",INDEX(Configuración!$C$22:$AD$25,MATCH($D20,Configuración!$A$22:$A$25,0),1+MOD((J$10-$B$6)+$E20-1,28))) | K20: =IF($A20="","",INDEX(Configuración!$C$22:$AD$25,MATCH($D20,Configuración!$A$22:$A$25,0),1+MOD((K$10-$B$6)+$E20-1,28))) | L20: =IF($A20="","",INDEX(Configuración!$C$22:$AD$25,MATCH($D20,Configuración!$A$22:$A$25,0),1+MOD((L$10-$B$6)+$E20-1,28))) | M20: =IF($A20="","",INDEX(Configuración!$C$22:$AD$25,MATCH($D20,Configuración!$A$22:$A$25,0),1+MOD((M$10-$B$6)+$E20-1,28))) | N20: =IF($A20="","",INDEX(Configuración!$C$22:$AD$25,MATCH($D20,Configuración!$A$22:$A$25,0),1+MOD((N$10-$B$6)+$E20-1,28))) | O20: =IF($A20="","",COUNTIF(H20:N20,"M")*8+COUNTIF(H20:N20,"T")*8+COUNTIF(H20:N20,"N")*8+COUNTIF(H20:N20,"A")*8+COUNTIF(H20:N20,"F")*6) | P20: =IF($A20="","",O20*G20) | Q20: =IF($A20="","",COUNTIF(H20:N20,"N")) | R20: =IF($A20="","",COUNTIF(M20:N20,"M")+COUNTIF(M20:N20,"T")+COUNTIF(M20:N20,"N")+COUNTIF(M20:N20,"A")+COUNTIF(M20:N20,"F")) | S20: =IF($A20="","",IF(O20>F20,"Horas extra",IF(COUNTIF(H20:N20,"L")+COUNTIF(H20:N20,"V")=0,"Revisar descanso","OK")))
A21: Totales | O21: =SUM(O11:O20) -> 320 | P21: =SUM(P11:P20) -> 5440 | Q21: =SUM(Q11:Q20) -> 15 | R21: =SUM(R11:R20) -> 10
A23: Cobertura de la semana
A24: Código | B24: Lectura | H24: =H10 -> 46097 | I24: =I10 -> 46098 | J24: =J10 -> 46099 | K24: =K10 -> 46100 | L24: =L10 -> 46101 | M24: =M10 -> 46102 | N24: =N10 -> 46103
A25: M | B25: Asignado | H25: =COUNTIF(H11:H20,$A25) -> 2 | I25: =COUNTIF(I11:I20,$A25) -> 1 | J25: =COUNTIF(J11:J20,$A25) -> 0 | K25: =COUNTIF(K11:K20,$A25) -> 0 | L25: =COUNTIF(L11:L20,$A25) -> 0 | M25: =COUNTIF(M11:M20,$A25) -> 1 | N25: =COUNTIF(N11:N20,$A25) -> 2
A26: T | B26: Asignado | H26: =COUNTIF(H11:H20,$A26) -> 0 | I26: =COUNTIF(I11:I20,$A26) -> 0 | J26: =COUNTIF(J11:J20,$A26) -> 0 | K26: =COUNTIF(K11:K20,$A26) -> 1 | L26: =COUNTIF(L11:L20,$A26) -> 2 | M26: =COUNTIF(M11:M20,$A26) -> 2 | N26: =COUNTIF(N11:N20,$A26) -> 2
A27: N | B27: Asignado | H27: =COUNTIF(H11:H20,$A27) -> 1 | I27: =COUNTIF(I11:I20,$A27) -> 2 | J27: =COUNTIF(J11:J20,$A27) -> 3 | K27: =COUNTIF(K11:K20,$A27) -> 3 | L27: =COUNTIF(L11:L20,$A27) -> 3 | M27: =COUNTIF(M11:M20,$A27) -> 2 | N27: =COUNTIF(N11:N20,$A27) -> 1
A28: A | B28: Asignado | H28: =COUNTIF(H11:H20,$A28) -> 3 | I28: =COUNTIF(I11:I20,$A28) -> 3 | J28: =COUNTIF(J11:J20,$A28) -> 3 | K28: =COUNTIF(K11:K20,$A28) -> 2 | L28: =COUNTIF(L11:L20,$A28) -> 1 | M28: =COUNTIF(M11:M20,$A28) -> 0 | N28: =COUNTIF(N11:N20,$A28) -> 0
A29: M | B29: Mínimo | H29: =Configuración!B15 -> 2 | I29: =Configuración!C15 -> 2 | J29: =Configuración!D15 -> 2 | K29: =Configuración!E15 -> 2 | L29: =Configuración!F15 -> 2 | M29: =Configuración!G15 -> 1 | N29: =Configuración!H15 -> 1
A30: T | B30: Mínimo | H30: =Configuración!B16 -> 2 | I30: =Configuración!C16 -> 2 | J30: =Configuración!D16 -> 1 | K30: =Configuración!E16 -> 1 | L30: =Configuración!F16 -> 1 | M30: =Configuración!G16 -> 0 | N30: =Configuración!H16 -> 0
A31: N | B31: Mínimo | H31: =Configuración!B17 -> 1 | I31: =Configuración!C17 -> 1 | J31: =Configuración!D17 -> 0 | K31: =Configuración!E17 -> 0 | L31: =Configuración!F17 -> 0 | M31: =Configuración!G17 -> 1 | N31: =Configuración!H17 -> 1
A32: A | B32: Mínimo | H32: =Configuración!B18 -> 0 | I32: =Configuración!C18 -> 0 | J32: =Configuración!D18 -> 1 | K32: =Configuración!E18 -> 1 | L32: =Configuración!F18 -> 2 | M32: =Configuración!G18 -> 2 | N32: =Configuración!H18 -> 2
A33: M | B33: Diferencia | H33: =H25-H29 -> 0 | I33: =I25-I29 -> -1 | J33: =J25-J29 -> -2 | K33: =K25-K29 -> -2 | L33: =L25-L29 -> -2 | M33: =M25-M29 -> 0 | N33: =N25-N29 -> 1
A34: T | B34: Diferencia | H34: =H26-H30 -> -2 | I34: =I26-I30 -> -2 | J34: =J26-J30 -> -1 | K34: =K26-K30 -> 0 | L34: =L26-L30 -> 1 | M34: =M26-M30 -> 2 | N34: =N26-N30 -> 2
A35: N | B35: Diferencia | H35: =H27-H31 -> 0 | I35: =I27-I31 -> 1 | J35: =J27-J31 -> 3 | K35: =K27-K31 -> 3 | L35: =L27-L31 -> 3 | M35: =M27-M31 -> 1 | N35: =N27-N31 -> 0
A36: A | B36: Diferencia | H36: =H28-H32 -> 3 | I36: =I28-I32 -> 3 | J36: =J28-J32 -> 2 | K36: =K28-K32 -> 1 | L36: =L28-L32 -> -1 | M36: =M28-M32 -> -2 | N36: =N28-N32 -> -2
A39: Leyenda | H39: Notas útiles
A40: M | B40: Mañana · 06:00-14:00 | H40: La semana se genera automáticamente a partir del patrón y del desfase.
A41: T | B41: Tarde · 14:00-22:00 | H41: Cambia el lunes en B5 y la rotación continuará sin romperse.
A42: N | B42: Noche · 22:00-06:00 | H42: La cobertura compara lo asignado contra el mínimo definido en Configuración.
A43: A | B43: Apoyo · 10:00-18:00 | H43: El estado avisa si faltan descansos o si se superan las horas contratadas.
A44: L | B44: Libre
A45: V | B45: Vacaciones

Sheet Configuración
A1: Configuración del plan rotativo
A3: Catálogo de turnos
A4: Código | B4: Turno | C4: Entrada | D4: Salida | E4: Horas netas | F4: Cuenta noche | G4: Color visual
A5: M | B5: Mañana | C5: 0.25 | D5: 0.58333333 | E5: 8 | F5: 0 | G5: Azul
A6: T | B6: Tarde | C6: 0.58333333 | D6: 0.91666667 | E6: 8 | F6: 0 | G6: Naranja
A7: N | B7: Noche | C7: 0.91666667 | D7: 0.25 | E7: 8 | F7: 1 | G7: Morado
A8: A | B8: Apoyo | C8: 0.41666667 | D8: 0.75 | E8: 8 | F8: 0 | G8: Verde
A9: L | B9: Libre | E9: 0 | F9: 0 | G9: Gris
A10: V | B10: Vacaciones | E10: 0 | F10: 0 | G10: Amarillo
A11: F | B11: Formación | C11: 0.375 | D11: 0.625 | E11: 6 | F11: 0 | G11: Amarillo
A13: Cobertura mínima de ejemplo (editable)
A14: Código | B14: Lun | C14: Mar | D14: Mié | E14: Jue | F14: Vie | G14: Sáb | H14: Dom
A15: M | B15: 2 | C15: 2 | D15: 2 | E15: 2 | F15: 2 | G15: 1 | H15: 1
A16: T | B16: 2 | C16: 2 | D16: 1 | E16: 1 | F16: 1 | G16: 0 | H16: 0
A17: N | B17: 1 | C17: 1 | D17: 0 | E17: 0 | F17: 0 | G17: 1 | H17: 1
A18: A | B18: 0 | C18: 0 | D18: 1 | E18: 1 | F18: 2 | G18: 2 | H18: 2
A20: Patrones de rotación (28 días)
A21: Patrón | B21: Descripción | C21: D1 | D21: D2 | E21: D3 | F21: D4 | G21: D5 | H21: D6 | I21: D7 | J21: D8 | K21: D9 | L21: D10 | M21: D11 | N21: D12 | O21: D13 | P21: D14 | Q21: D15 | R21: D16 | S21: D17 | T21: D18 | U21: D19 | V21: D20 | W21: D21 | X21: D22 | Y21: D23 | Z21: D24 | AA21: D25 | AB21: D26 | AC21: D27 | AD21: D28
A22: ALFA | B22: 5 mañanas, 2 libres; luego tarde, noche y apoyo. | C22: M | D22: M | E22: M | F22: M | G22: M | H22: L | I22: L | J22: T | K22: T | L22: T | M22: T | N22: T | O22: L | P22: L | Q22: N | R22: N | S22: N | T22: N | U22: N | V22: L | W22: L | X22: A | Y22: A | Z22: A | AA22: A | AB22: A | AC22: L | AD22: L
A23: BETA | B23: Mismo ciclo, empezando en tarde. | C23: T | D23: T | E23: T | F23: T | G23: T | H23: L | I23: L | J23: N | K23: N | L23: N | M23: N | N23: N | O23: L | P23: L | Q23: A | R23: A | S23: A | T23: A | U23: A | V23: L | W23: L | X23: M | Y23: M | Z23: M | AA23: M | AB23: M | AC23: L | AD23: L
A24: GAMMA | B24: Mismo ciclo, empezando en noche. | C24: N | D24: N | E24: N | F24: N | G24: N | H24: L | I24: L | J24: A | K24: A | L24: A | M24: A | N24: A | O24: L | P24: L | Q24: M | R24: M | S24: M | T24: M | U24: M | V24: L | W24: L | X24: T | Y24: T | Z24: T | AA24: T | AB24: T | AC24: L | AD24: L
A25: DELTA | B25: Mismo ciclo, empezando en apoyo. | C25: A | D25: A | E25: A | F25: A | G25: A | H25: L | I25: L | J25: M | K25: M | L25: M | M25: M | N25: M | O25: L | P25: L | Q25: T | R25: T | S25: T | T25: T | U25: T | V25: L | W25: L | X25: N | Y25: N | Z25: N | AA25: N | AB25: N | AC25: L | AD25: L
A27: Equipo de ejemplo (editable)
A28: ID | B28: Nombre | C28: Área | D28: Patrón | E28: Desfase ciclo | F28: Horas contrato | G28: Tarifa €/h | H28: Activo | I28: Observaciones
A29: MOV-01 | B29: Alba Cifuentes | C29: Monitoreo | D29: ALFA | E29: 1 | F29: 40 | G29: 18 | H29: Sí
A30: MOV-02 | B30: Bruno Requena | C30: Incidencias | D30: BETA | E30: 3 | F30: 40 | G30: 17 | H30: Sí
A31: MOV-03 | B31: Carla Mena | C31: Rutas | D31: GAMMA | E31: 5 | F31: 40 | G31: 16 | H31: Sí
A32: MOV-04 | B32: Diego Salas | C32: Rutas | D32: DELTA | E32: 7 | F32: 40 | G32: 16 | H32: Sí
A33: MOV-05 | B33: Eva Pardo | C33: Monitoreo | D33: ALFA | E33: 9 | F33: 40 | G33: 18 | H33: Sí
A34: MOV-06 | B34: Fabio Llorente | C34: Incidencias | D34: BETA | E34: 11 | F34: 40 | G34: 17 | H34: Sí
A35: MOV-07 | B35: Gina Varela | C35: Monitoreo | D35: GAMMA | E35: 13 | F35: 40 | G35: 18 | H35: Sí
A36: MOV-08 | B36: Hugo Serra | C36: Rutas | D36: DELTA | E36: 15 | F36: 40 | G36: 16 | H36: Sí
A37: MOV-09 | D37: ALFA | E37: 17 | F37: 40 | G37: 16 | H37: No
A38: MOV-10 | D38: BETA | E38: 19 | F38: 40 | G38: 16 | H38: No
A40: Consejo | B40: Ajusta aquí el equipo, la cobertura y los desfases. La hoja principal se recalcula sola.

Sheet Vista 4 semanas
A1: Vista de 4 semanas · continuidad del ciclo
A3: Controles heredados
A4: Centro | B4: ='Plan semanal'!B4 -> Centro de control de movilidad urbana
A5: Semana inicial | B5: ='Plan semanal'!B5 -> 46097
A6: Fecha ancla | B6: ='Plan semanal'!B6 -> 46083
A8: Rotación extendida
A9: ID | B9: Nombre | C9: Área | D9: Patrón | E9: Desfase | F9: Contrato | G9: €/h | H9: ='Plan semanal'!B5 -> 46097 | I9: =H9+1 -> 46098 | J9: =I9+1 -> 46099 | K9: =J9+1 -> 46100 | L9: =K9+1 -> 46101 | M9: =L9+1 -> 46102 | N9: =M9+1 -> 46103 | O9: =N9+1 -> 46104 | P9: =O9+1 -> 46105 | ... AI9: =AH9+1 -> 46124 | AJ9: Horas 4 sem. | AK9: M | AL9: T | AM9: N | AN9: A | AO9: Libres
A10: =IF('Plan semanal'!$A11="","",'Plan semanal'!A11) -> MOV-01 | B10: =IF('Plan semanal'!$A11="","",'Plan semanal'!B11) -> Alba Cifuentes | C10: =IF('Plan semanal'!$A11="","",'Plan semanal'!C11) -> Monitoreo | D10: =IF('Plan semanal'!$A11="","",'Plan semanal'!D11) -> ALFA | E10: =IF('Plan semanal'!$A11="","",'Plan semanal'!E11) -> 1 | F10: =IF('Plan semanal'!$A11="","",'Plan semanal'!F11) -> 40 | G10: =IF('Plan semanal'!$A11="","",'Plan semanal'!G11) -> 18 | H10: =IF($A10="","",INDEX(Configuración!$C$22:$AD$25,MATCH($D10,Configuración!$A$22:$A$25,0),1+MOD((H$9-'Plan semanal'!$B$6)+$E10-1,28))) -> N | I10: =IF($A10="","",INDEX(Configuración!$C$22:$AD$25,MATCH($D10,Configuración!$A$22:$A$25,0),1+MOD((I$9-'Plan semanal'!$B$6)+$E10-1,28))) -> N | J10: =IF($A10="","",INDEX(Configuración!$C$22:$AD$25,MATCH($D10,Configuración!$A$22:$A$25,0),1+MOD((J$9-'Plan semanal'!$B$6)+$E10-1,28))) -> N | K10: =IF($A10="","",INDEX(Configuración!$C$22:$AD$25,MATCH($D10,Configuración!$A$22:$A$25,0),1+MOD((K$9-'Plan semanal'!$B$6)+$E10-1,28))) -> N | L10: =IF($A10="","",INDEX(Configuración!$C$22:$AD$25,MATCH($D10,Configuración!$A$22:$A$25,0),1+MOD((L$9-'Plan semanal'!$B$6)+$E10-1,28))) -> N | M10: =IF($A10="","",INDEX(Configuración!$C$22:$AD$25,MATCH($D10,Configuración!$A$22:$A$25,0),1+MOD((M$9-'Plan semanal'!$B$6)+$E10-1,28))) -> L | N10: =IF($A10="","",INDEX(Configuración!$C$22:$AD$25,MATCH($D10,Configuración!$A$22:$A$25,0),1+MOD((N$9-'Plan semanal'!$B$6)+$E10-1,28))) -> L | O10: =IF($A10="","",INDEX(Configuración!$C$22:$AD$25,MATCH($D10,Configuración!$A$22:$A$25,0),1+MOD((O$9-'Plan semanal'!$B$6)+$E10-1,28))) -> A | ... AI10: =IF($A10="","",INDEX(Configuración!$C$22:$AD$25,MATCH($D10,Configuración!$A$22:$A$25,0),1+MOD((AI$9-'Plan semanal'!$B$6)+$E10-1,28))) -> L | AJ10: =IF($A10="","",(COUNTIF(H10:AI10,"M")+COUNTIF(H10:AI10,"T")+COUNTIF(H10:AI10,"N")+COUNTIF(H10:AI10,"A"))*8) -> 160 | AK10: =IF($A10="","",COUNTIF(H10:AI10,"M")) -> 5 | AL10: =IF($A10="","",COUNTIF(H10:AI10,"T")) -> 5 | AM10: =IF($A10="","",COUNTIF(H10:AI10,"N")) -> 5 | AN10: =IF($A10="","",COUNTIF(H10:AI10,"A")) -> 5 | AO10: =IF($A10="","",COUNTIF(H10:AI10,"L")) -> 8
A11: =IF('Plan semanal'!$A12="","",'Plan semanal'!A12) -> MOV-02 | B11: =IF('Plan semanal'!$A12="","",'Plan semanal'!B12) -> Bruno Requena | C11: =IF('Plan semanal'!$A12="","",'Plan semanal'!C12) -> Incidencias | D11: =IF('Plan semanal'!$A12="","",'Plan semanal'!D12) -> BETA | E11: =IF('Plan semanal'!$A12="","",'Plan semanal'!E12) -> 3 | F11: =IF('Plan semanal'!$A12="","",'Plan semanal'!F12) -> 40 | G11: =IF('Plan semanal'!$A12="","",'Plan semanal'!G12) -> 17 | H11: =IF($A11="","",INDEX(Configuración!$C$22:$AD$25,MATCH($D11,Configuración!$A$22:$A$25,0),1+MOD((H$9-'Plan semanal'!$B$6)+$E11-1,28))) -> A | I11: =IF($A11="","",INDEX(Configuración!$C$22:$AD$25,MATCH($D11,Configuración!$A$22:$A$25,0),1+MOD((I$9-'Plan semanal'!$B$6)+$E11-1,28))) -> A | J11: =IF($A11="","",INDEX(Configuración!$C$22:$AD$25,MATCH($D11,Configuración!$A$22:$A$25,0),1+MOD((J$9-'Plan semanal'!$B$6)+$E11-1,28))) -> A | K11: =IF($A11="","",INDEX(Configuración!$C$22:$AD$25,MATCH($D11,Configuración!$A$22:$A$25,0),1+MOD((K$9-'Plan semanal'!$B$6)+$E11-1,28))) -> L | L11: =IF($A11="","",INDEX(Configuración!$C$22:$AD$25,MATCH($D11,Configuración!$A$22:$A$25,0),1+MOD((L$9-'Plan semanal'!$B$6)+$E11-1,28))) -> L | M11: =IF($A11="","",INDEX(Configuración!$C$22:$AD$25,MATCH($D11,Configuración!$A$22:$A$25,0),1+MOD((M$9-'Plan semanal'!$B$6)+$E11-1,28))) -> M | N11: =IF($A11="","",INDEX(Configuración!$C$22:$AD$25,MATCH($D11,Configuración!$A$22:$A$25,0),1+MOD((N$9-'Plan semanal'!$B$6)+$E11-1,28))) -> M | O11: =IF($A11="","",INDEX(Configuración!$C$22:$AD$25,MATCH($D11,Configuración!$A$22:$A$25,0),1+MOD((O$9-'Plan semanal'!$B$6)+$E11-1,28))) -> M | ... AI11: =IF($A11="","",INDEX(Configuración!$C$22:$AD$25,MATCH($D11,Configuración!$A$22:$A$25,0),1+MOD((AI$9-'Plan semanal'!$B$6)+$E11-1,28))) -> A | AJ11: =IF($A11="","",(COUNTIF(H11:AI11,"M")+COUNTIF(H11:AI11,"T")+COUNTIF(H11:AI11,"N")+COUNTIF(H11:AI11,"A"))*8) -> 160 | AK11: =IF($A11="","",COUNTIF(H11:AI11,"M")) -> 5 | AL11: =IF($A11="","",COUNTIF(H11:AI11,"T")) -> 5 | AM11: =IF($A11="","",COUNTIF(H11:AI11,"N")) -> 5 | AN11: =IF($A11="","",COUNTIF(H11:AI11,"A")) -> 5 | AO11: =IF($A11="","",COUNTIF(H11:AI11,"L")) -> 8
A12: =IF('Plan semanal'!$A13="","",'Plan semanal'!A13) -> MOV-03 | B12: =IF('Plan semanal'!$A13="","",'Plan semanal'!B13) -> Carla Mena | C12: =IF('Plan semanal'!$A13="","",'Plan semanal'!C13) -> Rutas | D12: =IF('Plan semanal'!$A13="","",'Plan semanal'!D13) -> GAMMA | E12: =IF('Plan semanal'!$A13="","",'Plan semanal'!E13) -> 5 | F12: =IF('Plan semanal'!$A13="","",'Plan semanal'!F13) -> 40 | G12: =IF('Plan semanal'!$A13="","",'Plan semanal'!G13) -> 16 | H12: =IF($A12="","",INDEX(Configuración!$C$22:$AD$25,MATCH($D12,Configuración!$A$22:$A$25,0),1+MOD((H$9-'Plan semanal'!$B$6)+$E12-1,28))) -> M | I12: =IF($A12="","",INDEX(Configuración!$C$22:$AD$25,MATCH($D12,Configuración!$A$22:$A$25,0),1+MOD((I$9-'Plan semanal'!$B$6)+$E12-1,28))) -> L | J12: =IF($A12="","",INDEX(Configuración!$C$22:$AD$25,MATCH($D12,Configuración!$A$22:$A$25,0),1+MOD((J$9-'Plan semanal'!$B$6)+$E12-1,28))) -> L | K12: =IF($A12="","",INDEX(Configuración!$C$22:$AD$25,MATCH($D12,Configuración!$A$22:$A$25,0),1+MOD((K$9-'Plan semanal'!$B$6)+$E12-1,28))) -> T | L12: =IF($A12="","",INDEX(Configuración!$C$22:$AD$25,MATCH($D12,Configuración!$A$22:$A$25,0),1+MOD((L$9-'Plan semanal'!$B$6)+$E12-1,28))) -> T | M12: =IF($A12="","",INDEX(Configuración!$C$22:$AD$25,MATCH($D12,Configuración!$A$22:$A$25,0),1+MOD((M$9-'Plan semanal'!$B$6)+$E12-1,28))) -> T | N12: =IF($A12="","",INDEX(Configuración!$C$22:$AD$25,MATCH($D12,Configuración!$A$22:$A$25,0),1+MOD((N$9-'Plan semanal'!$B$6)+$E12-1,28))) -> T | O12: =IF($A12="","",INDEX(Configuración!$C$22:$AD$25,MATCH($D12,Configuración!$A$22:$A$25,0),1+MOD((O$9-'Plan semanal'!$B$6)+$E12-1,28))) -> T | ... AI12: =IF($A12="","",INDEX(Configuración!$C$22:$AD$25,MATCH($D12,Configuración!$A$22:$A$25,0),1+MOD((AI$9-'Plan semanal'!$B$6)+$E12-1,28))) -> M | AJ12: =IF($A12="","",(COUNTIF(H12:AI12,"M")+COUNTIF(H12:AI12,"T")+COUNTIF(H12:AI12,"N")+COUNTIF(H12:AI12,"A"))*8) -> 160 | AK12: =IF($A12="","",COUNTIF(H12:AI12,"M")) -> 5 | AL12: =IF($A12="","",COUNTIF(H12:AI12,"T")) -> 5 | AM12: =IF($A12="","",COUNTIF(H12:AI12,"N")) -> 5 | AN12: =IF($A12="","",COUNTIF(H12:AI12,"A")) -> 5 | AO12: =IF($A12="","",COUNTIF(H12:AI12,"L")) -> 8
A13: =IF('Plan semanal'!$A14="","",'Plan semanal'!A14) -> MOV-04 | B13: =IF('Plan semanal'!$A14="","",'Plan semanal'!B14) -> Diego Salas | C13: =IF('Plan semanal'!$A14="","",'Plan semanal'!C14) -> Rutas | D13: =IF('Plan semanal'!$A14="","",'Plan semanal'!D14) -> DELTA | E13: =IF('Plan semanal'!$A14="","",'Plan semanal'!E14) -> 7 | F13: =IF('Plan semanal'!$A14="","",'Plan semanal'!F14) -> 40 | G13: =IF('Plan semanal'!$A14="","",'Plan semanal'!G14) -> 16 | H13: =IF($A13="","",INDEX(Configuración!$C$22:$AD$25,MATCH($D13,Configuración!$A$22:$A$25,0),1+MOD((H$9-'Plan semanal'!$B$6)+$E13-1,28))) -> L | I13: =IF($A13="","",INDEX(Configuración!$C$22:$AD$25,MATCH($D13,Configuración!$A$22:$A$25,0),1+MOD((I$9-'Plan semanal'!$B$6)+$E13-1,28))) -> N | J13: =IF($A13="","",INDEX(Configuración!$C$22:$AD$25,MATCH($D13,Configuración!$A$22:$A$25,0),1+MOD((J$9-'Plan semanal'!$B$6)+$E13-1,28))) -> N | K13: =IF($A13="","",INDEX(Configuración!$C$22:$AD$25,MATCH($D13,Configuración!$A$22:$A$25,0),1+MOD((K$9-'Plan semanal'!$B$6)+$E13-1,28))) -> N | L13: =IF($A13="","",INDEX(Configuración!$C$22:$AD$25,MATCH($D13,Configuración!$A$22:$A$25,0),1+MOD((L$9-'Plan semanal'!$B$6)+$E13-1,28))) -> N | M13: =IF($A13="","",INDEX(Configuración!$C$22:$AD$25,MATCH($D13,Configuración!$A$22:$A$25,0),1+MOD((M$9-'Plan semanal'!$B$6)+$E13-1,28))) -> N | N13: =IF($A13="","",INDEX(Configuración!$C$22:$AD$25,MATCH($D13,Configuración!$A$22:$A$25,0),1+MOD((N$9-'Plan semanal'!$B$6)+$E13-1,28))) -> L | O13: =IF($A13="","",INDEX(Configuración!$C$22:$AD$25,MATCH($D13,Configuración!$A$22:$A$25,0),1+MOD((O$9-'Plan semanal'!$B$6)+$E13-1,28))) -> L | ... AI13: =IF($A13="","",INDEX(Configuración!$C$22:$AD$25,MATCH($D13,Configuración!$A$22:$A$25,0),1+MOD((AI$9-'Plan semanal'!$B$6)+$E13-1,28))) -> L | AJ13: =IF($A13="","",(COUNTIF(H13:AI13,"M")+COUNTIF(H13:AI13,"T")+COUNTIF(H13:AI13,"N")+COUNTIF(H13:AI13,"A"))*8) -> 160 | AK13: =IF($A13="","",COUNTIF(H13:AI13,"M")) -> 5 | AL13: =IF($A13="","",COUNTIF(H13:AI13,"T")) -> 5 | AM13: =IF($A13="","",COUNTIF(H13:AI13,"N")) -> 5 | AN13: =IF($A13="","",COUNTIF(H13:AI13,"A")) -> 5 | AO13: =IF($A13="","",COUNTIF(H13:AI13,"L")) -> 8
A14: =IF('Plan semanal'!$A15="","",'Plan semanal'!A15) -> MOV-05 | B14: =IF('Plan semanal'!$A15="","",'Plan semanal'!B15) -> Eva Pardo | C14: =IF('Plan semanal'!$A15="","",'Plan semanal'!C15) -> Monitoreo | D14: =IF('Plan semanal'!$A15="","",'Plan semanal'!D15) -> ALFA | E14: =IF('Plan semanal'!$A15="","",'Plan semanal'!E15) -> 9 | F14: =IF('Plan semanal'!$A15="","",'Plan semanal'!F15) -> 40 | G14: =IF('Plan semanal'!$A15="","",'Plan semanal'!G15) -> 18 | H14: =IF($A14="","",INDEX(Configuración!$C$22:$AD$25,MATCH($D14,Configuración!$A$22:$A$25,0),1+MOD((H$9-'Plan semanal'!$B$6)+$E14-1,28))) -> A | I14: =IF($A14="","",INDEX(Configuración!$C$22:$AD$25,MATCH($D14,Configuración!$A$22:$A$25,0),1+MOD((I$9-'Plan semanal'!$B$6)+$E14-1,28))) -> A | J14: =IF($A14="","",INDEX(Configuración!$C$22:$AD$25,MATCH($D14,Configuración!$A$22:$A$25,0),1+MOD((J$9-'Plan semanal'!$B$6)+$E14-1,28))) -> A | K14: =IF($A14="","",INDEX(Configuración!$C$22:$AD$25,MATCH($D14,Configuración!$A$22:$A$25,0),1+MOD((K$9-'Plan semanal'!$B$6)+$E14-1,28))) -> A | L14: =IF($A14="","",INDEX(Configuración!$C$22:$AD$25,MATCH($D14,Configuración!$A$22:$A$25,0),1+MOD((L$9-'Plan semanal'!$B$6)+$E14-1,28))) -> L | M14: =IF($A14="","",INDEX(Configuración!$C$22:$AD$25,MATCH($D14,Configuración!$A$22:$A$25,0),1+MOD((M$9-'Plan semanal'!$B$6)+$E14-1,28))) -> L | N14: =IF($A14="","",INDEX(Configuración!$C$22:$AD$25,MATCH($D14,Configuración!$A$22:$A$25,0),1+MOD((N$9-'Plan semanal'!$B$6)+$E14-1,28))) -> M | O14: =IF($A14="","",INDEX(Configuración!$C$22:$AD$25,MATCH($D14,Configuración!$A$22:$A$25,0),1+MOD((O$9-'Plan semanal'!$B$6)+$E14-1,28))) -> M | ... AI14: =IF($A14="","",INDEX(Configuración!$C$22:$AD$25,MATCH($D14,Configuración!$A$22:$A$25,0),1+MOD((AI$9-'Plan semanal'!$B$6)+$E14-1,28))) -> A | AJ14: =IF($A14="","",(COUNTIF(H14:AI14,"M")+COUNTIF(H14:AI14,"T")+COUNTIF(H14:AI14,"N")+COUNTIF(H14:AI14,"A"))*8) -> 160 | AK14: =IF($A14="","",COUNTIF(H14:AI14,"M")) -> 5 | AL14: =IF($A14="","",COUNTIF(H14:AI14,"T")) -> 5 | AM14: =IF($A14="","",COUNTIF(H14:AI14,"N")) -> 5 | AN14: =IF($A14="","",COUNTIF(H14:AI14,"A")) -> 5 | AO14: =IF($A14="","",COUNTIF(H14:AI14,"L")) -> 8
A15: =IF('Plan semanal'!$A16="","",'Plan semanal'!A16) -> MOV-06 | B15: =IF('Plan semanal'!$A16="","",'Plan semanal'!B16) -> Fabio Llorente | C15: =IF('Plan semanal'!$A16="","",'Plan semanal'!C16) -> Incidencias | D15: =IF('Plan semanal'!$A16="","",'Plan semanal'!D16) -> BETA | E15: =IF('Plan semanal'!$A16="","",'Plan semanal'!E16) -> 11 | F15: =IF('Plan semanal'!$A16="","",'Plan semanal'!F16) -> 40 | G15: =IF('Plan semanal'!$A16="","",'Plan semanal'!G16) -> 17 | H15: =IF($A15="","",INDEX(Configuración!$C$22:$AD$25,MATCH($D15,Configuración!$A$22:$A$25,0),1+MOD((H$9-'Plan semanal'!$B$6)+$E15-1,28))) -> M | I15: =IF($A15="","",INDEX(Configuración!$C$22:$AD$25,MATCH($D15,Configuración!$A$22:$A$25,0),1+MOD((I$9-'Plan semanal'!$B$6)+$E15-1,28))) -> M | J15: =IF($A15="","",INDEX(Configuración!$C$22:$AD$25,MATCH($D15,Configuración!$A$22:$A$25,0),1+MOD((J$9-'Plan semanal'!$B$6)+$E15-1,28))) -> L | K15: =IF($A15="","",INDEX(Configuración!$C$22:$AD$25,MATCH($D15,Configuración!$A$22:$A$25,0),1+MOD((K$9-'Plan semanal'!$B$6)+$E15-1,28))) -> L | L15: =IF($A15="","",INDEX(Configuración!$C$22:$AD$25,MATCH($D15,Configuración!$A$22:$A$25,0),1+MOD((L$9-'Plan semanal'!$B$6)+$E15-1,28))) -> T | M15: =IF($A15="","",INDEX(Configuración!$C$22:$AD$25,MATCH($D15,Configuración!$A$22:$A$25,0),1+MOD((M$9-'Plan semanal'!$B$6)+$E15-1,28))) -> T | N15: =IF($A15="","",INDEX(Configuración!$C$22:$AD$25,MATCH($D15,Configuración!$A$22:$A$25,0),1+MOD((N$9-'Plan semanal'!$B$6)+$E15-1,28))) -> T | O15: =IF($A15="","",INDEX(Configuración!$C$22:$AD$25,MATCH($D15,Configuración!$A$22:$A$25,0),1+MOD((O$9-'Plan semanal'!$B$6)+$E15-1,28))) -> T | ... AI15: =IF($A15="","",INDEX(Configuración!$C$22:$AD$25,MATCH($D15,Configuración!$A$22:$A$25,0),1+MOD((AI$9-'Plan semanal'!$B$6)+$E15-1,28))) -> M | AJ15: =IF($A15="","",(COUNTIF(H15:AI15,"M")+COUNTIF(H15:AI15,"T")+COUNTIF(H15:AI15,"N")+COUNTIF(H15:AI15,"A"))*8) -> 160 | AK15: =IF($A15="","",COUNTIF(H15:AI15,"M")) -> 5 | AL15: =IF($A15="","",COUNTIF(H15:AI15,"T")) -> 5 | AM15: =IF($A15="","",COUNTIF(H15:AI15,"N")) -> 5 | AN15: =IF($A15="","",COUNTIF(H15:AI15,"A")) -> 5 | AO15: =IF($A15="","",COUNTIF(H15:AI15,"L")) -> 8
A16: =IF('Plan semanal'!$A17="","",'Plan semanal'!A17) -> MOV-07 | B16: =IF('Plan semanal'!$A17="","",'Plan semanal'!B17) -> Gina Varela | C16: =IF('Plan semanal'!$A17="","",'Plan semanal'!C17) -> Monitoreo | D16: =IF('Plan semanal'!$A17="","",'Plan semanal'!D17) -> GAMMA | E16: =IF('Plan semanal'!$A17="","",'Plan semanal'!E17) -> 13 | F16: =IF('Plan semanal'!$A17="","",'Plan semanal'!F17) -> 40 | G16: =IF('Plan semanal'!$A17="","",'Plan semanal'!G17) -> 18 | H16: =IF($A16="","",INDEX(Configuración!$C$22:$AD$25,MATCH($D16,Configuración!$A$22:$A$25,0),1+MOD((H$9-'Plan semanal'!$B$6)+$E16-1,28))) -> L | I16: =IF($A16="","",INDEX(Configuración!$C$22:$AD$25,MATCH($D16,Configuración!$A$22:$A$25,0),1+MOD((I$9-'Plan semanal'!$B$6)+$E16-1,28))) -> L | J16: =IF($A16="","",INDEX(Configuración!$C$22:$AD$25,MATCH($D16,Configuración!$A$22:$A$25,0),1+MOD((J$9-'Plan semanal'!$B$6)+$E16-1,28))) -> N | K16: =IF($A16="","",INDEX(Configuración!$C$22:$AD$25,MATCH($D16,Configuración!$A$22:$A$25,0),1+MOD((K$9-'Plan semanal'!$B$6)+$E16-1,28))) -> N | L16: =IF($A16="","",INDEX(Configuración!$C$22:$AD$25,MATCH($D16,Configuración!$A$22:$A$25,0),1+MOD((L$9-'Plan semanal'!$B$6)+$E16-1,28))) -> N | M16: =IF($A16="","",INDEX(Configuración!$C$22:$AD$25,MATCH($D16,Configuración!$A$22:$A$25,0),1+MOD((M$9-'Plan semanal'!$B$6)+$E16-1,28))) -> N | N16: =IF($A16="","",INDEX(Configuración!$C$22:$AD$25,MATCH($D16,Configuración!$A$22:$A$25,0),1+MOD((N$9-'Plan semanal'!$B$6)+$E16-1,28))) -> N | O16: =IF($A16="","",INDEX(Configuración!$C$22:$AD$25,MATCH($D16,Configuración!$A$22:$A$25,0),1+MOD((O$9-'Plan semanal'!$B$6)+$E16-1,28))) -> L | ... AI16: =IF($A16="","",INDEX(Configuración!$C$22:$AD$25,MATCH($D16,Configuración!$A$22:$A$25,0),1+MOD((AI$9-'Plan semanal'!$B$6)+$E16-1,28))) -> T | AJ16: =IF($A16="","",(COUNTIF(H16:AI16,"M")+COUNTIF(H16:AI16,"T")+COUNTIF(H16:AI16,"N")+COUNTIF(H16:AI16,"A"))*8) -> 160 | AK16: =IF($A16="","",COUNTIF(H16:AI16,"M")) -> 5 | AL16: =IF($A16="","",COUNTIF(H16:AI16,"T")) -> 5 | AM16: =IF($A16="","",COUNTIF(H16:AI16,"N")) -> 5 | AN16: =IF($A16="","",COUNTIF(H16:AI16,"A")) -> 5 | AO16: =IF($A16="","",COUNTIF(H16:AI16,"L")) -> 8
A17: =IF('Plan semanal'!$A18="","",'Plan semanal'!A18) -> MOV-08 | B17: =IF('Plan semanal'!$A18="","",'Plan semanal'!B18) -> Hugo Serra | C17: =IF('Plan semanal'!$A18="","",'Plan semanal'!C18) -> Rutas | D17: =IF('Plan semanal'!$A18="","",'Plan semanal'!D18) -> DELTA | E17: =IF('Plan semanal'!$A18="","",'Plan semanal'!E18) -> 15 | F17: =IF('Plan semanal'!$A18="","",'Plan semanal'!F18) -> 40 | G17: =IF('Plan semanal'!$A18="","",'Plan semanal'!G18) -> 16 | H17: =IF($A17="","",INDEX(Configuración!$C$22:$AD$25,MATCH($D17,Configuración!$A$22:$A$25,0),1+MOD((H$9-'Plan semanal'!$B$6)+$E17-1,28))) -> A | I17: =IF($A17="","",INDEX(Configuración!$C$22:$AD$25,MATCH($D17,Configuración!$A$22:$A$25,0),1+MOD((I$9-'Plan semanal'!$B$6)+$E17-1,28))) -> A | J17: =IF($A17="","",INDEX(Configuración!$C$22:$AD$25,MATCH($D17,Configuración!$A$22:$A$25,0),1+MOD((J$9-'Plan semanal'!$B$6)+$E17-1,28))) -> A | K17: =IF($A17="","",INDEX(Configuración!$C$22:$AD$25,MATCH($D17,Configuración!$A$22:$A$25,0),1+MOD((K$9-'Plan semanal'!$B$6)+$E17-1,28))) -> A | L17: =IF($A17="","",INDEX(Configuración!$C$22:$AD$25,MATCH($D17,Configuración!$A$22:$A$25,0),1+MOD((L$9-'Plan semanal'!$B$6)+$E17-1,28))) -> A | M17: =IF($A17="","",INDEX(Configuración!$C$22:$AD$25,MATCH($D17,Configuración!$A$22:$A$25,0),1+MOD((M$9-'Plan semanal'!$B$6)+$E17-1,28))) -> L | N17: =IF($A17="","",INDEX(Configuración!$C$22:$AD$25,MATCH($D17,Configuración!$A$22:$A$25,0),1+MOD((N$9-'Plan semanal'!$B$6)+$E17-1,28))) -> L | O17: =IF($A17="","",INDEX(Configuración!$C$22:$AD$25,MATCH($D17,Configuración!$A$22:$A$25,0),1+MOD((O$9-'Plan semanal'!$B$6)+$E17-1,28))) -> M | ... AI17: =IF($A17="","",INDEX(Configuración!$C$22:$AD$25,MATCH($D17,Configuración!$A$22:$A$25,0),1+MOD((AI$9-'Plan semanal'!$B$6)+$E17-1,28))) -> L | AJ17: =IF($A17="","",(COUNTIF(H17:AI17,"M")+COUNTIF(H17:AI17,"T")+COUNTIF(H17:AI17,"N")+COUNTIF(H17:AI17,"A"))*8) -> 160 | AK17: =IF($A17="","",COUNTIF(H17:AI17,"M")) -> 5 | AL17: =IF($A17="","",COUNTIF(H17:AI17,"T")) -> 5 | AM17: =IF($A17="","",COUNTIF(H17:AI17,"N")) -> 5 | AN17: =IF($A17="","",COUNTIF(H17:AI17,"A")) -> 5 | AO17: =IF($A17="","",COUNTIF(H17:AI17,"L")) -> 8
A18: =IF('Plan semanal'!$A19="","",'Plan semanal'!A19) | B18: =IF('Plan semanal'!$A19="","",'Plan semanal'!B19) | C18: =IF('Plan semanal'!$A19="","",'Plan semanal'!C19) | D18: =IF('Plan semanal'!$A19="","",'Plan semanal'!D19) | E18: =IF('Plan semanal'!$A19="","",'Plan semanal'!E19) | F18: =IF('Plan semanal'!$A19="","",'Plan semanal'!F19) | G18: =IF('Plan semanal'!$A19="","",'Plan semanal'!G19) | H18: =IF($A18="","",INDEX(Configuración!$C$22:$AD$25,MATCH($D18,Configuración!$A$22:$A$25,0),1+MOD((H$9-'Plan semanal'!$B$6)+$E18-1,28))) | I18: =IF($A18="","",INDEX(Configuración!$C$22:$AD$25,MATCH($D18,Configuración!$A$22:$A$25,0),1+MOD((I$9-'Plan semanal'!$B$6)+$E18-1,28))) | J18: =IF($A18="","",INDEX(Configuración!$C$22:$AD$25,MATCH($D18,Configuración!$A$22:$A$25,0),1+MOD((J$9-'Plan semanal'!$B$6)+$E18-1,28))) | K18: =IF($A18="","",INDEX(Configuración!$C$22:$AD$25,MATCH($D18,Configuración!$A$22:$A$25,0),1+MOD((K$9-'Plan semanal'!$B$6)+$E18-1,28))) | L18: =IF($A18="","",INDEX(Configuración!$C$22:$AD$25,MATCH($D18,Configuración!$A$22:$A$25,0),1+MOD((L$9-'Plan semanal'!$B$6)+$E18-1,28))) | M18: =IF($A18="","",INDEX(Configuración!$C$22:$AD$25,MATCH($D18,Configuración!$A$22:$A$25,0),1+MOD((M$9-'Plan semanal'!$B$6)+$E18-1,28))) | N18: =IF($A18="","",INDEX(Configuración!$C$22:$AD$25,MATCH($D18,Configuración!$A$22:$A$25,0),1+MOD((N$9-'Plan semanal'!$B$6)+$E18-1,28))) | O18: =IF($A18="","",INDEX(Configuración!$C$22:$AD$25,MATCH($D18,Configuración!$A$22:$A$25,0),1+MOD((O$9-'Plan semanal'!$B$6)+$E18-1,28))) | ... AI18: =IF($A18="","",INDEX(Configuración!$C$22:$AD$25,MATCH($D18,Configuración!$A$22:$A$25,0),1+MOD((AI$9-'Plan semanal'!$B$6)+$E18-1,28))) | AJ18: =IF($A18="","",(COUNTIF(H18:AI18,"M")+COUNTIF(H18:AI18,"T")+COUNTIF(H18:AI18,"N")+COUNTIF(H18:AI18,"A"))*8) | AK18: =IF($A18="","",COUNTIF(H18:AI18,"M")) | AL18: =IF($A18="","",COUNTIF(H18:AI18,"T")) | AM18: =IF($A18="","",COUNTIF(H18:AI18,"N")) | AN18: =IF($A18="","",COUNTIF(H18:AI18,"A")) | AO18: =IF($A18="","",COUNTIF(H18:AI18,"L"))
A19: =IF('Plan semanal'!$A20="","",'Plan semanal'!A20) | B19: =IF('Plan semanal'!$A20="","",'Plan semanal'!B20) | C19: =IF('Plan semanal'!$A20="","",'Plan semanal'!C20) | D19: =IF('Plan semanal'!$A20="","",'Plan semanal'!D20) | E19: =IF('Plan semanal'!$A20="","",'Plan semanal'!E20) | F19: =IF('Plan semanal'!$A20="","",'Plan semanal'!F20) | G19: =IF('Plan semanal'!$A20="","",'Plan semanal'!G20) | H19: =IF($A19="","",INDEX(Configuración!$C$22:$AD$25,MATCH($D19,Configuración!$A$22:$A$25,0),1+MOD((H$9-'Plan semanal'!$B$6)+$E19-1,28))) | I19: =IF($A19="","",INDEX(Configuración!$C$22:$AD$25,MATCH($D19,Configuración!$A$22:$A$25,0),1+MOD((I$9-'Plan semanal'!$B$6)+$E19-1,28))) | J19: =IF($A19="","",INDEX(Configuración!$C$22:$AD$25,MATCH($D19,Configuración!$A$22:$A$25,0),1+MOD((J$9-'Plan semanal'!$B$6)+$E19-1,28))) | K19: =IF($A19="","",INDEX(Configuración!$C$22:$AD$25,MATCH($D19,Configuración!$A$22:$A$25,0),1+MOD((K$9-'Plan semanal'!$B$6)+$E19-1,28))) | L19: =IF($A19="","",INDEX(Configuración!$C$22:$AD$25,MATCH($D19,Configuración!$A$22:$A$25,0),1+MOD((L$9-'Plan semanal'!$B$6)+$E19-1,28))) | M19: =IF($A19="","",INDEX(Configuración!$C$22:$AD$25,MATCH($D19,Configuración!$A$22:$A$25,0),1+MOD((M$9-'Plan semanal'!$B$6)+$E19-1,28))) | N19: =IF($A19="","",INDEX(Configuración!$C$22:$AD$25,MATCH($D19,Configuración!$A$22:$A$25,0),1+MOD((N$9-'Plan semanal'!$B$6)+$E19-1,28))) | O19: =IF($A19="","",INDEX(Configuración!$C$22:$AD$25,MATCH($D19,Configuración!$A$22:$A$25,0),1+MOD((O$9-'Plan semanal'!$B$6)+$E19-1,28))) | ... AI19: =IF($A19="","",INDEX(Configuración!$C$22:$AD$25,MATCH($D19,Configuración!$A$22:$A$25,0),1+MOD((AI$9-'Plan semanal'!$B$6)+$E19-1,28))) | AJ19: =IF($A19="","",(COUNTIF(H19:AI19,"M")+COUNTIF(H19:AI19,"T")+COUNTIF(H19:AI19,"N")+COUNTIF(H19:AI19,"A"))*8) | AK19: =IF($A19="","",COUNTIF(H19:AI19,"M")) | AL19: =IF($A19="","",COUNTIF(H19:AI19,"T")) | AM19: =IF($A19="","",COUNTIF(H19:AI19,"N")) | AN19: =IF($A19="","",COUNTIF(H19:AI19,"A")) | AO19: =IF($A19="","",COUNTIF(H19:AI19,"L"))
A20: Totales | AJ20: =SUM(AJ10:AJ19) -> 1280 | AK20: =SUM(AK10:AK19) -> 40 | AL20: =SUM(AL10:AL19) -> 40 | AM20: =SUM(AM10:AM19) -> 40 | AN20: =SUM(AN10:AN19) -> 40 | AO20: =SUM(AO10:AO19) -> 64
