Workbook

Sheet Configuracion
A1: Turnos rotativos de lunes a domingo
A2: Edita solo las celdas claras. Con mes, fecha de arranque, nombres y grupo inicial, el cuadrante queda listo.
A4: Datos básicos
A5: Empresa | B5: Estudio Boreal Eventos
A6: Área | B6: Atención y montaje
A7: Mes a planificar | B7: 46113
A8: Fecha de arranque | B8: 46111
A9: Código | B9: Significado | C9: Horario | D9: Horas | E9: Uso
A10: M | B10: Mañana | C10: 06:00-14:00 | D10: 8 | E10: Trabajo
A11: T | B11: Tarde | C11: 14:00-22:00 | D11: 8 | E11: Trabajo
A12: N | B12: Noche | C12: 22:00-06:00 | D12: 8 | E12: Trabajo
A13: L | B13: Libre | C13: - | D13: 0 | E13: Descanso
A15: Rotación semanal
A16: Grupo | B16: Lun | C16: Mar | D16: Mié | E16: Jue | F16: Vie | G16: Sáb | H16: Dom
A17: A | B17: M | C17: M | D17: M | E17: M | F17: T | G17: T | H17: L
A18: B | B18: T | C18: T | D18: T | E18: T | F18: N | G18: N | H18: L
A19: C | B19: N | C19: N | D19: N | E19: N | F19: L | G19: L | H19: M
A20: D | B20: L | C20: L | D20: M | E20: M | F20: M | G20: T | H20: T
A23: Equipo | F23: Cómo usarla
A24: Nombre | B24: Puesto | C24: Grupo inicial | D24: Horas/sem. | F24: 1) Cambia el mes y la fecha de arranque.
A25: Adriana Soler | B25: Recepción | C25: A | D25: 40 | F25: 2) Sustituye nombres y puestos.
A26: Bruno Vega | B26: Montaje | C26: B | D26: 40 | F26: 3) Asigna A, B, C o D.
A27: Clara Mena | B27: Sala | C27: C | D27: 40 | F27: 4) Ajusta un día puntual en el cuadrante si hace falta.
A28: Diego Ríos | B28: Técnico | C28: D | D28: 40
A29: Elena Pardo | B29: Recepción | C29: A | D29: 40
A30: Fabio Luna | B30: Montaje | C30: B | D30: 40
A31: Gala Torres | B31: Sala | C31: C | D31: 40
A32: Hugo Serra | B32: Técnico | C32: D | D32: 40

Sheet Cuadrante
A1: Cuadrante mensual
A2: Puedes editar directamente cualquier código del calendario para resolver cambios puntuales sin tocar la configuración base.
A4: Empresa | B4: =Configuracion!B5 -> Estudio Boreal Eventos | D4: Mes | E4: =Configuracion!B7 -> 46113 | G4: Arranque | J4: =Configuracion!B8 -> 46111 | L4: Leyenda | N4: M mañana | P4: T tarde | R4: N noche | T4: L libre
E5: =IF(DAY(EOMONTH(Configuracion!$B$7,0))>=1,DATE(YEAR(Configuracion!$B$7),MONTH(Configuracion!$B$7),1),"") -> 46113 | F5: =IF(DAY(EOMONTH(Configuracion!$B$7,0))>=2,DATE(YEAR(Configuracion!$B$7),MONTH(Configuracion!$B$7),2),"") -> 46114 | G5: =IF(DAY(EOMONTH(Configuracion!$B$7,0))>=3,DATE(YEAR(Configuracion!$B$7),MONTH(Configuracion!$B$7),3),"") -> 46115 | H5: =IF(DAY(EOMONTH(Configuracion!$B$7,0))>=4,DATE(YEAR(Configuracion!$B$7),MONTH(Configuracion!$B$7),4),"") -> 46116 | I5: =IF(DAY(EOMONTH(Configuracion!$B$7,0))>=5,DATE(YEAR(Configuracion!$B$7),MONTH(Configuracion!$B$7),5),"") -> 46117 | J5: =IF(DAY(EOMONTH(Configuracion!$B$7,0))>=6,DATE(YEAR(Configuracion!$B$7),MONTH(Configuracion!$B$7),6),"") -> 46118 | K5: =IF(DAY(EOMONTH(Configuracion!$B$7,0))>=7,DATE(YEAR(Configuracion!$B$7),MONTH(Configuracion!$B$7),7),"") -> 46119 | L5: =IF(DAY(EOMONTH(Configuracion!$B$7,0))>=8,DATE(YEAR(Configuracion!$B$7),MONTH(Configuracion!$B$7),8),"") -> 46120 | M5: =IF(DAY(EOMONTH(Configuracion!$B$7,0))>=9,DATE(YEAR(Configuracion!$B$7),MONTH(Configuracion!$B$7),9),"") -> 46121 | N5: =IF(DAY(EOMONTH(Configuracion!$B$7,0))>=10,DATE(YEAR(Configuracion!$B$7),MONTH(Configuracion!$B$7),10),"") -> 46122 | O5: =IF(DAY(EOMONTH(Configuracion!$B$7,0))>=11,DATE(YEAR(Configuracion!$B$7),MONTH(Configuracion!$B$7),11),"") -> 46123 | P5: =IF(DAY(EOMONTH(Configuracion!$B$7,0))>=12,DATE(YEAR(Configuracion!$B$7),MONTH(Configuracion!$B$7),12),"") -> 46124 | Q5: =IF(DAY(EOMONTH(Configuracion!$B$7,0))>=13,DATE(YEAR(Configuracion!$B$7),MONTH(Configuracion!$B$7),13),"") -> 46125 | R5: =IF(DAY(EOMONTH(Configuracion!$B$7,0))>=14,DATE(YEAR(Configuracion!$B$7),MONTH(Configuracion!$B$7),14),"") -> 46126 | S5: =IF(DAY(EOMONTH(Configuracion!$B$7,0))>=15,DATE(YEAR(Configuracion!$B$7),MONTH(Configuracion!$B$7),15),"") -> 46127 | T5: =IF(DAY(EOMONTH(Configuracion!$B$7,0))>=16,DATE(YEAR(Configuracion!$B$7),MONTH(Configuracion!$B$7),16),"") -> 46128 | U5: =IF(DAY(EOMONTH(Configuracion!$B$7,0))>=17,DATE(YEAR(Configuracion!$B$7),MONTH(Configuracion!$B$7),17),"") -> 46129 | V5: =IF(DAY(EOMONTH(Configuracion!$B$7,0))>=18,DATE(YEAR(Configuracion!$B$7),MONTH(Configuracion!$B$7),18),"") -> 46130 | W5: =IF(DAY(EOMONTH(Configuracion!$B$7,0))>=19,DATE(YEAR(Configuracion!$B$7),MONTH(Configuracion!$B$7),19),"") -> 46131 | X5: =IF(DAY(EOMONTH(Configuracion!$B$7,0))>=20,DATE(YEAR(Configuracion!$B$7),MONTH(Configuracion!$B$7),20),"") -> 46132 | Y5: =IF(DAY(EOMONTH(Configuracion!$B$7,0))>=21,DATE(YEAR(Configuracion!$B$7),MONTH(Configuracion!$B$7),21),"") -> 46133 | Z5: =IF(DAY(EOMONTH(Configuracion!$B$7,0))>=22,DATE(YEAR(Configuracion!$B$7),MONTH(Configuracion!$B$7),22),"") -> 46134 | AA5: =IF(DAY(EOMONTH(Configuracion!$B$7,0))>=23,DATE(YEAR(Configuracion!$B$7),MONTH(Configuracion!$B$7),23),"") -> 46135 | AB5: =IF(DAY(EOMONTH(Configuracion!$B$7,0))>=24,DATE(YEAR(Configuracion!$B$7),MONTH(Configuracion!$B$7),24),"") -> 46136 | AC5: =IF(DAY(EOMONTH(Configuracion!$B$7,0))>=25,DATE(YEAR(Configuracion!$B$7),MONTH(Configuracion!$B$7),25),"") -> 46137 | AD5: =IF(DAY(EOMONTH(Configuracion!$B$7,0))>=26,DATE(YEAR(Configuracion!$B$7),MONTH(Configuracion!$B$7),26),"") -> 46138 | AE5: =IF(DAY(EOMONTH(Configuracion!$B$7,0))>=27,DATE(YEAR(Configuracion!$B$7),MONTH(Configuracion!$B$7),27),"") -> 46139 | AF5: =IF(DAY(EOMONTH(Configuracion!$B$7,0))>=28,DATE(YEAR(Configuracion!$B$7),MONTH(Configuracion!$B$7),28),"") -> 46140 | AG5: =IF(DAY(EOMONTH(Configuracion!$B$7,0))>=29,DATE(YEAR(Configuracion!$B$7),MONTH(Configuracion!$B$7),29),"") -> 46141 | AH5: =IF(DAY(EOMONTH(Configuracion!$B$7,0))>=30,DATE(YEAR(Configuracion!$B$7),MONTH(Configuracion!$B$7),30),"") -> 46142 | AI5: =IF(DAY(EOMONTH(Configuracion!$B$7,0))>=31,DATE(YEAR(Configuracion!$B$7),MONTH(Configuracion!$B$7),31),"")
E6: =IF(E5="","",DAY(E5)) -> 1 | F6: =IF(F5="","",DAY(F5)) -> 2 | G6: =IF(G5="","",DAY(G5)) -> 3 | H6: =IF(H5="","",DAY(H5)) -> 4 | I6: =IF(I5="","",DAY(I5)) -> 5 | J6: =IF(J5="","",DAY(J5)) -> 6 | K6: =IF(K5="","",DAY(K5)) -> 7 | L6: =IF(L5="","",DAY(L5)) -> 8 | ... AI6: =IF(AI5="","",DAY(AI5))
A7: 1 | B7: =Configuracion!A25 -> Adriana Soler | C7: =Configuracion!B25 -> Recepción | D7: =Configuracion!C25 -> A | E7: =IF(OR($B7="",E$5=""),"",INDEX(Configuracion!$B$17:$H$20,MATCH($D7,Configuracion!$A$17:$A$20,0),1+MOD(E$5-Configuracion!$B$8,7))) -> M | F7: =IF(OR($B7="",F$5=""),"",INDEX(Configuracion!$B$17:$H$20,MATCH($D7,Configuracion!$A$17:$A$20,0),1+MOD(F$5-Configuracion!$B$8,7))) -> M | G7: =IF(OR($B7="",G$5=""),"",INDEX(Configuracion!$B$17:$H$20,MATCH($D7,Configuracion!$A$17:$A$20,0),1+MOD(G$5-Configuracion!$B$8,7))) -> T | H7: =IF(OR($B7="",H$5=""),"",INDEX(Configuracion!$B$17:$H$20,MATCH($D7,Configuracion!$A$17:$A$20,0),1+MOD(H$5-Configuracion!$B$8,7))) -> T | I7: =IF(OR($B7="",I$5=""),"",INDEX(Configuracion!$B$17:$H$20,MATCH($D7,Configuracion!$A$17:$A$20,0),1+MOD(I$5-Configuracion!$B$8,7))) -> L | J7: =IF(OR($B7="",J$5=""),"",INDEX(Configuracion!$B$17:$H$20,MATCH($D7,Configuracion!$A$17:$A$20,0),1+MOD(J$5-Configuracion!$B$8,7))) -> M | K7: =IF(OR($B7="",K$5=""),"",INDEX(Configuracion!$B$17:$H$20,MATCH($D7,Configuracion!$A$17:$A$20,0),1+MOD(K$5-Configuracion!$B$8,7))) -> M | L7: =IF(OR($B7="",L$5=""),"",INDEX(Configuracion!$B$17:$H$20,MATCH($D7,Configuracion!$A$17:$A$20,0),1+MOD(L$5-Configuracion!$B$8,7))) -> M | ... AI7: =IF(OR($B7="",AI$5=""),"",INDEX(Configuracion!$B$17:$H$20,MATCH($D7,Configuracion!$A$17:$A$20,0),1+MOD(AI$5-Configuracion!$B$8,7))) | AJ7: =COUNTIF(E7:AI7,"M")*8+COUNTIF(E7:AI7,"T")*8+COUNTIF(E7:AI7,"N")*8 -> 208 | AK7: =COUNTIF(E7:AI7,"M") -> 18 | AL7: =COUNTIF(E7:AI7,"T") -> 8 | AM7: =COUNTIF(E7:AI7,"N") -> 0 | AN7: =COUNTIF(E7:AI7,"L") -> 4
A8: 2 | B8: =Configuracion!A26 -> Bruno Vega | C8: =Configuracion!B26 -> Montaje | D8: =Configuracion!C26 -> B | E8: =IF(OR($B8="",E$5=""),"",INDEX(Configuracion!$B$17:$H$20,MATCH($D8,Configuracion!$A$17:$A$20,0),1+MOD(E$5-Configuracion!$B$8,7))) -> T | F8: =IF(OR($B8="",F$5=""),"",INDEX(Configuracion!$B$17:$H$20,MATCH($D8,Configuracion!$A$17:$A$20,0),1+MOD(F$5-Configuracion!$B$8,7))) -> T | G8: =IF(OR($B8="",G$5=""),"",INDEX(Configuracion!$B$17:$H$20,MATCH($D8,Configuracion!$A$17:$A$20,0),1+MOD(G$5-Configuracion!$B$8,7))) -> N | H8: =IF(OR($B8="",H$5=""),"",INDEX(Configuracion!$B$17:$H$20,MATCH($D8,Configuracion!$A$17:$A$20,0),1+MOD(H$5-Configuracion!$B$8,7))) -> N | I8: =IF(OR($B8="",I$5=""),"",INDEX(Configuracion!$B$17:$H$20,MATCH($D8,Configuracion!$A$17:$A$20,0),1+MOD(I$5-Configuracion!$B$8,7))) -> L | J8: =IF(OR($B8="",J$5=""),"",INDEX(Configuracion!$B$17:$H$20,MATCH($D8,Configuracion!$A$17:$A$20,0),1+MOD(J$5-Configuracion!$B$8,7))) -> T | K8: =IF(OR($B8="",K$5=""),"",INDEX(Configuracion!$B$17:$H$20,MATCH($D8,Configuracion!$A$17:$A$20,0),1+MOD(K$5-Configuracion!$B$8,7))) -> T | L8: =IF(OR($B8="",L$5=""),"",INDEX(Configuracion!$B$17:$H$20,MATCH($D8,Configuracion!$A$17:$A$20,0),1+MOD(L$5-Configuracion!$B$8,7))) -> T | ... AI8: =IF(OR($B8="",AI$5=""),"",INDEX(Configuracion!$B$17:$H$20,MATCH($D8,Configuracion!$A$17:$A$20,0),1+MOD(AI$5-Configuracion!$B$8,7))) | AJ8: =COUNTIF(E8:AI8,"M")*8+COUNTIF(E8:AI8,"T")*8+COUNTIF(E8:AI8,"N")*8 -> 208 | AK8: =COUNTIF(E8:AI8,"M") -> 0 | AL8: =COUNTIF(E8:AI8,"T") -> 18 | AM8: =COUNTIF(E8:AI8,"N") -> 8 | AN8: =COUNTIF(E8:AI8,"L") -> 4
A9: 3 | B9: =Configuracion!A27 -> Clara Mena | C9: =Configuracion!B27 -> Sala | D9: =Configuracion!C27 -> C | E9: =IF(OR($B9="",E$5=""),"",INDEX(Configuracion!$B$17:$H$20,MATCH($D9,Configuracion!$A$17:$A$20,0),1+MOD(E$5-Configuracion!$B$8,7))) -> N | F9: =IF(OR($B9="",F$5=""),"",INDEX(Configuracion!$B$17:$H$20,MATCH($D9,Configuracion!$A$17:$A$20,0),1+MOD(F$5-Configuracion!$B$8,7))) -> N | G9: =IF(OR($B9="",G$5=""),"",INDEX(Configuracion!$B$17:$H$20,MATCH($D9,Configuracion!$A$17:$A$20,0),1+MOD(G$5-Configuracion!$B$8,7))) -> L | H9: =IF(OR($B9="",H$5=""),"",INDEX(Configuracion!$B$17:$H$20,MATCH($D9,Configuracion!$A$17:$A$20,0),1+MOD(H$5-Configuracion!$B$8,7))) -> L | I9: =IF(OR($B9="",I$5=""),"",INDEX(Configuracion!$B$17:$H$20,MATCH($D9,Configuracion!$A$17:$A$20,0),1+MOD(I$5-Configuracion!$B$8,7))) -> M | J9: =IF(OR($B9="",J$5=""),"",INDEX(Configuracion!$B$17:$H$20,MATCH($D9,Configuracion!$A$17:$A$20,0),1+MOD(J$5-Configuracion!$B$8,7))) -> N | K9: =IF(OR($B9="",K$5=""),"",INDEX(Configuracion!$B$17:$H$20,MATCH($D9,Configuracion!$A$17:$A$20,0),1+MOD(K$5-Configuracion!$B$8,7))) -> N | L9: =IF(OR($B9="",L$5=""),"",INDEX(Configuracion!$B$17:$H$20,MATCH($D9,Configuracion!$A$17:$A$20,0),1+MOD(L$5-Configuracion!$B$8,7))) -> N | ... AI9: =IF(OR($B9="",AI$5=""),"",INDEX(Configuracion!$B$17:$H$20,MATCH($D9,Configuracion!$A$17:$A$20,0),1+MOD(AI$5-Configuracion!$B$8,7))) | AJ9: =COUNTIF(E9:AI9,"M")*8+COUNTIF(E9:AI9,"T")*8+COUNTIF(E9:AI9,"N")*8 -> 176 | AK9: =COUNTIF(E9:AI9,"M") -> 4 | AL9: =COUNTIF(E9:AI9,"T") -> 0 | AM9: =COUNTIF(E9:AI9,"N") -> 18 | AN9: =COUNTIF(E9:AI9,"L") -> 8
A10: 4 | B10: =Configuracion!A28 -> Diego Ríos | C10: =Configuracion!B28 -> Técnico | D10: =Configuracion!C28 -> D | E10: =IF(OR($B10="",E$5=""),"",INDEX(Configuracion!$B$17:$H$20,MATCH($D10,Configuracion!$A$17:$A$20,0),1+MOD(E$5-Configuracion!$B$8,7))) -> M | F10: =IF(OR($B10="",F$5=""),"",INDEX(Configuracion!$B$17:$H$20,MATCH($D10,Configuracion!$A$17:$A$20,0),1+MOD(F$5-Configuracion!$B$8,7))) -> M | G10: =IF(OR($B10="",G$5=""),"",INDEX(Configuracion!$B$17:$H$20,MATCH($D10,Configuracion!$A$17:$A$20,0),1+MOD(G$5-Configuracion!$B$8,7))) -> M | H10: =IF(OR($B10="",H$5=""),"",INDEX(Configuracion!$B$17:$H$20,MATCH($D10,Configuracion!$A$17:$A$20,0),1+MOD(H$5-Configuracion!$B$8,7))) -> T | I10: =IF(OR($B10="",I$5=""),"",INDEX(Configuracion!$B$17:$H$20,MATCH($D10,Configuracion!$A$17:$A$20,0),1+MOD(I$5-Configuracion!$B$8,7))) -> T | J10: =IF(OR($B10="",J$5=""),"",INDEX(Configuracion!$B$17:$H$20,MATCH($D10,Configuracion!$A$17:$A$20,0),1+MOD(J$5-Configuracion!$B$8,7))) -> L | K10: =IF(OR($B10="",K$5=""),"",INDEX(Configuracion!$B$17:$H$20,MATCH($D10,Configuracion!$A$17:$A$20,0),1+MOD(K$5-Configuracion!$B$8,7))) -> L | L10: =IF(OR($B10="",L$5=""),"",INDEX(Configuracion!$B$17:$H$20,MATCH($D10,Configuracion!$A$17:$A$20,0),1+MOD(L$5-Configuracion!$B$8,7))) -> M | ... AI10: =IF(OR($B10="",AI$5=""),"",INDEX(Configuracion!$B$17:$H$20,MATCH($D10,Configuracion!$A$17:$A$20,0),1+MOD(AI$5-Configuracion!$B$8,7))) | AJ10: =COUNTIF(E10:AI10,"M")*8+COUNTIF(E10:AI10,"T")*8+COUNTIF(E10:AI10,"N")*8 -> 176 | AK10: =COUNTIF(E10:AI10,"M") -> 14 | AL10: =COUNTIF(E10:AI10,"T") -> 8 | AM10: =COUNTIF(E10:AI10,"N") -> 0 | AN10: =COUNTIF(E10:AI10,"L") -> 8
A11: 5 | B11: =Configuracion!A29 -> Elena Pardo | C11: =Configuracion!B29 -> Recepción | D11: =Configuracion!C29 -> A | E11: =IF(OR($B11="",E$5=""),"",INDEX(Configuracion!$B$17:$H$20,MATCH($D11,Configuracion!$A$17:$A$20,0),1+MOD(E$5-Configuracion!$B$8,7))) -> M | F11: =IF(OR($B11="",F$5=""),"",INDEX(Configuracion!$B$17:$H$20,MATCH($D11,Configuracion!$A$17:$A$20,0),1+MOD(F$5-Configuracion!$B$8,7))) -> M | G11: =IF(OR($B11="",G$5=""),"",INDEX(Configuracion!$B$17:$H$20,MATCH($D11,Configuracion!$A$17:$A$20,0),1+MOD(G$5-Configuracion!$B$8,7))) -> T | H11: =IF(OR($B11="",H$5=""),"",INDEX(Configuracion!$B$17:$H$20,MATCH($D11,Configuracion!$A$17:$A$20,0),1+MOD(H$5-Configuracion!$B$8,7))) -> T | I11: =IF(OR($B11="",I$5=""),"",INDEX(Configuracion!$B$17:$H$20,MATCH($D11,Configuracion!$A$17:$A$20,0),1+MOD(I$5-Configuracion!$B$8,7))) -> L | J11: =IF(OR($B11="",J$5=""),"",INDEX(Configuracion!$B$17:$H$20,MATCH($D11,Configuracion!$A$17:$A$20,0),1+MOD(J$5-Configuracion!$B$8,7))) -> M | K11: =IF(OR($B11="",K$5=""),"",INDEX(Configuracion!$B$17:$H$20,MATCH($D11,Configuracion!$A$17:$A$20,0),1+MOD(K$5-Configuracion!$B$8,7))) -> M | L11: =IF(OR($B11="",L$5=""),"",INDEX(Configuracion!$B$17:$H$20,MATCH($D11,Configuracion!$A$17:$A$20,0),1+MOD(L$5-Configuracion!$B$8,7))) -> M | ... AI11: =IF(OR($B11="",AI$5=""),"",INDEX(Configuracion!$B$17:$H$20,MATCH($D11,Configuracion!$A$17:$A$20,0),1+MOD(AI$5-Configuracion!$B$8,7))) | AJ11: =COUNTIF(E11:AI11,"M")*8+COUNTIF(E11:AI11,"T")*8+COUNTIF(E11:AI11,"N")*8 -> 208 | AK11: =COUNTIF(E11:AI11,"M") -> 18 | AL11: =COUNTIF(E11:AI11,"T") -> 8 | AM11: =COUNTIF(E11:AI11,"N") -> 0 | AN11: =COUNTIF(E11:AI11,"L") -> 4
A12: 6 | B12: =Configuracion!A30 -> Fabio Luna | C12: =Configuracion!B30 -> Montaje | D12: =Configuracion!C30 -> B | E12: =IF(OR($B12="",E$5=""),"",INDEX(Configuracion!$B$17:$H$20,MATCH($D12,Configuracion!$A$17:$A$20,0),1+MOD(E$5-Configuracion!$B$8,7))) -> T | F12: =IF(OR($B12="",F$5=""),"",INDEX(Configuracion!$B$17:$H$20,MATCH($D12,Configuracion!$A$17:$A$20,0),1+MOD(F$5-Configuracion!$B$8,7))) -> T | G12: =IF(OR($B12="",G$5=""),"",INDEX(Configuracion!$B$17:$H$20,MATCH($D12,Configuracion!$A$17:$A$20,0),1+MOD(G$5-Configuracion!$B$8,7))) -> N | H12: =IF(OR($B12="",H$5=""),"",INDEX(Configuracion!$B$17:$H$20,MATCH($D12,Configuracion!$A$17:$A$20,0),1+MOD(H$5-Configuracion!$B$8,7))) -> N | I12: =IF(OR($B12="",I$5=""),"",INDEX(Configuracion!$B$17:$H$20,MATCH($D12,Configuracion!$A$17:$A$20,0),1+MOD(I$5-Configuracion!$B$8,7))) -> L | J12: =IF(OR($B12="",J$5=""),"",INDEX(Configuracion!$B$17:$H$20,MATCH($D12,Configuracion!$A$17:$A$20,0),1+MOD(J$5-Configuracion!$B$8,7))) -> T | K12: =IF(OR($B12="",K$5=""),"",INDEX(Configuracion!$B$17:$H$20,MATCH($D12,Configuracion!$A$17:$A$20,0),1+MOD(K$5-Configuracion!$B$8,7))) -> T | L12: =IF(OR($B12="",L$5=""),"",INDEX(Configuracion!$B$17:$H$20,MATCH($D12,Configuracion!$A$17:$A$20,0),1+MOD(L$5-Configuracion!$B$8,7))) -> T | ... AI12: =IF(OR($B12="",AI$5=""),"",INDEX(Configuracion!$B$17:$H$20,MATCH($D12,Configuracion!$A$17:$A$20,0),1+MOD(AI$5-Configuracion!$B$8,7))) | AJ12: =COUNTIF(E12:AI12,"M")*8+COUNTIF(E12:AI12,"T")*8+COUNTIF(E12:AI12,"N")*8 -> 208 | AK12: =COUNTIF(E12:AI12,"M") -> 0 | AL12: =COUNTIF(E12:AI12,"T") -> 18 | AM12: =COUNTIF(E12:AI12,"N") -> 8 | AN12: =COUNTIF(E12:AI12,"L") -> 4
A13: 7 | B13: =Configuracion!A31 -> Gala Torres | C13: =Configuracion!B31 -> Sala | D13: =Configuracion!C31 -> C | E13: =IF(OR($B13="",E$5=""),"",INDEX(Configuracion!$B$17:$H$20,MATCH($D13,Configuracion!$A$17:$A$20,0),1+MOD(E$5-Configuracion!$B$8,7))) -> N | F13: =IF(OR($B13="",F$5=""),"",INDEX(Configuracion!$B$17:$H$20,MATCH($D13,Configuracion!$A$17:$A$20,0),1+MOD(F$5-Configuracion!$B$8,7))) -> N | G13: =IF(OR($B13="",G$5=""),"",INDEX(Configuracion!$B$17:$H$20,MATCH($D13,Configuracion!$A$17:$A$20,0),1+MOD(G$5-Configuracion!$B$8,7))) -> L | H13: =IF(OR($B13="",H$5=""),"",INDEX(Configuracion!$B$17:$H$20,MATCH($D13,Configuracion!$A$17:$A$20,0),1+MOD(H$5-Configuracion!$B$8,7))) -> L | I13: =IF(OR($B13="",I$5=""),"",INDEX(Configuracion!$B$17:$H$20,MATCH($D13,Configuracion!$A$17:$A$20,0),1+MOD(I$5-Configuracion!$B$8,7))) -> M | J13: =IF(OR($B13="",J$5=""),"",INDEX(Configuracion!$B$17:$H$20,MATCH($D13,Configuracion!$A$17:$A$20,0),1+MOD(J$5-Configuracion!$B$8,7))) -> N | K13: =IF(OR($B13="",K$5=""),"",INDEX(Configuracion!$B$17:$H$20,MATCH($D13,Configuracion!$A$17:$A$20,0),1+MOD(K$5-Configuracion!$B$8,7))) -> N | L13: =IF(OR($B13="",L$5=""),"",INDEX(Configuracion!$B$17:$H$20,MATCH($D13,Configuracion!$A$17:$A$20,0),1+MOD(L$5-Configuracion!$B$8,7))) -> N | ... AI13: =IF(OR($B13="",AI$5=""),"",INDEX(Configuracion!$B$17:$H$20,MATCH($D13,Configuracion!$A$17:$A$20,0),1+MOD(AI$5-Configuracion!$B$8,7))) | AJ13: =COUNTIF(E13:AI13,"M")*8+COUNTIF(E13:AI13,"T")*8+COUNTIF(E13:AI13,"N")*8 -> 176 | AK13: =COUNTIF(E13:AI13,"M") -> 4 | AL13: =COUNTIF(E13:AI13,"T") -> 0 | AM13: =COUNTIF(E13:AI13,"N") -> 18 | AN13: =COUNTIF(E13:AI13,"L") -> 8
A14: 8 | B14: =Configuracion!A32 -> Hugo Serra | C14: =Configuracion!B32 -> Técnico | D14: =Configuracion!C32 -> D | E14: =IF(OR($B14="",E$5=""),"",INDEX(Configuracion!$B$17:$H$20,MATCH($D14,Configuracion!$A$17:$A$20,0),1+MOD(E$5-Configuracion!$B$8,7))) -> M | F14: =IF(OR($B14="",F$5=""),"",INDEX(Configuracion!$B$17:$H$20,MATCH($D14,Configuracion!$A$17:$A$20,0),1+MOD(F$5-Configuracion!$B$8,7))) -> M | G14: =IF(OR($B14="",G$5=""),"",INDEX(Configuracion!$B$17:$H$20,MATCH($D14,Configuracion!$A$17:$A$20,0),1+MOD(G$5-Configuracion!$B$8,7))) -> M | H14: =IF(OR($B14="",H$5=""),"",INDEX(Configuracion!$B$17:$H$20,MATCH($D14,Configuracion!$A$17:$A$20,0),1+MOD(H$5-Configuracion!$B$8,7))) -> T | I14: =IF(OR($B14="",I$5=""),"",INDEX(Configuracion!$B$17:$H$20,MATCH($D14,Configuracion!$A$17:$A$20,0),1+MOD(I$5-Configuracion!$B$8,7))) -> T | J14: =IF(OR($B14="",J$5=""),"",INDEX(Configuracion!$B$17:$H$20,MATCH($D14,Configuracion!$A$17:$A$20,0),1+MOD(J$5-Configuracion!$B$8,7))) -> L | K14: =IF(OR($B14="",K$5=""),"",INDEX(Configuracion!$B$17:$H$20,MATCH($D14,Configuracion!$A$17:$A$20,0),1+MOD(K$5-Configuracion!$B$8,7))) -> L | L14: =IF(OR($B14="",L$5=""),"",INDEX(Configuracion!$B$17:$H$20,MATCH($D14,Configuracion!$A$17:$A$20,0),1+MOD(L$5-Configuracion!$B$8,7))) -> M | ... AI14: =IF(OR($B14="",AI$5=""),"",INDEX(Configuracion!$B$17:$H$20,MATCH($D14,Configuracion!$A$17:$A$20,0),1+MOD(AI$5-Configuracion!$B$8,7))) | AJ14: =COUNTIF(E14:AI14,"M")*8+COUNTIF(E14:AI14,"T")*8+COUNTIF(E14:AI14,"N")*8 -> 176 | AK14: =COUNTIF(E14:AI14,"M") -> 14 | AL14: =COUNTIF(E14:AI14,"T") -> 8 | AM14: =COUNTIF(E14:AI14,"N") -> 0 | AN14: =COUNTIF(E14:AI14,"L") -> 8
A16: Resumen diario
A18: Mañanas | E18: =IF(E$5="","",COUNTIF(E$7:E$14,"M")) -> 4 | F18: =IF(F$5="","",COUNTIF(F$7:F$14,"M")) -> 4 | G18: =IF(G$5="","",COUNTIF(G$7:G$14,"M")) -> 2 | H18: =IF(H$5="","",COUNTIF(H$7:H$14,"M")) -> 0 | I18: =IF(I$5="","",COUNTIF(I$7:I$14,"M")) -> 2 | J18: =IF(J$5="","",COUNTIF(J$7:J$14,"M")) -> 2 | K18: =IF(K$5="","",COUNTIF(K$7:K$14,"M")) -> 2 | L18: =IF(L$5="","",COUNTIF(L$7:L$14,"M")) -> 4 | ... AI18: =IF(AI$5="","",COUNTIF(AI$7:AI$14,"M"))
A19: Tardes | E19: =IF(E$5="","",COUNTIF(E$7:E$14,"T")) -> 2 | F19: =IF(F$5="","",COUNTIF(F$7:F$14,"T")) -> 2 | G19: =IF(G$5="","",COUNTIF(G$7:G$14,"T")) -> 2 | H19: =IF(H$5="","",COUNTIF(H$7:H$14,"T")) -> 4 | I19: =IF(I$5="","",COUNTIF(I$7:I$14,"T")) -> 2 | J19: =IF(J$5="","",COUNTIF(J$7:J$14,"T")) -> 2 | K19: =IF(K$5="","",COUNTIF(K$7:K$14,"T")) -> 2 | L19: =IF(L$5="","",COUNTIF(L$7:L$14,"T")) -> 2 | ... AI19: =IF(AI$5="","",COUNTIF(AI$7:AI$14,"T"))
A20: Noches | E20: =IF(E$5="","",COUNTIF(E$7:E$14,"N")) -> 2 | F20: =IF(F$5="","",COUNTIF(F$7:F$14,"N")) -> 2 | G20: =IF(G$5="","",COUNTIF(G$7:G$14,"N")) -> 2 | H20: =IF(H$5="","",COUNTIF(H$7:H$14,"N")) -> 2 | I20: =IF(I$5="","",COUNTIF(I$7:I$14,"N")) -> 0 | J20: =IF(J$5="","",COUNTIF(J$7:J$14,"N")) -> 2 | K20: =IF(K$5="","",COUNTIF(K$7:K$14,"N")) -> 2 | L20: =IF(L$5="","",COUNTIF(L$7:L$14,"N")) -> 2 | ... AI20: =IF(AI$5="","",COUNTIF(AI$7:AI$14,"N"))
A21: Libres | E21: =IF(E$5="","",COUNTIF(E$7:E$14,"L")) -> 0 | F21: =IF(F$5="","",COUNTIF(F$7:F$14,"L")) -> 0 | G21: =IF(G$5="","",COUNTIF(G$7:G$14,"L")) -> 2 | H21: =IF(H$5="","",COUNTIF(H$7:H$14,"L")) -> 2 | I21: =IF(I$5="","",COUNTIF(I$7:I$14,"L")) -> 4 | J21: =IF(J$5="","",COUNTIF(J$7:J$14,"L")) -> 2 | K21: =IF(K$5="","",COUNTIF(K$7:K$14,"L")) -> 2 | L21: =IF(L$5="","",COUNTIF(L$7:L$14,"L")) -> 0 | ... AI21: =IF(AI$5="","",COUNTIF(AI$7:AI$14,"L"))
