Workbook
Name ApoyoList: Listas!$C$2:$C$6
Name CanalList: Listas!$F$2:$F$10
Name MapApoyo: Listas!$C$2:$D$6
Name TipoList: Listas!$A$2:$A$3

Sheet Mapa
A1: Mapa de stakeholders
A4: Ficha del proyecto | G4: Total stakeholders | I4: Prioridad crítica | K4: Bloqueadores | M4: Seguimientos vencidos
A5: Proyecto | B5: Proyecto Faro - kioscos de autocobro + app de fidelización para una red de librerías | G5: =COUNTA(Registro!$B$13:$B$37) -> 15 | I5: =COUNTIF(Registro!$U$13:$U$37,"Crítica") -> 3 | K5: =COUNTIF(Registro!$J$13:$J$37,"En contra")+COUNTIF(Registro!$J$13:$J$37,"Muy en contra") -> 2 | M5: =COUNTIF(Registro!$R$13:$R$37,"Vencido") -> 1
A6: Objetivo | B6: Reducir colas en caja, captar datos útiles y elevar la recurrencia sin deteriorar la experiencia en tienda.
A7: Sponsor | B7: Dirección General | D7: Fase | E7: Piloto en 8 tiendas
A8: Última revisión | B8: =TODAY() -> 46097 | D8: Capacidad actual | E8: 25 stakeholders
A10: PODER / Influencia
A11: Gestionar de cerca | G11: =COUNTIF(Registro!$S$13:$S$37,"Gestionar de cerca") -> 7 | H11: Mantener satisfecho | N11: =COUNTIF(Registro!$S$13:$S$37,"Mantener satisfecho") -> 1
A12: Alta influencia + alto interés. Atención frecuente, validación y gestión directa. | H12: Alta influencia + interés más bajo. Mantén confianza sin saturar.
A13: =IFERROR(INDEX(Registro!$A$13:$A$37,MATCH("Gestionar de cerca|1",Registro!$AB$13:$AB$37,0))&". "&INDEX(Registro!$B$13:$B$37,MATCH("Gestionar de cerca|1",Registro!$AB$13:$AB$37,0))&" - "&INDEX(Registro!$U$13:$U$37,MATCH("Gestionar de cerca|1",Registro!$AB$13:$AB$37,0)),"") -> 1. Dirección General - Alta | H13: =IFERROR(INDEX(Registro!$A$13:$A$37,MATCH("Mantener satisfecho|1",Registro!$AB$13:$AB$37,0))&". "&INDEX(Registro!$B$13:$B$37,MATCH("Mantener satisfecho|1",Registro!$AB$13:$AB$37,0))&" - "&INDEX(Registro!$U$13:$U$37,MATCH("Mantener satisfecho|1",Registro!$AB$13:$AB$37,0)),"") -> 9. Finanzas - Alta
A14: =IFERROR(INDEX(Registro!$A$13:$A$37,MATCH("Gestionar de cerca|2",Registro!$AB$13:$AB$37,0))&". "&INDEX(Registro!$B$13:$B$37,MATCH("Gestionar de cerca|2",Registro!$AB$13:$AB$37,0))&" - "&INDEX(Registro!$U$13:$U$37,MATCH("Gestionar de cerca|2",Registro!$AB$13:$AB$37,0)),"") -> 2. Franquiciados / propietarios - Crítica | H14: =IFERROR(INDEX(Registro!$A$13:$A$37,MATCH("Mantener satisfecho|2",Registro!$AB$13:$AB$37,0))&". "&INDEX(Registro!$B$13:$B$37,MATCH("Mantener satisfecho|2",Registro!$AB$13:$AB$37,0))&" - "&INDEX(Registro!$U$13:$U$37,MATCH("Mantener satisfecho|2",Registro!$AB$13:$AB$37,0)),"")
A15: =IFERROR(INDEX(Registro!$A$13:$A$37,MATCH("Gestionar de cerca|3",Registro!$AB$13:$AB$37,0))&". "&INDEX(Registro!$B$13:$B$37,MATCH("Gestionar de cerca|3",Registro!$AB$13:$AB$37,0))&" - "&INDEX(Registro!$U$13:$U$37,MATCH("Gestionar de cerca|3",Registro!$AB$13:$AB$37,0)),"") -> 3. Dirección de Operaciones - Alta | H15: =IFERROR(INDEX(Registro!$A$13:$A$37,MATCH("Mantener satisfecho|3",Registro!$AB$13:$AB$37,0))&". "&INDEX(Registro!$B$13:$B$37,MATCH("Mantener satisfecho|3",Registro!$AB$13:$AB$37,0))&" - "&INDEX(Registro!$U$13:$U$37,MATCH("Mantener satisfecho|3",Registro!$AB$13:$AB$37,0)),"")
A16: =IFERROR(INDEX(Registro!$A$13:$A$37,MATCH("Gestionar de cerca|4",Registro!$AB$13:$AB$37,0))&". "&INDEX(Registro!$B$13:$B$37,MATCH("Gestionar de cerca|4",Registro!$AB$13:$AB$37,0))&" - "&INDEX(Registro!$U$13:$U$37,MATCH("Gestionar de cerca|4",Registro!$AB$13:$AB$37,0)),"") -> 6. Departamento TI - Alta | H16: =IFERROR(INDEX(Registro!$A$13:$A$37,MATCH("Mantener satisfecho|4",Registro!$AB$13:$AB$37,0))&". "&INDEX(Registro!$B$13:$B$37,MATCH("Mantener satisfecho|4",Registro!$AB$13:$AB$37,0))&" - "&INDEX(Registro!$U$13:$U$37,MATCH("Mantener satisfecho|4",Registro!$AB$13:$AB$37,0)),"")
A17: =IFERROR(INDEX(Registro!$A$13:$A$37,MATCH("Gestionar de cerca|5",Registro!$AB$13:$AB$37,0))&". "&INDEX(Registro!$B$13:$B$37,MATCH("Gestionar de cerca|5",Registro!$AB$13:$AB$37,0))&" - "&INDEX(Registro!$U$13:$U$37,MATCH("Gestionar de cerca|5",Registro!$AB$13:$AB$37,0)),"") -> 7. Proveedor de kioscos - Media | H17: =IFERROR(INDEX(Registro!$A$13:$A$37,MATCH("Mantener satisfecho|5",Registro!$AB$13:$AB$37,0))&". "&INDEX(Registro!$B$13:$B$37,MATCH("Mantener satisfecho|5",Registro!$AB$13:$AB$37,0))&" - "&INDEX(Registro!$U$13:$U$37,MATCH("Mantener satisfecho|5",Registro!$AB$13:$AB$37,0)),"")
A18: =IF(G11>5,"+"&(G11-5)&" más en Registro","") -> +2 más en Registro | H18: =IF(N11>5,"+"&(N11-5)&" más en Registro","")
A19: Mayor interés | H19: Menor interés
A20: Mantener informado | G20: =COUNTIF(Registro!$S$13:$S$37,"Mantener informado") -> 6 | H20: Monitorear | N20: =COUNTIF(Registro!$S$13:$S$37,"Monitorear") -> 1
A21: Interés alto + menor poder. Clave para adopción, feedback y señales tempranas. | H21: Baja influencia + menor interés. Seguimiento ligero y escucha pasiva.
A22: =IFERROR(INDEX(Registro!$A$13:$A$37,MATCH("Mantener informado|1",Registro!$AB$13:$AB$37,0))&". "&INDEX(Registro!$B$13:$B$37,MATCH("Mantener informado|1",Registro!$AB$13:$AB$37,0))&" - "&INDEX(Registro!$U$13:$U$37,MATCH("Mantener informado|1",Registro!$AB$13:$AB$37,0)),"") -> 4. Equipos de tienda - Crítica | H22: =IFERROR(INDEX(Registro!$A$13:$A$37,MATCH("Monitorear|1",Registro!$AB$13:$AB$37,0))&". "&INDEX(Registro!$B$13:$B$37,MATCH("Monitorear|1",Registro!$AB$13:$AB$37,0))&" - "&INDEX(Registro!$U$13:$U$37,MATCH("Monitorear|1",Registro!$AB$13:$AB$37,0)),"") -> 11. Editoriales clave - Baja
A23: =IFERROR(INDEX(Registro!$A$13:$A$37,MATCH("Mantener informado|2",Registro!$AB$13:$AB$37,0))&". "&INDEX(Registro!$B$13:$B$37,MATCH("Mantener informado|2",Registro!$AB$13:$AB$37,0))&" - "&INDEX(Registro!$U$13:$U$37,MATCH("Mantener informado|2",Registro!$AB$13:$AB$37,0)),"") -> 5. Clientes frecuentes - Media | H23: =IFERROR(INDEX(Registro!$A$13:$A$37,MATCH("Monitorear|2",Registro!$AB$13:$AB$37,0))&". "&INDEX(Registro!$B$13:$B$37,MATCH("Monitorear|2",Registro!$AB$13:$AB$37,0))&" - "&INDEX(Registro!$U$13:$U$37,MATCH("Monitorear|2",Registro!$AB$13:$AB$37,0)),"")
A24: =IFERROR(INDEX(Registro!$A$13:$A$37,MATCH("Mantener informado|3",Registro!$AB$13:$AB$37,0))&". "&INDEX(Registro!$B$13:$B$37,MATCH("Mantener informado|3",Registro!$AB$13:$AB$37,0))&" - "&INDEX(Registro!$U$13:$U$37,MATCH("Mantener informado|3",Registro!$AB$13:$AB$37,0)),"") -> 8. Marketing CRM - Media | H24: =IFERROR(INDEX(Registro!$A$13:$A$37,MATCH("Monitorear|3",Registro!$AB$13:$AB$37,0))&". "&INDEX(Registro!$B$13:$B$37,MATCH("Monitorear|3",Registro!$AB$13:$AB$37,0))&" - "&INDEX(Registro!$U$13:$U$37,MATCH("Monitorear|3",Registro!$AB$13:$AB$37,0)),"")
A25: =IFERROR(INDEX(Registro!$A$13:$A$37,MATCH("Mantener informado|4",Registro!$AB$13:$AB$37,0))&". "&INDEX(Registro!$B$13:$B$37,MATCH("Mantener informado|4",Registro!$AB$13:$AB$37,0))&" - "&INDEX(Registro!$U$13:$U$37,MATCH("Mantener informado|4",Registro!$AB$13:$AB$37,0)),"") -> 13. Agencia de accesibilidad digital - Baja | H25: =IFERROR(INDEX(Registro!$A$13:$A$37,MATCH("Monitorear|4",Registro!$AB$13:$AB$37,0))&". "&INDEX(Registro!$B$13:$B$37,MATCH("Monitorear|4",Registro!$AB$13:$AB$37,0))&" - "&INDEX(Registro!$U$13:$U$37,MATCH("Monitorear|4",Registro!$AB$13:$AB$37,0)),"")
A26: =IFERROR(INDEX(Registro!$A$13:$A$37,MATCH("Mantener informado|5",Registro!$AB$13:$AB$37,0))&". "&INDEX(Registro!$B$13:$B$37,MATCH("Mantener informado|5",Registro!$AB$13:$AB$37,0))&" - "&INDEX(Registro!$U$13:$U$37,MATCH("Mantener informado|5",Registro!$AB$13:$AB$37,0)),"") -> 14. Soporte técnico tiendas - Media | H26: =IFERROR(INDEX(Registro!$A$13:$A$37,MATCH("Monitorear|5",Registro!$AB$13:$AB$37,0))&". "&INDEX(Registro!$B$13:$B$37,MATCH("Monitorear|5",Registro!$AB$13:$AB$37,0))&" - "&INDEX(Registro!$U$13:$U$37,MATCH("Monitorear|5",Registro!$AB$13:$AB$37,0)),"")
A27: =IF(G20>5,"+"&(G20-5)&" más en Registro","") -> +1 más en Registro | H27: =IF(N20>5,"+"&(N20-5)&" más en Registro","")
A28: Menor poder | H28: Menor poder
A31: Radar de atención
A32: Rank | B32: Stakeholder | H32: Score | I32: Cuadrante | K32: Estado | L32: Próxima acción
A33: 1 | B33: =IFERROR(INDEX(Registro!$B$13:$B$37,MATCH($A33,Registro!$AC$13:$AC$37,0)),"") -> Comité de empresa | H33: =IFERROR(INDEX(Registro!$T$13:$T$37,MATCH($A33,Registro!$AC$13:$AC$37,0)),"") -> 86 | I33: =IFERROR(INDEX(Registro!$S$13:$S$37,MATCH($A33,Registro!$AC$13:$AC$37,0)),"") -> Gestionar de cerca | K33: =IFERROR(INDEX(Registro!$R$13:$R$37,MATCH($A33,Registro!$AC$13:$AC$37,0)),"") -> Próxima | L33: =IFERROR(INDEX(Registro!$P$13:$P$37,MATCH($A33,Registro!$AC$13:$AC$37,0)),"") -> Abrir mesa específica de impacto laboral
A34: 2 | B34: =IFERROR(INDEX(Registro!$B$13:$B$37,MATCH($A34,Registro!$AC$13:$AC$37,0)),"") -> Franquiciados / propietarios | H34: =IFERROR(INDEX(Registro!$T$13:$T$37,MATCH($A34,Registro!$AC$13:$AC$37,0)),"") -> 82 | I34: =IFERROR(INDEX(Registro!$S$13:$S$37,MATCH($A34,Registro!$AC$13:$AC$37,0)),"") -> Gestionar de cerca | K34: =IFERROR(INDEX(Registro!$R$13:$R$37,MATCH($A34,Registro!$AC$13:$AC$37,0)),"") -> Próxima | L34: =IFERROR(INDEX(Registro!$P$13:$P$37,MATCH($A34,Registro!$AC$13:$AC$37,0)),"") -> Alinear modelo económico por tienda
A35: 3 | B35: =IFERROR(INDEX(Registro!$B$13:$B$37,MATCH($A35,Registro!$AC$13:$AC$37,0)),"") -> Equipos de tienda | H35: =IFERROR(INDEX(Registro!$T$13:$T$37,MATCH($A35,Registro!$AC$13:$AC$37,0)),"") -> 82 | I35: =IFERROR(INDEX(Registro!$S$13:$S$37,MATCH($A35,Registro!$AC$13:$AC$37,0)),"") -> Mantener informado | K35: =IFERROR(INDEX(Registro!$R$13:$R$37,MATCH($A35,Registro!$AC$13:$AC$37,0)),"") -> Próxima | L35: =IFERROR(INDEX(Registro!$P$13:$P$37,MATCH($A35,Registro!$AC$13:$AC$37,0)),"") -> Sesión de escucha + demo en tienda piloto
A36: 4 | B36: =IFERROR(INDEX(Registro!$B$13:$B$37,MATCH($A36,Registro!$AC$13:$AC$37,0)),"") -> Dirección de Operaciones | H36: =IFERROR(INDEX(Registro!$T$13:$T$37,MATCH($A36,Registro!$AC$13:$AC$37,0)),"") -> 78 | I36: =IFERROR(INDEX(Registro!$S$13:$S$37,MATCH($A36,Registro!$AC$13:$AC$37,0)),"") -> Gestionar de cerca | K36: =IFERROR(INDEX(Registro!$R$13:$R$37,MATCH($A36,Registro!$AC$13:$AC$37,0)),"") -> Próxima | L36: =IFERROR(INDEX(Registro!$P$13:$P$37,MATCH($A36,Registro!$AC$13:$AC$37,0)),"") -> Cerrar flujo operativo final
A37: 5 | B37: =IFERROR(INDEX(Registro!$B$13:$B$37,MATCH($A37,Registro!$AC$13:$AC$37,0)),"") -> Protección de datos (DPO) | H37: =IFERROR(INDEX(Registro!$T$13:$T$37,MATCH($A37,Registro!$AC$13:$AC$37,0)),"") -> 74 | I37: =IFERROR(INDEX(Registro!$S$13:$S$37,MATCH($A37,Registro!$AC$13:$AC$37,0)),"") -> Gestionar de cerca | K37: =IFERROR(INDEX(Registro!$R$13:$R$37,MATCH($A37,Registro!$AC$13:$AC$37,0)),"") -> Próxima | L37: =IFERROR(INDEX(Registro!$P$13:$P$37,MATCH($A37,Registro!$AC$13:$AC$37,0)),"") -> Revisar base legal y textos de consentimiento
A40: Cómo usarla
A41: 1) Edita la hoja Registro y ajusta Poder / Interés / Impacto / Riesgo en escala 1-5.
A42: 2) El mapa se recoloca solo por cuadrante y el radar prioriza automáticamente los casos más sensibles.
A43: 3) La brecha de apoyo compara la posición actual con la posición objetivo para orientar el esfuerzo de engagement.
A45: Referencias consultadas para la lógica de la plantilla
A46: https://es.smartsheet.com/free-stakeholder-analysis-templates
A47: https://www.smartsheet.com/content/stakeholder-mapping-template
A48: https://www.projectmanager.com/templates/stakeholder-map-template
...

Sheet Registro
A1: Registro de stakeholders
A4: Completa o sustituye las filas 13-37. Los campos calculados se actualizan solos. Escala 1-5: 1 = bajo, 5 = alto. Filtra y ordena desde esta hoja.
S7: 1-5 | T7: Poder / interés / impacto / riesgo
S8: Apoyo | T8: Muy en contra -> Patrocinador
S9: Uso | T9: Filtra por prioridad, owner o cuadrante
A12: ID | B12: Stakeholder | C12: Tipo | D12: Grupo | E12: Rol / relación | F12: Qué le importa | G12: Poder (1-5) | H12: Interés (1-5) | I12: Impacto (1-5) | J12: Apoyo actual | K12: Apoyo objetivo | L12: Riesgo resistencia (1-5) | M12: Owner interno | N12: Canal preferente | O12: Cadencia sugerida | P12: Próxima acción | Q12: Fecha próxima acción | R12: Estado seguimiento | S12: Cuadrante | T12: Score prioridad | U12: Prioridad | V12: Brecha apoyo | W12: Estrategia recomendada | X12: Notas | Y12: _apoyo_actual_num | Z12: _apoyo_objetivo_num | AA12: _orden_cuadrante | AB12: _clave_cuadrante | AC12: _rank_global
A13: 1 | B13: Dirección General | C13: Interno | D13: Comité ejecutivo | E13: Sponsor del piloto | F13: ROI, velocidad de implantación y reputación de marca | G13: 5 | H13: 5 | I13: 5 | J13: Patrocinador | K13: Patrocinador | L13: 1 | M13: PMO Transformación | N13: Comité | O13: =IF(S13="","",IF(S13="Gestionar de cerca","Semanal",IF(S13="Mantener satisfecho","Mensual",IF(S13="Mantener informado","Quincenal","Mensual ligero")))) -> Semanal | P13: Validar criterios de éxito del piloto | Q13: 46099 | R13: =IF(Q13="","Sin fecha",IF(Q13<TODAY(),"Vencido",IF(Q13<=TODAY()+7,"Próxima","Al día"))) -> Próxima | S13: =IF(OR(G13="",H13=""),"",IF(AND(G13>=4,H13>=4),"Gestionar de cerca",IF(AND(G13>=4,H13<4),"Mantener satisfecho",IF(AND(G13<4,H13>=4),"Mantener informado","Monitorear")))) -> Gestionar de cerca | T13: =IF(B13="","",ROUND((G13*0.28 + H13*0.2 + I13*0.18 + L13*0.16 + (6-Y13)*0.1 + MAX(0,Z13-Y13)*0.08)*20,0)) -> 71 | U13: =IF(T13="","",IF(T13>=80,"Crítica",IF(T13>=65,"Alta",IF(T13>=50,"Media","Baja")))) -> Alta | V13: =IF(OR(Y13="",Z13=""),"",Z13-Y13) -> 0 | W13: =IF(S13="","",IF(S13="Gestionar de cerca",IF(Y13<=2,"Sponsor + reunión 1:1 + plan de objeciones",IF(Y13=3,"Alinear beneficios y pedir validación quincenal","Usarlo como embajador y copatrocinar hitos")),IF(S13="Mantener satisfecho",IF(Y13<=3,"Resumen ejecutivo + gestión de riesgos clave","Checkpoint ejecutivo mensual"),IF(S13="Mantener informado",IF(Y13<=2,"Escucha activa + demo + FAQ","Actualizar y recoger feedback operativo"),"Seguimiento ligero y escucha pasiva")))) -> Usarlo como embajador y copatrocinar hitos | Y13: =IF(J13="","",VLOOKUP(J13,MapApoyo,2,FALSE())) -> 5 | Z13: =IF(K13="","",VLOOKUP(K13,MapApoyo,2,FALSE())) -> 5 | AA13: =IF(S13="","",COUNTIF($S$13:S13,S13)) -> 1 | AB13: =IF(S13="","",S13&"|"&AA13) -> Gestionar de cerca|1 | AC13: =IF(T13="","",COUNTIF($T$13:$T$37,">"&T13)+COUNTIF($T$13:T13,T13)) -> 7
A14: 2 | B14: Franquiciados / propietarios | C14: Externo | D14: Red de tiendas | E14: Deciden adopción y ritmo real de despliegue | F14: Rentabilidad por tienda, complejidad operativa y tiempo de formación | G14: 5 | H14: 4 | I14: 5 | J14: Neutral | K14: A favor | L14: 4 | M14: Dirección de Expansión | N14: Reunión 1:1 | O14: =IF(S14="","",IF(S14="Gestionar de cerca","Semanal",IF(S14="Mantener satisfecho","Mensual",IF(S14="Mantener informado","Quincenal","Mensual ligero")))) -> Semanal | P14: Alinear modelo económico por tienda | Q14: 46101 | R14: =IF(Q14="","Sin fecha",IF(Q14<TODAY(),"Vencido",IF(Q14<=TODAY()+7,"Próxima","Al día"))) -> Próxima | S14: =IF(OR(G14="",H14=""),"",IF(AND(G14>=4,H14>=4),"Gestionar de cerca",IF(AND(G14>=4,H14<4),"Mantener satisfecho",IF(AND(G14<4,H14>=4),"Mantener informado","Monitorear")))) -> Gestionar de cerca | T14: =IF(B14="","",ROUND((G14*0.28 + H14*0.2 + I14*0.18 + L14*0.16 + (6-Y14)*0.1 + MAX(0,Z14-Y14)*0.08)*20,0)) -> 82 | U14: =IF(T14="","",IF(T14>=80,"Crítica",IF(T14>=65,"Alta",IF(T14>=50,"Media","Baja")))) -> Crítica | V14: =IF(OR(Y14="",Z14=""),"",Z14-Y14) -> 1 | W14: =IF(S14="","",IF(S14="Gestionar de cerca",IF(Y14<=2,"Sponsor + reunión 1:1 + plan de objeciones",IF(Y14=3,"Alinear beneficios y pedir validación quincenal","Usarlo como embajador y copatrocinar hitos")),IF(S14="Mantener satisfecho",IF(Y14<=3,"Resumen ejecutivo + gestión de riesgos clave","Checkpoint ejecutivo mensual"),IF(S14="Mantener informado",IF(Y14<=2,"Escucha activa + demo + FAQ","Actualizar y recoger feedback operativo"),"Seguimiento ligero y escucha pasiva")))) -> Alinear beneficios y pedir validación quincenal | Y14: =IF(J14="","",VLOOKUP(J14,MapApoyo,2,FALSE())) -> 3 | Z14: =IF(K14="","",VLOOKUP(K14,MapApoyo,2,FALSE())) -> 4 | AA14: =IF(S14="","",COUNTIF($S$13:S14,S14)) -> 2 | AB14: =IF(S14="","",S14&"|"&AA14) -> Gestionar de cerca|2 | AC14: =IF(T14="","",COUNTIF($T$13:$T$37,">"&T14)+COUNTIF($T$13:T14,T14)) -> 2
A15: 3 | B15: Dirección de Operaciones | C15: Interno | D15: Operaciones | E15: Responsable de procesos en tienda | F15: Colas, productividad, incidencias y cumplimiento de SLA | G15: 5 | H15: 5 | I15: 5 | J15: A favor | K15: Patrocinador | L15: 2 | M15: PMO Transformación | N15: Comité | O15: =IF(S15="","",IF(S15="Gestionar de cerca","Semanal",IF(S15="Mantener satisfecho","Mensual",IF(S15="Mantener informado","Quincenal","Mensual ligero")))) -> Semanal | P15: Cerrar flujo operativo final | Q15: 46098 | R15: =IF(Q15="","Sin fecha",IF(Q15<TODAY(),"Vencido",IF(Q15<=TODAY()+7,"Próxima","Al día"))) -> Próxima | S15: =IF(OR(G15="",H15=""),"",IF(AND(G15>=4,H15>=4),"Gestionar de cerca",IF(AND(G15>=4,H15<4),"Mantener satisfecho",IF(AND(G15<4,H15>=4),"Mantener informado","Monitorear")))) -> Gestionar de cerca | T15: =IF(B15="","",ROUND((G15*0.28 + H15*0.2 + I15*0.18 + L15*0.16 + (6-Y15)*0.1 + MAX(0,Z15-Y15)*0.08)*20,0)) -> 78 | U15: =IF(T15="","",IF(T15>=80,"Crítica",IF(T15>=65,"Alta",IF(T15>=50,"Media","Baja")))) -> Alta | V15: =IF(OR(Y15="",Z15=""),"",Z15-Y15) -> 1 | W15: =IF(S15="","",IF(S15="Gestionar de cerca",IF(Y15<=2,"Sponsor + reunión 1:1 + plan de objeciones",IF(Y15=3,"Alinear beneficios y pedir validación quincenal","Usarlo como embajador y copatrocinar hitos")),IF(S15="Mantener satisfecho",IF(Y15<=3,"Resumen ejecutivo + gestión de riesgos clave","Checkpoint ejecutivo mensual"),IF(S15="Mantener informado",IF(Y15<=2,"Escucha activa + demo + FAQ","Actualizar y recoger feedback operativo"),"Seguimiento ligero y escucha pasiva")))) -> Usarlo como embajador y copatrocinar hitos | Y15: =IF(J15="","",VLOOKUP(J15,MapApoyo,2,FALSE())) -> 4 | Z15: =IF(K15="","",VLOOKUP(K15,MapApoyo,2,FALSE())) -> 5 | AA15: =IF(S15="","",COUNTIF($S$13:S15,S15)) -> 3 | AB15: =IF(S15="","",S15&"|"&AA15) -> Gestionar de cerca|3 | AC15: =IF(T15="","",COUNTIF($T$13:$T$37,">"&T15)+COUNTIF($T$13:T15,T15)) -> 4
A16: 4 | B16: Equipos de tienda | C16: Interno | D16: Retail | E16: Usan el sistema cada día | F16: Carga de trabajo, errores de cobro y atención al cliente | G16: 3 | H16: 5 | I16: 5 | J16: En contra | K16: A favor | L16: 5 | M16: Operaciones Retail | N16: Taller | O16: =IF(S16="","",IF(S16="Gestionar de cerca","Semanal",IF(S16="Mantener satisfecho","Mensual",IF(S16="Mantener informado","Quincenal","Mensual ligero")))) -> Quincenal | P16: Sesión de escucha + demo en tienda piloto | Q16: 46100 | R16: =IF(Q16="","Sin fecha",IF(Q16<TODAY(),"Vencido",IF(Q16<=TODAY()+7,"Próxima","Al día"))) -> Próxima | S16: =IF(OR(G16="",H16=""),"",IF(AND(G16>=4,H16>=4),"Gestionar de cerca",IF(AND(G16>=4,H16<4),"Mantener satisfecho",IF(AND(G16<4,H16>=4),"Mantener informado","Monitorear")))) -> Mantener informado | T16: =IF(B16="","",ROUND((G16*0.28 + H16*0.2 + I16*0.18 + L16*0.16 + (6-Y16)*0.1 + MAX(0,Z16-Y16)*0.08)*20,0)) -> 82 | U16: =IF(T16="","",IF(T16>=80,"Crítica",IF(T16>=65,"Alta",IF(T16>=50,"Media","Baja")))) -> Crítica | V16: =IF(OR(Y16="",Z16=""),"",Z16-Y16) -> 2 | W16: =IF(S16="","",IF(S16="Gestionar de cerca",IF(Y16<=2,"Sponsor + reunión 1:1 + plan de objeciones",IF(Y16=3,"Alinear beneficios y pedir validación quincenal","Usarlo como embajador y copatrocinar hitos")),IF(S16="Mantener satisfecho",IF(Y16<=3,"Resumen ejecutivo + gestión de riesgos clave","Checkpoint ejecutivo mensual"),IF(S16="Mantener informado",IF(Y16<=2,"Escucha activa + demo + FAQ","Actualizar y recoger feedback operativo"),"Seguimiento ligero y escucha pasiva")))) -> Escucha activa + demo + FAQ | Y16: =IF(J16="","",VLOOKUP(J16,MapApoyo,2,FALSE())) -> 2 | Z16: =IF(K16="","",VLOOKUP(K16,MapApoyo,2,FALSE())) -> 4 | AA16: =IF(S16="","",COUNTIF($S$13:S16,S16)) -> 1 | AB16: =IF(S16="","",S16&"|"&AA16) -> Mantener informado|1 | AC16: =IF(T16="","",COUNTIF($T$13:$T$37,">"&T16)+COUNTIF($T$13:T16,T16)) -> 3
A17: 5 | B17: Clientes frecuentes | C17: Externo | D17: Clientes | E17: Usuarios intensivos del programa de fidelización | F17: Rapidez, privacidad y facilidad de uso | G17: 2 | H17: 4 | I17: 4 | J17: A favor | K17: A favor | L17: 2 | M17: Marketing CRM | N17: Encuesta / feedback | O17: =IF(S17="","",IF(S17="Gestionar de cerca","Semanal",IF(S17="Mantener satisfecho","Mensual",IF(S17="Mantener informado","Quincenal","Mensual ligero")))) -> Quincenal | P17: Probar prototipo de app con 20 usuarios | Q17: 46105 | R17: =IF(Q17="","Sin fecha",IF(Q17<TODAY(),"Vencido",IF(Q17<=TODAY()+7,"Próxima","Al día"))) -> Al día | S17: =IF(OR(G17="",H17=""),"",IF(AND(G17>=4,H17>=4),"Gestionar de cerca",IF(AND(G17>=4,H17<4),"Mantener satisfecho",IF(AND(G17<4,H17>=4),"Mantener informado","Monitorear")))) -> Mantener informado | T17: =IF(B17="","",ROUND((G17*0.28 + H17*0.2 + I17*0.18 + L17*0.16 + (6-Y17)*0.1 + MAX(0,Z17-Y17)*0.08)*20,0)) -> 52 | U17: =IF(T17="","",IF(T17>=80,"Crítica",IF(T17>=65,"Alta",IF(T17>=50,"Media","Baja")))) -> Media | V17: =IF(OR(Y17="",Z17=""),"",Z17-Y17) -> 0 | W17: =IF(S17="","",IF(S17="Gestionar de cerca",IF(Y17<=2,"Sponsor + reunión 1:1 + plan de objeciones",IF(Y17=3,"Alinear beneficios y pedir validación quincenal","Usarlo como embajador y copatrocinar hitos")),IF(S17="Mantener satisfecho",IF(Y17<=3,"Resumen ejecutivo + gestión de riesgos clave","Checkpoint ejecutivo mensual"),IF(S17="Mantener informado",IF(Y17<=2,"Escucha activa + demo + FAQ","Actualizar y recoger feedback operativo"),"Seguimiento ligero y escucha pasiva")))) -> Actualizar y recoger feedback operativo | Y17: =IF(J17="","",VLOOKUP(J17,MapApoyo,2,FALSE())) -> 4 | Z17: =IF(K17="","",VLOOKUP(K17,MapApoyo,2,FALSE())) -> 4 | AA17: =IF(S17="","",COUNTIF($S$13:S17,S17)) -> 2 | AB17: =IF(S17="","",S17&"|"&AA17) -> Mantener informado|2 | AC17: =IF(T17="","",COUNTIF($T$13:$T$37,">"&T17)+COUNTIF($T$13:T17,T17)) -> 12
A18: 6 | B18: Departamento TI | C18: Interno | D18: Tecnología | E18: Integra kioscos, TPV y CRM | F18: Arquitectura, seguridad, deuda técnica y soporte | G18: 4 | H18: 5 | I18: 5 | J18: A favor | K18: Patrocinador | L18: 2 | M18: CTO Office | N18: Comité | O18: =IF(S18="","",IF(S18="Gestionar de cerca","Semanal",IF(S18="Mantener satisfecho","Mensual",IF(S18="Mantener informado","Quincenal","Mensual ligero")))) -> Semanal | P18: Aprobar plan de integración con TPV | Q18: 46102 | R18: =IF(Q18="","Sin fecha",IF(Q18<TODAY(),"Vencido",IF(Q18<=TODAY()+7,"Próxima","Al día"))) -> Próxima | S18: =IF(OR(G18="",H18=""),"",IF(AND(G18>=4,H18>=4),"Gestionar de cerca",IF(AND(G18>=4,H18<4),"Mantener satisfecho",IF(AND(G18<4,H18>=4),"Mantener informado","Monitorear")))) -> Gestionar de cerca | T18: =IF(B18="","",ROUND((G18*0.28 + H18*0.2 + I18*0.18 + L18*0.16 + (6-Y18)*0.1 + MAX(0,Z18-Y18)*0.08)*20,0)) -> 72 | U18: =IF(T18="","",IF(T18>=80,"Crítica",IF(T18>=65,"Alta",IF(T18>=50,"Media","Baja")))) -> Alta | V18: =IF(OR(Y18="",Z18=""),"",Z18-Y18) -> 1 | W18: =IF(S18="","",IF(S18="Gestionar de cerca",IF(Y18<=2,"Sponsor + reunión 1:1 + plan de objeciones",IF(Y18=3,"Alinear beneficios y pedir validación quincenal","Usarlo como embajador y copatrocinar hitos")),IF(S18="Mantener satisfecho",IF(Y18<=3,"Resumen ejecutivo + gestión de riesgos clave","Checkpoint ejecutivo mensual"),IF(S18="Mantener informado",IF(Y18<=2,"Escucha activa + demo + FAQ","Actualizar y recoger feedback operativo"),"Seguimiento ligero y escucha pasiva")))) -> Usarlo como embajador y copatrocinar hitos | Y18: =IF(J18="","",VLOOKUP(J18,MapApoyo,2,FALSE())) -> 4 | Z18: =IF(K18="","",VLOOKUP(K18,MapApoyo,2,FALSE())) -> 5 | AA18: =IF(S18="","",COUNTIF($S$13:S18,S18)) -> 4 | AB18: =IF(S18="","",S18&"|"&AA18) -> Gestionar de cerca|4 | AC18: =IF(T18="","",COUNTIF($T$13:$T$37,">"&T18)+COUNTIF($T$13:T18,T18)) -> 6
A19: 7 | B19: Proveedor de kioscos | C19: Externo | D19: Proveedor | E19: Suministra hardware y mantenimiento | F19: Volumen, alcance contractual y estabilidad del piloto | G19: 4 | H19: 4 | I19: 4 | J19: A favor | K19: A favor | L19: 2 | M19: Compras + TI | N19: Llamada | O19: =IF(S19="","",IF(S19="Gestionar de cerca","Semanal",IF(S19="Mantener satisfecho","Mensual",IF(S19="Mantener informado","Quincenal","Mensual ligero")))) -> Semanal | P19: Confirmar calendario de instalación | Q19: 46107 | R19: =IF(Q19="","Sin fecha",IF(Q19<TODAY(),"Vencido",IF(Q19<=TODAY()+7,"Próxima","Al día"))) -> Al día | S19: =IF(OR(G19="",H19=""),"",IF(AND(G19>=4,H19>=4),"Gestionar de cerca",IF(AND(G19>=4,H19<4),"Mantener satisfecho",IF(AND(G19<4,H19>=4),"Mantener informado","Monitorear")))) -> Gestionar de cerca | T19: =IF(B19="","",ROUND((G19*0.28 + H19*0.2 + I19*0.18 + L19*0.16 + (6-Y19)*0.1 + MAX(0,Z19-Y19)*0.08)*20,0)) -> 63 | U19: =IF(T19="","",IF(T19>=80,"Crítica",IF(T19>=65,"Alta",IF(T19>=50,"Media","Baja")))) -> Media | V19: =IF(OR(Y19="",Z19=""),"",Z19-Y19) -> 0 | W19: =IF(S19="","",IF(S19="Gestionar de cerca",IF(Y19<=2,"Sponsor + reunión 1:1 + plan de objeciones",IF(Y19=3,"Alinear beneficios y pedir validación quincenal","Usarlo como embajador y copatrocinar hitos")),IF(S19="Mantener satisfecho",IF(Y19<=3,"Resumen ejecutivo + gestión de riesgos clave","Checkpoint ejecutivo mensual"),IF(S19="Mantener informado",IF(Y19<=2,"Escucha activa + demo + FAQ","Actualizar y recoger feedback operativo"),"Seguimiento ligero y escucha pasiva")))) -> Usarlo como embajador y copatrocinar hitos | Y19: =IF(J19="","",VLOOKUP(J19,MapApoyo,2,FALSE())) -> 4 | Z19: =IF(K19="","",VLOOKUP(K19,MapApoyo,2,FALSE())) -> 4 | AA19: =IF(S19="","",COUNTIF($S$13:S19,S19)) -> 5 | AB19: =IF(S19="","",S19&"|"&AA19) -> Gestionar de cerca|5 | AC19: =IF(T19="","",COUNTIF($T$13:$T$37,">"&T19)+COUNTIF($T$13:T19,T19)) -> 10
A20: 8 | B20: Marketing CRM | C20: Interno | D20: Marketing | E20: Define journeys y activaciones | F20: Captación de datos, recurrencia y segmentación | G20: 3 | H20: 4 | I20: 4 | J20: A favor | K20: A favor | L20: 2 | M20: CMO Office | N20: Dashboard | O20: =IF(S20="","",IF(S20="Gestionar de cerca","Semanal",IF(S20="Mantener satisfecho","Mensual",IF(S20="Mantener informado","Quincenal","Mensual ligero")))) -> Quincenal | P20: Diseñar campaña de onboarding | Q20: 46109 | R20: =IF(Q20="","Sin fecha",IF(Q20<TODAY(),"Vencido",IF(Q20<=TODAY()+7,"Próxima","Al día"))) -> Al día | S20: =IF(OR(G20="",H20=""),"",IF(AND(G20>=4,H20>=4),"Gestionar de cerca",IF(AND(G20>=4,H20<4),"Mantener satisfecho",IF(AND(G20<4,H20>=4),"Mantener informado","Monitorear")))) -> Mantener informado | T20: =IF(B20="","",ROUND((G20*0.28 + H20*0.2 + I20*0.18 + L20*0.16 + (6-Y20)*0.1 + MAX(0,Z20-Y20)*0.08)*20,0)) -> 58 | U20: =IF(T20="","",IF(T20>=80,"Crítica",IF(T20>=65,"Alta",IF(T20>=50,"Media","Baja")))) -> Media | V20: =IF(OR(Y20="",Z20=""),"",Z20-Y20) -> 0 | W20: =IF(S20="","",IF(S20="Gestionar de cerca",IF(Y20<=2,"Sponsor + reunión 1:1 + plan de objeciones",IF(Y20=3,"Alinear beneficios y pedir validación quincenal","Usarlo como embajador y copatrocinar hitos")),IF(S20="Mantener satisfecho",IF(Y20<=3,"Resumen ejecutivo + gestión de riesgos clave","Checkpoint ejecutivo mensual"),IF(S20="Mantener informado",IF(Y20<=2,"Escucha activa + demo + FAQ","Actualizar y recoger feedback operativo"),"Seguimiento ligero y escucha pasiva")))) -> Actualizar y recoger feedback operativo | Y20: =IF(J20="","",VLOOKUP(J20,MapApoyo,2,FALSE())) -> 4 | Z20: =IF(K20="","",VLOOKUP(K20,MapApoyo,2,FALSE())) -> 4 | AA20: =IF(S20="","",COUNTIF($S$13:S20,S20)) -> 3 | AB20: =IF(S20="","",S20&"|"&AA20) -> Mantener informado|3 | AC20: =IF(T20="","",COUNTIF($T$13:$T$37,">"&T20)+COUNTIF($T$13:T20,T20)) -> 11
A21: 9 | B21: Finanzas | C21: Interno | D21: Finanzas | E21: Valida CAPEX / OPEX y payback | F21: Margen, amortización y costes ocultos | G21: 4 | H21: 3 | I21: 4 | J21: Neutral | K21: A favor | L21: 3 | M21: PMO Transformación | N21: Email ejecutivo | O21: =IF(S21="","",IF(S21="Gestionar de cerca","Semanal",IF(S21="Mantener satisfecho","Mensual",IF(S21="Mantener informado","Quincenal","Mensual ligero")))) -> Mensual | P21: Revisar business case tienda a tienda | Q21: 46093 | R21: =IF(Q21="","Sin fecha",IF(Q21<TODAY(),"Vencido",IF(Q21<=TODAY()+7,"Próxima","Al día"))) -> Vencido | S21: =IF(OR(G21="",H21=""),"",IF(AND(G21>=4,H21>=4),"Gestionar de cerca",IF(AND(G21>=4,H21<4),"Mantener satisfecho",IF(AND(G21<4,H21>=4),"Mantener informado","Monitorear")))) -> Mantener satisfecho | T21: =IF(B21="","",ROUND((G21*0.28 + H21*0.2 + I21*0.18 + L21*0.16 + (6-Y21)*0.1 + MAX(0,Z21-Y21)*0.08)*20,0)) -> 66 | U21: =IF(T21="","",IF(T21>=80,"Crítica",IF(T21>=65,"Alta",IF(T21>=50,"Media","Baja")))) -> Alta | V21: =IF(OR(Y21="",Z21=""),"",Z21-Y21) -> 1 | W21: =IF(S21="","",IF(S21="Gestionar de cerca",IF(Y21<=2,"Sponsor + reunión 1:1 + plan de objeciones",IF(Y21=3,"Alinear beneficios y pedir validación quincenal","Usarlo como embajador y copatrocinar hitos")),IF(S21="Mantener satisfecho",IF(Y21<=3,"Resumen ejecutivo + gestión de riesgos clave","Checkpoint ejecutivo mensual"),IF(S21="Mantener informado",IF(Y21<=2,"Escucha activa + demo + FAQ","Actualizar y recoger feedback operativo"),"Seguimiento ligero y escucha pasiva")))) -> Resumen ejecutivo + gestión de riesgos clave | Y21: =IF(J21="","",VLOOKUP(J21,MapApoyo,2,FALSE())) -> 3 | Z21: =IF(K21="","",VLOOKUP(K21,MapApoyo,2,FALSE())) -> 4 | AA21: =IF(S21="","",COUNTIF($S$13:S21,S21)) -> 1 | AB21: =IF(S21="","",S21&"|"&AA21) -> Mantener satisfecho|1 | AC21: =IF(T21="","",COUNTIF($T$13:$T$37,">"&T21)+COUNTIF($T$13:T21,T21)) -> 8
A22: 10 | B22: Protección de datos (DPO) | C22: Interno | D22: Legal | E22: Supervisa tratamiento de datos de clientes | F22: Consentimiento, minimización de datos y trazabilidad | G22: 4 | H22: 4 | I22: 5 | J22: Neutral | K22: A favor | L22: 3 | M22: Legal & Compliance | N22: Reunión 1:1 | O22: =IF(S22="","",IF(S22="Gestionar de cerca","Semanal",IF(S22="Mantener satisfecho","Mensual",IF(S22="Mantener informado","Quincenal","Mensual ligero")))) -> Semanal | P22: Revisar base legal y textos de consentimiento | Q22: 46103 | R22: =IF(Q22="","Sin fecha",IF(Q22<TODAY(),"Vencido",IF(Q22<=TODAY()+7,"Próxima","Al día"))) -> Próxima | S22: =IF(OR(G22="",H22=""),"",IF(AND(G22>=4,H22>=4),"Gestionar de cerca",IF(AND(G22>=4,H22<4),"Mantener satisfecho",IF(AND(G22<4,H22>=4),"Mantener informado","Monitorear")))) -> Gestionar de cerca | T22: =IF(B22="","",ROUND((G22*0.28 + H22*0.2 + I22*0.18 + L22*0.16 + (6-Y22)*0.1 + MAX(0,Z22-Y22)*0.08)*20,0)) -> 74 | U22: =IF(T22="","",IF(T22>=80,"Crítica",IF(T22>=65,"Alta",IF(T22>=50,"Media","Baja")))) -> Alta | V22: =IF(OR(Y22="",Z22=""),"",Z22-Y22) -> 1 | W22: =IF(S22="","",IF(S22="Gestionar de cerca",IF(Y22<=2,"Sponsor + reunión 1:1 + plan de objeciones",IF(Y22=3,"Alinear beneficios y pedir validación quincenal","Usarlo como embajador y copatrocinar hitos")),IF(S22="Mantener satisfecho",IF(Y22<=3,"Resumen ejecutivo + gestión de riesgos clave","Checkpoint ejecutivo mensual"),IF(S22="Mantener informado",IF(Y22<=2,"Escucha activa + demo + FAQ","Actualizar y recoger feedback operativo"),"Seguimiento ligero y escucha pasiva")))) -> Alinear beneficios y pedir validación quincenal | Y22: =IF(J22="","",VLOOKUP(J22,MapApoyo,2,FALSE())) -> 3 | Z22: =IF(K22="","",VLOOKUP(K22,MapApoyo,2,FALSE())) -> 4 | AA22: =IF(S22="","",COUNTIF($S$13:S22,S22)) -> 6 | AB22: =IF(S22="","",S22&"|"&AA22) -> Gestionar de cerca|6 | AC22: =IF(T22="","",COUNTIF($T$13:$T$37,">"&T22)+COUNTIF($T$13:T22,T22)) -> 5
A23: 11 | B23: Editoriales clave | C23: Externo | D23: Partners | E23: Aportan campañas y novedades exclusivas | F23: Visibilidad de catálogo y promociones | G23: 2 | H23: 3 | I23: 2 | J23: Neutral | K23: Neutral | L23: 2 | M23: Marketing Trade | N23: Email ejecutivo | O23: =IF(S23="","",IF(S23="Gestionar de cerca","Semanal",IF(S23="Mantener satisfecho","Mensual",IF(S23="Mantener informado","Quincenal","Mensual ligero")))) -> Mensual ligero | P23: Compartir propuesta de campañas conjuntas | Q23: 46114 | R23: =IF(Q23="","Sin fecha",IF(Q23<TODAY(),"Vencido",IF(Q23<=TODAY()+7,"Próxima","Al día"))) -> Al día | S23: =IF(OR(G23="",H23=""),"",IF(AND(G23>=4,H23>=4),"Gestionar de cerca",IF(AND(G23>=4,H23<4),"Mantener satisfecho",IF(AND(G23<4,H23>=4),"Mantener informado","Monitorear")))) -> Monitorear | T23: =IF(B23="","",ROUND((G23*0.28 + H23*0.2 + I23*0.18 + L23*0.16 + (6-Y23)*0.1 + MAX(0,Z23-Y23)*0.08)*20,0)) -> 43 | U23: =IF(T23="","",IF(T23>=80,"Crítica",IF(T23>=65,"Alta",IF(T23>=50,"Media","Baja")))) -> Baja | V23: =IF(OR(Y23="",Z23=""),"",Z23-Y23) -> 0 | W23: =IF(S23="","",IF(S23="Gestionar de cerca",IF(Y23<=2,"Sponsor + reunión 1:1 + plan de objeciones",IF(Y23=3,"Alinear beneficios y pedir validación quincenal","Usarlo como embajador y copatrocinar hitos")),IF(S23="Mantener satisfecho",IF(Y23<=3,"Resumen ejecutivo + gestión de riesgos clave","Checkpoint ejecutivo mensual"),IF(S23="Mantener informado",IF(Y23<=2,"Escucha activa + demo + FAQ","Actualizar y recoger feedback operativo"),"Seguimiento ligero y escucha pasiva")))) -> Seguimiento ligero y escucha pasiva | Y23: =IF(J23="","",VLOOKUP(J23,MapApoyo,2,FALSE())) -> 3 | Z23: =IF(K23="","",VLOOKUP(K23,MapApoyo,2,FALSE())) -> 3 | AA23: =IF(S23="","",COUNTIF($S$13:S23,S23)) -> 1 | AB23: =IF(S23="","",S23&"|"&AA23) -> Monitorear|1 | AC23: =IF(T23="","",COUNTIF($T$13:$T$37,">"&T23)+COUNTIF($T$13:T23,T23)) -> 15
A24: 12 | B24: Comité de empresa | C24: Interno | D24: Relaciones laborales | E24: Puede amplificar resistencia o facilitar acuerdo | F24: Impacto en puestos, formación y cambios de tareas | G24: 4 | H24: 5 | I24: 5 | J24: En contra | K24: Neutral | L24: 5 | M24: RR. HH. | N24: Reunión 1:1 | O24: =IF(S24="","",IF(S24="Gestionar de cerca","Semanal",IF(S24="Mantener satisfecho","Mensual",IF(S24="Mantener informado","Quincenal","Mensual ligero")))) -> Semanal | P24: Abrir mesa específica de impacto laboral | Q24: 46097 | R24: =IF(Q24="","Sin fecha",IF(Q24<TODAY(),"Vencido",IF(Q24<=TODAY()+7,"Próxima","Al día"))) -> Próxima | S24: =IF(OR(G24="",H24=""),"",IF(AND(G24>=4,H24>=4),"Gestionar de cerca",IF(AND(G24>=4,H24<4),"Mantener satisfecho",IF(AND(G24<4,H24>=4),"Mantener informado","Monitorear")))) -> Gestionar de cerca | T24: =IF(B24="","",ROUND((G24*0.28 + H24*0.2 + I24*0.18 + L24*0.16 + (6-Y24)*0.1 + MAX(0,Z24-Y24)*0.08)*20,0)) -> 86 | U24: =IF(T24="","",IF(T24>=80,"Crítica",IF(T24>=65,"Alta",IF(T24>=50,"Media","Baja")))) -> Crítica | V24: =IF(OR(Y24="",Z24=""),"",Z24-Y24) -> 1 | W24: =IF(S24="","",IF(S24="Gestionar de cerca",IF(Y24<=2,"Sponsor + reunión 1:1 + plan de objeciones",IF(Y24=3,"Alinear beneficios y pedir validación quincenal","Usarlo como embajador y copatrocinar hitos")),IF(S24="Mantener satisfecho",IF(Y24<=3,"Resumen ejecutivo + gestión de riesgos clave","Checkpoint ejecutivo mensual"),IF(S24="Mantener informado",IF(Y24<=2,"Escucha activa + demo + FAQ","Actualizar y recoger feedback operativo"),"Seguimiento ligero y escucha pasiva")))) -> Sponsor + reunión 1:1 + plan de objeciones | Y24: =IF(J24="","",VLOOKUP(J24,MapApoyo,2,FALSE())) -> 2 | Z24: =IF(K24="","",VLOOKUP(K24,MapApoyo,2,FALSE())) -> 3 | AA24: =IF(S24="","",COUNTIF($S$13:S24,S24)) -> 7 | AB24: =IF(S24="","",S24&"|"&AA24) -> Gestionar de cerca|7 | AC24: =IF(T24="","",COUNTIF($T$13:$T$37,">"&T24)+COUNTIF($T$13:T24,T24)) -> 1
... A27: 15 | B27: Club de lectura premium | C27: Externo | D27: Comunidad | E27: Embajadores naturales si la experiencia funciona | F27: Beneficios exclusivos y experiencia fluida | G27: 2 | H27: 5 | I27: 3 | J27: A favor | K27: Patrocinador | L27: 1 | M27: Marketing CRM | N27: Encuesta / feedback | O27: =IF(S27="","",IF(S27="Gestionar de cerca","Semanal",IF(S27="Mantener satisfecho","Mensual",IF(S27="Mantener informado","Quincenal","Mensual ligero")))) -> Quincenal | P27: Piloto de beneficios exclusivos en app | Q27: 46116 | R27: =IF(Q27="","Sin fecha",IF(Q27<TODAY(),"Vencido",IF(Q27<=TODAY()+7,"Próxima","Al día"))) -> Al día | S27: =IF(OR(G27="",H27=""),"",IF(AND(G27>=4,H27>=4),"Gestionar de cerca",IF(AND(G27>=4,H27<4),"Mantener satisfecho",IF(AND(G27<4,H27>=4),"Mantener informado","Monitorear")))) -> Mantener informado | T27: =IF(B27="","",ROUND((G27*0.28 + H27*0.2 + I27*0.18 + L27*0.16 + (6-Y27)*0.1 + MAX(0,Z27-Y27)*0.08)*20,0)) -> 51 | U27: =IF(T27="","",IF(T27>=80,"Crítica",IF(T27>=65,"Alta",IF(T27>=50,"Media","Baja")))) -> Media | V27: =IF(OR(Y27="",Z27=""),"",Z27-Y27) -> 1 | W27: =IF(S27="","",IF(S27="Gestionar de cerca",IF(Y27<=2,"Sponsor + reunión 1:1 + plan de objeciones",IF(Y27=3,"Alinear beneficios y pedir validación quincenal","Usarlo como embajador y copatrocinar hitos")),IF(S27="Mantener satisfecho",IF(Y27<=3,"Resumen ejecutivo + gestión de riesgos clave","Checkpoint ejecutivo mensual"),IF(S27="Mantener informado",IF(Y27<=2,"Escucha activa + demo + FAQ","Actualizar y recoger feedback operativo"),"Seguimiento ligero y escucha pasiva")))) -> Actualizar y recoger feedback operativo | Y27: =IF(J27="","",VLOOKUP(J27,MapApoyo,2,FALSE())) -> 4 | Z27: =IF(K27="","",VLOOKUP(K27,MapApoyo,2,FALSE())) -> 5 | AA27: =IF(S27="","",COUNTIF($S$13:S27,S27)) -> 6 | AB27: =IF(S27="","",S27&"|"&AA27) -> Mantener informado|6 | AC27: =IF(T27="","",COUNTIF($T$13:$T$37,">"&T27)+COUNTIF($T$13:T27,T27)) -> 13
A28: 16 | O28: =IF(S28="","",IF(S28="Gestionar de cerca","Semanal",IF(S28="Mantener satisfecho","Mensual",IF(S28="Mantener informado","Quincenal","Mensual ligero")))) | R28: =IF(Q28="","Sin fecha",IF(Q28<TODAY(),"Vencido",IF(Q28<=TODAY()+7,"Próxima","Al día"))) -> Sin fecha | S28: =IF(OR(G28="",H28=""),"",IF(AND(G28>=4,H28>=4),"Gestionar de cerca",IF(AND(G28>=4,H28<4),"Mantener satisfecho",IF(AND(G28<4,H28>=4),"Mantener informado","Monitorear")))) | T28: =IF(B28="","",ROUND((G28*0.28 + H28*0.2 + I28*0.18 + L28*0.16 + (6-Y28)*0.1 + MAX(0,Z28-Y28)*0.08)*20,0)) | U28: =IF(T28="","",IF(T28>=80,"Crítica",IF(T28>=65,"Alta",IF(T28>=50,"Media","Baja")))) | V28: =IF(OR(Y28="",Z28=""),"",Z28-Y28) | W28: =IF(S28="","",IF(S28="Gestionar de cerca",IF(Y28<=2,"Sponsor + reunión 1:1 + plan de objeciones",IF(Y28=3,"Alinear beneficios y pedir validación quincenal","Usarlo como embajador y copatrocinar hitos")),IF(S28="Mantener satisfecho",IF(Y28<=3,"Resumen ejecutivo + gestión de riesgos clave","Checkpoint ejecutivo mensual"),IF(S28="Mantener informado",IF(Y28<=2,"Escucha activa + demo + FAQ","Actualizar y recoger feedback operativo"),"Seguimiento ligero y escucha pasiva")))) | Y28: =IF(J28="","",VLOOKUP(J28,MapApoyo,2,FALSE())) | Z28: =IF(K28="","",VLOOKUP(K28,MapApoyo,2,FALSE())) | AA28: =IF(S28="","",COUNTIF($S$13:S28,S28)) | AB28: =IF(S28="","",S28&"|"&AA28) | AC28: =IF(T28="","",COUNTIF($T$13:$T$37,">"&T28)+COUNTIF($T$13:T28,T28))
A29: 17 | O29: =IF(S29="","",IF(S29="Gestionar de cerca","Semanal",IF(S29="Mantener satisfecho","Mensual",IF(S29="Mantener informado","Quincenal","Mensual ligero")))) | R29: =IF(Q29="","Sin fecha",IF(Q29<TODAY(),"Vencido",IF(Q29<=TODAY()+7,"Próxima","Al día"))) -> Sin fecha | S29: =IF(OR(G29="",H29=""),"",IF(AND(G29>=4,H29>=4),"Gestionar de cerca",IF(AND(G29>=4,H29<4),"Mantener satisfecho",IF(AND(G29<4,H29>=4),"Mantener informado","Monitorear")))) | T29: =IF(B29="","",ROUND((G29*0.28 + H29*0.2 + I29*0.18 + L29*0.16 + (6-Y29)*0.1 + MAX(0,Z29-Y29)*0.08)*20,0)) | U29: =IF(T29="","",IF(T29>=80,"Crítica",IF(T29>=65,"Alta",IF(T29>=50,"Media","Baja")))) | V29: =IF(OR(Y29="",Z29=""),"",Z29-Y29) | W29: =IF(S29="","",IF(S29="Gestionar de cerca",IF(Y29<=2,"Sponsor + reunión 1:1 + plan de objeciones",IF(Y29=3,"Alinear beneficios y pedir validación quincenal","Usarlo como embajador y copatrocinar hitos")),IF(S29="Mantener satisfecho",IF(Y29<=3,"Resumen ejecutivo + gestión de riesgos clave","Checkpoint ejecutivo mensual"),IF(S29="Mantener informado",IF(Y29<=2,"Escucha activa + demo + FAQ","Actualizar y recoger feedback operativo"),"Seguimiento ligero y escucha pasiva")))) | Y29: =IF(J29="","",VLOOKUP(J29,MapApoyo,2,FALSE())) | Z29: =IF(K29="","",VLOOKUP(K29,MapApoyo,2,FALSE())) | AA29: =IF(S29="","",COUNTIF($S$13:S29,S29)) | AB29: =IF(S29="","",S29&"|"&AA29) | AC29: =IF(T29="","",COUNTIF($T$13:$T$37,">"&T29)+COUNTIF($T$13:T29,T29))
A30: 18 | O30: =IF(S30="","",IF(S30="Gestionar de cerca","Semanal",IF(S30="Mantener satisfecho","Mensual",IF(S30="Mantener informado","Quincenal","Mensual ligero")))) | R30: =IF(Q30="","Sin fecha",IF(Q30<TODAY(),"Vencido",IF(Q30<=TODAY()+7,"Próxima","Al día"))) -> Sin fecha | S30: =IF(OR(G30="",H30=""),"",IF(AND(G30>=4,H30>=4),"Gestionar de cerca",IF(AND(G30>=4,H30<4),"Mantener satisfecho",IF(AND(G30<4,H30>=4),"Mantener informado","Monitorear")))) | T30: =IF(B30="","",ROUND((G30*0.28 + H30*0.2 + I30*0.18 + L30*0.16 + (6-Y30)*0.1 + MAX(0,Z30-Y30)*0.08)*20,0)) | U30: =IF(T30="","",IF(T30>=80,"Crítica",IF(T30>=65,"Alta",IF(T30>=50,"Media","Baja")))) | V30: =IF(OR(Y30="",Z30=""),"",Z30-Y30) | W30: =IF(S30="","",IF(S30="Gestionar de cerca",IF(Y30<=2,"Sponsor + reunión 1:1 + plan de objeciones",IF(Y30=3,"Alinear beneficios y pedir validación quincenal","Usarlo como embajador y copatrocinar hitos")),IF(S30="Mantener satisfecho",IF(Y30<=3,"Resumen ejecutivo + gestión de riesgos clave","Checkpoint ejecutivo mensual"),IF(S30="Mantener informado",IF(Y30<=2,"Escucha activa + demo + FAQ","Actualizar y recoger feedback operativo"),"Seguimiento ligero y escucha pasiva")))) | Y30: =IF(J30="","",VLOOKUP(J30,MapApoyo,2,FALSE())) | Z30: =IF(K30="","",VLOOKUP(K30,MapApoyo,2,FALSE())) | AA30: =IF(S30="","",COUNTIF($S$13:S30,S30)) | AB30: =IF(S30="","",S30&"|"&AA30) | AC30: =IF(T30="","",COUNTIF($T$13:$T$37,">"&T30)+COUNTIF($T$13:T30,T30))
A31: 19 | O31: =IF(S31="","",IF(S31="Gestionar de cerca","Semanal",IF(S31="Mantener satisfecho","Mensual",IF(S31="Mantener informado","Quincenal","Mensual ligero")))) | R31: =IF(Q31="","Sin fecha",IF(Q31<TODAY(),"Vencido",IF(Q31<=TODAY()+7,"Próxima","Al día"))) -> Sin fecha | S31: =IF(OR(G31="",H31=""),"",IF(AND(G31>=4,H31>=4),"Gestionar de cerca",IF(AND(G31>=4,H31<4),"Mantener satisfecho",IF(AND(G31<4,H31>=4),"Mantener informado","Monitorear")))) | T31: =IF(B31="","",ROUND((G31*0.28 + H31*0.2 + I31*0.18 + L31*0.16 + (6-Y31)*0.1 + MAX(0,Z31-Y31)*0.08)*20,0)) | U31: =IF(T31="","",IF(T31>=80,"Crítica",IF(T31>=65,"Alta",IF(T31>=50,"Media","Baja")))) | V31: =IF(OR(Y31="",Z31=""),"",Z31-Y31) | W31: =IF(S31="","",IF(S31="Gestionar de cerca",IF(Y31<=2,"Sponsor + reunión 1:1 + plan de objeciones",IF(Y31=3,"Alinear beneficios y pedir validación quincenal","Usarlo como embajador y copatrocinar hitos")),IF(S31="Mantener satisfecho",IF(Y31<=3,"Resumen ejecutivo + gestión de riesgos clave","Checkpoint ejecutivo mensual"),IF(S31="Mantener informado",IF(Y31<=2,"Escucha activa + demo + FAQ","Actualizar y recoger feedback operativo"),"Seguimiento ligero y escucha pasiva")))) | Y31: =IF(J31="","",VLOOKUP(J31,MapApoyo,2,FALSE())) | Z31: =IF(K31="","",VLOOKUP(K31,MapApoyo,2,FALSE())) | AA31: =IF(S31="","",COUNTIF($S$13:S31,S31)) | AB31: =IF(S31="","",S31&"|"&AA31) | AC31: =IF(T31="","",COUNTIF($T$13:$T$37,">"&T31)+COUNTIF($T$13:T31,T31))
A32: 20 | O32: =IF(S32="","",IF(S32="Gestionar de cerca","Semanal",IF(S32="Mantener satisfecho","Mensual",IF(S32="Mantener informado","Quincenal","Mensual ligero")))) | R32: =IF(Q32="","Sin fecha",IF(Q32<TODAY(),"Vencido",IF(Q32<=TODAY()+7,"Próxima","Al día"))) -> Sin fecha | S32: =IF(OR(G32="",H32=""),"",IF(AND(G32>=4,H32>=4),"Gestionar de cerca",IF(AND(G32>=4,H32<4),"Mantener satisfecho",IF(AND(G32<4,H32>=4),"Mantener informado","Monitorear")))) | T32: =IF(B32="","",ROUND((G32*0.28 + H32*0.2 + I32*0.18 + L32*0.16 + (6-Y32)*0.1 + MAX(0,Z32-Y32)*0.08)*20,0)) | U32: =IF(T32="","",IF(T32>=80,"Crítica",IF(T32>=65,"Alta",IF(T32>=50,"Media","Baja")))) | V32: =IF(OR(Y32="",Z32=""),"",Z32-Y32) | W32: =IF(S32="","",IF(S32="Gestionar de cerca",IF(Y32<=2,"Sponsor + reunión 1:1 + plan de objeciones",IF(Y32=3,"Alinear beneficios y pedir validación quincenal","Usarlo como embajador y copatrocinar hitos")),IF(S32="Mantener satisfecho",IF(Y32<=3,"Resumen ejecutivo + gestión de riesgos clave","Checkpoint ejecutivo mensual"),IF(S32="Mantener informado",IF(Y32<=2,"Escucha activa + demo + FAQ","Actualizar y recoger feedback operativo"),"Seguimiento ligero y escucha pasiva")))) | Y32: =IF(J32="","",VLOOKUP(J32,MapApoyo,2,FALSE())) | Z32: =IF(K32="","",VLOOKUP(K32,MapApoyo,2,FALSE())) | AA32: =IF(S32="","",COUNTIF($S$13:S32,S32)) | AB32: =IF(S32="","",S32&"|"&AA32) | AC32: =IF(T32="","",COUNTIF($T$13:$T$37,">"&T32)+COUNTIF($T$13:T32,T32))
A33: 21 | O33: =IF(S33="","",IF(S33="Gestionar de cerca","Semanal",IF(S33="Mantener satisfecho","Mensual",IF(S33="Mantener informado","Quincenal","Mensual ligero")))) | R33: =IF(Q33="","Sin fecha",IF(Q33<TODAY(),"Vencido",IF(Q33<=TODAY()+7,"Próxima","Al día"))) -> Sin fecha | S33: =IF(OR(G33="",H33=""),"",IF(AND(G33>=4,H33>=4),"Gestionar de cerca",IF(AND(G33>=4,H33<4),"Mantener satisfecho",IF(AND(G33<4,H33>=4),"Mantener informado","Monitorear")))) | T33: =IF(B33="","",ROUND((G33*0.28 + H33*0.2 + I33*0.18 + L33*0.16 + (6-Y33)*0.1 + MAX(0,Z33-Y33)*0.08)*20,0)) | U33: =IF(T33="","",IF(T33>=80,"Crítica",IF(T33>=65,"Alta",IF(T33>=50,"Media","Baja")))) | V33: =IF(OR(Y33="",Z33=""),"",Z33-Y33) | W33: =IF(S33="","",IF(S33="Gestionar de cerca",IF(Y33<=2,"Sponsor + reunión 1:1 + plan de objeciones",IF(Y33=3,"Alinear beneficios y pedir validación quincenal","Usarlo como embajador y copatrocinar hitos")),IF(S33="Mantener satisfecho",IF(Y33<=3,"Resumen ejecutivo + gestión de riesgos clave","Checkpoint ejecutivo mensual"),IF(S33="Mantener informado",IF(Y33<=2,"Escucha activa + demo + FAQ","Actualizar y recoger feedback operativo"),"Seguimiento ligero y escucha pasiva")))) | Y33: =IF(J33="","",VLOOKUP(J33,MapApoyo,2,FALSE())) | Z33: =IF(K33="","",VLOOKUP(K33,MapApoyo,2,FALSE())) | AA33: =IF(S33="","",COUNTIF($S$13:S33,S33)) | AB33: =IF(S33="","",S33&"|"&AA33) | AC33: =IF(T33="","",COUNTIF($T$13:$T$37,">"&T33)+COUNTIF($T$13:T33,T33))
A34: 22 | O34: =IF(S34="","",IF(S34="Gestionar de cerca","Semanal",IF(S34="Mantener satisfecho","Mensual",IF(S34="Mantener informado","Quincenal","Mensual ligero")))) | R34: =IF(Q34="","Sin fecha",IF(Q34<TODAY(),"Vencido",IF(Q34<=TODAY()+7,"Próxima","Al día"))) -> Sin fecha | S34: =IF(OR(G34="",H34=""),"",IF(AND(G34>=4,H34>=4),"Gestionar de cerca",IF(AND(G34>=4,H34<4),"Mantener satisfecho",IF(AND(G34<4,H34>=4),"Mantener informado","Monitorear")))) | T34: =IF(B34="","",ROUND((G34*0.28 + H34*0.2 + I34*0.18 + L34*0.16 + (6-Y34)*0.1 + MAX(0,Z34-Y34)*0.08)*20,0)) | U34: =IF(T34="","",IF(T34>=80,"Crítica",IF(T34>=65,"Alta",IF(T34>=50,"Media","Baja")))) | V34: =IF(OR(Y34="",Z34=""),"",Z34-Y34) | W34: =IF(S34="","",IF(S34="Gestionar de cerca",IF(Y34<=2,"Sponsor + reunión 1:1 + plan de objeciones",IF(Y34=3,"Alinear beneficios y pedir validación quincenal","Usarlo como embajador y copatrocinar hitos")),IF(S34="Mantener satisfecho",IF(Y34<=3,"Resumen ejecutivo + gestión de riesgos clave","Checkpoint ejecutivo mensual"),IF(S34="Mantener informado",IF(Y34<=2,"Escucha activa + demo + FAQ","Actualizar y recoger feedback operativo"),"Seguimiento ligero y escucha pasiva")))) | Y34: =IF(J34="","",VLOOKUP(J34,MapApoyo,2,FALSE())) | Z34: =IF(K34="","",VLOOKUP(K34,MapApoyo,2,FALSE())) | AA34: =IF(S34="","",COUNTIF($S$13:S34,S34)) | AB34: =IF(S34="","",S34&"|"&AA34) | AC34: =IF(T34="","",COUNTIF($T$13:$T$37,">"&T34)+COUNTIF($T$13:T34,T34))
A35: 23 | O35: =IF(S35="","",IF(S35="Gestionar de cerca","Semanal",IF(S35="Mantener satisfecho","Mensual",IF(S35="Mantener informado","Quincenal","Mensual ligero")))) | R35: =IF(Q35="","Sin fecha",IF(Q35<TODAY(),"Vencido",IF(Q35<=TODAY()+7,"Próxima","Al día"))) -> Sin fecha | S35: =IF(OR(G35="",H35=""),"",IF(AND(G35>=4,H35>=4),"Gestionar de cerca",IF(AND(G35>=4,H35<4),"Mantener satisfecho",IF(AND(G35<4,H35>=4),"Mantener informado","Monitorear")))) | T35: =IF(B35="","",ROUND((G35*0.28 + H35*0.2 + I35*0.18 + L35*0.16 + (6-Y35)*0.1 + MAX(0,Z35-Y35)*0.08)*20,0)) | U35: =IF(T35="","",IF(T35>=80,"Crítica",IF(T35>=65,"Alta",IF(T35>=50,"Media","Baja")))) | V35: =IF(OR(Y35="",Z35=""),"",Z35-Y35) | W35: =IF(S35="","",IF(S35="Gestionar de cerca",IF(Y35<=2,"Sponsor + reunión 1:1 + plan de objeciones",IF(Y35=3,"Alinear beneficios y pedir validación quincenal","Usarlo como embajador y copatrocinar hitos")),IF(S35="Mantener satisfecho",IF(Y35<=3,"Resumen ejecutivo + gestión de riesgos clave","Checkpoint ejecutivo mensual"),IF(S35="Mantener informado",IF(Y35<=2,"Escucha activa + demo + FAQ","Actualizar y recoger feedback operativo"),"Seguimiento ligero y escucha pasiva")))) | Y35: =IF(J35="","",VLOOKUP(J35,MapApoyo,2,FALSE())) | Z35: =IF(K35="","",VLOOKUP(K35,MapApoyo,2,FALSE())) | AA35: =IF(S35="","",COUNTIF($S$13:S35,S35)) | AB35: =IF(S35="","",S35&"|"&AA35) | AC35: =IF(T35="","",COUNTIF($T$13:$T$37,">"&T35)+COUNTIF($T$13:T35,T35))
A36: 24 | O36: =IF(S36="","",IF(S36="Gestionar de cerca","Semanal",IF(S36="Mantener satisfecho","Mensual",IF(S36="Mantener informado","Quincenal","Mensual ligero")))) | R36: =IF(Q36="","Sin fecha",IF(Q36<TODAY(),"Vencido",IF(Q36<=TODAY()+7,"Próxima","Al día"))) -> Sin fecha | S36: =IF(OR(G36="",H36=""),"",IF(AND(G36>=4,H36>=4),"Gestionar de cerca",IF(AND(G36>=4,H36<4),"Mantener satisfecho",IF(AND(G36<4,H36>=4),"Mantener informado","Monitorear")))) | T36: =IF(B36="","",ROUND((G36*0.28 + H36*0.2 + I36*0.18 + L36*0.16 + (6-Y36)*0.1 + MAX(0,Z36-Y36)*0.08)*20,0)) | U36: =IF(T36="","",IF(T36>=80,"Crítica",IF(T36>=65,"Alta",IF(T36>=50,"Media","Baja")))) | V36: =IF(OR(Y36="",Z36=""),"",Z36-Y36) | W36: =IF(S36="","",IF(S36="Gestionar de cerca",IF(Y36<=2,"Sponsor + reunión 1:1 + plan de objeciones",IF(Y36=3,"Alinear beneficios y pedir validación quincenal","Usarlo como embajador y copatrocinar hitos")),IF(S36="Mantener satisfecho",IF(Y36<=3,"Resumen ejecutivo + gestión de riesgos clave","Checkpoint ejecutivo mensual"),IF(S36="Mantener informado",IF(Y36<=2,"Escucha activa + demo + FAQ","Actualizar y recoger feedback operativo"),"Seguimiento ligero y escucha pasiva")))) | Y36: =IF(J36="","",VLOOKUP(J36,MapApoyo,2,FALSE())) | Z36: =IF(K36="","",VLOOKUP(K36,MapApoyo,2,FALSE())) | AA36: =IF(S36="","",COUNTIF($S$13:S36,S36)) | AB36: =IF(S36="","",S36&"|"&AA36) | AC36: =IF(T36="","",COUNTIF($T$13:$T$37,">"&T36)+COUNTIF($T$13:T36,T36))
A37: 25 | O37: =IF(S37="","",IF(S37="Gestionar de cerca","Semanal",IF(S37="Mantener satisfecho","Mensual",IF(S37="Mantener informado","Quincenal","Mensual ligero")))) | R37: =IF(Q37="","Sin fecha",IF(Q37<TODAY(),"Vencido",IF(Q37<=TODAY()+7,"Próxima","Al día"))) -> Sin fecha | S37: =IF(OR(G37="",H37=""),"",IF(AND(G37>=4,H37>=4),"Gestionar de cerca",IF(AND(G37>=4,H37<4),"Mantener satisfecho",IF(AND(G37<4,H37>=4),"Mantener informado","Monitorear")))) | T37: =IF(B37="","",ROUND((G37*0.28 + H37*0.2 + I37*0.18 + L37*0.16 + (6-Y37)*0.1 + MAX(0,Z37-Y37)*0.08)*20,0)) | U37: =IF(T37="","",IF(T37>=80,"Crítica",IF(T37>=65,"Alta",IF(T37>=50,"Media","Baja")))) | V37: =IF(OR(Y37="",Z37=""),"",Z37-Y37) | W37: =IF(S37="","",IF(S37="Gestionar de cerca",IF(Y37<=2,"Sponsor + reunión 1:1 + plan de objeciones",IF(Y37=3,"Alinear beneficios y pedir validación quincenal","Usarlo como embajador y copatrocinar hitos")),IF(S37="Mantener satisfecho",IF(Y37<=3,"Resumen ejecutivo + gestión de riesgos clave","Checkpoint ejecutivo mensual"),IF(S37="Mantener informado",IF(Y37<=2,"Escucha activa + demo + FAQ","Actualizar y recoger feedback operativo"),"Seguimiento ligero y escucha pasiva")))) | Y37: =IF(J37="","",VLOOKUP(J37,MapApoyo,2,FALSE())) | Z37: =IF(K37="","",VLOOKUP(K37,MapApoyo,2,FALSE())) | AA37: =IF(S37="","",COUNTIF($S$13:S37,S37)) | AB37: =IF(S37="","",S37&"|"&AA37) | AC37: =IF(T37="","",COUNTIF($T$13:$T$37,">"&T37)+COUNTIF($T$13:T37,T37))

Sheet Listas
A1: Tipo | C1: Apoyo | D1: Valor | F1: Canal
A2: Interno | C2: Muy en contra | D2: 1 | F2: Reunión 1:1
A3: Externo | C3: En contra | D3: 2 | F3: Comité
C4: Neutral | D4: 3 | F4: Email ejecutivo
C5: A favor | D5: 4 | F5: Taller
C6: Patrocinador | D6: 5 | F6: Dashboard
F7: Demo / visita
F8: Llamada
F9: Newsletter interna
F10: Encuesta / feedback
