Workbook
Name ListaPatrones: Apoyo!$J$2:$J$5

Sheet Cuadrante
A1: Turnos rotativos de lunes a domingo
A3: Equipo | B3: Atención al cliente | C3: Fecha de inicio | D3: 45754 | E3: Horas por turno | F3: 8 | G3: Leyenda
G4: M | H4: Mañana
A5: Edita solo nombre, puesto, patrón y desfase. El cuadrante se completa solo. | G5: T | H5: Tarde
F6: Día 1 | G6: Día 2 | H6: Día 3 | I6: Día 4 | J6: Día 5 | K6: Día 6 | L6: Día 7 | M6: Día 8 | N6: Día 9 | O6: Día 10 | P6: Día 11 | Q6: Día 12 | R6: Día 13 | S6: Día 14 | T6: Día 15 | U6: Día 16 | V6: Día 17 | W6: Día 18 | X6: Día 19 | Y6: Día 20 | Z6: Día 21 | AA6: Día 22 | AB6: Día 23 | AC6: Día 24 | AD6: Día 25 | AE6: Día 26 | AF6: Día 27 | AG6: Día 28
A7: Empleado | B7: Puesto | C7: Patrón | D7: Desfase | E7: Horas | F7: =CHOOSE(WEEKDAY(F8,2),"Lun","Mar","Mié","Jue","Vie","Sáb","Dom") -> Lun | G7: =CHOOSE(WEEKDAY(G8,2),"Lun","Mar","Mié","Jue","Vie","Sáb","Dom") -> Mar | H7: =CHOOSE(WEEKDAY(H8,2),"Lun","Mar","Mié","Jue","Vie","Sáb","Dom") -> Mié | I7: =CHOOSE(WEEKDAY(I8,2),"Lun","Mar","Mié","Jue","Vie","Sáb","Dom") -> Jue | J7: =CHOOSE(WEEKDAY(J8,2),"Lun","Mar","Mié","Jue","Vie","Sáb","Dom") -> Vie | K7: =CHOOSE(WEEKDAY(K8,2),"Lun","Mar","Mié","Jue","Vie","Sáb","Dom") -> Sáb | L7: =CHOOSE(WEEKDAY(L8,2),"Lun","Mar","Mié","Jue","Vie","Sáb","Dom") -> Dom | M7: =CHOOSE(WEEKDAY(M8,2),"Lun","Mar","Mié","Jue","Vie","Sáb","Dom") -> Lun | ... AG7: =CHOOSE(WEEKDAY(AG8,2),"Lun","Mar","Mié","Jue","Vie","Sáb","Dom") -> Dom | AH7: M | AI7: T | AJ7: N | AK7: L
F8: =$D$3+0 -> 45754 | G8: =$D$3+1 -> 45755 | H8: =$D$3+2 -> 45756 | I8: =$D$3+3 -> 45757 | J8: =$D$3+4 -> 45758 | K8: =$D$3+5 -> 45759 | L8: =$D$3+6 -> 45760 | M8: =$D$3+7 -> 45761 | N8: =$D$3+8 -> 45762 | O8: =$D$3+9 -> 45763 | P8: =$D$3+10 -> 45764 | Q8: =$D$3+11 -> 45765 | R8: =$D$3+12 -> 45766 | S8: =$D$3+13 -> 45767 | T8: =$D$3+14 -> 45768 | U8: =$D$3+15 -> 45769 | V8: =$D$3+16 -> 45770 | W8: =$D$3+17 -> 45771 | X8: =$D$3+18 -> 45772 | Y8: =$D$3+19 -> 45773 | Z8: =$D$3+20 -> 45774 | AA8: =$D$3+21 -> 45775 | AB8: =$D$3+22 -> 45776 | AC8: =$D$3+23 -> 45777 | AD8: =$D$3+24 -> 45778 | AE8: =$D$3+25 -> 45779 | AF8: =$D$3+26 -> 45780 | AG8: =$D$3+27 -> 45781
A9: Lucía Vega | B9: Soporte | C9: A | D9: 0 | E9: =COUNTIF(F9:AG9,"M")*$F$3+COUNTIF(F9:AG9,"T")*$F$3+COUNTIF(F9:AG9,"N")*$F$3 -> 192 | F9: =INDEX(Apoyo!$B$2:$H$5,MATCH($C9,Apoyo!$A$2:$A$5,0),MOD(F$8-$D$3+$D9,7)+1) -> M | G9: =INDEX(Apoyo!$B$2:$H$5,MATCH($C9,Apoyo!$A$2:$A$5,0),MOD(G$8-$D$3+$D9,7)+1) -> M | H9: =INDEX(Apoyo!$B$2:$H$5,MATCH($C9,Apoyo!$A$2:$A$5,0),MOD(H$8-$D$3+$D9,7)+1) -> T | I9: =INDEX(Apoyo!$B$2:$H$5,MATCH($C9,Apoyo!$A$2:$A$5,0),MOD(I$8-$D$3+$D9,7)+1) -> T | J9: =INDEX(Apoyo!$B$2:$H$5,MATCH($C9,Apoyo!$A$2:$A$5,0),MOD(J$8-$D$3+$D9,7)+1) -> N | K9: =INDEX(Apoyo!$B$2:$H$5,MATCH($C9,Apoyo!$A$2:$A$5,0),MOD(K$8-$D$3+$D9,7)+1) -> N | L9: =INDEX(Apoyo!$B$2:$H$5,MATCH($C9,Apoyo!$A$2:$A$5,0),MOD(L$8-$D$3+$D9,7)+1) -> L | M9: =INDEX(Apoyo!$B$2:$H$5,MATCH($C9,Apoyo!$A$2:$A$5,0),MOD(M$8-$D$3+$D9,7)+1) -> M | ... AG9: =INDEX(Apoyo!$B$2:$H$5,MATCH($C9,Apoyo!$A$2:$A$5,0),MOD(AG$8-$D$3+$D9,7)+1) -> L | AH9: =COUNTIF(F9:AG9,"M") -> 8 | AI9: =COUNTIF(F9:AG9,"T") -> 8 | AJ9: =COUNTIF(F9:AG9,"N") -> 8 | AK9: =COUNTIF(F9:AG9,"L") -> 4
A10: Mario Gil | B10: Soporte | C10: B | D10: 0 | E10: =COUNTIF(F10:AG10,"M")*$F$3+COUNTIF(F10:AG10,"T")*$F$3+COUNTIF(F10:AG10,"N")*$F$3 -> 192 | F10: =INDEX(Apoyo!$B$2:$H$5,MATCH($C10,Apoyo!$A$2:$A$5,0),MOD(F$8-$D$3+$D10,7)+1) -> T | G10: =INDEX(Apoyo!$B$2:$H$5,MATCH($C10,Apoyo!$A$2:$A$5,0),MOD(G$8-$D$3+$D10,7)+1) -> T | H10: =INDEX(Apoyo!$B$2:$H$5,MATCH($C10,Apoyo!$A$2:$A$5,0),MOD(H$8-$D$3+$D10,7)+1) -> N | I10: =INDEX(Apoyo!$B$2:$H$5,MATCH($C10,Apoyo!$A$2:$A$5,0),MOD(I$8-$D$3+$D10,7)+1) -> N | J10: =INDEX(Apoyo!$B$2:$H$5,MATCH($C10,Apoyo!$A$2:$A$5,0),MOD(J$8-$D$3+$D10,7)+1) -> L | K10: =INDEX(Apoyo!$B$2:$H$5,MATCH($C10,Apoyo!$A$2:$A$5,0),MOD(K$8-$D$3+$D10,7)+1) -> M | L10: =INDEX(Apoyo!$B$2:$H$5,MATCH($C10,Apoyo!$A$2:$A$5,0),MOD(L$8-$D$3+$D10,7)+1) -> M | M10: =INDEX(Apoyo!$B$2:$H$5,MATCH($C10,Apoyo!$A$2:$A$5,0),MOD(M$8-$D$3+$D10,7)+1) -> T | ... AG10: =INDEX(Apoyo!$B$2:$H$5,MATCH($C10,Apoyo!$A$2:$A$5,0),MOD(AG$8-$D$3+$D10,7)+1) -> M | AH10: =COUNTIF(F10:AG10,"M") -> 8 | AI10: =COUNTIF(F10:AG10,"T") -> 8 | AJ10: =COUNTIF(F10:AG10,"N") -> 8 | AK10: =COUNTIF(F10:AG10,"L") -> 4
A11: Nora Cano | B11: Ventas | C11: C | D11: 1 | E11: =COUNTIF(F11:AG11,"M")*$F$3+COUNTIF(F11:AG11,"T")*$F$3+COUNTIF(F11:AG11,"N")*$F$3 -> 192 | F11: =INDEX(Apoyo!$B$2:$H$5,MATCH($C11,Apoyo!$A$2:$A$5,0),MOD(F$8-$D$3+$D11,7)+1) -> N | G11: =INDEX(Apoyo!$B$2:$H$5,MATCH($C11,Apoyo!$A$2:$A$5,0),MOD(G$8-$D$3+$D11,7)+1) -> L | H11: =INDEX(Apoyo!$B$2:$H$5,MATCH($C11,Apoyo!$A$2:$A$5,0),MOD(H$8-$D$3+$D11,7)+1) -> M | I11: =INDEX(Apoyo!$B$2:$H$5,MATCH($C11,Apoyo!$A$2:$A$5,0),MOD(I$8-$D$3+$D11,7)+1) -> M | J11: =INDEX(Apoyo!$B$2:$H$5,MATCH($C11,Apoyo!$A$2:$A$5,0),MOD(J$8-$D$3+$D11,7)+1) -> T | K11: =INDEX(Apoyo!$B$2:$H$5,MATCH($C11,Apoyo!$A$2:$A$5,0),MOD(K$8-$D$3+$D11,7)+1) -> T | L11: =INDEX(Apoyo!$B$2:$H$5,MATCH($C11,Apoyo!$A$2:$A$5,0),MOD(L$8-$D$3+$D11,7)+1) -> N | M11: =INDEX(Apoyo!$B$2:$H$5,MATCH($C11,Apoyo!$A$2:$A$5,0),MOD(M$8-$D$3+$D11,7)+1) -> N | ... AG11: =INDEX(Apoyo!$B$2:$H$5,MATCH($C11,Apoyo!$A$2:$A$5,0),MOD(AG$8-$D$3+$D11,7)+1) -> N | AH11: =COUNTIF(F11:AG11,"M") -> 8 | AI11: =COUNTIF(F11:AG11,"T") -> 8 | AJ11: =COUNTIF(F11:AG11,"N") -> 8 | AK11: =COUNTIF(F11:AG11,"L") -> 4
A12: Pablo Ríos | B12: Ventas | C12: D | D12: 2 | E12: =COUNTIF(F12:AG12,"M")*$F$3+COUNTIF(F12:AG12,"T")*$F$3+COUNTIF(F12:AG12,"N")*$F$3 -> 192 | F12: =INDEX(Apoyo!$B$2:$H$5,MATCH($C12,Apoyo!$A$2:$A$5,0),MOD(F$8-$D$3+$D12,7)+1) -> M | G12: =INDEX(Apoyo!$B$2:$H$5,MATCH($C12,Apoyo!$A$2:$A$5,0),MOD(G$8-$D$3+$D12,7)+1) -> T | H12: =INDEX(Apoyo!$B$2:$H$5,MATCH($C12,Apoyo!$A$2:$A$5,0),MOD(H$8-$D$3+$D12,7)+1) -> T | I12: =INDEX(Apoyo!$B$2:$H$5,MATCH($C12,Apoyo!$A$2:$A$5,0),MOD(I$8-$D$3+$D12,7)+1) -> N | J12: =INDEX(Apoyo!$B$2:$H$5,MATCH($C12,Apoyo!$A$2:$A$5,0),MOD(J$8-$D$3+$D12,7)+1) -> N | K12: =INDEX(Apoyo!$B$2:$H$5,MATCH($C12,Apoyo!$A$2:$A$5,0),MOD(K$8-$D$3+$D12,7)+1) -> L | L12: =INDEX(Apoyo!$B$2:$H$5,MATCH($C12,Apoyo!$A$2:$A$5,0),MOD(L$8-$D$3+$D12,7)+1) -> M | M12: =INDEX(Apoyo!$B$2:$H$5,MATCH($C12,Apoyo!$A$2:$A$5,0),MOD(M$8-$D$3+$D12,7)+1) -> M | ... AG12: =INDEX(Apoyo!$B$2:$H$5,MATCH($C12,Apoyo!$A$2:$A$5,0),MOD(AG$8-$D$3+$D12,7)+1) -> M | AH12: =COUNTIF(F12:AG12,"M") -> 8 | AI12: =COUNTIF(F12:AG12,"T") -> 8 | AJ12: =COUNTIF(F12:AG12,"N") -> 8 | AK12: =COUNTIF(F12:AG12,"L") -> 4
A13: Sara León | B13: Backoffice | C13: A | D13: 3 | E13: =COUNTIF(F13:AG13,"M")*$F$3+COUNTIF(F13:AG13,"T")*$F$3+COUNTIF(F13:AG13,"N")*$F$3 -> 192 | F13: =INDEX(Apoyo!$B$2:$H$5,MATCH($C13,Apoyo!$A$2:$A$5,0),MOD(F$8-$D$3+$D13,7)+1) -> T | G13: =INDEX(Apoyo!$B$2:$H$5,MATCH($C13,Apoyo!$A$2:$A$5,0),MOD(G$8-$D$3+$D13,7)+1) -> N | H13: =INDEX(Apoyo!$B$2:$H$5,MATCH($C13,Apoyo!$A$2:$A$5,0),MOD(H$8-$D$3+$D13,7)+1) -> N | I13: =INDEX(Apoyo!$B$2:$H$5,MATCH($C13,Apoyo!$A$2:$A$5,0),MOD(I$8-$D$3+$D13,7)+1) -> L | J13: =INDEX(Apoyo!$B$2:$H$5,MATCH($C13,Apoyo!$A$2:$A$5,0),MOD(J$8-$D$3+$D13,7)+1) -> M | K13: =INDEX(Apoyo!$B$2:$H$5,MATCH($C13,Apoyo!$A$2:$A$5,0),MOD(K$8-$D$3+$D13,7)+1) -> M | L13: =INDEX(Apoyo!$B$2:$H$5,MATCH($C13,Apoyo!$A$2:$A$5,0),MOD(L$8-$D$3+$D13,7)+1) -> T | M13: =INDEX(Apoyo!$B$2:$H$5,MATCH($C13,Apoyo!$A$2:$A$5,0),MOD(M$8-$D$3+$D13,7)+1) -> T | ... AG13: =INDEX(Apoyo!$B$2:$H$5,MATCH($C13,Apoyo!$A$2:$A$5,0),MOD(AG$8-$D$3+$D13,7)+1) -> T | AH13: =COUNTIF(F13:AG13,"M") -> 8 | AI13: =COUNTIF(F13:AG13,"T") -> 8 | AJ13: =COUNTIF(F13:AG13,"N") -> 8 | AK13: =COUNTIF(F13:AG13,"L") -> 4
A14: Tomás Rey | B14: Backoffice | C14: B | D14: 4 | E14: =COUNTIF(F14:AG14,"M")*$F$3+COUNTIF(F14:AG14,"T")*$F$3+COUNTIF(F14:AG14,"N")*$F$3 -> 192 | F14: =INDEX(Apoyo!$B$2:$H$5,MATCH($C14,Apoyo!$A$2:$A$5,0),MOD(F$8-$D$3+$D14,7)+1) -> L | G14: =INDEX(Apoyo!$B$2:$H$5,MATCH($C14,Apoyo!$A$2:$A$5,0),MOD(G$8-$D$3+$D14,7)+1) -> M | H14: =INDEX(Apoyo!$B$2:$H$5,MATCH($C14,Apoyo!$A$2:$A$5,0),MOD(H$8-$D$3+$D14,7)+1) -> M | I14: =INDEX(Apoyo!$B$2:$H$5,MATCH($C14,Apoyo!$A$2:$A$5,0),MOD(I$8-$D$3+$D14,7)+1) -> T | J14: =INDEX(Apoyo!$B$2:$H$5,MATCH($C14,Apoyo!$A$2:$A$5,0),MOD(J$8-$D$3+$D14,7)+1) -> T | K14: =INDEX(Apoyo!$B$2:$H$5,MATCH($C14,Apoyo!$A$2:$A$5,0),MOD(K$8-$D$3+$D14,7)+1) -> N | L14: =INDEX(Apoyo!$B$2:$H$5,MATCH($C14,Apoyo!$A$2:$A$5,0),MOD(L$8-$D$3+$D14,7)+1) -> N | M14: =INDEX(Apoyo!$B$2:$H$5,MATCH($C14,Apoyo!$A$2:$A$5,0),MOD(M$8-$D$3+$D14,7)+1) -> L | ... AG14: =INDEX(Apoyo!$B$2:$H$5,MATCH($C14,Apoyo!$A$2:$A$5,0),MOD(AG$8-$D$3+$D14,7)+1) -> N | AH14: =COUNTIF(F14:AG14,"M") -> 8 | AI14: =COUNTIF(F14:AG14,"T") -> 8 | AJ14: =COUNTIF(F14:AG14,"N") -> 8 | AK14: =COUNTIF(F14:AG14,"L") -> 4
A15: Vera Solís | B15: Calidad | C15: C | D15: 5 | E15: =COUNTIF(F15:AG15,"M")*$F$3+COUNTIF(F15:AG15,"T")*$F$3+COUNTIF(F15:AG15,"N")*$F$3 -> 192 | F15: =INDEX(Apoyo!$B$2:$H$5,MATCH($C15,Apoyo!$A$2:$A$5,0),MOD(F$8-$D$3+$D15,7)+1) -> T | G15: =INDEX(Apoyo!$B$2:$H$5,MATCH($C15,Apoyo!$A$2:$A$5,0),MOD(G$8-$D$3+$D15,7)+1) -> T | H15: =INDEX(Apoyo!$B$2:$H$5,MATCH($C15,Apoyo!$A$2:$A$5,0),MOD(H$8-$D$3+$D15,7)+1) -> N | I15: =INDEX(Apoyo!$B$2:$H$5,MATCH($C15,Apoyo!$A$2:$A$5,0),MOD(I$8-$D$3+$D15,7)+1) -> N | J15: =INDEX(Apoyo!$B$2:$H$5,MATCH($C15,Apoyo!$A$2:$A$5,0),MOD(J$8-$D$3+$D15,7)+1) -> L | K15: =INDEX(Apoyo!$B$2:$H$5,MATCH($C15,Apoyo!$A$2:$A$5,0),MOD(K$8-$D$3+$D15,7)+1) -> M | L15: =INDEX(Apoyo!$B$2:$H$5,MATCH($C15,Apoyo!$A$2:$A$5,0),MOD(L$8-$D$3+$D15,7)+1) -> M | M15: =INDEX(Apoyo!$B$2:$H$5,MATCH($C15,Apoyo!$A$2:$A$5,0),MOD(M$8-$D$3+$D15,7)+1) -> T | ... AG15: =INDEX(Apoyo!$B$2:$H$5,MATCH($C15,Apoyo!$A$2:$A$5,0),MOD(AG$8-$D$3+$D15,7)+1) -> M | AH15: =COUNTIF(F15:AG15,"M") -> 8 | AI15: =COUNTIF(F15:AG15,"T") -> 8 | AJ15: =COUNTIF(F15:AG15,"N") -> 8 | AK15: =COUNTIF(F15:AG15,"L") -> 4
A16: Yago Peña | B16: Calidad | C16: D | D16: 6 | E16: =COUNTIF(F16:AG16,"M")*$F$3+COUNTIF(F16:AG16,"T")*$F$3+COUNTIF(F16:AG16,"N")*$F$3 -> 192 | F16: =INDEX(Apoyo!$B$2:$H$5,MATCH($C16,Apoyo!$A$2:$A$5,0),MOD(F$8-$D$3+$D16,7)+1) -> N | G16: =INDEX(Apoyo!$B$2:$H$5,MATCH($C16,Apoyo!$A$2:$A$5,0),MOD(G$8-$D$3+$D16,7)+1) -> L | H16: =INDEX(Apoyo!$B$2:$H$5,MATCH($C16,Apoyo!$A$2:$A$5,0),MOD(H$8-$D$3+$D16,7)+1) -> M | I16: =INDEX(Apoyo!$B$2:$H$5,MATCH($C16,Apoyo!$A$2:$A$5,0),MOD(I$8-$D$3+$D16,7)+1) -> M | J16: =INDEX(Apoyo!$B$2:$H$5,MATCH($C16,Apoyo!$A$2:$A$5,0),MOD(J$8-$D$3+$D16,7)+1) -> T | K16: =INDEX(Apoyo!$B$2:$H$5,MATCH($C16,Apoyo!$A$2:$A$5,0),MOD(K$8-$D$3+$D16,7)+1) -> T | L16: =INDEX(Apoyo!$B$2:$H$5,MATCH($C16,Apoyo!$A$2:$A$5,0),MOD(L$8-$D$3+$D16,7)+1) -> N | M16: =INDEX(Apoyo!$B$2:$H$5,MATCH($C16,Apoyo!$A$2:$A$5,0),MOD(M$8-$D$3+$D16,7)+1) -> N | ... AG16: =INDEX(Apoyo!$B$2:$H$5,MATCH($C16,Apoyo!$A$2:$A$5,0),MOD(AG$8-$D$3+$D16,7)+1) -> N | AH16: =COUNTIF(F16:AG16,"M") -> 8 | AI16: =COUNTIF(F16:AG16,"T") -> 8 | AJ16: =COUNTIF(F16:AG16,"N") -> 8 | AK16: =COUNTIF(F16:AG16,"L") -> 4
D17: 0 | E17: =IF(A17="","",COUNTIF(F17:AG17,"M")*$F$3+COUNTIF(F17:AG17,"T")*$F$3+COUNTIF(F17:AG17,"N")*$F$3) | F17: =IF(OR($A17="",$C17=""),"",INDEX(Apoyo!$B$2:$H$5,MATCH($C17,Apoyo!$A$2:$A$5,0),MOD(F$8-$D$3+$D17,7)+1)) | G17: =IF(OR($A17="",$C17=""),"",INDEX(Apoyo!$B$2:$H$5,MATCH($C17,Apoyo!$A$2:$A$5,0),MOD(G$8-$D$3+$D17,7)+1)) | H17: =IF(OR($A17="",$C17=""),"",INDEX(Apoyo!$B$2:$H$5,MATCH($C17,Apoyo!$A$2:$A$5,0),MOD(H$8-$D$3+$D17,7)+1)) | I17: =IF(OR($A17="",$C17=""),"",INDEX(Apoyo!$B$2:$H$5,MATCH($C17,Apoyo!$A$2:$A$5,0),MOD(I$8-$D$3+$D17,7)+1)) | J17: =IF(OR($A17="",$C17=""),"",INDEX(Apoyo!$B$2:$H$5,MATCH($C17,Apoyo!$A$2:$A$5,0),MOD(J$8-$D$3+$D17,7)+1)) | K17: =IF(OR($A17="",$C17=""),"",INDEX(Apoyo!$B$2:$H$5,MATCH($C17,Apoyo!$A$2:$A$5,0),MOD(K$8-$D$3+$D17,7)+1)) | L17: =IF(OR($A17="",$C17=""),"",INDEX(Apoyo!$B$2:$H$5,MATCH($C17,Apoyo!$A$2:$A$5,0),MOD(L$8-$D$3+$D17,7)+1)) | M17: =IF(OR($A17="",$C17=""),"",INDEX(Apoyo!$B$2:$H$5,MATCH($C17,Apoyo!$A$2:$A$5,0),MOD(M$8-$D$3+$D17,7)+1)) | ... AG17: =IF(OR($A17="",$C17=""),"",INDEX(Apoyo!$B$2:$H$5,MATCH($C17,Apoyo!$A$2:$A$5,0),MOD(AG$8-$D$3+$D17,7)+1)) | AH17: =IF(A17="","",COUNTIF(F17:AG17,"M")) | AI17: =IF(A17="","",COUNTIF(F17:AG17,"T")) | AJ17: =IF(A17="","",COUNTIF(F17:AG17,"N")) | AK17: =IF(A17="","",COUNTIF(F17:AG17,"L"))
D18: 0 | E18: =IF(A18="","",COUNTIF(F18:AG18,"M")*$F$3+COUNTIF(F18:AG18,"T")*$F$3+COUNTIF(F18:AG18,"N")*$F$3) | F18: =IF(OR($A18="",$C18=""),"",INDEX(Apoyo!$B$2:$H$5,MATCH($C18,Apoyo!$A$2:$A$5,0),MOD(F$8-$D$3+$D18,7)+1)) | G18: =IF(OR($A18="",$C18=""),"",INDEX(Apoyo!$B$2:$H$5,MATCH($C18,Apoyo!$A$2:$A$5,0),MOD(G$8-$D$3+$D18,7)+1)) | H18: =IF(OR($A18="",$C18=""),"",INDEX(Apoyo!$B$2:$H$5,MATCH($C18,Apoyo!$A$2:$A$5,0),MOD(H$8-$D$3+$D18,7)+1)) | I18: =IF(OR($A18="",$C18=""),"",INDEX(Apoyo!$B$2:$H$5,MATCH($C18,Apoyo!$A$2:$A$5,0),MOD(I$8-$D$3+$D18,7)+1)) | J18: =IF(OR($A18="",$C18=""),"",INDEX(Apoyo!$B$2:$H$5,MATCH($C18,Apoyo!$A$2:$A$5,0),MOD(J$8-$D$3+$D18,7)+1)) | K18: =IF(OR($A18="",$C18=""),"",INDEX(Apoyo!$B$2:$H$5,MATCH($C18,Apoyo!$A$2:$A$5,0),MOD(K$8-$D$3+$D18,7)+1)) | L18: =IF(OR($A18="",$C18=""),"",INDEX(Apoyo!$B$2:$H$5,MATCH($C18,Apoyo!$A$2:$A$5,0),MOD(L$8-$D$3+$D18,7)+1)) | M18: =IF(OR($A18="",$C18=""),"",INDEX(Apoyo!$B$2:$H$5,MATCH($C18,Apoyo!$A$2:$A$5,0),MOD(M$8-$D$3+$D18,7)+1)) | ... AG18: =IF(OR($A18="",$C18=""),"",INDEX(Apoyo!$B$2:$H$5,MATCH($C18,Apoyo!$A$2:$A$5,0),MOD(AG$8-$D$3+$D18,7)+1)) | AH18: =IF(A18="","",COUNTIF(F18:AG18,"M")) | AI18: =IF(A18="","",COUNTIF(F18:AG18,"T")) | AJ18: =IF(A18="","",COUNTIF(F18:AG18,"N")) | AK18: =IF(A18="","",COUNTIF(F18:AG18,"L"))
D19: 0 | E19: =IF(A19="","",COUNTIF(F19:AG19,"M")*$F$3+COUNTIF(F19:AG19,"T")*$F$3+COUNTIF(F19:AG19,"N")*$F$3) | F19: =IF(OR($A19="",$C19=""),"",INDEX(Apoyo!$B$2:$H$5,MATCH($C19,Apoyo!$A$2:$A$5,0),MOD(F$8-$D$3+$D19,7)+1)) | G19: =IF(OR($A19="",$C19=""),"",INDEX(Apoyo!$B$2:$H$5,MATCH($C19,Apoyo!$A$2:$A$5,0),MOD(G$8-$D$3+$D19,7)+1)) | H19: =IF(OR($A19="",$C19=""),"",INDEX(Apoyo!$B$2:$H$5,MATCH($C19,Apoyo!$A$2:$A$5,0),MOD(H$8-$D$3+$D19,7)+1)) | I19: =IF(OR($A19="",$C19=""),"",INDEX(Apoyo!$B$2:$H$5,MATCH($C19,Apoyo!$A$2:$A$5,0),MOD(I$8-$D$3+$D19,7)+1)) | J19: =IF(OR($A19="",$C19=""),"",INDEX(Apoyo!$B$2:$H$5,MATCH($C19,Apoyo!$A$2:$A$5,0),MOD(J$8-$D$3+$D19,7)+1)) | K19: =IF(OR($A19="",$C19=""),"",INDEX(Apoyo!$B$2:$H$5,MATCH($C19,Apoyo!$A$2:$A$5,0),MOD(K$8-$D$3+$D19,7)+1)) | L19: =IF(OR($A19="",$C19=""),"",INDEX(Apoyo!$B$2:$H$5,MATCH($C19,Apoyo!$A$2:$A$5,0),MOD(L$8-$D$3+$D19,7)+1)) | M19: =IF(OR($A19="",$C19=""),"",INDEX(Apoyo!$B$2:$H$5,MATCH($C19,Apoyo!$A$2:$A$5,0),MOD(M$8-$D$3+$D19,7)+1)) | ... AG19: =IF(OR($A19="",$C19=""),"",INDEX(Apoyo!$B$2:$H$5,MATCH($C19,Apoyo!$A$2:$A$5,0),MOD(AG$8-$D$3+$D19,7)+1)) | AH19: =IF(A19="","",COUNTIF(F19:AG19,"M")) | AI19: =IF(A19="","",COUNTIF(F19:AG19,"T")) | AJ19: =IF(A19="","",COUNTIF(F19:AG19,"N")) | AK19: =IF(A19="","",COUNTIF(F19:AG19,"L"))
D20: 0 | E20: =IF(A20="","",COUNTIF(F20:AG20,"M")*$F$3+COUNTIF(F20:AG20,"T")*$F$3+COUNTIF(F20:AG20,"N")*$F$3) | F20: =IF(OR($A20="",$C20=""),"",INDEX(Apoyo!$B$2:$H$5,MATCH($C20,Apoyo!$A$2:$A$5,0),MOD(F$8-$D$3+$D20,7)+1)) | G20: =IF(OR($A20="",$C20=""),"",INDEX(Apoyo!$B$2:$H$5,MATCH($C20,Apoyo!$A$2:$A$5,0),MOD(G$8-$D$3+$D20,7)+1)) | H20: =IF(OR($A20="",$C20=""),"",INDEX(Apoyo!$B$2:$H$5,MATCH($C20,Apoyo!$A$2:$A$5,0),MOD(H$8-$D$3+$D20,7)+1)) | I20: =IF(OR($A20="",$C20=""),"",INDEX(Apoyo!$B$2:$H$5,MATCH($C20,Apoyo!$A$2:$A$5,0),MOD(I$8-$D$3+$D20,7)+1)) | J20: =IF(OR($A20="",$C20=""),"",INDEX(Apoyo!$B$2:$H$5,MATCH($C20,Apoyo!$A$2:$A$5,0),MOD(J$8-$D$3+$D20,7)+1)) | K20: =IF(OR($A20="",$C20=""),"",INDEX(Apoyo!$B$2:$H$5,MATCH($C20,Apoyo!$A$2:$A$5,0),MOD(K$8-$D$3+$D20,7)+1)) | L20: =IF(OR($A20="",$C20=""),"",INDEX(Apoyo!$B$2:$H$5,MATCH($C20,Apoyo!$A$2:$A$5,0),MOD(L$8-$D$3+$D20,7)+1)) | M20: =IF(OR($A20="",$C20=""),"",INDEX(Apoyo!$B$2:$H$5,MATCH($C20,Apoyo!$A$2:$A$5,0),MOD(M$8-$D$3+$D20,7)+1)) | ... AG20: =IF(OR($A20="",$C20=""),"",INDEX(Apoyo!$B$2:$H$5,MATCH($C20,Apoyo!$A$2:$A$5,0),MOD(AG$8-$D$3+$D20,7)+1)) | AH20: =IF(A20="","",COUNTIF(F20:AG20,"M")) | AI20: =IF(A20="","",COUNTIF(F20:AG20,"T")) | AJ20: =IF(A20="","",COUNTIF(F20:AG20,"N")) | AK20: =IF(A20="","",COUNTIF(F20:AG20,"L"))
D21: 0 | E21: =IF(A21="","",COUNTIF(F21:AG21,"M")*$F$3+COUNTIF(F21:AG21,"T")*$F$3+COUNTIF(F21:AG21,"N")*$F$3) | F21: =IF(OR($A21="",$C21=""),"",INDEX(Apoyo!$B$2:$H$5,MATCH($C21,Apoyo!$A$2:$A$5,0),MOD(F$8-$D$3+$D21,7)+1)) | G21: =IF(OR($A21="",$C21=""),"",INDEX(Apoyo!$B$2:$H$5,MATCH($C21,Apoyo!$A$2:$A$5,0),MOD(G$8-$D$3+$D21,7)+1)) | H21: =IF(OR($A21="",$C21=""),"",INDEX(Apoyo!$B$2:$H$5,MATCH($C21,Apoyo!$A$2:$A$5,0),MOD(H$8-$D$3+$D21,7)+1)) | I21: =IF(OR($A21="",$C21=""),"",INDEX(Apoyo!$B$2:$H$5,MATCH($C21,Apoyo!$A$2:$A$5,0),MOD(I$8-$D$3+$D21,7)+1)) | J21: =IF(OR($A21="",$C21=""),"",INDEX(Apoyo!$B$2:$H$5,MATCH($C21,Apoyo!$A$2:$A$5,0),MOD(J$8-$D$3+$D21,7)+1)) | K21: =IF(OR($A21="",$C21=""),"",INDEX(Apoyo!$B$2:$H$5,MATCH($C21,Apoyo!$A$2:$A$5,0),MOD(K$8-$D$3+$D21,7)+1)) | L21: =IF(OR($A21="",$C21=""),"",INDEX(Apoyo!$B$2:$H$5,MATCH($C21,Apoyo!$A$2:$A$5,0),MOD(L$8-$D$3+$D21,7)+1)) | M21: =IF(OR($A21="",$C21=""),"",INDEX(Apoyo!$B$2:$H$5,MATCH($C21,Apoyo!$A$2:$A$5,0),MOD(M$8-$D$3+$D21,7)+1)) | ... AG21: =IF(OR($A21="",$C21=""),"",INDEX(Apoyo!$B$2:$H$5,MATCH($C21,Apoyo!$A$2:$A$5,0),MOD(AG$8-$D$3+$D21,7)+1)) | AH21: =IF(A21="","",COUNTIF(F21:AG21,"M")) | AI21: =IF(A21="","",COUNTIF(F21:AG21,"T")) | AJ21: =IF(A21="","",COUNTIF(F21:AG21,"N")) | AK21: =IF(A21="","",COUNTIF(F21:AG21,"L"))
D22: 0 | E22: =IF(A22="","",COUNTIF(F22:AG22,"M")*$F$3+COUNTIF(F22:AG22,"T")*$F$3+COUNTIF(F22:AG22,"N")*$F$3) | F22: =IF(OR($A22="",$C22=""),"",INDEX(Apoyo!$B$2:$H$5,MATCH($C22,Apoyo!$A$2:$A$5,0),MOD(F$8-$D$3+$D22,7)+1)) | G22: =IF(OR($A22="",$C22=""),"",INDEX(Apoyo!$B$2:$H$5,MATCH($C22,Apoyo!$A$2:$A$5,0),MOD(G$8-$D$3+$D22,7)+1)) | H22: =IF(OR($A22="",$C22=""),"",INDEX(Apoyo!$B$2:$H$5,MATCH($C22,Apoyo!$A$2:$A$5,0),MOD(H$8-$D$3+$D22,7)+1)) | I22: =IF(OR($A22="",$C22=""),"",INDEX(Apoyo!$B$2:$H$5,MATCH($C22,Apoyo!$A$2:$A$5,0),MOD(I$8-$D$3+$D22,7)+1)) | J22: =IF(OR($A22="",$C22=""),"",INDEX(Apoyo!$B$2:$H$5,MATCH($C22,Apoyo!$A$2:$A$5,0),MOD(J$8-$D$3+$D22,7)+1)) | K22: =IF(OR($A22="",$C22=""),"",INDEX(Apoyo!$B$2:$H$5,MATCH($C22,Apoyo!$A$2:$A$5,0),MOD(K$8-$D$3+$D22,7)+1)) | L22: =IF(OR($A22="",$C22=""),"",INDEX(Apoyo!$B$2:$H$5,MATCH($C22,Apoyo!$A$2:$A$5,0),MOD(L$8-$D$3+$D22,7)+1)) | M22: =IF(OR($A22="",$C22=""),"",INDEX(Apoyo!$B$2:$H$5,MATCH($C22,Apoyo!$A$2:$A$5,0),MOD(M$8-$D$3+$D22,7)+1)) | ... AG22: =IF(OR($A22="",$C22=""),"",INDEX(Apoyo!$B$2:$H$5,MATCH($C22,Apoyo!$A$2:$A$5,0),MOD(AG$8-$D$3+$D22,7)+1)) | AH22: =IF(A22="","",COUNTIF(F22:AG22,"M")) | AI22: =IF(A22="","",COUNTIF(F22:AG22,"T")) | AJ22: =IF(A22="","",COUNTIF(F22:AG22,"N")) | AK22: =IF(A22="","",COUNTIF(F22:AG22,"L"))
A23: Personas activas | F23: =COUNTIF(F9:F22,"<>L")-COUNTBLANK(F9:F22) -> 7 | G23: =COUNTIF(G9:G22,"<>L")-COUNTBLANK(G9:G22) -> 6 | H23: =COUNTIF(H9:H22,"<>L")-COUNTBLANK(H9:H22) -> 8 | I23: =COUNTIF(I9:I22,"<>L")-COUNTBLANK(I9:I22) -> 7 | J23: =COUNTIF(J9:J22,"<>L")-COUNTBLANK(J9:J22) -> 6 | K23: =COUNTIF(K9:K22,"<>L")-COUNTBLANK(K9:K22) -> 7 | L23: =COUNTIF(L9:L22,"<>L")-COUNTBLANK(L9:L22) -> 7 | M23: =COUNTIF(M9:M22,"<>L")-COUNTBLANK(M9:M22) -> 7 | ... AG23: =COUNTIF(AG9:AG22,"<>L")-COUNTBLANK(AG9:AG22) -> 7
A24: Mañanas | F24: =COUNTIF(F9:F22,"M") -> 2 | G24: =COUNTIF(G9:G22,"M") -> 2 | H24: =COUNTIF(H9:H22,"M") -> 3 | I24: =COUNTIF(I9:I22,"M") -> 2 | J24: =COUNTIF(J9:J22,"M") -> 1 | K24: =COUNTIF(K9:K22,"M") -> 3 | L24: =COUNTIF(L9:L22,"M") -> 3 | M24: =COUNTIF(M9:M22,"M") -> 2 | ... AG24: =COUNTIF(AG9:AG22,"M") -> 3
A25: Tardes | F25: =COUNTIF(F9:F22,"T") -> 3 | G25: =COUNTIF(G9:G22,"T") -> 3 | H25: =COUNTIF(H9:H22,"T") -> 2 | I25: =COUNTIF(I9:I22,"T") -> 2 | J25: =COUNTIF(J9:J22,"T") -> 3 | K25: =COUNTIF(K9:K22,"T") -> 2 | L25: =COUNTIF(L9:L22,"T") -> 1 | M25: =COUNTIF(M9:M22,"T") -> 3 | ... AG25: =COUNTIF(AG9:AG22,"T") -> 1
A26: Noches | F26: =COUNTIF(F9:F22,"N") -> 2 | G26: =COUNTIF(G9:G22,"N") -> 1 | H26: =COUNTIF(H9:H22,"N") -> 3 | I26: =COUNTIF(I9:I22,"N") -> 3 | J26: =COUNTIF(J9:J22,"N") -> 2 | K26: =COUNTIF(K9:K22,"N") -> 2 | L26: =COUNTIF(L9:L22,"N") -> 3 | M26: =COUNTIF(M9:M22,"N") -> 2 | ... AG26: =COUNTIF(AG9:AG22,"N") -> 3
A28: Usa el desfase para que dos personas con el mismo patrón no descansen siempre el mismo día.

Sheet Apoyo
A1: Patrón | B1: 1 | C1: 2 | D1: 3 | E1: 4 | F1: 5 | G1: 6 | H1: 7 | J1: Patrones válidos
A2: A | B2: M | C2: M | D2: T | E2: T | F2: N | G2: N | H2: L | J2: A
A3: B | B3: T | C3: T | D3: N | E3: N | F3: L | G3: M | H3: M | J3: B
A4: C | B4: N | C4: N | D4: L | E4: M | F4: M | G4: T | H4: T | J4: C
A5: D | B5: L | C5: M | D5: M | E5: T | F5: T | G5: N | H5: N | J5: D
