Workbook
Name ListaEmpleados: Parametros!$B$29:$B$40
Name ListaGrupos: Parametros!$X$3:$X$6
Name ListaTurnos: Parametros!$Y$3:$Y$8

Sheet Cuadrante
A1: Cuadrante rotativo de lunes a domingo
A2: Empresa | B2: =Parametros!B3 -> Aurora Producción Escénica | D2: Inicio ciclo | E2: =Parametros!B6 -> 46111 | G2: Vista operativa automática. Para cambiar equipo, patrón o incidencias usa la pestaña Parámetros.
A3: Área | B3: =Parametros!B4 -> Operación continua | D3: Horas planificadas | E3: =SUM(AK9:AK20) -> 1424
A4: Mes | B4: =Parametros!B5 -> 46113 | D4: Alertas cobertura | E4: =COUNTIF(F31:AJ31,"Revisar") -> 2
F5: =IF(F6="","",F6) -> 46113 | G5: =IF(G6="","",G6) -> 46114 | H5: =IF(H6="","",H6) -> 46115 | I5: =IF(I6="","",I6) -> 46116 | J5: =IF(J6="","",J6) -> 46117 | K5: =IF(K6="","",K6) -> 46118 | L5: =IF(L6="","",L6) -> 46119 | M5: =IF(M6="","",M6) -> 46120 | ... AJ5: =IF(AJ6="","",AJ6)
F6: =IF(DAY(DATE(YEAR(Parametros!$B$5),MONTH(Parametros!$B$5)+1,0))>=1,DATE(YEAR(Parametros!$B$5),MONTH(Parametros!$B$5),1),"") -> 46113 | G6: =IF(DAY(DATE(YEAR(Parametros!$B$5),MONTH(Parametros!$B$5)+1,0))>=2,DATE(YEAR(Parametros!$B$5),MONTH(Parametros!$B$5),2),"") -> 46114 | H6: =IF(DAY(DATE(YEAR(Parametros!$B$5),MONTH(Parametros!$B$5)+1,0))>=3,DATE(YEAR(Parametros!$B$5),MONTH(Parametros!$B$5),3),"") -> 46115 | I6: =IF(DAY(DATE(YEAR(Parametros!$B$5),MONTH(Parametros!$B$5)+1,0))>=4,DATE(YEAR(Parametros!$B$5),MONTH(Parametros!$B$5),4),"") -> 46116 | J6: =IF(DAY(DATE(YEAR(Parametros!$B$5),MONTH(Parametros!$B$5)+1,0))>=5,DATE(YEAR(Parametros!$B$5),MONTH(Parametros!$B$5),5),"") -> 46117 | K6: =IF(DAY(DATE(YEAR(Parametros!$B$5),MONTH(Parametros!$B$5)+1,0))>=6,DATE(YEAR(Parametros!$B$5),MONTH(Parametros!$B$5),6),"") -> 46118 | L6: =IF(DAY(DATE(YEAR(Parametros!$B$5),MONTH(Parametros!$B$5)+1,0))>=7,DATE(YEAR(Parametros!$B$5),MONTH(Parametros!$B$5),7),"") -> 46119 | M6: =IF(DAY(DATE(YEAR(Parametros!$B$5),MONTH(Parametros!$B$5)+1,0))>=8,DATE(YEAR(Parametros!$B$5),MONTH(Parametros!$B$5),8),"") -> 46120 | N6: =IF(DAY(DATE(YEAR(Parametros!$B$5),MONTH(Parametros!$B$5)+1,0))>=9,DATE(YEAR(Parametros!$B$5),MONTH(Parametros!$B$5),9),"") -> 46121 | O6: =IF(DAY(DATE(YEAR(Parametros!$B$5),MONTH(Parametros!$B$5)+1,0))>=10,DATE(YEAR(Parametros!$B$5),MONTH(Parametros!$B$5),10),"") -> 46122 | P6: =IF(DAY(DATE(YEAR(Parametros!$B$5),MONTH(Parametros!$B$5)+1,0))>=11,DATE(YEAR(Parametros!$B$5),MONTH(Parametros!$B$5),11),"") -> 46123 | Q6: =IF(DAY(DATE(YEAR(Parametros!$B$5),MONTH(Parametros!$B$5)+1,0))>=12,DATE(YEAR(Parametros!$B$5),MONTH(Parametros!$B$5),12),"") -> 46124 | R6: =IF(DAY(DATE(YEAR(Parametros!$B$5),MONTH(Parametros!$B$5)+1,0))>=13,DATE(YEAR(Parametros!$B$5),MONTH(Parametros!$B$5),13),"") -> 46125 | S6: =IF(DAY(DATE(YEAR(Parametros!$B$5),MONTH(Parametros!$B$5)+1,0))>=14,DATE(YEAR(Parametros!$B$5),MONTH(Parametros!$B$5),14),"") -> 46126 | T6: =IF(DAY(DATE(YEAR(Parametros!$B$5),MONTH(Parametros!$B$5)+1,0))>=15,DATE(YEAR(Parametros!$B$5),MONTH(Parametros!$B$5),15),"") -> 46127 | U6: =IF(DAY(DATE(YEAR(Parametros!$B$5),MONTH(Parametros!$B$5)+1,0))>=16,DATE(YEAR(Parametros!$B$5),MONTH(Parametros!$B$5),16),"") -> 46128 | V6: =IF(DAY(DATE(YEAR(Parametros!$B$5),MONTH(Parametros!$B$5)+1,0))>=17,DATE(YEAR(Parametros!$B$5),MONTH(Parametros!$B$5),17),"") -> 46129 | W6: =IF(DAY(DATE(YEAR(Parametros!$B$5),MONTH(Parametros!$B$5)+1,0))>=18,DATE(YEAR(Parametros!$B$5),MONTH(Parametros!$B$5),18),"") -> 46130 | X6: =IF(DAY(DATE(YEAR(Parametros!$B$5),MONTH(Parametros!$B$5)+1,0))>=19,DATE(YEAR(Parametros!$B$5),MONTH(Parametros!$B$5),19),"") -> 46131 | Y6: =IF(DAY(DATE(YEAR(Parametros!$B$5),MONTH(Parametros!$B$5)+1,0))>=20,DATE(YEAR(Parametros!$B$5),MONTH(Parametros!$B$5),20),"") -> 46132 | Z6: =IF(DAY(DATE(YEAR(Parametros!$B$5),MONTH(Parametros!$B$5)+1,0))>=21,DATE(YEAR(Parametros!$B$5),MONTH(Parametros!$B$5),21),"") -> 46133 | AA6: =IF(DAY(DATE(YEAR(Parametros!$B$5),MONTH(Parametros!$B$5)+1,0))>=22,DATE(YEAR(Parametros!$B$5),MONTH(Parametros!$B$5),22),"") -> 46134 | AB6: =IF(DAY(DATE(YEAR(Parametros!$B$5),MONTH(Parametros!$B$5)+1,0))>=23,DATE(YEAR(Parametros!$B$5),MONTH(Parametros!$B$5),23),"") -> 46135 | AC6: =IF(DAY(DATE(YEAR(Parametros!$B$5),MONTH(Parametros!$B$5)+1,0))>=24,DATE(YEAR(Parametros!$B$5),MONTH(Parametros!$B$5),24),"") -> 46136 | AD6: =IF(DAY(DATE(YEAR(Parametros!$B$5),MONTH(Parametros!$B$5)+1,0))>=25,DATE(YEAR(Parametros!$B$5),MONTH(Parametros!$B$5),25),"") -> 46137 | AE6: =IF(DAY(DATE(YEAR(Parametros!$B$5),MONTH(Parametros!$B$5)+1,0))>=26,DATE(YEAR(Parametros!$B$5),MONTH(Parametros!$B$5),26),"") -> 46138 | AF6: =IF(DAY(DATE(YEAR(Parametros!$B$5),MONTH(Parametros!$B$5)+1,0))>=27,DATE(YEAR(Parametros!$B$5),MONTH(Parametros!$B$5),27),"") -> 46139 | AG6: =IF(DAY(DATE(YEAR(Parametros!$B$5),MONTH(Parametros!$B$5)+1,0))>=28,DATE(YEAR(Parametros!$B$5),MONTH(Parametros!$B$5),28),"") -> 46140 | AH6: =IF(DAY(DATE(YEAR(Parametros!$B$5),MONTH(Parametros!$B$5)+1,0))>=29,DATE(YEAR(Parametros!$B$5),MONTH(Parametros!$B$5),29),"") -> 46141 | AI6: =IF(DAY(DATE(YEAR(Parametros!$B$5),MONTH(Parametros!$B$5)+1,0))>=30,DATE(YEAR(Parametros!$B$5),MONTH(Parametros!$B$5),30),"") -> 46142 | AJ6: =IF(DAY(DATE(YEAR(Parametros!$B$5),MONTH(Parametros!$B$5)+1,0))>=31,DATE(YEAR(Parametros!$B$5),MONTH(Parametros!$B$5),31),"")
A8: # | B8: Empleado | C8: Rol | D8: Grupo | E8: Jornada | AK8: Horas | AL8: M | AM8: T | AN8: N | AO8: L | AP8: Aus. | AQ8: Días trab.
A9: 1 | B9: =IF(Parametros!A29="Sí",Parametros!B29,"") -> Sara Montero | C9: =IF($B9="","",Parametros!C29) -> Coordinación de sala | D9: =IF($B9="","",Parametros!D29) -> A | E9: =IF($B9="","",Parametros!E29) -> 1 | F9: =IF(OR($B9="",F$6=""),"",IFERROR(VLOOKUP($B9&"|"&F$6,Parametros!$E$46:$H$65,4,FALSE),INDEX(Parametros!$J$19:$Q$22,MATCH($D9,Parametros!$I$19:$I$22,0),1+MOD(F$6-Parametros!$B$6,8)))) -> T | G9: =IF(OR($B9="",G$6=""),"",IFERROR(VLOOKUP($B9&"|"&G$6,Parametros!$E$46:$H$65,4,FALSE),INDEX(Parametros!$J$19:$Q$22,MATCH($D9,Parametros!$I$19:$I$22,0),1+MOD(G$6-Parametros!$B$6,8)))) -> T | H9: =IF(OR($B9="",H$6=""),"",IFERROR(VLOOKUP($B9&"|"&H$6,Parametros!$E$46:$H$65,4,FALSE),INDEX(Parametros!$J$19:$Q$22,MATCH($D9,Parametros!$I$19:$I$22,0),1+MOD(H$6-Parametros!$B$6,8)))) -> N | I9: =IF(OR($B9="",I$6=""),"",IFERROR(VLOOKUP($B9&"|"&I$6,Parametros!$E$46:$H$65,4,FALSE),INDEX(Parametros!$J$19:$Q$22,MATCH($D9,Parametros!$I$19:$I$22,0),1+MOD(I$6-Parametros!$B$6,8)))) -> N | J9: =IF(OR($B9="",J$6=""),"",IFERROR(VLOOKUP($B9&"|"&J$6,Parametros!$E$46:$H$65,4,FALSE),INDEX(Parametros!$J$19:$Q$22,MATCH($D9,Parametros!$I$19:$I$22,0),1+MOD(J$6-Parametros!$B$6,8)))) -> L | K9: =IF(OR($B9="",K$6=""),"",IFERROR(VLOOKUP($B9&"|"&K$6,Parametros!$E$46:$H$65,4,FALSE),INDEX(Parametros!$J$19:$Q$22,MATCH($D9,Parametros!$I$19:$I$22,0),1+MOD(K$6-Parametros!$B$6,8)))) -> L | L9: =IF(OR($B9="",L$6=""),"",IFERROR(VLOOKUP($B9&"|"&L$6,Parametros!$E$46:$H$65,4,FALSE),INDEX(Parametros!$J$19:$Q$22,MATCH($D9,Parametros!$I$19:$I$22,0),1+MOD(L$6-Parametros!$B$6,8)))) -> M | M9: =IF(OR($B9="",M$6=""),"",IFERROR(VLOOKUP($B9&"|"&M$6,Parametros!$E$46:$H$65,4,FALSE),INDEX(Parametros!$J$19:$Q$22,MATCH($D9,Parametros!$I$19:$I$22,0),1+MOD(M$6-Parametros!$B$6,8)))) -> M | ... AJ9: =IF(OR($B9="",AJ$6=""),"",IFERROR(VLOOKUP($B9&"|"&AJ$6,Parametros!$E$46:$H$65,4,FALSE),INDEX(Parametros!$J$19:$Q$22,MATCH($D9,Parametros!$I$19:$I$22,0),1+MOD(AJ$6-Parametros!$B$6,8)))) | AK9: =IF($B9="","",AL9*8+AM9*8+AN9*8) -> 168 | AL9: =IF($B9="","",COUNTIF(F9:AJ9,"M")) -> 6 | AM9: =IF($B9="","",COUNTIF(F9:AJ9,"T")) -> 7 | AN9: =IF($B9="","",COUNTIF(F9:AJ9,"N")) -> 8 | AO9: =IF($B9="","",COUNTIF(F9:AJ9,"L")) -> 8 | AP9: =IF($B9="","",COUNTIF(F9:AJ9,"V")+COUNTIF(F9:AJ9,"F")) -> 0 | AQ9: =IF($B9="","",COUNTIF(F9:AJ9,"M")+COUNTIF(F9:AJ9,"T")+COUNTIF(F9:AJ9,"N")) -> 21
A10: 2 | B10: =IF(Parametros!A30="Sí",Parametros!B30,"") -> Pablo León | C10: =IF($B10="","",Parametros!C30) -> Operación de escena | D10: =IF($B10="","",Parametros!D30) -> A | E10: =IF($B10="","",Parametros!E30) -> 1 | F10: =IF(OR($B10="",F$6=""),"",IFERROR(VLOOKUP($B10&"|"&F$6,Parametros!$E$46:$H$65,4,FALSE),INDEX(Parametros!$J$19:$Q$22,MATCH($D10,Parametros!$I$19:$I$22,0),1+MOD(F$6-Parametros!$B$6,8)))) -> T | G10: =IF(OR($B10="",G$6=""),"",IFERROR(VLOOKUP($B10&"|"&G$6,Parametros!$E$46:$H$65,4,FALSE),INDEX(Parametros!$J$19:$Q$22,MATCH($D10,Parametros!$I$19:$I$22,0),1+MOD(G$6-Parametros!$B$6,8)))) -> T | H10: =IF(OR($B10="",H$6=""),"",IFERROR(VLOOKUP($B10&"|"&H$6,Parametros!$E$46:$H$65,4,FALSE),INDEX(Parametros!$J$19:$Q$22,MATCH($D10,Parametros!$I$19:$I$22,0),1+MOD(H$6-Parametros!$B$6,8)))) -> N | I10: =IF(OR($B10="",I$6=""),"",IFERROR(VLOOKUP($B10&"|"&I$6,Parametros!$E$46:$H$65,4,FALSE),INDEX(Parametros!$J$19:$Q$22,MATCH($D10,Parametros!$I$19:$I$22,0),1+MOD(I$6-Parametros!$B$6,8)))) -> N | J10: =IF(OR($B10="",J$6=""),"",IFERROR(VLOOKUP($B10&"|"&J$6,Parametros!$E$46:$H$65,4,FALSE),INDEX(Parametros!$J$19:$Q$22,MATCH($D10,Parametros!$I$19:$I$22,0),1+MOD(J$6-Parametros!$B$6,8)))) -> L | K10: =IF(OR($B10="",K$6=""),"",IFERROR(VLOOKUP($B10&"|"&K$6,Parametros!$E$46:$H$65,4,FALSE),INDEX(Parametros!$J$19:$Q$22,MATCH($D10,Parametros!$I$19:$I$22,0),1+MOD(K$6-Parametros!$B$6,8)))) -> L | L10: =IF(OR($B10="",L$6=""),"",IFERROR(VLOOKUP($B10&"|"&L$6,Parametros!$E$46:$H$65,4,FALSE),INDEX(Parametros!$J$19:$Q$22,MATCH($D10,Parametros!$I$19:$I$22,0),1+MOD(L$6-Parametros!$B$6,8)))) -> M | M10: =IF(OR($B10="",M$6=""),"",IFERROR(VLOOKUP($B10&"|"&M$6,Parametros!$E$46:$H$65,4,FALSE),INDEX(Parametros!$J$19:$Q$22,MATCH($D10,Parametros!$I$19:$I$22,0),1+MOD(M$6-Parametros!$B$6,8)))) -> M | ... AJ10: =IF(OR($B10="",AJ$6=""),"",IFERROR(VLOOKUP($B10&"|"&AJ$6,Parametros!$E$46:$H$65,4,FALSE),INDEX(Parametros!$J$19:$Q$22,MATCH($D10,Parametros!$I$19:$I$22,0),1+MOD(AJ$6-Parametros!$B$6,8)))) | AK10: =IF($B10="","",AL10*8+AM10*8+AN10*8) -> 176 | AL10: =IF($B10="","",COUNTIF(F10:AJ10,"M")) -> 6 | AM10: =IF($B10="","",COUNTIF(F10:AJ10,"T")) -> 8 | AN10: =IF($B10="","",COUNTIF(F10:AJ10,"N")) -> 8 | AO10: =IF($B10="","",COUNTIF(F10:AJ10,"L")) -> 8 | AP10: =IF($B10="","",COUNTIF(F10:AJ10,"V")+COUNTIF(F10:AJ10,"F")) -> 0 | AQ10: =IF($B10="","",COUNTIF(F10:AJ10,"M")+COUNTIF(F10:AJ10,"T")+COUNTIF(F10:AJ10,"N")) -> 22
A11: 3 | B11: =IF(Parametros!A31="Sí",Parametros!B31,"") -> Inés Vidal | C11: =IF($B11="","",Parametros!C31) -> Atención técnica | D11: =IF($B11="","",Parametros!D31) -> B | E11: =IF($B11="","",Parametros!E31) -> 1 | F11: =IF(OR($B11="",F$6=""),"",IFERROR(VLOOKUP($B11&"|"&F$6,Parametros!$E$46:$H$65,4,FALSE),INDEX(Parametros!$J$19:$Q$22,MATCH($D11,Parametros!$I$19:$I$22,0),1+MOD(F$6-Parametros!$B$6,8)))) -> N | G11: =IF(OR($B11="",G$6=""),"",IFERROR(VLOOKUP($B11&"|"&G$6,Parametros!$E$46:$H$65,4,FALSE),INDEX(Parametros!$J$19:$Q$22,MATCH($D11,Parametros!$I$19:$I$22,0),1+MOD(G$6-Parametros!$B$6,8)))) -> N | H11: =IF(OR($B11="",H$6=""),"",IFERROR(VLOOKUP($B11&"|"&H$6,Parametros!$E$46:$H$65,4,FALSE),INDEX(Parametros!$J$19:$Q$22,MATCH($D11,Parametros!$I$19:$I$22,0),1+MOD(H$6-Parametros!$B$6,8)))) -> L | I11: =IF(OR($B11="",I$6=""),"",IFERROR(VLOOKUP($B11&"|"&I$6,Parametros!$E$46:$H$65,4,FALSE),INDEX(Parametros!$J$19:$Q$22,MATCH($D11,Parametros!$I$19:$I$22,0),1+MOD(I$6-Parametros!$B$6,8)))) -> L | J11: =IF(OR($B11="",J$6=""),"",IFERROR(VLOOKUP($B11&"|"&J$6,Parametros!$E$46:$H$65,4,FALSE),INDEX(Parametros!$J$19:$Q$22,MATCH($D11,Parametros!$I$19:$I$22,0),1+MOD(J$6-Parametros!$B$6,8)))) -> M | K11: =IF(OR($B11="",K$6=""),"",IFERROR(VLOOKUP($B11&"|"&K$6,Parametros!$E$46:$H$65,4,FALSE),INDEX(Parametros!$J$19:$Q$22,MATCH($D11,Parametros!$I$19:$I$22,0),1+MOD(K$6-Parametros!$B$6,8)))) -> M | L11: =IF(OR($B11="",L$6=""),"",IFERROR(VLOOKUP($B11&"|"&L$6,Parametros!$E$46:$H$65,4,FALSE),INDEX(Parametros!$J$19:$Q$22,MATCH($D11,Parametros!$I$19:$I$22,0),1+MOD(L$6-Parametros!$B$6,8)))) -> T | M11: =IF(OR($B11="",M$6=""),"",IFERROR(VLOOKUP($B11&"|"&M$6,Parametros!$E$46:$H$65,4,FALSE),INDEX(Parametros!$J$19:$Q$22,MATCH($D11,Parametros!$I$19:$I$22,0),1+MOD(M$6-Parametros!$B$6,8)))) -> T | ... AJ11: =IF(OR($B11="",AJ$6=""),"",IFERROR(VLOOKUP($B11&"|"&AJ$6,Parametros!$E$46:$H$65,4,FALSE),INDEX(Parametros!$J$19:$Q$22,MATCH($D11,Parametros!$I$19:$I$22,0),1+MOD(AJ$6-Parametros!$B$6,8)))) | AK11: =IF($B11="","",AL11*8+AM11*8+AN11*8) -> 176 | AL11: =IF($B11="","",COUNTIF(F11:AJ11,"M")) -> 8 | AM11: =IF($B11="","",COUNTIF(F11:AJ11,"T")) -> 6 | AN11: =IF($B11="","",COUNTIF(F11:AJ11,"N")) -> 8 | AO11: =IF($B11="","",COUNTIF(F11:AJ11,"L")) -> 8 | AP11: =IF($B11="","",COUNTIF(F11:AJ11,"V")+COUNTIF(F11:AJ11,"F")) -> 0 | AQ11: =IF($B11="","",COUNTIF(F11:AJ11,"M")+COUNTIF(F11:AJ11,"T")+COUNTIF(F11:AJ11,"N")) -> 22
A12: 4 | B12: =IF(Parametros!A32="Sí",Parametros!B32,"") -> Hugo Serra | C12: =IF($B12="","",Parametros!C32) -> Soporte de montaje | D12: =IF($B12="","",Parametros!D32) -> B | E12: =IF($B12="","",Parametros!E32) -> 1 | F12: =IF(OR($B12="",F$6=""),"",IFERROR(VLOOKUP($B12&"|"&F$6,Parametros!$E$46:$H$65,4,FALSE),INDEX(Parametros!$J$19:$Q$22,MATCH($D12,Parametros!$I$19:$I$22,0),1+MOD(F$6-Parametros!$B$6,8)))) -> N | G12: =IF(OR($B12="",G$6=""),"",IFERROR(VLOOKUP($B12&"|"&G$6,Parametros!$E$46:$H$65,4,FALSE),INDEX(Parametros!$J$19:$Q$22,MATCH($D12,Parametros!$I$19:$I$22,0),1+MOD(G$6-Parametros!$B$6,8)))) -> N | H12: =IF(OR($B12="",H$6=""),"",IFERROR(VLOOKUP($B12&"|"&H$6,Parametros!$E$46:$H$65,4,FALSE),INDEX(Parametros!$J$19:$Q$22,MATCH($D12,Parametros!$I$19:$I$22,0),1+MOD(H$6-Parametros!$B$6,8)))) -> L | I12: =IF(OR($B12="",I$6=""),"",IFERROR(VLOOKUP($B12&"|"&I$6,Parametros!$E$46:$H$65,4,FALSE),INDEX(Parametros!$J$19:$Q$22,MATCH($D12,Parametros!$I$19:$I$22,0),1+MOD(I$6-Parametros!$B$6,8)))) -> L | J12: =IF(OR($B12="",J$6=""),"",IFERROR(VLOOKUP($B12&"|"&J$6,Parametros!$E$46:$H$65,4,FALSE),INDEX(Parametros!$J$19:$Q$22,MATCH($D12,Parametros!$I$19:$I$22,0),1+MOD(J$6-Parametros!$B$6,8)))) -> M | K12: =IF(OR($B12="",K$6=""),"",IFERROR(VLOOKUP($B12&"|"&K$6,Parametros!$E$46:$H$65,4,FALSE),INDEX(Parametros!$J$19:$Q$22,MATCH($D12,Parametros!$I$19:$I$22,0),1+MOD(K$6-Parametros!$B$6,8)))) -> M | L12: =IF(OR($B12="",L$6=""),"",IFERROR(VLOOKUP($B12&"|"&L$6,Parametros!$E$46:$H$65,4,FALSE),INDEX(Parametros!$J$19:$Q$22,MATCH($D12,Parametros!$I$19:$I$22,0),1+MOD(L$6-Parametros!$B$6,8)))) -> T | M12: =IF(OR($B12="",M$6=""),"",IFERROR(VLOOKUP($B12&"|"&M$6,Parametros!$E$46:$H$65,4,FALSE),INDEX(Parametros!$J$19:$Q$22,MATCH($D12,Parametros!$I$19:$I$22,0),1+MOD(M$6-Parametros!$B$6,8)))) -> T | ... AJ12: =IF(OR($B12="",AJ$6=""),"",IFERROR(VLOOKUP($B12&"|"&AJ$6,Parametros!$E$46:$H$65,4,FALSE),INDEX(Parametros!$J$19:$Q$22,MATCH($D12,Parametros!$I$19:$I$22,0),1+MOD(AJ$6-Parametros!$B$6,8)))) | AK12: =IF($B12="","",AL12*8+AM12*8+AN12*8) -> 176 | AL12: =IF($B12="","",COUNTIF(F12:AJ12,"M")) -> 8 | AM12: =IF($B12="","",COUNTIF(F12:AJ12,"T")) -> 6 | AN12: =IF($B12="","",COUNTIF(F12:AJ12,"N")) -> 8 | AO12: =IF($B12="","",COUNTIF(F12:AJ12,"L")) -> 8 | AP12: =IF($B12="","",COUNTIF(F12:AJ12,"V")+COUNTIF(F12:AJ12,"F")) -> 0 | AQ12: =IF($B12="","",COUNTIF(F12:AJ12,"M")+COUNTIF(F12:AJ12,"T")+COUNTIF(F12:AJ12,"N")) -> 22
A13: 5 | B13: =IF(Parametros!A33="Sí",Parametros!B33,"") -> Nuria Campos | C13: =IF($B13="","",Parametros!C33) -> Control de accesos | D13: =IF($B13="","",Parametros!D33) -> C | E13: =IF($B13="","",Parametros!E33) -> 1 | F13: =IF(OR($B13="",F$6=""),"",IFERROR(VLOOKUP($B13&"|"&F$6,Parametros!$E$46:$H$65,4,FALSE),INDEX(Parametros!$J$19:$Q$22,MATCH($D13,Parametros!$I$19:$I$22,0),1+MOD(F$6-Parametros!$B$6,8)))) -> L | G13: =IF(OR($B13="",G$6=""),"",IFERROR(VLOOKUP($B13&"|"&G$6,Parametros!$E$46:$H$65,4,FALSE),INDEX(Parametros!$J$19:$Q$22,MATCH($D13,Parametros!$I$19:$I$22,0),1+MOD(G$6-Parametros!$B$6,8)))) -> L | H13: =IF(OR($B13="",H$6=""),"",IFERROR(VLOOKUP($B13&"|"&H$6,Parametros!$E$46:$H$65,4,FALSE),INDEX(Parametros!$J$19:$Q$22,MATCH($D13,Parametros!$I$19:$I$22,0),1+MOD(H$6-Parametros!$B$6,8)))) -> M | I13: =IF(OR($B13="",I$6=""),"",IFERROR(VLOOKUP($B13&"|"&I$6,Parametros!$E$46:$H$65,4,FALSE),INDEX(Parametros!$J$19:$Q$22,MATCH($D13,Parametros!$I$19:$I$22,0),1+MOD(I$6-Parametros!$B$6,8)))) -> M | J13: =IF(OR($B13="",J$6=""),"",IFERROR(VLOOKUP($B13&"|"&J$6,Parametros!$E$46:$H$65,4,FALSE),INDEX(Parametros!$J$19:$Q$22,MATCH($D13,Parametros!$I$19:$I$22,0),1+MOD(J$6-Parametros!$B$6,8)))) -> T | K13: =IF(OR($B13="",K$6=""),"",IFERROR(VLOOKUP($B13&"|"&K$6,Parametros!$E$46:$H$65,4,FALSE),INDEX(Parametros!$J$19:$Q$22,MATCH($D13,Parametros!$I$19:$I$22,0),1+MOD(K$6-Parametros!$B$6,8)))) -> T | L13: =IF(OR($B13="",L$6=""),"",IFERROR(VLOOKUP($B13&"|"&L$6,Parametros!$E$46:$H$65,4,FALSE),INDEX(Parametros!$J$19:$Q$22,MATCH($D13,Parametros!$I$19:$I$22,0),1+MOD(L$6-Parametros!$B$6,8)))) -> N | M13: =IF(OR($B13="",M$6=""),"",IFERROR(VLOOKUP($B13&"|"&M$6,Parametros!$E$46:$H$65,4,FALSE),INDEX(Parametros!$J$19:$Q$22,MATCH($D13,Parametros!$I$19:$I$22,0),1+MOD(M$6-Parametros!$B$6,8)))) -> N | ... AJ13: =IF(OR($B13="",AJ$6=""),"",IFERROR(VLOOKUP($B13&"|"&AJ$6,Parametros!$E$46:$H$65,4,FALSE),INDEX(Parametros!$J$19:$Q$22,MATCH($D13,Parametros!$I$19:$I$22,0),1+MOD(AJ$6-Parametros!$B$6,8)))) | AK13: =IF($B13="","",AL13*8+AM13*8+AN13*8) -> 176 | AL13: =IF($B13="","",COUNTIF(F13:AJ13,"M")) -> 8 | AM13: =IF($B13="","",COUNTIF(F13:AJ13,"T")) -> 8 | AN13: =IF($B13="","",COUNTIF(F13:AJ13,"N")) -> 6 | AO13: =IF($B13="","",COUNTIF(F13:AJ13,"L")) -> 8 | AP13: =IF($B13="","",COUNTIF(F13:AJ13,"V")+COUNTIF(F13:AJ13,"F")) -> 0 | AQ13: =IF($B13="","",COUNTIF(F13:AJ13,"M")+COUNTIF(F13:AJ13,"T")+COUNTIF(F13:AJ13,"N")) -> 22
A14: 6 | B14: =IF(Parametros!A34="Sí",Parametros!B34,"") -> Diego Paredes | C14: =IF($B14="","",Parametros!C34) -> Logística interna | D14: =IF($B14="","",Parametros!D34) -> C | E14: =IF($B14="","",Parametros!E34) -> 1 | F14: =IF(OR($B14="",F$6=""),"",IFERROR(VLOOKUP($B14&"|"&F$6,Parametros!$E$46:$H$65,4,FALSE),INDEX(Parametros!$J$19:$Q$22,MATCH($D14,Parametros!$I$19:$I$22,0),1+MOD(F$6-Parametros!$B$6,8)))) -> L | G14: =IF(OR($B14="",G$6=""),"",IFERROR(VLOOKUP($B14&"|"&G$6,Parametros!$E$46:$H$65,4,FALSE),INDEX(Parametros!$J$19:$Q$22,MATCH($D14,Parametros!$I$19:$I$22,0),1+MOD(G$6-Parametros!$B$6,8)))) -> L | H14: =IF(OR($B14="",H$6=""),"",IFERROR(VLOOKUP($B14&"|"&H$6,Parametros!$E$46:$H$65,4,FALSE),INDEX(Parametros!$J$19:$Q$22,MATCH($D14,Parametros!$I$19:$I$22,0),1+MOD(H$6-Parametros!$B$6,8)))) -> M | I14: =IF(OR($B14="",I$6=""),"",IFERROR(VLOOKUP($B14&"|"&I$6,Parametros!$E$46:$H$65,4,FALSE),INDEX(Parametros!$J$19:$Q$22,MATCH($D14,Parametros!$I$19:$I$22,0),1+MOD(I$6-Parametros!$B$6,8)))) -> M | J14: =IF(OR($B14="",J$6=""),"",IFERROR(VLOOKUP($B14&"|"&J$6,Parametros!$E$46:$H$65,4,FALSE),INDEX(Parametros!$J$19:$Q$22,MATCH($D14,Parametros!$I$19:$I$22,0),1+MOD(J$6-Parametros!$B$6,8)))) -> T | K14: =IF(OR($B14="",K$6=""),"",IFERROR(VLOOKUP($B14&"|"&K$6,Parametros!$E$46:$H$65,4,FALSE),INDEX(Parametros!$J$19:$Q$22,MATCH($D14,Parametros!$I$19:$I$22,0),1+MOD(K$6-Parametros!$B$6,8)))) -> T | L14: =IF(OR($B14="",L$6=""),"",IFERROR(VLOOKUP($B14&"|"&L$6,Parametros!$E$46:$H$65,4,FALSE),INDEX(Parametros!$J$19:$Q$22,MATCH($D14,Parametros!$I$19:$I$22,0),1+MOD(L$6-Parametros!$B$6,8)))) -> N | M14: =IF(OR($B14="",M$6=""),"",IFERROR(VLOOKUP($B14&"|"&M$6,Parametros!$E$46:$H$65,4,FALSE),INDEX(Parametros!$J$19:$Q$22,MATCH($D14,Parametros!$I$19:$I$22,0),1+MOD(M$6-Parametros!$B$6,8)))) -> N | ... AJ14: =IF(OR($B14="",AJ$6=""),"",IFERROR(VLOOKUP($B14&"|"&AJ$6,Parametros!$E$46:$H$65,4,FALSE),INDEX(Parametros!$J$19:$Q$22,MATCH($D14,Parametros!$I$19:$I$22,0),1+MOD(AJ$6-Parametros!$B$6,8)))) | AK14: =IF($B14="","",AL14*8+AM14*8+AN14*8) -> 176 | AL14: =IF($B14="","",COUNTIF(F14:AJ14,"M")) -> 8 | AM14: =IF($B14="","",COUNTIF(F14:AJ14,"T")) -> 8 | AN14: =IF($B14="","",COUNTIF(F14:AJ14,"N")) -> 6 | AO14: =IF($B14="","",COUNTIF(F14:AJ14,"L")) -> 7 | AP14: =IF($B14="","",COUNTIF(F14:AJ14,"V")+COUNTIF(F14:AJ14,"F")) -> 0 | AQ14: =IF($B14="","",COUNTIF(F14:AJ14,"M")+COUNTIF(F14:AJ14,"T")+COUNTIF(F14:AJ14,"N")) -> 22
A15: 7 | B15: =IF(Parametros!A35="Sí",Parametros!B35,"") -> Lucía Pastor | C15: =IF($B15="","",Parametros!C35) -> Mantenimiento | D15: =IF($B15="","",Parametros!D35) -> D | E15: =IF($B15="","",Parametros!E35) -> 1 | F15: =IF(OR($B15="",F$6=""),"",IFERROR(VLOOKUP($B15&"|"&F$6,Parametros!$E$46:$H$65,4,FALSE),INDEX(Parametros!$J$19:$Q$22,MATCH($D15,Parametros!$I$19:$I$22,0),1+MOD(F$6-Parametros!$B$6,8)))) -> M | G15: =IF(OR($B15="",G$6=""),"",IFERROR(VLOOKUP($B15&"|"&G$6,Parametros!$E$46:$H$65,4,FALSE),INDEX(Parametros!$J$19:$Q$22,MATCH($D15,Parametros!$I$19:$I$22,0),1+MOD(G$6-Parametros!$B$6,8)))) -> M | H15: =IF(OR($B15="",H$6=""),"",IFERROR(VLOOKUP($B15&"|"&H$6,Parametros!$E$46:$H$65,4,FALSE),INDEX(Parametros!$J$19:$Q$22,MATCH($D15,Parametros!$I$19:$I$22,0),1+MOD(H$6-Parametros!$B$6,8)))) -> T | I15: =IF(OR($B15="",I$6=""),"",IFERROR(VLOOKUP($B15&"|"&I$6,Parametros!$E$46:$H$65,4,FALSE),INDEX(Parametros!$J$19:$Q$22,MATCH($D15,Parametros!$I$19:$I$22,0),1+MOD(I$6-Parametros!$B$6,8)))) -> T | J15: =IF(OR($B15="",J$6=""),"",IFERROR(VLOOKUP($B15&"|"&J$6,Parametros!$E$46:$H$65,4,FALSE),INDEX(Parametros!$J$19:$Q$22,MATCH($D15,Parametros!$I$19:$I$22,0),1+MOD(J$6-Parametros!$B$6,8)))) -> N | K15: =IF(OR($B15="",K$6=""),"",IFERROR(VLOOKUP($B15&"|"&K$6,Parametros!$E$46:$H$65,4,FALSE),INDEX(Parametros!$J$19:$Q$22,MATCH($D15,Parametros!$I$19:$I$22,0),1+MOD(K$6-Parametros!$B$6,8)))) -> N | L15: =IF(OR($B15="",L$6=""),"",IFERROR(VLOOKUP($B15&"|"&L$6,Parametros!$E$46:$H$65,4,FALSE),INDEX(Parametros!$J$19:$Q$22,MATCH($D15,Parametros!$I$19:$I$22,0),1+MOD(L$6-Parametros!$B$6,8)))) -> L | M15: =IF(OR($B15="",M$6=""),"",IFERROR(VLOOKUP($B15&"|"&M$6,Parametros!$E$46:$H$65,4,FALSE),INDEX(Parametros!$J$19:$Q$22,MATCH($D15,Parametros!$I$19:$I$22,0),1+MOD(M$6-Parametros!$B$6,8)))) -> L | ... AJ15: =IF(OR($B15="",AJ$6=""),"",IFERROR(VLOOKUP($B15&"|"&AJ$6,Parametros!$E$46:$H$65,4,FALSE),INDEX(Parametros!$J$19:$Q$22,MATCH($D15,Parametros!$I$19:$I$22,0),1+MOD(AJ$6-Parametros!$B$6,8)))) | AK15: =IF($B15="","",AL15*8+AM15*8+AN15*8) -> 192 | AL15: =IF($B15="","",COUNTIF(F15:AJ15,"M")) -> 8 | AM15: =IF($B15="","",COUNTIF(F15:AJ15,"T")) -> 8 | AN15: =IF($B15="","",COUNTIF(F15:AJ15,"N")) -> 8 | AO15: =IF($B15="","",COUNTIF(F15:AJ15,"L")) -> 6 | AP15: =IF($B15="","",COUNTIF(F15:AJ15,"V")+COUNTIF(F15:AJ15,"F")) -> 0 | AQ15: =IF($B15="","",COUNTIF(F15:AJ15,"M")+COUNTIF(F15:AJ15,"T")+COUNTIF(F15:AJ15,"N")) -> 24
A16: 8 | B16: =IF(Parametros!A36="Sí",Parametros!B36,"") -> Mateo Rivas | C16: =IF($B16="","",Parametros!C36) -> Seguridad nocturna | D16: =IF($B16="","",Parametros!D36) -> D | E16: =IF($B16="","",Parametros!E36) -> 1 | F16: =IF(OR($B16="",F$6=""),"",IFERROR(VLOOKUP($B16&"|"&F$6,Parametros!$E$46:$H$65,4,FALSE),INDEX(Parametros!$J$19:$Q$22,MATCH($D16,Parametros!$I$19:$I$22,0),1+MOD(F$6-Parametros!$B$6,8)))) -> M | G16: =IF(OR($B16="",G$6=""),"",IFERROR(VLOOKUP($B16&"|"&G$6,Parametros!$E$46:$H$65,4,FALSE),INDEX(Parametros!$J$19:$Q$22,MATCH($D16,Parametros!$I$19:$I$22,0),1+MOD(G$6-Parametros!$B$6,8)))) -> M | H16: =IF(OR($B16="",H$6=""),"",IFERROR(VLOOKUP($B16&"|"&H$6,Parametros!$E$46:$H$65,4,FALSE),INDEX(Parametros!$J$19:$Q$22,MATCH($D16,Parametros!$I$19:$I$22,0),1+MOD(H$6-Parametros!$B$6,8)))) -> T | I16: =IF(OR($B16="",I$6=""),"",IFERROR(VLOOKUP($B16&"|"&I$6,Parametros!$E$46:$H$65,4,FALSE),INDEX(Parametros!$J$19:$Q$22,MATCH($D16,Parametros!$I$19:$I$22,0),1+MOD(I$6-Parametros!$B$6,8)))) -> T | J16: =IF(OR($B16="",J$6=""),"",IFERROR(VLOOKUP($B16&"|"&J$6,Parametros!$E$46:$H$65,4,FALSE),INDEX(Parametros!$J$19:$Q$22,MATCH($D16,Parametros!$I$19:$I$22,0),1+MOD(J$6-Parametros!$B$6,8)))) -> N | K16: =IF(OR($B16="",K$6=""),"",IFERROR(VLOOKUP($B16&"|"&K$6,Parametros!$E$46:$H$65,4,FALSE),INDEX(Parametros!$J$19:$Q$22,MATCH($D16,Parametros!$I$19:$I$22,0),1+MOD(K$6-Parametros!$B$6,8)))) -> N | L16: =IF(OR($B16="",L$6=""),"",IFERROR(VLOOKUP($B16&"|"&L$6,Parametros!$E$46:$H$65,4,FALSE),INDEX(Parametros!$J$19:$Q$22,MATCH($D16,Parametros!$I$19:$I$22,0),1+MOD(L$6-Parametros!$B$6,8)))) -> L | M16: =IF(OR($B16="",M$6=""),"",IFERROR(VLOOKUP($B16&"|"&M$6,Parametros!$E$46:$H$65,4,FALSE),INDEX(Parametros!$J$19:$Q$22,MATCH($D16,Parametros!$I$19:$I$22,0),1+MOD(M$6-Parametros!$B$6,8)))) -> L | ... AJ16: =IF(OR($B16="",AJ$6=""),"",IFERROR(VLOOKUP($B16&"|"&AJ$6,Parametros!$E$46:$H$65,4,FALSE),INDEX(Parametros!$J$19:$Q$22,MATCH($D16,Parametros!$I$19:$I$22,0),1+MOD(AJ$6-Parametros!$B$6,8)))) | AK16: =IF($B16="","",AL16*8+AM16*8+AN16*8) -> 184 | AL16: =IF($B16="","",COUNTIF(F16:AJ16,"M")) -> 7 | AM16: =IF($B16="","",COUNTIF(F16:AJ16,"T")) -> 8 | AN16: =IF($B16="","",COUNTIF(F16:AJ16,"N")) -> 8 | AO16: =IF($B16="","",COUNTIF(F16:AJ16,"L")) -> 6 | AP16: =IF($B16="","",COUNTIF(F16:AJ16,"V")+COUNTIF(F16:AJ16,"F")) -> 0 | AQ16: =IF($B16="","",COUNTIF(F16:AJ16,"M")+COUNTIF(F16:AJ16,"T")+COUNTIF(F16:AJ16,"N")) -> 23
A17: 9 | B17: =IF(Parametros!A37="Sí",Parametros!B37,"") | C17: =IF($B17="","",Parametros!C37) | D17: =IF($B17="","",Parametros!D37) | E17: =IF($B17="","",Parametros!E37) | F17: =IF(OR($B17="",F$6=""),"",IFERROR(VLOOKUP($B17&"|"&F$6,Parametros!$E$46:$H$65,4,FALSE),INDEX(Parametros!$J$19:$Q$22,MATCH($D17,Parametros!$I$19:$I$22,0),1+MOD(F$6-Parametros!$B$6,8)))) | G17: =IF(OR($B17="",G$6=""),"",IFERROR(VLOOKUP($B17&"|"&G$6,Parametros!$E$46:$H$65,4,FALSE),INDEX(Parametros!$J$19:$Q$22,MATCH($D17,Parametros!$I$19:$I$22,0),1+MOD(G$6-Parametros!$B$6,8)))) | H17: =IF(OR($B17="",H$6=""),"",IFERROR(VLOOKUP($B17&"|"&H$6,Parametros!$E$46:$H$65,4,FALSE),INDEX(Parametros!$J$19:$Q$22,MATCH($D17,Parametros!$I$19:$I$22,0),1+MOD(H$6-Parametros!$B$6,8)))) | I17: =IF(OR($B17="",I$6=""),"",IFERROR(VLOOKUP($B17&"|"&I$6,Parametros!$E$46:$H$65,4,FALSE),INDEX(Parametros!$J$19:$Q$22,MATCH($D17,Parametros!$I$19:$I$22,0),1+MOD(I$6-Parametros!$B$6,8)))) | J17: =IF(OR($B17="",J$6=""),"",IFERROR(VLOOKUP($B17&"|"&J$6,Parametros!$E$46:$H$65,4,FALSE),INDEX(Parametros!$J$19:$Q$22,MATCH($D17,Parametros!$I$19:$I$22,0),1+MOD(J$6-Parametros!$B$6,8)))) | K17: =IF(OR($B17="",K$6=""),"",IFERROR(VLOOKUP($B17&"|"&K$6,Parametros!$E$46:$H$65,4,FALSE),INDEX(Parametros!$J$19:$Q$22,MATCH($D17,Parametros!$I$19:$I$22,0),1+MOD(K$6-Parametros!$B$6,8)))) | L17: =IF(OR($B17="",L$6=""),"",IFERROR(VLOOKUP($B17&"|"&L$6,Parametros!$E$46:$H$65,4,FALSE),INDEX(Parametros!$J$19:$Q$22,MATCH($D17,Parametros!$I$19:$I$22,0),1+MOD(L$6-Parametros!$B$6,8)))) | M17: =IF(OR($B17="",M$6=""),"",IFERROR(VLOOKUP($B17&"|"&M$6,Parametros!$E$46:$H$65,4,FALSE),INDEX(Parametros!$J$19:$Q$22,MATCH($D17,Parametros!$I$19:$I$22,0),1+MOD(M$6-Parametros!$B$6,8)))) | ... AJ17: =IF(OR($B17="",AJ$6=""),"",IFERROR(VLOOKUP($B17&"|"&AJ$6,Parametros!$E$46:$H$65,4,FALSE),INDEX(Parametros!$J$19:$Q$22,MATCH($D17,Parametros!$I$19:$I$22,0),1+MOD(AJ$6-Parametros!$B$6,8)))) | AK17: =IF($B17="","",AL17*8+AM17*8+AN17*8) | AL17: =IF($B17="","",COUNTIF(F17:AJ17,"M")) | AM17: =IF($B17="","",COUNTIF(F17:AJ17,"T")) | AN17: =IF($B17="","",COUNTIF(F17:AJ17,"N")) | AO17: =IF($B17="","",COUNTIF(F17:AJ17,"L")) | AP17: =IF($B17="","",COUNTIF(F17:AJ17,"V")+COUNTIF(F17:AJ17,"F")) | AQ17: =IF($B17="","",COUNTIF(F17:AJ17,"M")+COUNTIF(F17:AJ17,"T")+COUNTIF(F17:AJ17,"N"))
A18: 10 | B18: =IF(Parametros!A38="Sí",Parametros!B38,"") | C18: =IF($B18="","",Parametros!C38) | D18: =IF($B18="","",Parametros!D38) | E18: =IF($B18="","",Parametros!E38) | F18: =IF(OR($B18="",F$6=""),"",IFERROR(VLOOKUP($B18&"|"&F$6,Parametros!$E$46:$H$65,4,FALSE),INDEX(Parametros!$J$19:$Q$22,MATCH($D18,Parametros!$I$19:$I$22,0),1+MOD(F$6-Parametros!$B$6,8)))) | G18: =IF(OR($B18="",G$6=""),"",IFERROR(VLOOKUP($B18&"|"&G$6,Parametros!$E$46:$H$65,4,FALSE),INDEX(Parametros!$J$19:$Q$22,MATCH($D18,Parametros!$I$19:$I$22,0),1+MOD(G$6-Parametros!$B$6,8)))) | H18: =IF(OR($B18="",H$6=""),"",IFERROR(VLOOKUP($B18&"|"&H$6,Parametros!$E$46:$H$65,4,FALSE),INDEX(Parametros!$J$19:$Q$22,MATCH($D18,Parametros!$I$19:$I$22,0),1+MOD(H$6-Parametros!$B$6,8)))) | I18: =IF(OR($B18="",I$6=""),"",IFERROR(VLOOKUP($B18&"|"&I$6,Parametros!$E$46:$H$65,4,FALSE),INDEX(Parametros!$J$19:$Q$22,MATCH($D18,Parametros!$I$19:$I$22,0),1+MOD(I$6-Parametros!$B$6,8)))) | J18: =IF(OR($B18="",J$6=""),"",IFERROR(VLOOKUP($B18&"|"&J$6,Parametros!$E$46:$H$65,4,FALSE),INDEX(Parametros!$J$19:$Q$22,MATCH($D18,Parametros!$I$19:$I$22,0),1+MOD(J$6-Parametros!$B$6,8)))) | K18: =IF(OR($B18="",K$6=""),"",IFERROR(VLOOKUP($B18&"|"&K$6,Parametros!$E$46:$H$65,4,FALSE),INDEX(Parametros!$J$19:$Q$22,MATCH($D18,Parametros!$I$19:$I$22,0),1+MOD(K$6-Parametros!$B$6,8)))) | L18: =IF(OR($B18="",L$6=""),"",IFERROR(VLOOKUP($B18&"|"&L$6,Parametros!$E$46:$H$65,4,FALSE),INDEX(Parametros!$J$19:$Q$22,MATCH($D18,Parametros!$I$19:$I$22,0),1+MOD(L$6-Parametros!$B$6,8)))) | M18: =IF(OR($B18="",M$6=""),"",IFERROR(VLOOKUP($B18&"|"&M$6,Parametros!$E$46:$H$65,4,FALSE),INDEX(Parametros!$J$19:$Q$22,MATCH($D18,Parametros!$I$19:$I$22,0),1+MOD(M$6-Parametros!$B$6,8)))) | ... AJ18: =IF(OR($B18="",AJ$6=""),"",IFERROR(VLOOKUP($B18&"|"&AJ$6,Parametros!$E$46:$H$65,4,FALSE),INDEX(Parametros!$J$19:$Q$22,MATCH($D18,Parametros!$I$19:$I$22,0),1+MOD(AJ$6-Parametros!$B$6,8)))) | AK18: =IF($B18="","",AL18*8+AM18*8+AN18*8) | AL18: =IF($B18="","",COUNTIF(F18:AJ18,"M")) | AM18: =IF($B18="","",COUNTIF(F18:AJ18,"T")) | AN18: =IF($B18="","",COUNTIF(F18:AJ18,"N")) | AO18: =IF($B18="","",COUNTIF(F18:AJ18,"L")) | AP18: =IF($B18="","",COUNTIF(F18:AJ18,"V")+COUNTIF(F18:AJ18,"F")) | AQ18: =IF($B18="","",COUNTIF(F18:AJ18,"M")+COUNTIF(F18:AJ18,"T")+COUNTIF(F18:AJ18,"N"))
A19: 11 | B19: =IF(Parametros!A39="Sí",Parametros!B39,"") | C19: =IF($B19="","",Parametros!C39) | D19: =IF($B19="","",Parametros!D39) | E19: =IF($B19="","",Parametros!E39) | F19: =IF(OR($B19="",F$6=""),"",IFERROR(VLOOKUP($B19&"|"&F$6,Parametros!$E$46:$H$65,4,FALSE),INDEX(Parametros!$J$19:$Q$22,MATCH($D19,Parametros!$I$19:$I$22,0),1+MOD(F$6-Parametros!$B$6,8)))) | G19: =IF(OR($B19="",G$6=""),"",IFERROR(VLOOKUP($B19&"|"&G$6,Parametros!$E$46:$H$65,4,FALSE),INDEX(Parametros!$J$19:$Q$22,MATCH($D19,Parametros!$I$19:$I$22,0),1+MOD(G$6-Parametros!$B$6,8)))) | H19: =IF(OR($B19="",H$6=""),"",IFERROR(VLOOKUP($B19&"|"&H$6,Parametros!$E$46:$H$65,4,FALSE),INDEX(Parametros!$J$19:$Q$22,MATCH($D19,Parametros!$I$19:$I$22,0),1+MOD(H$6-Parametros!$B$6,8)))) | I19: =IF(OR($B19="",I$6=""),"",IFERROR(VLOOKUP($B19&"|"&I$6,Parametros!$E$46:$H$65,4,FALSE),INDEX(Parametros!$J$19:$Q$22,MATCH($D19,Parametros!$I$19:$I$22,0),1+MOD(I$6-Parametros!$B$6,8)))) | J19: =IF(OR($B19="",J$6=""),"",IFERROR(VLOOKUP($B19&"|"&J$6,Parametros!$E$46:$H$65,4,FALSE),INDEX(Parametros!$J$19:$Q$22,MATCH($D19,Parametros!$I$19:$I$22,0),1+MOD(J$6-Parametros!$B$6,8)))) | K19: =IF(OR($B19="",K$6=""),"",IFERROR(VLOOKUP($B19&"|"&K$6,Parametros!$E$46:$H$65,4,FALSE),INDEX(Parametros!$J$19:$Q$22,MATCH($D19,Parametros!$I$19:$I$22,0),1+MOD(K$6-Parametros!$B$6,8)))) | L19: =IF(OR($B19="",L$6=""),"",IFERROR(VLOOKUP($B19&"|"&L$6,Parametros!$E$46:$H$65,4,FALSE),INDEX(Parametros!$J$19:$Q$22,MATCH($D19,Parametros!$I$19:$I$22,0),1+MOD(L$6-Parametros!$B$6,8)))) | M19: =IF(OR($B19="",M$6=""),"",IFERROR(VLOOKUP($B19&"|"&M$6,Parametros!$E$46:$H$65,4,FALSE),INDEX(Parametros!$J$19:$Q$22,MATCH($D19,Parametros!$I$19:$I$22,0),1+MOD(M$6-Parametros!$B$6,8)))) | ... AJ19: =IF(OR($B19="",AJ$6=""),"",IFERROR(VLOOKUP($B19&"|"&AJ$6,Parametros!$E$46:$H$65,4,FALSE),INDEX(Parametros!$J$19:$Q$22,MATCH($D19,Parametros!$I$19:$I$22,0),1+MOD(AJ$6-Parametros!$B$6,8)))) | AK19: =IF($B19="","",AL19*8+AM19*8+AN19*8) | AL19: =IF($B19="","",COUNTIF(F19:AJ19,"M")) | AM19: =IF($B19="","",COUNTIF(F19:AJ19,"T")) | AN19: =IF($B19="","",COUNTIF(F19:AJ19,"N")) | AO19: =IF($B19="","",COUNTIF(F19:AJ19,"L")) | AP19: =IF($B19="","",COUNTIF(F19:AJ19,"V")+COUNTIF(F19:AJ19,"F")) | AQ19: =IF($B19="","",COUNTIF(F19:AJ19,"M")+COUNTIF(F19:AJ19,"T")+COUNTIF(F19:AJ19,"N"))
A20: 12 | B20: =IF(Parametros!A40="Sí",Parametros!B40,"") | C20: =IF($B20="","",Parametros!C40) | D20: =IF($B20="","",Parametros!D40) | E20: =IF($B20="","",Parametros!E40) | F20: =IF(OR($B20="",F$6=""),"",IFERROR(VLOOKUP($B20&"|"&F$6,Parametros!$E$46:$H$65,4,FALSE),INDEX(Parametros!$J$19:$Q$22,MATCH($D20,Parametros!$I$19:$I$22,0),1+MOD(F$6-Parametros!$B$6,8)))) | G20: =IF(OR($B20="",G$6=""),"",IFERROR(VLOOKUP($B20&"|"&G$6,Parametros!$E$46:$H$65,4,FALSE),INDEX(Parametros!$J$19:$Q$22,MATCH($D20,Parametros!$I$19:$I$22,0),1+MOD(G$6-Parametros!$B$6,8)))) | H20: =IF(OR($B20="",H$6=""),"",IFERROR(VLOOKUP($B20&"|"&H$6,Parametros!$E$46:$H$65,4,FALSE),INDEX(Parametros!$J$19:$Q$22,MATCH($D20,Parametros!$I$19:$I$22,0),1+MOD(H$6-Parametros!$B$6,8)))) | I20: =IF(OR($B20="",I$6=""),"",IFERROR(VLOOKUP($B20&"|"&I$6,Parametros!$E$46:$H$65,4,FALSE),INDEX(Parametros!$J$19:$Q$22,MATCH($D20,Parametros!$I$19:$I$22,0),1+MOD(I$6-Parametros!$B$6,8)))) | J20: =IF(OR($B20="",J$6=""),"",IFERROR(VLOOKUP($B20&"|"&J$6,Parametros!$E$46:$H$65,4,FALSE),INDEX(Parametros!$J$19:$Q$22,MATCH($D20,Parametros!$I$19:$I$22,0),1+MOD(J$6-Parametros!$B$6,8)))) | K20: =IF(OR($B20="",K$6=""),"",IFERROR(VLOOKUP($B20&"|"&K$6,Parametros!$E$46:$H$65,4,FALSE),INDEX(Parametros!$J$19:$Q$22,MATCH($D20,Parametros!$I$19:$I$22,0),1+MOD(K$6-Parametros!$B$6,8)))) | L20: =IF(OR($B20="",L$6=""),"",IFERROR(VLOOKUP($B20&"|"&L$6,Parametros!$E$46:$H$65,4,FALSE),INDEX(Parametros!$J$19:$Q$22,MATCH($D20,Parametros!$I$19:$I$22,0),1+MOD(L$6-Parametros!$B$6,8)))) | M20: =IF(OR($B20="",M$6=""),"",IFERROR(VLOOKUP($B20&"|"&M$6,Parametros!$E$46:$H$65,4,FALSE),INDEX(Parametros!$J$19:$Q$22,MATCH($D20,Parametros!$I$19:$I$22,0),1+MOD(M$6-Parametros!$B$6,8)))) | ... AJ20: =IF(OR($B20="",AJ$6=""),"",IFERROR(VLOOKUP($B20&"|"&AJ$6,Parametros!$E$46:$H$65,4,FALSE),INDEX(Parametros!$J$19:$Q$22,MATCH($D20,Parametros!$I$19:$I$22,0),1+MOD(AJ$6-Parametros!$B$6,8)))) | AK20: =IF($B20="","",AL20*8+AM20*8+AN20*8) | AL20: =IF($B20="","",COUNTIF(F20:AJ20,"M")) | AM20: =IF($B20="","",COUNTIF(F20:AJ20,"T")) | AN20: =IF($B20="","",COUNTIF(F20:AJ20,"N")) | AO20: =IF($B20="","",COUNTIF(F20:AJ20,"L")) | AP20: =IF($B20="","",COUNTIF(F20:AJ20,"V")+COUNTIF(F20:AJ20,"F")) | AQ20: =IF($B20="","",COUNTIF(F20:AJ20,"M")+COUNTIF(F20:AJ20,"T")+COUNTIF(F20:AJ20,"N"))
A23: Cobertura diaria
A24: Asignados M | F24: =IF(F$6="","",COUNTIF(F$9:F$20,"M")) -> 2 | G24: =IF(G$6="","",COUNTIF(G$9:G$20,"M")) -> 2 | H24: =IF(H$6="","",COUNTIF(H$9:H$20,"M")) -> 2 | I24: =IF(I$6="","",COUNTIF(I$9:I$20,"M")) -> 2 | J24: =IF(J$6="","",COUNTIF(J$9:J$20,"M")) -> 2 | K24: =IF(K$6="","",COUNTIF(K$9:K$20,"M")) -> 2 | L24: =IF(L$6="","",COUNTIF(L$9:L$20,"M")) -> 2 | M24: =IF(M$6="","",COUNTIF(M$9:M$20,"M")) -> 2 | ... AJ24: =IF(AJ$6="","",COUNTIF(AJ$9:AJ$20,"M")) | AP24: Leyenda
A25: Asignados T | F25: =IF(F$6="","",COUNTIF(F$9:F$20,"T")) -> 2 | G25: =IF(G$6="","",COUNTIF(G$9:G$20,"T")) -> 2 | H25: =IF(H$6="","",COUNTIF(H$9:H$20,"T")) -> 2 | I25: =IF(I$6="","",COUNTIF(I$9:I$20,"T")) -> 2 | J25: =IF(J$6="","",COUNTIF(J$9:J$20,"T")) -> 2 | K25: =IF(K$6="","",COUNTIF(K$9:K$20,"T")) -> 2 | L25: =IF(L$6="","",COUNTIF(L$9:L$20,"T")) -> 2 | M25: =IF(M$6="","",COUNTIF(M$9:M$20,"T")) -> 2 | ... AJ25: =IF(AJ$6="","",COUNTIF(AJ$9:AJ$20,"T")) | AP25: Cod. | AQ25: Descripción | AR25: Horas
A26: Asignados N | F26: =IF(F$6="","",COUNTIF(F$9:F$20,"N")) -> 2 | G26: =IF(G$6="","",COUNTIF(G$9:G$20,"N")) -> 2 | H26: =IF(H$6="","",COUNTIF(H$9:H$20,"N")) -> 2 | I26: =IF(I$6="","",COUNTIF(I$9:I$20,"N")) -> 2 | J26: =IF(J$6="","",COUNTIF(J$9:J$20,"N")) -> 2 | K26: =IF(K$6="","",COUNTIF(K$9:K$20,"N")) -> 2 | L26: =IF(L$6="","",COUNTIF(L$9:L$20,"N")) -> 2 | M26: =IF(M$6="","",COUNTIF(M$9:M$20,"N")) -> 2 | ... AJ26: =IF(AJ$6="","",COUNTIF(AJ$9:AJ$20,"N")) | AP26: M | AQ26: Mañana | AR26: 8
AP27: T | AQ27: Tarde | AR27: 8
A28: Requeridos M | F28: =IF(F$6="","",IF(WEEKDAY(F$6,2)<=5,VLOOKUP("M",Parametros!$I$11:$L$13,3,FALSE),VLOOKUP("M",Parametros!$I$11:$L$13,4,FALSE))) -> 2 | G28: =IF(G$6="","",IF(WEEKDAY(G$6,2)<=5,VLOOKUP("M",Parametros!$I$11:$L$13,3,FALSE),VLOOKUP("M",Parametros!$I$11:$L$13,4,FALSE))) -> 2 | H28: =IF(H$6="","",IF(WEEKDAY(H$6,2)<=5,VLOOKUP("M",Parametros!$I$11:$L$13,3,FALSE),VLOOKUP("M",Parametros!$I$11:$L$13,4,FALSE))) -> 2 | I28: =IF(I$6="","",IF(WEEKDAY(I$6,2)<=5,VLOOKUP("M",Parametros!$I$11:$L$13,3,FALSE),VLOOKUP("M",Parametros!$I$11:$L$13,4,FALSE))) -> 2 | J28: =IF(J$6="","",IF(WEEKDAY(J$6,2)<=5,VLOOKUP("M",Parametros!$I$11:$L$13,3,FALSE),VLOOKUP("M",Parametros!$I$11:$L$13,4,FALSE))) -> 2 | K28: =IF(K$6="","",IF(WEEKDAY(K$6,2)<=5,VLOOKUP("M",Parametros!$I$11:$L$13,3,FALSE),VLOOKUP("M",Parametros!$I$11:$L$13,4,FALSE))) -> 2 | L28: =IF(L$6="","",IF(WEEKDAY(L$6,2)<=5,VLOOKUP("M",Parametros!$I$11:$L$13,3,FALSE),VLOOKUP("M",Parametros!$I$11:$L$13,4,FALSE))) -> 2 | M28: =IF(M$6="","",IF(WEEKDAY(M$6,2)<=5,VLOOKUP("M",Parametros!$I$11:$L$13,3,FALSE),VLOOKUP("M",Parametros!$I$11:$L$13,4,FALSE))) -> 2 | ... AJ28: =IF(AJ$6="","",IF(WEEKDAY(AJ$6,2)<=5,VLOOKUP("M",Parametros!$I$11:$L$13,3,FALSE),VLOOKUP("M",Parametros!$I$11:$L$13,4,FALSE))) | AP28: N | AQ28: Noche | AR28: 8
A29: Requeridos T | F29: =IF(F$6="","",IF(WEEKDAY(F$6,2)<=5,VLOOKUP("T",Parametros!$I$11:$L$13,3,FALSE),VLOOKUP("T",Parametros!$I$11:$L$13,4,FALSE))) -> 2 | G29: =IF(G$6="","",IF(WEEKDAY(G$6,2)<=5,VLOOKUP("T",Parametros!$I$11:$L$13,3,FALSE),VLOOKUP("T",Parametros!$I$11:$L$13,4,FALSE))) -> 2 | H29: =IF(H$6="","",IF(WEEKDAY(H$6,2)<=5,VLOOKUP("T",Parametros!$I$11:$L$13,3,FALSE),VLOOKUP("T",Parametros!$I$11:$L$13,4,FALSE))) -> 2 | I29: =IF(I$6="","",IF(WEEKDAY(I$6,2)<=5,VLOOKUP("T",Parametros!$I$11:$L$13,3,FALSE),VLOOKUP("T",Parametros!$I$11:$L$13,4,FALSE))) -> 2 | J29: =IF(J$6="","",IF(WEEKDAY(J$6,2)<=5,VLOOKUP("T",Parametros!$I$11:$L$13,3,FALSE),VLOOKUP("T",Parametros!$I$11:$L$13,4,FALSE))) -> 2 | K29: =IF(K$6="","",IF(WEEKDAY(K$6,2)<=5,VLOOKUP("T",Parametros!$I$11:$L$13,3,FALSE),VLOOKUP("T",Parametros!$I$11:$L$13,4,FALSE))) -> 2 | L29: =IF(L$6="","",IF(WEEKDAY(L$6,2)<=5,VLOOKUP("T",Parametros!$I$11:$L$13,3,FALSE),VLOOKUP("T",Parametros!$I$11:$L$13,4,FALSE))) -> 2 | M29: =IF(M$6="","",IF(WEEKDAY(M$6,2)<=5,VLOOKUP("T",Parametros!$I$11:$L$13,3,FALSE),VLOOKUP("T",Parametros!$I$11:$L$13,4,FALSE))) -> 2 | ... AJ29: =IF(AJ$6="","",IF(WEEKDAY(AJ$6,2)<=5,VLOOKUP("T",Parametros!$I$11:$L$13,3,FALSE),VLOOKUP("T",Parametros!$I$11:$L$13,4,FALSE))) | AP29: L | AQ29: Libre | AR29: 0
A30: Requeridos N | F30: =IF(F$6="","",IF(WEEKDAY(F$6,2)<=5,VLOOKUP("N",Parametros!$I$11:$L$13,3,FALSE),VLOOKUP("N",Parametros!$I$11:$L$13,4,FALSE))) -> 2 | G30: =IF(G$6="","",IF(WEEKDAY(G$6,2)<=5,VLOOKUP("N",Parametros!$I$11:$L$13,3,FALSE),VLOOKUP("N",Parametros!$I$11:$L$13,4,FALSE))) -> 2 | H30: =IF(H$6="","",IF(WEEKDAY(H$6,2)<=5,VLOOKUP("N",Parametros!$I$11:$L$13,3,FALSE),VLOOKUP("N",Parametros!$I$11:$L$13,4,FALSE))) -> 2 | I30: =IF(I$6="","",IF(WEEKDAY(I$6,2)<=5,VLOOKUP("N",Parametros!$I$11:$L$13,3,FALSE),VLOOKUP("N",Parametros!$I$11:$L$13,4,FALSE))) -> 2 | J30: =IF(J$6="","",IF(WEEKDAY(J$6,2)<=5,VLOOKUP("N",Parametros!$I$11:$L$13,3,FALSE),VLOOKUP("N",Parametros!$I$11:$L$13,4,FALSE))) -> 2 | K30: =IF(K$6="","",IF(WEEKDAY(K$6,2)<=5,VLOOKUP("N",Parametros!$I$11:$L$13,3,FALSE),VLOOKUP("N",Parametros!$I$11:$L$13,4,FALSE))) -> 2 | L30: =IF(L$6="","",IF(WEEKDAY(L$6,2)<=5,VLOOKUP("N",Parametros!$I$11:$L$13,3,FALSE),VLOOKUP("N",Parametros!$I$11:$L$13,4,FALSE))) -> 2 | M30: =IF(M$6="","",IF(WEEKDAY(M$6,2)<=5,VLOOKUP("N",Parametros!$I$11:$L$13,3,FALSE),VLOOKUP("N",Parametros!$I$11:$L$13,4,FALSE))) -> 2 | ... AJ30: =IF(AJ$6="","",IF(WEEKDAY(AJ$6,2)<=5,VLOOKUP("N",Parametros!$I$11:$L$13,3,FALSE),VLOOKUP("N",Parametros!$I$11:$L$13,4,FALSE))) | AP30: V | AQ30: Vacaciones | AR30: 0
A31: Estado | F31: =IF(F$6="","",IF(AND(F24>=F28,F25>=F29,F26>=F30),"OK","Revisar")) -> OK | G31: =IF(G$6="","",IF(AND(G24>=G28,G25>=G29,G26>=G30),"OK","Revisar")) -> OK | H31: =IF(H$6="","",IF(AND(H24>=H28,H25>=H29,H26>=H30),"OK","Revisar")) -> OK | I31: =IF(I$6="","",IF(AND(I24>=I28,I25>=I29,I26>=I30),"OK","Revisar")) -> OK | J31: =IF(J$6="","",IF(AND(J24>=J28,J25>=J29,J26>=J30),"OK","Revisar")) -> OK | K31: =IF(K$6="","",IF(AND(K24>=K28,K25>=K29,K26>=K30),"OK","Revisar")) -> OK | L31: =IF(L$6="","",IF(AND(L24>=L28,L25>=L29,L26>=L30),"OK","Revisar")) -> OK | M31: =IF(M$6="","",IF(AND(M24>=M28,M25>=M29,M26>=M30),"OK","Revisar")) -> OK | ... AJ31: =IF(AJ$6="","",IF(AND(AJ24>=AJ28,AJ25>=AJ29,AJ26>=AJ30),"OK","Revisar")) | AP31: F | AQ31: Formación | AR31: 0
A33: Tip: si aparece “Revisar”, ajusta el patrón o añade una excepción manual en la pestaña Parámetros.

Sheet Parametros
A1: Parámetros del plan rotativo
A3: Empresa | B3: Aurora Producción Escénica | D3: Edita las celdas azules. El cuadrante se genera solo a partir del mes, el patrón, el equipo y las excepciones. | X3: A | Y3: M
A4: Área | B4: Operación continua | X4: B | Y4: T
A5: Mes a planificar | B5: 46113 | X5: C | Y5: N
A6: Fecha inicio del ciclo | B6: 46111 | X6: D | Y6: L
Y7: V
Y8: F
A9: Definición de turnos | I9: Cobertura mínima
A10: Código | B10: Turno | C10: Inicio | D10: Fin | E10: Horas | F10: Uso | I10: Código | J10: Turno | K10: Lun-Vie | L10: Sáb-Dom
A11: M | B11: Mañana | C11: 0.25 | D11: 0.58333333 | E11: =MOD(D11-C11,1)*24 -> 8 | F11: Operativo | I11: M | J11: Mañana | K11: 2 | L11: 2
A12: T | B12: Tarde | C12: 0.58333333 | D12: 0.91666667 | E12: =MOD(D12-C12,1)*24 -> 8 | F12: Operativo | I12: T | J12: Tarde | K12: 2 | L12: 2
A13: N | B13: Noche | C13: 0.91666667 | D13: 0.25 | E13: =MOD(D13-C13,1)*24 -> 8 | F13: Operativo | I13: N | J13: Noche | K13: 2 | L13: 2
A14: L | B14: Libre | E14: 0 | F14: Descanso
A15: V | B15: Vacaciones | E15: 0 | F15: Ausencia
A16: F | B16: Formación | C16: 0.375 | D16: 0.54166667 | E16: 0 | F16: Ausencia
I17: Patrón de rotación (8 días)
I18: Grupo | J18: 1 | K18: 2 | L18: 3 | M18: 4 | N18: 5 | O18: 6 | P18: 7 | Q18: 8
I19: A | J19: M | K19: M | L19: T | M19: T | N19: N | O19: N | P19: L | Q19: L
I20: B | J20: T | K20: T | L20: N | M20: N | N20: L | O20: L | P20: M | Q20: M
I21: C | J21: N | K21: N | L21: L | M21: L | N21: M | O21: M | P21: T | Q21: T
I22: D | J22: L | K22: L | L22: M | M22: M | N22: T | O22: T | P22: N | Q22: N
J23: Consejo: | K23: Puedes cambiar el patrón o la longitud del ciclo; la vista principal seguirá la tabla.
A27: Equipo
A28: Activo | B28: Nombre | C28: Rol | D28: Grupo | E28: % jornada | F28: Horas/semana
A29: Sí | B29: Sara Montero | C29: Coordinación de sala | D29: A | E29: 1 | F29: 40
A30: Sí | B30: Pablo León | C30: Operación de escena | D30: A | E30: 1 | F30: 40
A31: Sí | B31: Inés Vidal | C31: Atención técnica | D31: B | E31: 1 | F31: 40
A32: Sí | B32: Hugo Serra | C32: Soporte de montaje | D32: B | E32: 1 | F32: 40
A33: Sí | B33: Nuria Campos | C33: Control de accesos | D33: C | E33: 1 | F33: 40
A34: Sí | B34: Diego Paredes | C34: Logística interna | D34: C | E34: 1 | F34: 40
A35: Sí | B35: Lucía Pastor | C35: Mantenimiento | D35: D | E35: 1 | F35: 40
A36: Sí | B36: Mateo Rivas | C36: Seguridad nocturna | D36: D | E36: 1 | F36: 40
A37: No | D37: A | E37: 1 | F37: 40
A38: No | D38: B | E38: 1 | F38: 40
A39: No | D39: C | E39: 1 | F39: 40
A40: No | D40: D | E40: 1 | F40: 40
A41: Las filas marcadas como “No” no se muestran en el cuadrante.
A44: Excepciones manuales
A45: Motivo | B45: Empleado | C45: Fecha | D45: Turno manual | E45: Clave
A46: Vacaciones | B46: Sara Montero | C46: 46122 | D46: V | E46: =IF(OR(B46="",C46=""),"",B46&"|"&C46) -> Sara Montero|46122
...
