Workbook

Sheet Cuadrante
A1: Cuadrante rotativo de lunes a domingo
A2: Hoja principal de consulta. La planificación se genera desde la pestaña Configuración.
A4: Equipo | B4: =Config!B4 -> Centro de movilidad urbana | D4: Inicio | E4: =Config!B5 -> 45754 | G4: Fin | H4: =Config!B6 -> 45781 | J4: Estado | K4: =Config!B7 -> Correcto: empieza en lunes
A6: Consejo: modifica fecha, empleados, desfases e incidencias en Configuración. Esta hoja sirve para visualizar, imprimir y revisar cobertura.
A9: Leyenda
A10: Código | B10: Significado | C10: Horas | K10: 1 | L10: 2 | M10: 3 | N10: 4 | O10: 5 | P10: 6 | Q10: 7 | R10: 8 | S10: 9 | T10: 10 | U10: 11 | V10: 12 | W10: 13 | X10: 14 | Y10: 15 | Z10: 16 | AA10: 17 | AB10: 18 | AC10: 19 | AD10: 20 | AE10: 21 | AF10: 22 | AG10: 23 | AH10: 24 | AI10: 25 | AJ10: 26 | AK10: 27 | AL10: 28
A11: M | B11: Mañana | C11: 8 | K11: Semana 1 | R11: Semana 2 | Y11: Semana 3 | AF11: Semana 4
A12: T | B12: Tarde | C12: 8 | K12: =CHOOSE(WEEKDAY(K$13,2),"Lun","Mar","Mié","Jue","Vie","Sáb","Dom") -> Lun | L12: =CHOOSE(WEEKDAY(L$13,2),"Lun","Mar","Mié","Jue","Vie","Sáb","Dom") -> Mar | M12: =CHOOSE(WEEKDAY(M$13,2),"Lun","Mar","Mié","Jue","Vie","Sáb","Dom") -> Mié | N12: =CHOOSE(WEEKDAY(N$13,2),"Lun","Mar","Mié","Jue","Vie","Sáb","Dom") -> Jue | O12: =CHOOSE(WEEKDAY(O$13,2),"Lun","Mar","Mié","Jue","Vie","Sáb","Dom") -> Vie | P12: =CHOOSE(WEEKDAY(P$13,2),"Lun","Mar","Mié","Jue","Vie","Sáb","Dom") -> Sáb | Q12: =CHOOSE(WEEKDAY(Q$13,2),"Lun","Mar","Mié","Jue","Vie","Sáb","Dom") -> Dom | R12: =CHOOSE(WEEKDAY(R$13,2),"Lun","Mar","Mié","Jue","Vie","Sáb","Dom") -> Lun | ... AL12: =CHOOSE(WEEKDAY(AL$13,2),"Lun","Mar","Mié","Jue","Vie","Sáb","Dom") -> Dom
A13: N | B13: Noche | C13: 8 | K13: =Config!$B$5+K$10-1 -> 45754 | L13: =Config!$B$5+L$10-1 -> 45755 | M13: =Config!$B$5+M$10-1 -> 45756 | N13: =Config!$B$5+N$10-1 -> 45757 | O13: =Config!$B$5+O$10-1 -> 45758 | P13: =Config!$B$5+P$10-1 -> 45759 | Q13: =Config!$B$5+Q$10-1 -> 45760 | R13: =Config!$B$5+R$10-1 -> 45761 | ... AL13: =Config!$B$5+AL$10-1 -> 45781
A14: L | B14: Libre | C14: 0
A15: Empleado | B15: Área | C15: Grupo | D15: Desf. | E15: Horas | F15: M | G15: T | H15: N | I15: L/V | J15: FDS | K15: Planificación automática del ciclo
A16: =IF(Config!B12="","",Config!B12) -> Alba Soto | B16: =IF(A16="","",Config!C12) -> Operación | C16: =IF(A16="","",Config!D12) -> A | D16: =IF(A16="","",Config!E12) -> 0 | E16: =IF($A16="","",COUNTIF($K16:$AL16,"M")*Config!$L$5+COUNTIF($K16:$AL16,"T")*Config!$L$6+COUNTIF($K16:$AL16,"N")*Config!$L$7+COUNTIF($K16:$AL16,"F")*Config!$L$10) -> 168 | F16: =IF($A16="","",COUNTIF($K16:$AL16,"M")) -> 7 | G16: =IF($A16="","",COUNTIF($K16:$AL16,"T")) -> 7 | H16: =IF($A16="","",COUNTIF($K16:$AL16,"N")) -> 7 | I16: =IF($A16="","",COUNTIF($K16:$AL16,"L")+COUNTIF($K16:$AL16,"V")) -> 7 | J16: =IF($A16="","",SUMPRODUCT(--(($K$12:$AL$12="Sáb")+($K$12:$AL$12="Dom")>0),--($K16:$AL16<>""),--($K16:$AL16<>"L"),--($K16:$AL16<>"V"))) -> 6 | K16: =IF($A16="","",IF(AND(Config!$B$28=$A16,Config!$A$28=K$13),Config!$C$28,IF(AND(Config!$B$29=$A16,Config!$A$29=K$13),Config!$C$29,IF(AND(Config!$B$30=$A16,Config!$A$30=K$13),Config!$C$30,IF(AND(Config!$B$31=$A16,Config!$A$31=K$13),Config!$C$31,IF(AND(Config!$B$32=$A16,Config!$A$32=K$13),Config!$C$32,IF(AND(Config!$B$33=$A16,Config!$A$33=K$13),Config!$C$33,IF(AND(Config!$B$34=$A16,Config!$A$34=K$13),Config!$C$34,IF(AND(Config!$B$35=$A16,Config!$A$35=K$13),Config!$C$35,INDEX(Config!$I$14:$AJ$17,MATCH($C16,Config!$H$14:$H$17,0),MOD(K$10+$D16-1,28)+1)))))))))) -> M | L16: =IF($A16="","",IF(AND(Config!$B$28=$A16,Config!$A$28=L$13),Config!$C$28,IF(AND(Config!$B$29=$A16,Config!$A$29=L$13),Config!$C$29,IF(AND(Config!$B$30=$A16,Config!$A$30=L$13),Config!$C$30,IF(AND(Config!$B$31=$A16,Config!$A$31=L$13),Config!$C$31,IF(AND(Config!$B$32=$A16,Config!$A$32=L$13),Config!$C$32,IF(AND(Config!$B$33=$A16,Config!$A$33=L$13),Config!$C$33,IF(AND(Config!$B$34=$A16,Config!$A$34=L$13),Config!$C$34,IF(AND(Config!$B$35=$A16,Config!$A$35=L$13),Config!$C$35,INDEX(Config!$I$14:$AJ$17,MATCH($C16,Config!$H$14:$H$17,0),MOD(L$10+$D16-1,28)+1)))))))))) -> M | M16: =IF($A16="","",IF(AND(Config!$B$28=$A16,Config!$A$28=M$13),Config!$C$28,IF(AND(Config!$B$29=$A16,Config!$A$29=M$13),Config!$C$29,IF(AND(Config!$B$30=$A16,Config!$A$30=M$13),Config!$C$30,IF(AND(Config!$B$31=$A16,Config!$A$31=M$13),Config!$C$31,IF(AND(Config!$B$32=$A16,Config!$A$32=M$13),Config!$C$32,IF(AND(Config!$B$33=$A16,Config!$A$33=M$13),Config!$C$33,IF(AND(Config!$B$34=$A16,Config!$A$34=M$13),Config!$C$34,IF(AND(Config!$B$35=$A16,Config!$A$35=M$13),Config!$C$35,INDEX(Config!$I$14:$AJ$17,MATCH($C16,Config!$H$14:$H$17,0),MOD(M$10+$D16-1,28)+1)))))))))) -> M | N16: =IF($A16="","",IF(AND(Config!$B$28=$A16,Config!$A$28=N$13),Config!$C$28,IF(AND(Config!$B$29=$A16,Config!$A$29=N$13),Config!$C$29,IF(AND(Config!$B$30=$A16,Config!$A$30=N$13),Config!$C$30,IF(AND(Config!$B$31=$A16,Config!$A$31=N$13),Config!$C$31,IF(AND(Config!$B$32=$A16,Config!$A$32=N$13),Config!$C$32,IF(AND(Config!$B$33=$A16,Config!$A$33=N$13),Config!$C$33,IF(AND(Config!$B$34=$A16,Config!$A$34=N$13),Config!$C$34,IF(AND(Config!$B$35=$A16,Config!$A$35=N$13),Config!$C$35,INDEX(Config!$I$14:$AJ$17,MATCH($C16,Config!$H$14:$H$17,0),MOD(N$10+$D16-1,28)+1)))))))))) -> M | O16: =IF($A16="","",IF(AND(Config!$B$28=$A16,Config!$A$28=O$13),Config!$C$28,IF(AND(Config!$B$29=$A16,Config!$A$29=O$13),Config!$C$29,IF(AND(Config!$B$30=$A16,Config!$A$30=O$13),Config!$C$30,IF(AND(Config!$B$31=$A16,Config!$A$31=O$13),Config!$C$31,IF(AND(Config!$B$32=$A16,Config!$A$32=O$13),Config!$C$32,IF(AND(Config!$B$33=$A16,Config!$A$33=O$13),Config!$C$33,IF(AND(Config!$B$34=$A16,Config!$A$34=O$13),Config!$C$34,IF(AND(Config!$B$35=$A16,Config!$A$35=O$13),Config!$C$35,INDEX(Config!$I$14:$AJ$17,MATCH($C16,Config!$H$14:$H$17,0),MOD(O$10+$D16-1,28)+1)))))))))) -> M | P16: =IF($A16="","",IF(AND(Config!$B$28=$A16,Config!$A$28=P$13),Config!$C$28,IF(AND(Config!$B$29=$A16,Config!$A$29=P$13),Config!$C$29,IF(AND(Config!$B$30=$A16,Config!$A$30=P$13),Config!$C$30,IF(AND(Config!$B$31=$A16,Config!$A$31=P$13),Config!$C$31,IF(AND(Config!$B$32=$A16,Config!$A$32=P$13),Config!$C$32,IF(AND(Config!$B$33=$A16,Config!$A$33=P$13),Config!$C$33,IF(AND(Config!$B$34=$A16,Config!$A$34=P$13),Config!$C$34,IF(AND(Config!$B$35=$A16,Config!$A$35=P$13),Config!$C$35,INDEX(Config!$I$14:$AJ$17,MATCH($C16,Config!$H$14:$H$17,0),MOD(P$10+$D16-1,28)+1)))))))))) -> M | Q16: =IF($A16="","",IF(AND(Config!$B$28=$A16,Config!$A$28=Q$13),Config!$C$28,IF(AND(Config!$B$29=$A16,Config!$A$29=Q$13),Config!$C$29,IF(AND(Config!$B$30=$A16,Config!$A$30=Q$13),Config!$C$30,IF(AND(Config!$B$31=$A16,Config!$A$31=Q$13),Config!$C$31,IF(AND(Config!$B$32=$A16,Config!$A$32=Q$13),Config!$C$32,IF(AND(Config!$B$33=$A16,Config!$A$33=Q$13),Config!$C$33,IF(AND(Config!$B$34=$A16,Config!$A$34=Q$13),Config!$C$34,IF(AND(Config!$B$35=$A16,Config!$A$35=Q$13),Config!$C$35,INDEX(Config!$I$14:$AJ$17,MATCH($C16,Config!$H$14:$H$17,0),MOD(Q$10+$D16-1,28)+1)))))))))) -> M | R16: =IF($A16="","",IF(AND(Config!$B$28=$A16,Config!$A$28=R$13),Config!$C$28,IF(AND(Config!$B$29=$A16,Config!$A$29=R$13),Config!$C$29,IF(AND(Config!$B$30=$A16,Config!$A$30=R$13),Config!$C$30,IF(AND(Config!$B$31=$A16,Config!$A$31=R$13),Config!$C$31,IF(AND(Config!$B$32=$A16,Config!$A$32=R$13),Config!$C$32,IF(AND(Config!$B$33=$A16,Config!$A$33=R$13),Config!$C$33,IF(AND(Config!$B$34=$A16,Config!$A$34=R$13),Config!$C$34,IF(AND(Config!$B$35=$A16,Config!$A$35=R$13),Config!$C$35,INDEX(Config!$I$14:$AJ$17,MATCH($C16,Config!$H$14:$H$17,0),MOD(R$10+$D16-1,28)+1)))))))))) -> T | ... AL16: =IF($A16="","",IF(AND(Config!$B$28=$A16,Config!$A$28=AL$13),Config!$C$28,IF(AND(Config!$B$29=$A16,Config!$A$29=AL$13),Config!$C$29,IF(AND(Config!$B$30=$A16,Config!$A$30=AL$13),Config!$C$30,IF(AND(Config!$B$31=$A16,Config!$A$31=AL$13),Config!$C$31,IF(AND(Config!$B$32=$A16,Config!$A$32=AL$13),Config!$C$32,IF(AND(Config!$B$33=$A16,Config!$A$33=AL$13),Config!$C$33,IF(AND(Config!$B$34=$A16,Config!$A$34=AL$13),Config!$C$34,IF(AND(Config!$B$35=$A16,Config!$A$35=AL$13),Config!$C$35,INDEX(Config!$I$14:$AJ$17,MATCH($C16,Config!$H$14:$H$17,0),MOD(AL$10+$D16-1,28)+1)))))))))) -> L
A17: =IF(Config!B13="","",Config!B13) -> Bruno Márquez | B17: =IF(A17="","",Config!C13) -> Monitoreo | C17: =IF(A17="","",Config!D13) -> A | D17: =IF(A17="","",Config!E13) -> 0 | E17: =IF($A17="","",COUNTIF($K17:$AL17,"M")*Config!$L$5+COUNTIF($K17:$AL17,"T")*Config!$L$6+COUNTIF($K17:$AL17,"N")*Config!$L$7+COUNTIF($K17:$AL17,"F")*Config!$L$10) -> 168 | F17: =IF($A17="","",COUNTIF($K17:$AL17,"M")) -> 7 | G17: =IF($A17="","",COUNTIF($K17:$AL17,"T")) -> 7 | H17: =IF($A17="","",COUNTIF($K17:$AL17,"N")) -> 7 | I17: =IF($A17="","",COUNTIF($K17:$AL17,"L")+COUNTIF($K17:$AL17,"V")) -> 7 | J17: =IF($A17="","",SUMPRODUCT(--(($K$12:$AL$12="Sáb")+($K$12:$AL$12="Dom")>0),--($K17:$AL17<>""),--($K17:$AL17<>"L"),--($K17:$AL17<>"V"))) -> 6 | K17: =IF($A17="","",IF(AND(Config!$B$28=$A17,Config!$A$28=K$13),Config!$C$28,IF(AND(Config!$B$29=$A17,Config!$A$29=K$13),Config!$C$29,IF(AND(Config!$B$30=$A17,Config!$A$30=K$13),Config!$C$30,IF(AND(Config!$B$31=$A17,Config!$A$31=K$13),Config!$C$31,IF(AND(Config!$B$32=$A17,Config!$A$32=K$13),Config!$C$32,IF(AND(Config!$B$33=$A17,Config!$A$33=K$13),Config!$C$33,IF(AND(Config!$B$34=$A17,Config!$A$34=K$13),Config!$C$34,IF(AND(Config!$B$35=$A17,Config!$A$35=K$13),Config!$C$35,INDEX(Config!$I$14:$AJ$17,MATCH($C17,Config!$H$14:$H$17,0),MOD(K$10+$D17-1,28)+1)))))))))) -> M | L17: =IF($A17="","",IF(AND(Config!$B$28=$A17,Config!$A$28=L$13),Config!$C$28,IF(AND(Config!$B$29=$A17,Config!$A$29=L$13),Config!$C$29,IF(AND(Config!$B$30=$A17,Config!$A$30=L$13),Config!$C$30,IF(AND(Config!$B$31=$A17,Config!$A$31=L$13),Config!$C$31,IF(AND(Config!$B$32=$A17,Config!$A$32=L$13),Config!$C$32,IF(AND(Config!$B$33=$A17,Config!$A$33=L$13),Config!$C$33,IF(AND(Config!$B$34=$A17,Config!$A$34=L$13),Config!$C$34,IF(AND(Config!$B$35=$A17,Config!$A$35=L$13),Config!$C$35,INDEX(Config!$I$14:$AJ$17,MATCH($C17,Config!$H$14:$H$17,0),MOD(L$10+$D17-1,28)+1)))))))))) -> M | M17: =IF($A17="","",IF(AND(Config!$B$28=$A17,Config!$A$28=M$13),Config!$C$28,IF(AND(Config!$B$29=$A17,Config!$A$29=M$13),Config!$C$29,IF(AND(Config!$B$30=$A17,Config!$A$30=M$13),Config!$C$30,IF(AND(Config!$B$31=$A17,Config!$A$31=M$13),Config!$C$31,IF(AND(Config!$B$32=$A17,Config!$A$32=M$13),Config!$C$32,IF(AND(Config!$B$33=$A17,Config!$A$33=M$13),Config!$C$33,IF(AND(Config!$B$34=$A17,Config!$A$34=M$13),Config!$C$34,IF(AND(Config!$B$35=$A17,Config!$A$35=M$13),Config!$C$35,INDEX(Config!$I$14:$AJ$17,MATCH($C17,Config!$H$14:$H$17,0),MOD(M$10+$D17-1,28)+1)))))))))) -> M | N17: =IF($A17="","",IF(AND(Config!$B$28=$A17,Config!$A$28=N$13),Config!$C$28,IF(AND(Config!$B$29=$A17,Config!$A$29=N$13),Config!$C$29,IF(AND(Config!$B$30=$A17,Config!$A$30=N$13),Config!$C$30,IF(AND(Config!$B$31=$A17,Config!$A$31=N$13),Config!$C$31,IF(AND(Config!$B$32=$A17,Config!$A$32=N$13),Config!$C$32,IF(AND(Config!$B$33=$A17,Config!$A$33=N$13),Config!$C$33,IF(AND(Config!$B$34=$A17,Config!$A$34=N$13),Config!$C$34,IF(AND(Config!$B$35=$A17,Config!$A$35=N$13),Config!$C$35,INDEX(Config!$I$14:$AJ$17,MATCH($C17,Config!$H$14:$H$17,0),MOD(N$10+$D17-1,28)+1)))))))))) -> M | O17: =IF($A17="","",IF(AND(Config!$B$28=$A17,Config!$A$28=O$13),Config!$C$28,IF(AND(Config!$B$29=$A17,Config!$A$29=O$13),Config!$C$29,IF(AND(Config!$B$30=$A17,Config!$A$30=O$13),Config!$C$30,IF(AND(Config!$B$31=$A17,Config!$A$31=O$13),Config!$C$31,IF(AND(Config!$B$32=$A17,Config!$A$32=O$13),Config!$C$32,IF(AND(Config!$B$33=$A17,Config!$A$33=O$13),Config!$C$33,IF(AND(Config!$B$34=$A17,Config!$A$34=O$13),Config!$C$34,IF(AND(Config!$B$35=$A17,Config!$A$35=O$13),Config!$C$35,INDEX(Config!$I$14:$AJ$17,MATCH($C17,Config!$H$14:$H$17,0),MOD(O$10+$D17-1,28)+1)))))))))) -> M | P17: =IF($A17="","",IF(AND(Config!$B$28=$A17,Config!$A$28=P$13),Config!$C$28,IF(AND(Config!$B$29=$A17,Config!$A$29=P$13),Config!$C$29,IF(AND(Config!$B$30=$A17,Config!$A$30=P$13),Config!$C$30,IF(AND(Config!$B$31=$A17,Config!$A$31=P$13),Config!$C$31,IF(AND(Config!$B$32=$A17,Config!$A$32=P$13),Config!$C$32,IF(AND(Config!$B$33=$A17,Config!$A$33=P$13),Config!$C$33,IF(AND(Config!$B$34=$A17,Config!$A$34=P$13),Config!$C$34,IF(AND(Config!$B$35=$A17,Config!$A$35=P$13),Config!$C$35,INDEX(Config!$I$14:$AJ$17,MATCH($C17,Config!$H$14:$H$17,0),MOD(P$10+$D17-1,28)+1)))))))))) -> M | Q17: =IF($A17="","",IF(AND(Config!$B$28=$A17,Config!$A$28=Q$13),Config!$C$28,IF(AND(Config!$B$29=$A17,Config!$A$29=Q$13),Config!$C$29,IF(AND(Config!$B$30=$A17,Config!$A$30=Q$13),Config!$C$30,IF(AND(Config!$B$31=$A17,Config!$A$31=Q$13),Config!$C$31,IF(AND(Config!$B$32=$A17,Config!$A$32=Q$13),Config!$C$32,IF(AND(Config!$B$33=$A17,Config!$A$33=Q$13),Config!$C$33,IF(AND(Config!$B$34=$A17,Config!$A$34=Q$13),Config!$C$34,IF(AND(Config!$B$35=$A17,Config!$A$35=Q$13),Config!$C$35,INDEX(Config!$I$14:$AJ$17,MATCH($C17,Config!$H$14:$H$17,0),MOD(Q$10+$D17-1,28)+1)))))))))) -> M | R17: =IF($A17="","",IF(AND(Config!$B$28=$A17,Config!$A$28=R$13),Config!$C$28,IF(AND(Config!$B$29=$A17,Config!$A$29=R$13),Config!$C$29,IF(AND(Config!$B$30=$A17,Config!$A$30=R$13),Config!$C$30,IF(AND(Config!$B$31=$A17,Config!$A$31=R$13),Config!$C$31,IF(AND(Config!$B$32=$A17,Config!$A$32=R$13),Config!$C$32,IF(AND(Config!$B$33=$A17,Config!$A$33=R$13),Config!$C$33,IF(AND(Config!$B$34=$A17,Config!$A$34=R$13),Config!$C$34,IF(AND(Config!$B$35=$A17,Config!$A$35=R$13),Config!$C$35,INDEX(Config!$I$14:$AJ$17,MATCH($C17,Config!$H$14:$H$17,0),MOD(R$10+$D17-1,28)+1)))))))))) -> T | ... AL17: =IF($A17="","",IF(AND(Config!$B$28=$A17,Config!$A$28=AL$13),Config!$C$28,IF(AND(Config!$B$29=$A17,Config!$A$29=AL$13),Config!$C$29,IF(AND(Config!$B$30=$A17,Config!$A$30=AL$13),Config!$C$30,IF(AND(Config!$B$31=$A17,Config!$A$31=AL$13),Config!$C$31,IF(AND(Config!$B$32=$A17,Config!$A$32=AL$13),Config!$C$32,IF(AND(Config!$B$33=$A17,Config!$A$33=AL$13),Config!$C$33,IF(AND(Config!$B$34=$A17,Config!$A$34=AL$13),Config!$C$34,IF(AND(Config!$B$35=$A17,Config!$A$35=AL$13),Config!$C$35,INDEX(Config!$I$14:$AJ$17,MATCH($C17,Config!$H$14:$H$17,0),MOD(AL$10+$D17-1,28)+1)))))))))) -> L
A18: =IF(Config!B14="","",Config!B14) -> Carmen Leal | B18: =IF(A18="","",Config!C14) -> Atención | C18: =IF(A18="","",Config!D14) -> B | D18: =IF(A18="","",Config!E14) -> 0 | E18: =IF($A18="","",COUNTIF($K18:$AL18,"M")*Config!$L$5+COUNTIF($K18:$AL18,"T")*Config!$L$6+COUNTIF($K18:$AL18,"N")*Config!$L$7+COUNTIF($K18:$AL18,"F")*Config!$L$10) -> 168 | F18: =IF($A18="","",COUNTIF($K18:$AL18,"M")) -> 7 | G18: =IF($A18="","",COUNTIF($K18:$AL18,"T")) -> 7 | H18: =IF($A18="","",COUNTIF($K18:$AL18,"N")) -> 7 | I18: =IF($A18="","",COUNTIF($K18:$AL18,"L")+COUNTIF($K18:$AL18,"V")) -> 7 | J18: =IF($A18="","",SUMPRODUCT(--(($K$12:$AL$12="Sáb")+($K$12:$AL$12="Dom")>0),--($K18:$AL18<>""),--($K18:$AL18<>"L"),--($K18:$AL18<>"V"))) -> 6 | K18: =IF($A18="","",IF(AND(Config!$B$28=$A18,Config!$A$28=K$13),Config!$C$28,IF(AND(Config!$B$29=$A18,Config!$A$29=K$13),Config!$C$29,IF(AND(Config!$B$30=$A18,Config!$A$30=K$13),Config!$C$30,IF(AND(Config!$B$31=$A18,Config!$A$31=K$13),Config!$C$31,IF(AND(Config!$B$32=$A18,Config!$A$32=K$13),Config!$C$32,IF(AND(Config!$B$33=$A18,Config!$A$33=K$13),Config!$C$33,IF(AND(Config!$B$34=$A18,Config!$A$34=K$13),Config!$C$34,IF(AND(Config!$B$35=$A18,Config!$A$35=K$13),Config!$C$35,INDEX(Config!$I$14:$AJ$17,MATCH($C18,Config!$H$14:$H$17,0),MOD(K$10+$D18-1,28)+1)))))))))) -> T | L18: =IF($A18="","",IF(AND(Config!$B$28=$A18,Config!$A$28=L$13),Config!$C$28,IF(AND(Config!$B$29=$A18,Config!$A$29=L$13),Config!$C$29,IF(AND(Config!$B$30=$A18,Config!$A$30=L$13),Config!$C$30,IF(AND(Config!$B$31=$A18,Config!$A$31=L$13),Config!$C$31,IF(AND(Config!$B$32=$A18,Config!$A$32=L$13),Config!$C$32,IF(AND(Config!$B$33=$A18,Config!$A$33=L$13),Config!$C$33,IF(AND(Config!$B$34=$A18,Config!$A$34=L$13),Config!$C$34,IF(AND(Config!$B$35=$A18,Config!$A$35=L$13),Config!$C$35,INDEX(Config!$I$14:$AJ$17,MATCH($C18,Config!$H$14:$H$17,0),MOD(L$10+$D18-1,28)+1)))))))))) -> T | M18: =IF($A18="","",IF(AND(Config!$B$28=$A18,Config!$A$28=M$13),Config!$C$28,IF(AND(Config!$B$29=$A18,Config!$A$29=M$13),Config!$C$29,IF(AND(Config!$B$30=$A18,Config!$A$30=M$13),Config!$C$30,IF(AND(Config!$B$31=$A18,Config!$A$31=M$13),Config!$C$31,IF(AND(Config!$B$32=$A18,Config!$A$32=M$13),Config!$C$32,IF(AND(Config!$B$33=$A18,Config!$A$33=M$13),Config!$C$33,IF(AND(Config!$B$34=$A18,Config!$A$34=M$13),Config!$C$34,IF(AND(Config!$B$35=$A18,Config!$A$35=M$13),Config!$C$35,INDEX(Config!$I$14:$AJ$17,MATCH($C18,Config!$H$14:$H$17,0),MOD(M$10+$D18-1,28)+1)))))))))) -> T | N18: =IF($A18="","",IF(AND(Config!$B$28=$A18,Config!$A$28=N$13),Config!$C$28,IF(AND(Config!$B$29=$A18,Config!$A$29=N$13),Config!$C$29,IF(AND(Config!$B$30=$A18,Config!$A$30=N$13),Config!$C$30,IF(AND(Config!$B$31=$A18,Config!$A$31=N$13),Config!$C$31,IF(AND(Config!$B$32=$A18,Config!$A$32=N$13),Config!$C$32,IF(AND(Config!$B$33=$A18,Config!$A$33=N$13),Config!$C$33,IF(AND(Config!$B$34=$A18,Config!$A$34=N$13),Config!$C$34,IF(AND(Config!$B$35=$A18,Config!$A$35=N$13),Config!$C$35,INDEX(Config!$I$14:$AJ$17,MATCH($C18,Config!$H$14:$H$17,0),MOD(N$10+$D18-1,28)+1)))))))))) -> T | O18: =IF($A18="","",IF(AND(Config!$B$28=$A18,Config!$A$28=O$13),Config!$C$28,IF(AND(Config!$B$29=$A18,Config!$A$29=O$13),Config!$C$29,IF(AND(Config!$B$30=$A18,Config!$A$30=O$13),Config!$C$30,IF(AND(Config!$B$31=$A18,Config!$A$31=O$13),Config!$C$31,IF(AND(Config!$B$32=$A18,Config!$A$32=O$13),Config!$C$32,IF(AND(Config!$B$33=$A18,Config!$A$33=O$13),Config!$C$33,IF(AND(Config!$B$34=$A18,Config!$A$34=O$13),Config!$C$34,IF(AND(Config!$B$35=$A18,Config!$A$35=O$13),Config!$C$35,INDEX(Config!$I$14:$AJ$17,MATCH($C18,Config!$H$14:$H$17,0),MOD(O$10+$D18-1,28)+1)))))))))) -> T | P18: =IF($A18="","",IF(AND(Config!$B$28=$A18,Config!$A$28=P$13),Config!$C$28,IF(AND(Config!$B$29=$A18,Config!$A$29=P$13),Config!$C$29,IF(AND(Config!$B$30=$A18,Config!$A$30=P$13),Config!$C$30,IF(AND(Config!$B$31=$A18,Config!$A$31=P$13),Config!$C$31,IF(AND(Config!$B$32=$A18,Config!$A$32=P$13),Config!$C$32,IF(AND(Config!$B$33=$A18,Config!$A$33=P$13),Config!$C$33,IF(AND(Config!$B$34=$A18,Config!$A$34=P$13),Config!$C$34,IF(AND(Config!$B$35=$A18,Config!$A$35=P$13),Config!$C$35,INDEX(Config!$I$14:$AJ$17,MATCH($C18,Config!$H$14:$H$17,0),MOD(P$10+$D18-1,28)+1)))))))))) -> T | Q18: =IF($A18="","",IF(AND(Config!$B$28=$A18,Config!$A$28=Q$13),Config!$C$28,IF(AND(Config!$B$29=$A18,Config!$A$29=Q$13),Config!$C$29,IF(AND(Config!$B$30=$A18,Config!$A$30=Q$13),Config!$C$30,IF(AND(Config!$B$31=$A18,Config!$A$31=Q$13),Config!$C$31,IF(AND(Config!$B$32=$A18,Config!$A$32=Q$13),Config!$C$32,IF(AND(Config!$B$33=$A18,Config!$A$33=Q$13),Config!$C$33,IF(AND(Config!$B$34=$A18,Config!$A$34=Q$13),Config!$C$34,IF(AND(Config!$B$35=$A18,Config!$A$35=Q$13),Config!$C$35,INDEX(Config!$I$14:$AJ$17,MATCH($C18,Config!$H$14:$H$17,0),MOD(Q$10+$D18-1,28)+1)))))))))) -> T | R18: =IF($A18="","",IF(AND(Config!$B$28=$A18,Config!$A$28=R$13),Config!$C$28,IF(AND(Config!$B$29=$A18,Config!$A$29=R$13),Config!$C$29,IF(AND(Config!$B$30=$A18,Config!$A$30=R$13),Config!$C$30,IF(AND(Config!$B$31=$A18,Config!$A$31=R$13),Config!$C$31,IF(AND(Config!$B$32=$A18,Config!$A$32=R$13),Config!$C$32,IF(AND(Config!$B$33=$A18,Config!$A$33=R$13),Config!$C$33,IF(AND(Config!$B$34=$A18,Config!$A$34=R$13),Config!$C$34,IF(AND(Config!$B$35=$A18,Config!$A$35=R$13),Config!$C$35,INDEX(Config!$I$14:$AJ$17,MATCH($C18,Config!$H$14:$H$17,0),MOD(R$10+$D18-1,28)+1)))))))))) -> N | ... AL18: =IF($A18="","",IF(AND(Config!$B$28=$A18,Config!$A$28=AL$13),Config!$C$28,IF(AND(Config!$B$29=$A18,Config!$A$29=AL$13),Config!$C$29,IF(AND(Config!$B$30=$A18,Config!$A$30=AL$13),Config!$C$30,IF(AND(Config!$B$31=$A18,Config!$A$31=AL$13),Config!$C$31,IF(AND(Config!$B$32=$A18,Config!$A$32=AL$13),Config!$C$32,IF(AND(Config!$B$33=$A18,Config!$A$33=AL$13),Config!$C$33,IF(AND(Config!$B$34=$A18,Config!$A$34=AL$13),Config!$C$34,IF(AND(Config!$B$35=$A18,Config!$A$35=AL$13),Config!$C$35,INDEX(Config!$I$14:$AJ$17,MATCH($C18,Config!$H$14:$H$17,0),MOD(AL$10+$D18-1,28)+1)))))))))) -> M
A19: =IF(Config!B15="","",Config!B15) -> Daniel Serra | B19: =IF(A19="","",Config!C15) -> Atención | C19: =IF(A19="","",Config!D15) -> B | D19: =IF(A19="","",Config!E15) -> 0 | E19: =IF($A19="","",COUNTIF($K19:$AL19,"M")*Config!$L$5+COUNTIF($K19:$AL19,"T")*Config!$L$6+COUNTIF($K19:$AL19,"N")*Config!$L$7+COUNTIF($K19:$AL19,"F")*Config!$L$10) -> 168 | F19: =IF($A19="","",COUNTIF($K19:$AL19,"M")) -> 7 | G19: =IF($A19="","",COUNTIF($K19:$AL19,"T")) -> 7 | H19: =IF($A19="","",COUNTIF($K19:$AL19,"N")) -> 6 | I19: =IF($A19="","",COUNTIF($K19:$AL19,"L")+COUNTIF($K19:$AL19,"V")) -> 7 | J19: =IF($A19="","",SUMPRODUCT(--(($K$12:$AL$12="Sáb")+($K$12:$AL$12="Dom")>0),--($K19:$AL19<>""),--($K19:$AL19<>"L"),--($K19:$AL19<>"V"))) -> 6 | K19: =IF($A19="","",IF(AND(Config!$B$28=$A19,Config!$A$28=K$13),Config!$C$28,IF(AND(Config!$B$29=$A19,Config!$A$29=K$13),Config!$C$29,IF(AND(Config!$B$30=$A19,Config!$A$30=K$13),Config!$C$30,IF(AND(Config!$B$31=$A19,Config!$A$31=K$13),Config!$C$31,IF(AND(Config!$B$32=$A19,Config!$A$32=K$13),Config!$C$32,IF(AND(Config!$B$33=$A19,Config!$A$33=K$13),Config!$C$33,IF(AND(Config!$B$34=$A19,Config!$A$34=K$13),Config!$C$34,IF(AND(Config!$B$35=$A19,Config!$A$35=K$13),Config!$C$35,INDEX(Config!$I$14:$AJ$17,MATCH($C19,Config!$H$14:$H$17,0),MOD(K$10+$D19-1,28)+1)))))))))) -> T | L19: =IF($A19="","",IF(AND(Config!$B$28=$A19,Config!$A$28=L$13),Config!$C$28,IF(AND(Config!$B$29=$A19,Config!$A$29=L$13),Config!$C$29,IF(AND(Config!$B$30=$A19,Config!$A$30=L$13),Config!$C$30,IF(AND(Config!$B$31=$A19,Config!$A$31=L$13),Config!$C$31,IF(AND(Config!$B$32=$A19,Config!$A$32=L$13),Config!$C$32,IF(AND(Config!$B$33=$A19,Config!$A$33=L$13),Config!$C$33,IF(AND(Config!$B$34=$A19,Config!$A$34=L$13),Config!$C$34,IF(AND(Config!$B$35=$A19,Config!$A$35=L$13),Config!$C$35,INDEX(Config!$I$14:$AJ$17,MATCH($C19,Config!$H$14:$H$17,0),MOD(L$10+$D19-1,28)+1)))))))))) -> T | M19: =IF($A19="","",IF(AND(Config!$B$28=$A19,Config!$A$28=M$13),Config!$C$28,IF(AND(Config!$B$29=$A19,Config!$A$29=M$13),Config!$C$29,IF(AND(Config!$B$30=$A19,Config!$A$30=M$13),Config!$C$30,IF(AND(Config!$B$31=$A19,Config!$A$31=M$13),Config!$C$31,IF(AND(Config!$B$32=$A19,Config!$A$32=M$13),Config!$C$32,IF(AND(Config!$B$33=$A19,Config!$A$33=M$13),Config!$C$33,IF(AND(Config!$B$34=$A19,Config!$A$34=M$13),Config!$C$34,IF(AND(Config!$B$35=$A19,Config!$A$35=M$13),Config!$C$35,INDEX(Config!$I$14:$AJ$17,MATCH($C19,Config!$H$14:$H$17,0),MOD(M$10+$D19-1,28)+1)))))))))) -> T | N19: =IF($A19="","",IF(AND(Config!$B$28=$A19,Config!$A$28=N$13),Config!$C$28,IF(AND(Config!$B$29=$A19,Config!$A$29=N$13),Config!$C$29,IF(AND(Config!$B$30=$A19,Config!$A$30=N$13),Config!$C$30,IF(AND(Config!$B$31=$A19,Config!$A$31=N$13),Config!$C$31,IF(AND(Config!$B$32=$A19,Config!$A$32=N$13),Config!$C$32,IF(AND(Config!$B$33=$A19,Config!$A$33=N$13),Config!$C$33,IF(AND(Config!$B$34=$A19,Config!$A$34=N$13),Config!$C$34,IF(AND(Config!$B$35=$A19,Config!$A$35=N$13),Config!$C$35,INDEX(Config!$I$14:$AJ$17,MATCH($C19,Config!$H$14:$H$17,0),MOD(N$10+$D19-1,28)+1)))))))))) -> T | O19: =IF($A19="","",IF(AND(Config!$B$28=$A19,Config!$A$28=O$13),Config!$C$28,IF(AND(Config!$B$29=$A19,Config!$A$29=O$13),Config!$C$29,IF(AND(Config!$B$30=$A19,Config!$A$30=O$13),Config!$C$30,IF(AND(Config!$B$31=$A19,Config!$A$31=O$13),Config!$C$31,IF(AND(Config!$B$32=$A19,Config!$A$32=O$13),Config!$C$32,IF(AND(Config!$B$33=$A19,Config!$A$33=O$13),Config!$C$33,IF(AND(Config!$B$34=$A19,Config!$A$34=O$13),Config!$C$34,IF(AND(Config!$B$35=$A19,Config!$A$35=O$13),Config!$C$35,INDEX(Config!$I$14:$AJ$17,MATCH($C19,Config!$H$14:$H$17,0),MOD(O$10+$D19-1,28)+1)))))))))) -> T | P19: =IF($A19="","",IF(AND(Config!$B$28=$A19,Config!$A$28=P$13),Config!$C$28,IF(AND(Config!$B$29=$A19,Config!$A$29=P$13),Config!$C$29,IF(AND(Config!$B$30=$A19,Config!$A$30=P$13),Config!$C$30,IF(AND(Config!$B$31=$A19,Config!$A$31=P$13),Config!$C$31,IF(AND(Config!$B$32=$A19,Config!$A$32=P$13),Config!$C$32,IF(AND(Config!$B$33=$A19,Config!$A$33=P$13),Config!$C$33,IF(AND(Config!$B$34=$A19,Config!$A$34=P$13),Config!$C$34,IF(AND(Config!$B$35=$A19,Config!$A$35=P$13),Config!$C$35,INDEX(Config!$I$14:$AJ$17,MATCH($C19,Config!$H$14:$H$17,0),MOD(P$10+$D19-1,28)+1)))))))))) -> T | Q19: =IF($A19="","",IF(AND(Config!$B$28=$A19,Config!$A$28=Q$13),Config!$C$28,IF(AND(Config!$B$29=$A19,Config!$A$29=Q$13),Config!$C$29,IF(AND(Config!$B$30=$A19,Config!$A$30=Q$13),Config!$C$30,IF(AND(Config!$B$31=$A19,Config!$A$31=Q$13),Config!$C$31,IF(AND(Config!$B$32=$A19,Config!$A$32=Q$13),Config!$C$32,IF(AND(Config!$B$33=$A19,Config!$A$33=Q$13),Config!$C$33,IF(AND(Config!$B$34=$A19,Config!$A$34=Q$13),Config!$C$34,IF(AND(Config!$B$35=$A19,Config!$A$35=Q$13),Config!$C$35,INDEX(Config!$I$14:$AJ$17,MATCH($C19,Config!$H$14:$H$17,0),MOD(Q$10+$D19-1,28)+1)))))))))) -> T | R19: =IF($A19="","",IF(AND(Config!$B$28=$A19,Config!$A$28=R$13),Config!$C$28,IF(AND(Config!$B$29=$A19,Config!$A$29=R$13),Config!$C$29,IF(AND(Config!$B$30=$A19,Config!$A$30=R$13),Config!$C$30,IF(AND(Config!$B$31=$A19,Config!$A$31=R$13),Config!$C$31,IF(AND(Config!$B$32=$A19,Config!$A$32=R$13),Config!$C$32,IF(AND(Config!$B$33=$A19,Config!$A$33=R$13),Config!$C$33,IF(AND(Config!$B$34=$A19,Config!$A$34=R$13),Config!$C$34,IF(AND(Config!$B$35=$A19,Config!$A$35=R$13),Config!$C$35,INDEX(Config!$I$14:$AJ$17,MATCH($C19,Config!$H$14:$H$17,0),MOD(R$10+$D19-1,28)+1)))))))))) -> N | ... AL19: =IF($A19="","",IF(AND(Config!$B$28=$A19,Config!$A$28=AL$13),Config!$C$28,IF(AND(Config!$B$29=$A19,Config!$A$29=AL$13),Config!$C$29,IF(AND(Config!$B$30=$A19,Config!$A$30=AL$13),Config!$C$30,IF(AND(Config!$B$31=$A19,Config!$A$31=AL$13),Config!$C$31,IF(AND(Config!$B$32=$A19,Config!$A$32=AL$13),Config!$C$32,IF(AND(Config!$B$33=$A19,Config!$A$33=AL$13),Config!$C$33,IF(AND(Config!$B$34=$A19,Config!$A$34=AL$13),Config!$C$34,IF(AND(Config!$B$35=$A19,Config!$A$35=AL$13),Config!$C$35,INDEX(Config!$I$14:$AJ$17,MATCH($C19,Config!$H$14:$H$17,0),MOD(AL$10+$D19-1,28)+1)))))))))) -> M
A20: =IF(Config!B16="","",Config!B16) -> Eva Pardo | B20: =IF(A20="","",Config!C16) -> Coordinación | C20: =IF(A20="","",Config!D16) -> C | D20: =IF(A20="","",Config!E16) -> 0 | E20: =IF($A20="","",COUNTIF($K20:$AL20,"M")*Config!$L$5+COUNTIF($K20:$AL20,"T")*Config!$L$6+COUNTIF($K20:$AL20,"N")*Config!$L$7+COUNTIF($K20:$AL20,"F")*Config!$L$10) -> 168 | F20: =IF($A20="","",COUNTIF($K20:$AL20,"M")) -> 7 | G20: =IF($A20="","",COUNTIF($K20:$AL20,"T")) -> 7 | H20: =IF($A20="","",COUNTIF($K20:$AL20,"N")) -> 7 | I20: =IF($A20="","",COUNTIF($K20:$AL20,"L")+COUNTIF($K20:$AL20,"V")) -> 7 | J20: =IF($A20="","",SUMPRODUCT(--(($K$12:$AL$12="Sáb")+($K$12:$AL$12="Dom")>0),--($K20:$AL20<>""),--($K20:$AL20<>"L"),--($K20:$AL20<>"V"))) -> 6 | K20: =IF($A20="","",IF(AND(Config!$B$28=$A20,Config!$A$28=K$13),Config!$C$28,IF(AND(Config!$B$29=$A20,Config!$A$29=K$13),Config!$C$29,IF(AND(Config!$B$30=$A20,Config!$A$30=K$13),Config!$C$30,IF(AND(Config!$B$31=$A20,Config!$A$31=K$13),Config!$C$31,IF(AND(Config!$B$32=$A20,Config!$A$32=K$13),Config!$C$32,IF(AND(Config!$B$33=$A20,Config!$A$33=K$13),Config!$C$33,IF(AND(Config!$B$34=$A20,Config!$A$34=K$13),Config!$C$34,IF(AND(Config!$B$35=$A20,Config!$A$35=K$13),Config!$C$35,INDEX(Config!$I$14:$AJ$17,MATCH($C20,Config!$H$14:$H$17,0),MOD(K$10+$D20-1,28)+1)))))))))) -> N | L20: =IF($A20="","",IF(AND(Config!$B$28=$A20,Config!$A$28=L$13),Config!$C$28,IF(AND(Config!$B$29=$A20,Config!$A$29=L$13),Config!$C$29,IF(AND(Config!$B$30=$A20,Config!$A$30=L$13),Config!$C$30,IF(AND(Config!$B$31=$A20,Config!$A$31=L$13),Config!$C$31,IF(AND(Config!$B$32=$A20,Config!$A$32=L$13),Config!$C$32,IF(AND(Config!$B$33=$A20,Config!$A$33=L$13),Config!$C$33,IF(AND(Config!$B$34=$A20,Config!$A$34=L$13),Config!$C$34,IF(AND(Config!$B$35=$A20,Config!$A$35=L$13),Config!$C$35,INDEX(Config!$I$14:$AJ$17,MATCH($C20,Config!$H$14:$H$17,0),MOD(L$10+$D20-1,28)+1)))))))))) -> N | M20: =IF($A20="","",IF(AND(Config!$B$28=$A20,Config!$A$28=M$13),Config!$C$28,IF(AND(Config!$B$29=$A20,Config!$A$29=M$13),Config!$C$29,IF(AND(Config!$B$30=$A20,Config!$A$30=M$13),Config!$C$30,IF(AND(Config!$B$31=$A20,Config!$A$31=M$13),Config!$C$31,IF(AND(Config!$B$32=$A20,Config!$A$32=M$13),Config!$C$32,IF(AND(Config!$B$33=$A20,Config!$A$33=M$13),Config!$C$33,IF(AND(Config!$B$34=$A20,Config!$A$34=M$13),Config!$C$34,IF(AND(Config!$B$35=$A20,Config!$A$35=M$13),Config!$C$35,INDEX(Config!$I$14:$AJ$17,MATCH($C20,Config!$H$14:$H$17,0),MOD(M$10+$D20-1,28)+1)))))))))) -> N | N20: =IF($A20="","",IF(AND(Config!$B$28=$A20,Config!$A$28=N$13),Config!$C$28,IF(AND(Config!$B$29=$A20,Config!$A$29=N$13),Config!$C$29,IF(AND(Config!$B$30=$A20,Config!$A$30=N$13),Config!$C$30,IF(AND(Config!$B$31=$A20,Config!$A$31=N$13),Config!$C$31,IF(AND(Config!$B$32=$A20,Config!$A$32=N$13),Config!$C$32,IF(AND(Config!$B$33=$A20,Config!$A$33=N$13),Config!$C$33,IF(AND(Config!$B$34=$A20,Config!$A$34=N$13),Config!$C$34,IF(AND(Config!$B$35=$A20,Config!$A$35=N$13),Config!$C$35,INDEX(Config!$I$14:$AJ$17,MATCH($C20,Config!$H$14:$H$17,0),MOD(N$10+$D20-1,28)+1)))))))))) -> N | O20: =IF($A20="","",IF(AND(Config!$B$28=$A20,Config!$A$28=O$13),Config!$C$28,IF(AND(Config!$B$29=$A20,Config!$A$29=O$13),Config!$C$29,IF(AND(Config!$B$30=$A20,Config!$A$30=O$13),Config!$C$30,IF(AND(Config!$B$31=$A20,Config!$A$31=O$13),Config!$C$31,IF(AND(Config!$B$32=$A20,Config!$A$32=O$13),Config!$C$32,IF(AND(Config!$B$33=$A20,Config!$A$33=O$13),Config!$C$33,IF(AND(Config!$B$34=$A20,Config!$A$34=O$13),Config!$C$34,IF(AND(Config!$B$35=$A20,Config!$A$35=O$13),Config!$C$35,INDEX(Config!$I$14:$AJ$17,MATCH($C20,Config!$H$14:$H$17,0),MOD(O$10+$D20-1,28)+1)))))))))) -> N | P20: =IF($A20="","",IF(AND(Config!$B$28=$A20,Config!$A$28=P$13),Config!$C$28,IF(AND(Config!$B$29=$A20,Config!$A$29=P$13),Config!$C$29,IF(AND(Config!$B$30=$A20,Config!$A$30=P$13),Config!$C$30,IF(AND(Config!$B$31=$A20,Config!$A$31=P$13),Config!$C$31,IF(AND(Config!$B$32=$A20,Config!$A$32=P$13),Config!$C$32,IF(AND(Config!$B$33=$A20,Config!$A$33=P$13),Config!$C$33,IF(AND(Config!$B$34=$A20,Config!$A$34=P$13),Config!$C$34,IF(AND(Config!$B$35=$A20,Config!$A$35=P$13),Config!$C$35,INDEX(Config!$I$14:$AJ$17,MATCH($C20,Config!$H$14:$H$17,0),MOD(P$10+$D20-1,28)+1)))))))))) -> N | Q20: =IF($A20="","",IF(AND(Config!$B$28=$A20,Config!$A$28=Q$13),Config!$C$28,IF(AND(Config!$B$29=$A20,Config!$A$29=Q$13),Config!$C$29,IF(AND(Config!$B$30=$A20,Config!$A$30=Q$13),Config!$C$30,IF(AND(Config!$B$31=$A20,Config!$A$31=Q$13),Config!$C$31,IF(AND(Config!$B$32=$A20,Config!$A$32=Q$13),Config!$C$32,IF(AND(Config!$B$33=$A20,Config!$A$33=Q$13),Config!$C$33,IF(AND(Config!$B$34=$A20,Config!$A$34=Q$13),Config!$C$34,IF(AND(Config!$B$35=$A20,Config!$A$35=Q$13),Config!$C$35,INDEX(Config!$I$14:$AJ$17,MATCH($C20,Config!$H$14:$H$17,0),MOD(Q$10+$D20-1,28)+1)))))))))) -> N | R20: =IF($A20="","",IF(AND(Config!$B$28=$A20,Config!$A$28=R$13),Config!$C$28,IF(AND(Config!$B$29=$A20,Config!$A$29=R$13),Config!$C$29,IF(AND(Config!$B$30=$A20,Config!$A$30=R$13),Config!$C$30,IF(AND(Config!$B$31=$A20,Config!$A$31=R$13),Config!$C$31,IF(AND(Config!$B$32=$A20,Config!$A$32=R$13),Config!$C$32,IF(AND(Config!$B$33=$A20,Config!$A$33=R$13),Config!$C$33,IF(AND(Config!$B$34=$A20,Config!$A$34=R$13),Config!$C$34,IF(AND(Config!$B$35=$A20,Config!$A$35=R$13),Config!$C$35,INDEX(Config!$I$14:$AJ$17,MATCH($C20,Config!$H$14:$H$17,0),MOD(R$10+$D20-1,28)+1)))))))))) -> L | ... AL20: =IF($A20="","",IF(AND(Config!$B$28=$A20,Config!$A$28=AL$13),Config!$C$28,IF(AND(Config!$B$29=$A20,Config!$A$29=AL$13),Config!$C$29,IF(AND(Config!$B$30=$A20,Config!$A$30=AL$13),Config!$C$30,IF(AND(Config!$B$31=$A20,Config!$A$31=AL$13),Config!$C$31,IF(AND(Config!$B$32=$A20,Config!$A$32=AL$13),Config!$C$32,IF(AND(Config!$B$33=$A20,Config!$A$33=AL$13),Config!$C$33,IF(AND(Config!$B$34=$A20,Config!$A$34=AL$13),Config!$C$34,IF(AND(Config!$B$35=$A20,Config!$A$35=AL$13),Config!$C$35,INDEX(Config!$I$14:$AJ$17,MATCH($C20,Config!$H$14:$H$17,0),MOD(AL$10+$D20-1,28)+1)))))))))) -> T
A21: =IF(Config!B17="","",Config!B17) -> Fabio Costa | B21: =IF(A21="","",Config!C17) -> Coordinación | C21: =IF(A21="","",Config!D17) -> C | D21: =IF(A21="","",Config!E17) -> 0 | E21: =IF($A21="","",COUNTIF($K21:$AL21,"M")*Config!$L$5+COUNTIF($K21:$AL21,"T")*Config!$L$6+COUNTIF($K21:$AL21,"N")*Config!$L$7+COUNTIF($K21:$AL21,"F")*Config!$L$10) -> 168 | F21: =IF($A21="","",COUNTIF($K21:$AL21,"M")) -> 7 | G21: =IF($A21="","",COUNTIF($K21:$AL21,"T")) -> 7 | H21: =IF($A21="","",COUNTIF($K21:$AL21,"N")) -> 7 | I21: =IF($A21="","",COUNTIF($K21:$AL21,"L")+COUNTIF($K21:$AL21,"V")) -> 7 | J21: =IF($A21="","",SUMPRODUCT(--(($K$12:$AL$12="Sáb")+($K$12:$AL$12="Dom")>0),--($K21:$AL21<>""),--($K21:$AL21<>"L"),--($K21:$AL21<>"V"))) -> 6 | K21: =IF($A21="","",IF(AND(Config!$B$28=$A21,Config!$A$28=K$13),Config!$C$28,IF(AND(Config!$B$29=$A21,Config!$A$29=K$13),Config!$C$29,IF(AND(Config!$B$30=$A21,Config!$A$30=K$13),Config!$C$30,IF(AND(Config!$B$31=$A21,Config!$A$31=K$13),Config!$C$31,IF(AND(Config!$B$32=$A21,Config!$A$32=K$13),Config!$C$32,IF(AND(Config!$B$33=$A21,Config!$A$33=K$13),Config!$C$33,IF(AND(Config!$B$34=$A21,Config!$A$34=K$13),Config!$C$34,IF(AND(Config!$B$35=$A21,Config!$A$35=K$13),Config!$C$35,INDEX(Config!$I$14:$AJ$17,MATCH($C21,Config!$H$14:$H$17,0),MOD(K$10+$D21-1,28)+1)))))))))) -> N | L21: =IF($A21="","",IF(AND(Config!$B$28=$A21,Config!$A$28=L$13),Config!$C$28,IF(AND(Config!$B$29=$A21,Config!$A$29=L$13),Config!$C$29,IF(AND(Config!$B$30=$A21,Config!$A$30=L$13),Config!$C$30,IF(AND(Config!$B$31=$A21,Config!$A$31=L$13),Config!$C$31,IF(AND(Config!$B$32=$A21,Config!$A$32=L$13),Config!$C$32,IF(AND(Config!$B$33=$A21,Config!$A$33=L$13),Config!$C$33,IF(AND(Config!$B$34=$A21,Config!$A$34=L$13),Config!$C$34,IF(AND(Config!$B$35=$A21,Config!$A$35=L$13),Config!$C$35,INDEX(Config!$I$14:$AJ$17,MATCH($C21,Config!$H$14:$H$17,0),MOD(L$10+$D21-1,28)+1)))))))))) -> N | M21: =IF($A21="","",IF(AND(Config!$B$28=$A21,Config!$A$28=M$13),Config!$C$28,IF(AND(Config!$B$29=$A21,Config!$A$29=M$13),Config!$C$29,IF(AND(Config!$B$30=$A21,Config!$A$30=M$13),Config!$C$30,IF(AND(Config!$B$31=$A21,Config!$A$31=M$13),Config!$C$31,IF(AND(Config!$B$32=$A21,Config!$A$32=M$13),Config!$C$32,IF(AND(Config!$B$33=$A21,Config!$A$33=M$13),Config!$C$33,IF(AND(Config!$B$34=$A21,Config!$A$34=M$13),Config!$C$34,IF(AND(Config!$B$35=$A21,Config!$A$35=M$13),Config!$C$35,INDEX(Config!$I$14:$AJ$17,MATCH($C21,Config!$H$14:$H$17,0),MOD(M$10+$D21-1,28)+1)))))))))) -> N | N21: =IF($A21="","",IF(AND(Config!$B$28=$A21,Config!$A$28=N$13),Config!$C$28,IF(AND(Config!$B$29=$A21,Config!$A$29=N$13),Config!$C$29,IF(AND(Config!$B$30=$A21,Config!$A$30=N$13),Config!$C$30,IF(AND(Config!$B$31=$A21,Config!$A$31=N$13),Config!$C$31,IF(AND(Config!$B$32=$A21,Config!$A$32=N$13),Config!$C$32,IF(AND(Config!$B$33=$A21,Config!$A$33=N$13),Config!$C$33,IF(AND(Config!$B$34=$A21,Config!$A$34=N$13),Config!$C$34,IF(AND(Config!$B$35=$A21,Config!$A$35=N$13),Config!$C$35,INDEX(Config!$I$14:$AJ$17,MATCH($C21,Config!$H$14:$H$17,0),MOD(N$10+$D21-1,28)+1)))))))))) -> N | O21: =IF($A21="","",IF(AND(Config!$B$28=$A21,Config!$A$28=O$13),Config!$C$28,IF(AND(Config!$B$29=$A21,Config!$A$29=O$13),Config!$C$29,IF(AND(Config!$B$30=$A21,Config!$A$30=O$13),Config!$C$30,IF(AND(Config!$B$31=$A21,Config!$A$31=O$13),Config!$C$31,IF(AND(Config!$B$32=$A21,Config!$A$32=O$13),Config!$C$32,IF(AND(Config!$B$33=$A21,Config!$A$33=O$13),Config!$C$33,IF(AND(Config!$B$34=$A21,Config!$A$34=O$13),Config!$C$34,IF(AND(Config!$B$35=$A21,Config!$A$35=O$13),Config!$C$35,INDEX(Config!$I$14:$AJ$17,MATCH($C21,Config!$H$14:$H$17,0),MOD(O$10+$D21-1,28)+1)))))))))) -> N | P21: =IF($A21="","",IF(AND(Config!$B$28=$A21,Config!$A$28=P$13),Config!$C$28,IF(AND(Config!$B$29=$A21,Config!$A$29=P$13),Config!$C$29,IF(AND(Config!$B$30=$A21,Config!$A$30=P$13),Config!$C$30,IF(AND(Config!$B$31=$A21,Config!$A$31=P$13),Config!$C$31,IF(AND(Config!$B$32=$A21,Config!$A$32=P$13),Config!$C$32,IF(AND(Config!$B$33=$A21,Config!$A$33=P$13),Config!$C$33,IF(AND(Config!$B$34=$A21,Config!$A$34=P$13),Config!$C$34,IF(AND(Config!$B$35=$A21,Config!$A$35=P$13),Config!$C$35,INDEX(Config!$I$14:$AJ$17,MATCH($C21,Config!$H$14:$H$17,0),MOD(P$10+$D21-1,28)+1)))))))))) -> N | Q21: =IF($A21="","",IF(AND(Config!$B$28=$A21,Config!$A$28=Q$13),Config!$C$28,IF(AND(Config!$B$29=$A21,Config!$A$29=Q$13),Config!$C$29,IF(AND(Config!$B$30=$A21,Config!$A$30=Q$13),Config!$C$30,IF(AND(Config!$B$31=$A21,Config!$A$31=Q$13),Config!$C$31,IF(AND(Config!$B$32=$A21,Config!$A$32=Q$13),Config!$C$32,IF(AND(Config!$B$33=$A21,Config!$A$33=Q$13),Config!$C$33,IF(AND(Config!$B$34=$A21,Config!$A$34=Q$13),Config!$C$34,IF(AND(Config!$B$35=$A21,Config!$A$35=Q$13),Config!$C$35,INDEX(Config!$I$14:$AJ$17,MATCH($C21,Config!$H$14:$H$17,0),MOD(Q$10+$D21-1,28)+1)))))))))) -> N | R21: =IF($A21="","",IF(AND(Config!$B$28=$A21,Config!$A$28=R$13),Config!$C$28,IF(AND(Config!$B$29=$A21,Config!$A$29=R$13),Config!$C$29,IF(AND(Config!$B$30=$A21,Config!$A$30=R$13),Config!$C$30,IF(AND(Config!$B$31=$A21,Config!$A$31=R$13),Config!$C$31,IF(AND(Config!$B$32=$A21,Config!$A$32=R$13),Config!$C$32,IF(AND(Config!$B$33=$A21,Config!$A$33=R$13),Config!$C$33,IF(AND(Config!$B$34=$A21,Config!$A$34=R$13),Config!$C$34,IF(AND(Config!$B$35=$A21,Config!$A$35=R$13),Config!$C$35,INDEX(Config!$I$14:$AJ$17,MATCH($C21,Config!$H$14:$H$17,0),MOD(R$10+$D21-1,28)+1)))))))))) -> L | ... AL21: =IF($A21="","",IF(AND(Config!$B$28=$A21,Config!$A$28=AL$13),Config!$C$28,IF(AND(Config!$B$29=$A21,Config!$A$29=AL$13),Config!$C$29,IF(AND(Config!$B$30=$A21,Config!$A$30=AL$13),Config!$C$30,IF(AND(Config!$B$31=$A21,Config!$A$31=AL$13),Config!$C$31,IF(AND(Config!$B$32=$A21,Config!$A$32=AL$13),Config!$C$32,IF(AND(Config!$B$33=$A21,Config!$A$33=AL$13),Config!$C$33,IF(AND(Config!$B$34=$A21,Config!$A$34=AL$13),Config!$C$34,IF(AND(Config!$B$35=$A21,Config!$A$35=AL$13),Config!$C$35,INDEX(Config!$I$14:$AJ$17,MATCH($C21,Config!$H$14:$H$17,0),MOD(AL$10+$D21-1,28)+1)))))))))) -> T
A22: =IF(Config!B18="","",Config!B18) -> Greta Ríos | B22: =IF(A22="","",Config!C18) -> Incidencias | C22: =IF(A22="","",Config!D18) -> D | D22: =IF(A22="","",Config!E18) -> 0 | E22: =IF($A22="","",COUNTIF($K22:$AL22,"M")*Config!$L$5+COUNTIF($K22:$AL22,"T")*Config!$L$6+COUNTIF($K22:$AL22,"N")*Config!$L$7+COUNTIF($K22:$AL22,"F")*Config!$L$10) -> 160 | F22: =IF($A22="","",COUNTIF($K22:$AL22,"M")) -> 6 | G22: =IF($A22="","",COUNTIF($K22:$AL22,"T")) -> 7 | H22: =IF($A22="","",COUNTIF($K22:$AL22,"N")) -> 7 | I22: =IF($A22="","",COUNTIF($K22:$AL22,"L")+COUNTIF($K22:$AL22,"V")) -> 8 | J22: =IF($A22="","",SUMPRODUCT(--(($K$12:$AL$12="Sáb")+($K$12:$AL$12="Dom")>0),--($K22:$AL22<>""),--($K22:$AL22<>"L"),--($K22:$AL22<>"V"))) -> 6 | K22: =IF($A22="","",IF(AND(Config!$B$28=$A22,Config!$A$28=K$13),Config!$C$28,IF(AND(Config!$B$29=$A22,Config!$A$29=K$13),Config!$C$29,IF(AND(Config!$B$30=$A22,Config!$A$30=K$13),Config!$C$30,IF(AND(Config!$B$31=$A22,Config!$A$31=K$13),Config!$C$31,IF(AND(Config!$B$32=$A22,Config!$A$32=K$13),Config!$C$32,IF(AND(Config!$B$33=$A22,Config!$A$33=K$13),Config!$C$33,IF(AND(Config!$B$34=$A22,Config!$A$34=K$13),Config!$C$34,IF(AND(Config!$B$35=$A22,Config!$A$35=K$13),Config!$C$35,INDEX(Config!$I$14:$AJ$17,MATCH($C22,Config!$H$14:$H$17,0),MOD(K$10+$D22-1,28)+1)))))))))) -> L | L22: =IF($A22="","",IF(AND(Config!$B$28=$A22,Config!$A$28=L$13),Config!$C$28,IF(AND(Config!$B$29=$A22,Config!$A$29=L$13),Config!$C$29,IF(AND(Config!$B$30=$A22,Config!$A$30=L$13),Config!$C$30,IF(AND(Config!$B$31=$A22,Config!$A$31=L$13),Config!$C$31,IF(AND(Config!$B$32=$A22,Config!$A$32=L$13),Config!$C$32,IF(AND(Config!$B$33=$A22,Config!$A$33=L$13),Config!$C$33,IF(AND(Config!$B$34=$A22,Config!$A$34=L$13),Config!$C$34,IF(AND(Config!$B$35=$A22,Config!$A$35=L$13),Config!$C$35,INDEX(Config!$I$14:$AJ$17,MATCH($C22,Config!$H$14:$H$17,0),MOD(L$10+$D22-1,28)+1)))))))))) -> L | M22: =IF($A22="","",IF(AND(Config!$B$28=$A22,Config!$A$28=M$13),Config!$C$28,IF(AND(Config!$B$29=$A22,Config!$A$29=M$13),Config!$C$29,IF(AND(Config!$B$30=$A22,Config!$A$30=M$13),Config!$C$30,IF(AND(Config!$B$31=$A22,Config!$A$31=M$13),Config!$C$31,IF(AND(Config!$B$32=$A22,Config!$A$32=M$13),Config!$C$32,IF(AND(Config!$B$33=$A22,Config!$A$33=M$13),Config!$C$33,IF(AND(Config!$B$34=$A22,Config!$A$34=M$13),Config!$C$34,IF(AND(Config!$B$35=$A22,Config!$A$35=M$13),Config!$C$35,INDEX(Config!$I$14:$AJ$17,MATCH($C22,Config!$H$14:$H$17,0),MOD(M$10+$D22-1,28)+1)))))))))) -> L | N22: =IF($A22="","",IF(AND(Config!$B$28=$A22,Config!$A$28=N$13),Config!$C$28,IF(AND(Config!$B$29=$A22,Config!$A$29=N$13),Config!$C$29,IF(AND(Config!$B$30=$A22,Config!$A$30=N$13),Config!$C$30,IF(AND(Config!$B$31=$A22,Config!$A$31=N$13),Config!$C$31,IF(AND(Config!$B$32=$A22,Config!$A$32=N$13),Config!$C$32,IF(AND(Config!$B$33=$A22,Config!$A$33=N$13),Config!$C$33,IF(AND(Config!$B$34=$A22,Config!$A$34=N$13),Config!$C$34,IF(AND(Config!$B$35=$A22,Config!$A$35=N$13),Config!$C$35,INDEX(Config!$I$14:$AJ$17,MATCH($C22,Config!$H$14:$H$17,0),MOD(N$10+$D22-1,28)+1)))))))))) -> L | O22: =IF($A22="","",IF(AND(Config!$B$28=$A22,Config!$A$28=O$13),Config!$C$28,IF(AND(Config!$B$29=$A22,Config!$A$29=O$13),Config!$C$29,IF(AND(Config!$B$30=$A22,Config!$A$30=O$13),Config!$C$30,IF(AND(Config!$B$31=$A22,Config!$A$31=O$13),Config!$C$31,IF(AND(Config!$B$32=$A22,Config!$A$32=O$13),Config!$C$32,IF(AND(Config!$B$33=$A22,Config!$A$33=O$13),Config!$C$33,IF(AND(Config!$B$34=$A22,Config!$A$34=O$13),Config!$C$34,IF(AND(Config!$B$35=$A22,Config!$A$35=O$13),Config!$C$35,INDEX(Config!$I$14:$AJ$17,MATCH($C22,Config!$H$14:$H$17,0),MOD(O$10+$D22-1,28)+1)))))))))) -> L | P22: =IF($A22="","",IF(AND(Config!$B$28=$A22,Config!$A$28=P$13),Config!$C$28,IF(AND(Config!$B$29=$A22,Config!$A$29=P$13),Config!$C$29,IF(AND(Config!$B$30=$A22,Config!$A$30=P$13),Config!$C$30,IF(AND(Config!$B$31=$A22,Config!$A$31=P$13),Config!$C$31,IF(AND(Config!$B$32=$A22,Config!$A$32=P$13),Config!$C$32,IF(AND(Config!$B$33=$A22,Config!$A$33=P$13),Config!$C$33,IF(AND(Config!$B$34=$A22,Config!$A$34=P$13),Config!$C$34,IF(AND(Config!$B$35=$A22,Config!$A$35=P$13),Config!$C$35,INDEX(Config!$I$14:$AJ$17,MATCH($C22,Config!$H$14:$H$17,0),MOD(P$10+$D22-1,28)+1)))))))))) -> L | Q22: =IF($A22="","",IF(AND(Config!$B$28=$A22,Config!$A$28=Q$13),Config!$C$28,IF(AND(Config!$B$29=$A22,Config!$A$29=Q$13),Config!$C$29,IF(AND(Config!$B$30=$A22,Config!$A$30=Q$13),Config!$C$30,IF(AND(Config!$B$31=$A22,Config!$A$31=Q$13),Config!$C$31,IF(AND(Config!$B$32=$A22,Config!$A$32=Q$13),Config!$C$32,IF(AND(Config!$B$33=$A22,Config!$A$33=Q$13),Config!$C$33,IF(AND(Config!$B$34=$A22,Config!$A$34=Q$13),Config!$C$34,IF(AND(Config!$B$35=$A22,Config!$A$35=Q$13),Config!$C$35,INDEX(Config!$I$14:$AJ$17,MATCH($C22,Config!$H$14:$H$17,0),MOD(Q$10+$D22-1,28)+1)))))))))) -> L | R22: =IF($A22="","",IF(AND(Config!$B$28=$A22,Config!$A$28=R$13),Config!$C$28,IF(AND(Config!$B$29=$A22,Config!$A$29=R$13),Config!$C$29,IF(AND(Config!$B$30=$A22,Config!$A$30=R$13),Config!$C$30,IF(AND(Config!$B$31=$A22,Config!$A$31=R$13),Config!$C$31,IF(AND(Config!$B$32=$A22,Config!$A$32=R$13),Config!$C$32,IF(AND(Config!$B$33=$A22,Config!$A$33=R$13),Config!$C$33,IF(AND(Config!$B$34=$A22,Config!$A$34=R$13),Config!$C$34,IF(AND(Config!$B$35=$A22,Config!$A$35=R$13),Config!$C$35,INDEX(Config!$I$14:$AJ$17,MATCH($C22,Config!$H$14:$H$17,0),MOD(R$10+$D22-1,28)+1)))))))))) -> M | ... AL22: =IF($A22="","",IF(AND(Config!$B$28=$A22,Config!$A$28=AL$13),Config!$C$28,IF(AND(Config!$B$29=$A22,Config!$A$29=AL$13),Config!$C$29,IF(AND(Config!$B$30=$A22,Config!$A$30=AL$13),Config!$C$30,IF(AND(Config!$B$31=$A22,Config!$A$31=AL$13),Config!$C$31,IF(AND(Config!$B$32=$A22,Config!$A$32=AL$13),Config!$C$32,IF(AND(Config!$B$33=$A22,Config!$A$33=AL$13),Config!$C$33,IF(AND(Config!$B$34=$A22,Config!$A$34=AL$13),Config!$C$34,IF(AND(Config!$B$35=$A22,Config!$A$35=AL$13),Config!$C$35,INDEX(Config!$I$14:$AJ$17,MATCH($C22,Config!$H$14:$H$17,0),MOD(AL$10+$D22-1,28)+1)))))))))) -> N
A23: =IF(Config!B19="","",Config!B19) -> Hugo Mena | B23: =IF(A23="","",Config!C19) -> Incidencias | C23: =IF(A23="","",Config!D19) -> D | D23: =IF(A23="","",Config!E19) -> 0 | E23: =IF($A23="","",COUNTIF($K23:$AL23,"M")*Config!$L$5+COUNTIF($K23:$AL23,"T")*Config!$L$6+COUNTIF($K23:$AL23,"N")*Config!$L$7+COUNTIF($K23:$AL23,"F")*Config!$L$10) -> 168 | F23: =IF($A23="","",COUNTIF($K23:$AL23,"M")) -> 7 | G23: =IF($A23="","",COUNTIF($K23:$AL23,"T")) -> 7 | H23: =IF($A23="","",COUNTIF($K23:$AL23,"N")) -> 7 | I23: =IF($A23="","",COUNTIF($K23:$AL23,"L")+COUNTIF($K23:$AL23,"V")) -> 7 | J23: =IF($A23="","",SUMPRODUCT(--(($K$12:$AL$12="Sáb")+($K$12:$AL$12="Dom")>0),--($K23:$AL23<>""),--($K23:$AL23<>"L"),--($K23:$AL23<>"V"))) -> 6 | K23: =IF($A23="","",IF(AND(Config!$B$28=$A23,Config!$A$28=K$13),Config!$C$28,IF(AND(Config!$B$29=$A23,Config!$A$29=K$13),Config!$C$29,IF(AND(Config!$B$30=$A23,Config!$A$30=K$13),Config!$C$30,IF(AND(Config!$B$31=$A23,Config!$A$31=K$13),Config!$C$31,IF(AND(Config!$B$32=$A23,Config!$A$32=K$13),Config!$C$32,IF(AND(Config!$B$33=$A23,Config!$A$33=K$13),Config!$C$33,IF(AND(Config!$B$34=$A23,Config!$A$34=K$13),Config!$C$34,IF(AND(Config!$B$35=$A23,Config!$A$35=K$13),Config!$C$35,INDEX(Config!$I$14:$AJ$17,MATCH($C23,Config!$H$14:$H$17,0),MOD(K$10+$D23-1,28)+1)))))))))) -> L | L23: =IF($A23="","",IF(AND(Config!$B$28=$A23,Config!$A$28=L$13),Config!$C$28,IF(AND(Config!$B$29=$A23,Config!$A$29=L$13),Config!$C$29,IF(AND(Config!$B$30=$A23,Config!$A$30=L$13),Config!$C$30,IF(AND(Config!$B$31=$A23,Config!$A$31=L$13),Config!$C$31,IF(AND(Config!$B$32=$A23,Config!$A$32=L$13),Config!$C$32,IF(AND(Config!$B$33=$A23,Config!$A$33=L$13),Config!$C$33,IF(AND(Config!$B$34=$A23,Config!$A$34=L$13),Config!$C$34,IF(AND(Config!$B$35=$A23,Config!$A$35=L$13),Config!$C$35,INDEX(Config!$I$14:$AJ$17,MATCH($C23,Config!$H$14:$H$17,0),MOD(L$10+$D23-1,28)+1)))))))))) -> L | M23: =IF($A23="","",IF(AND(Config!$B$28=$A23,Config!$A$28=M$13),Config!$C$28,IF(AND(Config!$B$29=$A23,Config!$A$29=M$13),Config!$C$29,IF(AND(Config!$B$30=$A23,Config!$A$30=M$13),Config!$C$30,IF(AND(Config!$B$31=$A23,Config!$A$31=M$13),Config!$C$31,IF(AND(Config!$B$32=$A23,Config!$A$32=M$13),Config!$C$32,IF(AND(Config!$B$33=$A23,Config!$A$33=M$13),Config!$C$33,IF(AND(Config!$B$34=$A23,Config!$A$34=M$13),Config!$C$34,IF(AND(Config!$B$35=$A23,Config!$A$35=M$13),Config!$C$35,INDEX(Config!$I$14:$AJ$17,MATCH($C23,Config!$H$14:$H$17,0),MOD(M$10+$D23-1,28)+1)))))))))) -> L | N23: =IF($A23="","",IF(AND(Config!$B$28=$A23,Config!$A$28=N$13),Config!$C$28,IF(AND(Config!$B$29=$A23,Config!$A$29=N$13),Config!$C$29,IF(AND(Config!$B$30=$A23,Config!$A$30=N$13),Config!$C$30,IF(AND(Config!$B$31=$A23,Config!$A$31=N$13),Config!$C$31,IF(AND(Config!$B$32=$A23,Config!$A$32=N$13),Config!$C$32,IF(AND(Config!$B$33=$A23,Config!$A$33=N$13),Config!$C$33,IF(AND(Config!$B$34=$A23,Config!$A$34=N$13),Config!$C$34,IF(AND(Config!$B$35=$A23,Config!$A$35=N$13),Config!$C$35,INDEX(Config!$I$14:$AJ$17,MATCH($C23,Config!$H$14:$H$17,0),MOD(N$10+$D23-1,28)+1)))))))))) -> L | O23: =IF($A23="","",IF(AND(Config!$B$28=$A23,Config!$A$28=O$13),Config!$C$28,IF(AND(Config!$B$29=$A23,Config!$A$29=O$13),Config!$C$29,IF(AND(Config!$B$30=$A23,Config!$A$30=O$13),Config!$C$30,IF(AND(Config!$B$31=$A23,Config!$A$31=O$13),Config!$C$31,IF(AND(Config!$B$32=$A23,Config!$A$32=O$13),Config!$C$32,IF(AND(Config!$B$33=$A23,Config!$A$33=O$13),Config!$C$33,IF(AND(Config!$B$34=$A23,Config!$A$34=O$13),Config!$C$34,IF(AND(Config!$B$35=$A23,Config!$A$35=O$13),Config!$C$35,INDEX(Config!$I$14:$AJ$17,MATCH($C23,Config!$H$14:$H$17,0),MOD(O$10+$D23-1,28)+1)))))))))) -> L | P23: =IF($A23="","",IF(AND(Config!$B$28=$A23,Config!$A$28=P$13),Config!$C$28,IF(AND(Config!$B$29=$A23,Config!$A$29=P$13),Config!$C$29,IF(AND(Config!$B$30=$A23,Config!$A$30=P$13),Config!$C$30,IF(AND(Config!$B$31=$A23,Config!$A$31=P$13),Config!$C$31,IF(AND(Config!$B$32=$A23,Config!$A$32=P$13),Config!$C$32,IF(AND(Config!$B$33=$A23,Config!$A$33=P$13),Config!$C$33,IF(AND(Config!$B$34=$A23,Config!$A$34=P$13),Config!$C$34,IF(AND(Config!$B$35=$A23,Config!$A$35=P$13),Config!$C$35,INDEX(Config!$I$14:$AJ$17,MATCH($C23,Config!$H$14:$H$17,0),MOD(P$10+$D23-1,28)+1)))))))))) -> L | Q23: =IF($A23="","",IF(AND(Config!$B$28=$A23,Config!$A$28=Q$13),Config!$C$28,IF(AND(Config!$B$29=$A23,Config!$A$29=Q$13),Config!$C$29,IF(AND(Config!$B$30=$A23,Config!$A$30=Q$13),Config!$C$30,IF(AND(Config!$B$31=$A23,Config!$A$31=Q$13),Config!$C$31,IF(AND(Config!$B$32=$A23,Config!$A$32=Q$13),Config!$C$32,IF(AND(Config!$B$33=$A23,Config!$A$33=Q$13),Config!$C$33,IF(AND(Config!$B$34=$A23,Config!$A$34=Q$13),Config!$C$34,IF(AND(Config!$B$35=$A23,Config!$A$35=Q$13),Config!$C$35,INDEX(Config!$I$14:$AJ$17,MATCH($C23,Config!$H$14:$H$17,0),MOD(Q$10+$D23-1,28)+1)))))))))) -> L | R23: =IF($A23="","",IF(AND(Config!$B$28=$A23,Config!$A$28=R$13),Config!$C$28,IF(AND(Config!$B$29=$A23,Config!$A$29=R$13),Config!$C$29,IF(AND(Config!$B$30=$A23,Config!$A$30=R$13),Config!$C$30,IF(AND(Config!$B$31=$A23,Config!$A$31=R$13),Config!$C$31,IF(AND(Config!$B$32=$A23,Config!$A$32=R$13),Config!$C$32,IF(AND(Config!$B$33=$A23,Config!$A$33=R$13),Config!$C$33,IF(AND(Config!$B$34=$A23,Config!$A$34=R$13),Config!$C$34,IF(AND(Config!$B$35=$A23,Config!$A$35=R$13),Config!$C$35,INDEX(Config!$I$14:$AJ$17,MATCH($C23,Config!$H$14:$H$17,0),MOD(R$10+$D23-1,28)+1)))))))))) -> M | ... AL23: =IF($A23="","",IF(AND(Config!$B$28=$A23,Config!$A$28=AL$13),Config!$C$28,IF(AND(Config!$B$29=$A23,Config!$A$29=AL$13),Config!$C$29,IF(AND(Config!$B$30=$A23,Config!$A$30=AL$13),Config!$C$30,IF(AND(Config!$B$31=$A23,Config!$A$31=AL$13),Config!$C$31,IF(AND(Config!$B$32=$A23,Config!$A$32=AL$13),Config!$C$32,IF(AND(Config!$B$33=$A23,Config!$A$33=AL$13),Config!$C$33,IF(AND(Config!$B$34=$A23,Config!$A$34=AL$13),Config!$C$34,IF(AND(Config!$B$35=$A23,Config!$A$35=AL$13),Config!$C$35,INDEX(Config!$I$14:$AJ$17,MATCH($C23,Config!$H$14:$H$17,0),MOD(AL$10+$D23-1,28)+1)))))))))) -> N
A24: =IF(Config!B20="","",Config!B20) | B24: =IF(A24="","",Config!C20) | C24: =IF(A24="","",Config!D20) | D24: =IF(A24="","",Config!E20) | E24: =IF($A24="","",COUNTIF($K24:$AL24,"M")*Config!$L$5+COUNTIF($K24:$AL24,"T")*Config!$L$6+COUNTIF($K24:$AL24,"N")*Config!$L$7+COUNTIF($K24:$AL24,"F")*Config!$L$10) | F24: =IF($A24="","",COUNTIF($K24:$AL24,"M")) | G24: =IF($A24="","",COUNTIF($K24:$AL24,"T")) | H24: =IF($A24="","",COUNTIF($K24:$AL24,"N")) | I24: =IF($A24="","",COUNTIF($K24:$AL24,"L")+COUNTIF($K24:$AL24,"V")) | J24: =IF($A24="","",SUMPRODUCT(--(($K$12:$AL$12="Sáb")+($K$12:$AL$12="Dom")>0),--($K24:$AL24<>""),--($K24:$AL24<>"L"),--($K24:$AL24<>"V"))) | L24: =IF($A24="","",IF(AND(Config!$B$28=$A24,Config!$A$28=L$13),Config!$C$28,IF(AND(Config!$B$29=$A24,Config!$A$29=L$13),Config!$C$29,IF(AND(Config!$B$30=$A24,Config!$A$30=L$13),Config!$C$30,IF(AND(Config!$B$31=$A24,Config!$A$31=L$13),Config!$C$31,IF(AND(Config!$B$32=$A24,Config!$A$32=L$13),Config!$C$32,IF(AND(Config!$B$33=$A24,Config!$A$33=L$13),Config!$C$33,IF(AND(Config!$B$34=$A24,Config!$A$34=L$13),Config!$C$34,IF(AND(Config!$B$35=$A24,Config!$A$35=L$13),Config!$C$35,INDEX(Config!$I$14:$AJ$17,MATCH($C24,Config!$H$14:$H$17,0),MOD(L$10+$D24-1,28)+1)))))))))) | M24: =IF($A24="","",IF(AND(Config!$B$28=$A24,Config!$A$28=M$13),Config!$C$28,IF(AND(Config!$B$29=$A24,Config!$A$29=M$13),Config!$C$29,IF(AND(Config!$B$30=$A24,Config!$A$30=M$13),Config!$C$30,IF(AND(Config!$B$31=$A24,Config!$A$31=M$13),Config!$C$31,IF(AND(Config!$B$32=$A24,Config!$A$32=M$13),Config!$C$32,IF(AND(Config!$B$33=$A24,Config!$A$33=M$13),Config!$C$33,IF(AND(Config!$B$34=$A24,Config!$A$34=M$13),Config!$C$34,IF(AND(Config!$B$35=$A24,Config!$A$35=M$13),Config!$C$35,INDEX(Config!$I$14:$AJ$17,MATCH($C24,Config!$H$14:$H$17,0),MOD(M$10+$D24-1,28)+1)))))))))) | N24: =IF($A24="","",IF(AND(Config!$B$28=$A24,Config!$A$28=N$13),Config!$C$28,IF(AND(Config!$B$29=$A24,Config!$A$29=N$13),Config!$C$29,IF(AND(Config!$B$30=$A24,Config!$A$30=N$13),Config!$C$30,IF(AND(Config!$B$31=$A24,Config!$A$31=N$13),Config!$C$31,IF(AND(Config!$B$32=$A24,Config!$A$32=N$13),Config!$C$32,IF(AND(Config!$B$33=$A24,Config!$A$33=N$13),Config!$C$33,IF(AND(Config!$B$34=$A24,Config!$A$34=N$13),Config!$C$34,IF(AND(Config!$B$35=$A24,Config!$A$35=N$13),Config!$C$35,INDEX(Config!$I$14:$AJ$17,MATCH($C24,Config!$H$14:$H$17,0),MOD(N$10+$D24-1,28)+1)))))))))) | O24: =IF($A24="","",IF(AND(Config!$B$28=$A24,Config!$A$28=O$13),Config!$C$28,IF(AND(Config!$B$29=$A24,Config!$A$29=O$13),Config!$C$29,IF(AND(Config!$B$30=$A24,Config!$A$30=O$13),Config!$C$30,IF(AND(Config!$B$31=$A24,Config!$A$31=O$13),Config!$C$31,IF(AND(Config!$B$32=$A24,Config!$A$32=O$13),Config!$C$32,IF(AND(Config!$B$33=$A24,Config!$A$33=O$13),Config!$C$33,IF(AND(Config!$B$34=$A24,Config!$A$34=O$13),Config!$C$34,IF(AND(Config!$B$35=$A24,Config!$A$35=O$13),Config!$C$35,INDEX(Config!$I$14:$AJ$17,MATCH($C24,Config!$H$14:$H$17,0),MOD(O$10+$D24-1,28)+1)))))))))) | P24: =IF($A24="","",IF(AND(Config!$B$28=$A24,Config!$A$28=P$13),Config!$C$28,IF(AND(Config!$B$29=$A24,Config!$A$29=P$13),Config!$C$29,IF(AND(Config!$B$30=$A24,Config!$A$30=P$13),Config!$C$30,IF(AND(Config!$B$31=$A24,Config!$A$31=P$13),Config!$C$31,IF(AND(Config!$B$32=$A24,Config!$A$32=P$13),Config!$C$32,IF(AND(Config!$B$33=$A24,Config!$A$33=P$13),Config!$C$33,IF(AND(Config!$B$34=$A24,Config!$A$34=P$13),Config!$C$34,IF(AND(Config!$B$35=$A24,Config!$A$35=P$13),Config!$C$35,INDEX(Config!$I$14:$AJ$17,MATCH($C24,Config!$H$14:$H$17,0),MOD(P$10+$D24-1,28)+1)))))))))) | Q24: =IF($A24="","",IF(AND(Config!$B$28=$A24,Config!$A$28=Q$13),Config!$C$28,IF(AND(Config!$B$29=$A24,Config!$A$29=Q$13),Config!$C$29,IF(AND(Config!$B$30=$A24,Config!$A$30=Q$13),Config!$C$30,IF(AND(Config!$B$31=$A24,Config!$A$31=Q$13),Config!$C$31,IF(AND(Config!$B$32=$A24,Config!$A$32=Q$13),Config!$C$32,IF(AND(Config!$B$33=$A24,Config!$A$33=Q$13),Config!$C$33,IF(AND(Config!$B$34=$A24,Config!$A$34=Q$13),Config!$C$34,IF(AND(Config!$B$35=$A24,Config!$A$35=Q$13),Config!$C$35,INDEX(Config!$I$14:$AJ$17,MATCH($C24,Config!$H$14:$H$17,0),MOD(Q$10+$D24-1,28)+1)))))))))) | R24: =IF($A24="","",IF(AND(Config!$B$28=$A24,Config!$A$28=R$13),Config!$C$28,IF(AND(Config!$B$29=$A24,Config!$A$29=R$13),Config!$C$29,IF(AND(Config!$B$30=$A24,Config!$A$30=R$13),Config!$C$30,IF(AND(Config!$B$31=$A24,Config!$A$31=R$13),Config!$C$31,IF(AND(Config!$B$32=$A24,Config!$A$32=R$13),Config!$C$32,IF(AND(Config!$B$33=$A24,Config!$A$33=R$13),Config!$C$33,IF(AND(Config!$B$34=$A24,Config!$A$34=R$13),Config!$C$34,IF(AND(Config!$B$35=$A24,Config!$A$35=R$13),Config!$C$35,INDEX(Config!$I$14:$AJ$17,MATCH($C24,Config!$H$14:$H$17,0),MOD(R$10+$D24-1,28)+1)))))))))) | S24: =IF($A24="","",IF(AND(Config!$B$28=$A24,Config!$A$28=S$13),Config!$C$28,IF(AND(Config!$B$29=$A24,Config!$A$29=S$13),Config!$C$29,IF(AND(Config!$B$30=$A24,Config!$A$30=S$13),Config!$C$30,IF(AND(Config!$B$31=$A24,Config!$A$31=S$13),Config!$C$31,IF(AND(Config!$B$32=$A24,Config!$A$32=S$13),Config!$C$32,IF(AND(Config!$B$33=$A24,Config!$A$33=S$13),Config!$C$33,IF(AND(Config!$B$34=$A24,Config!$A$34=S$13),Config!$C$34,IF(AND(Config!$B$35=$A24,Config!$A$35=S$13),Config!$C$35,INDEX(Config!$I$14:$AJ$17,MATCH($C24,Config!$H$14:$H$17,0),MOD(S$10+$D24-1,28)+1)))))))))) | ... AL24: =IF($A24="","",IF(AND(Config!$B$28=$A24,Config!$A$28=AL$13),Config!$C$28,IF(AND(Config!$B$29=$A24,Config!$A$29=AL$13),Config!$C$29,IF(AND(Config!$B$30=$A24,Config!$A$30=AL$13),Config!$C$30,IF(AND(Config!$B$31=$A24,Config!$A$31=AL$13),Config!$C$31,IF(AND(Config!$B$32=$A24,Config!$A$32=AL$13),Config!$C$32,IF(AND(Config!$B$33=$A24,Config!$A$33=AL$13),Config!$C$33,IF(AND(Config!$B$34=$A24,Config!$A$34=AL$13),Config!$C$34,IF(AND(Config!$B$35=$A24,Config!$A$35=AL$13),Config!$C$35,INDEX(Config!$I$14:$AJ$17,MATCH($C24,Config!$H$14:$H$17,0),MOD(AL$10+$D24-1,28)+1))))))))))
A25: =IF(Config!B21="","",Config!B21) | B25: =IF(A25="","",Config!C21) | C25: =IF(A25="","",Config!D21) | D25: =IF(A25="","",Config!E21) | E25: =IF($A25="","",COUNTIF($K25:$AL25,"M")*Config!$L$5+COUNTIF($K25:$AL25,"T")*Config!$L$6+COUNTIF($K25:$AL25,"N")*Config!$L$7+COUNTIF($K25:$AL25,"F")*Config!$L$10) | F25: =IF($A25="","",COUNTIF($K25:$AL25,"M")) | G25: =IF($A25="","",COUNTIF($K25:$AL25,"T")) | H25: =IF($A25="","",COUNTIF($K25:$AL25,"N")) | I25: =IF($A25="","",COUNTIF($K25:$AL25,"L")+COUNTIF($K25:$AL25,"V")) | J25: =IF($A25="","",SUMPRODUCT(--(($K$12:$AL$12="Sáb")+($K$12:$AL$12="Dom")>0),--($K25:$AL25<>""),--($K25:$AL25<>"L"),--($K25:$AL25<>"V"))) | K25: =IF($A25="","",IF(AND(Config!$B$28=$A25,Config!$A$28=K$13),Config!$C$28,IF(AND(Config!$B$29=$A25,Config!$A$29=K$13),Config!$C$29,IF(AND(Config!$B$30=$A25,Config!$A$30=K$13),Config!$C$30,IF(AND(Config!$B$31=$A25,Config!$A$31=K$13),Config!$C$31,IF(AND(Config!$B$32=$A25,Config!$A$32=K$13),Config!$C$32,IF(AND(Config!$B$33=$A25,Config!$A$33=K$13),Config!$C$33,IF(AND(Config!$B$34=$A25,Config!$A$34=K$13),Config!$C$34,IF(AND(Config!$B$35=$A25,Config!$A$35=K$13),Config!$C$35,INDEX(Config!$I$14:$AJ$17,MATCH($C25,Config!$H$14:$H$17,0),MOD(K$10+$D25-1,28)+1)))))))))) | L25: =IF($A25="","",IF(AND(Config!$B$28=$A25,Config!$A$28=L$13),Config!$C$28,IF(AND(Config!$B$29=$A25,Config!$A$29=L$13),Config!$C$29,IF(AND(Config!$B$30=$A25,Config!$A$30=L$13),Config!$C$30,IF(AND(Config!$B$31=$A25,Config!$A$31=L$13),Config!$C$31,IF(AND(Config!$B$32=$A25,Config!$A$32=L$13),Config!$C$32,IF(AND(Config!$B$33=$A25,Config!$A$33=L$13),Config!$C$33,IF(AND(Config!$B$34=$A25,Config!$A$34=L$13),Config!$C$34,IF(AND(Config!$B$35=$A25,Config!$A$35=L$13),Config!$C$35,INDEX(Config!$I$14:$AJ$17,MATCH($C25,Config!$H$14:$H$17,0),MOD(L$10+$D25-1,28)+1)))))))))) | M25: =IF($A25="","",IF(AND(Config!$B$28=$A25,Config!$A$28=M$13),Config!$C$28,IF(AND(Config!$B$29=$A25,Config!$A$29=M$13),Config!$C$29,IF(AND(Config!$B$30=$A25,Config!$A$30=M$13),Config!$C$30,IF(AND(Config!$B$31=$A25,Config!$A$31=M$13),Config!$C$31,IF(AND(Config!$B$32=$A25,Config!$A$32=M$13),Config!$C$32,IF(AND(Config!$B$33=$A25,Config!$A$33=M$13),Config!$C$33,IF(AND(Config!$B$34=$A25,Config!$A$34=M$13),Config!$C$34,IF(AND(Config!$B$35=$A25,Config!$A$35=M$13),Config!$C$35,INDEX(Config!$I$14:$AJ$17,MATCH($C25,Config!$H$14:$H$17,0),MOD(M$10+$D25-1,28)+1)))))))))) | N25: =IF($A25="","",IF(AND(Config!$B$28=$A25,Config!$A$28=N$13),Config!$C$28,IF(AND(Config!$B$29=$A25,Config!$A$29=N$13),Config!$C$29,IF(AND(Config!$B$30=$A25,Config!$A$30=N$13),Config!$C$30,IF(AND(Config!$B$31=$A25,Config!$A$31=N$13),Config!$C$31,IF(AND(Config!$B$32=$A25,Config!$A$32=N$13),Config!$C$32,IF(AND(Config!$B$33=$A25,Config!$A$33=N$13),Config!$C$33,IF(AND(Config!$B$34=$A25,Config!$A$34=N$13),Config!$C$34,IF(AND(Config!$B$35=$A25,Config!$A$35=N$13),Config!$C$35,INDEX(Config!$I$14:$AJ$17,MATCH($C25,Config!$H$14:$H$17,0),MOD(N$10+$D25-1,28)+1)))))))))) | O25: =IF($A25="","",IF(AND(Config!$B$28=$A25,Config!$A$28=O$13),Config!$C$28,IF(AND(Config!$B$29=$A25,Config!$A$29=O$13),Config!$C$29,IF(AND(Config!$B$30=$A25,Config!$A$30=O$13),Config!$C$30,IF(AND(Config!$B$31=$A25,Config!$A$31=O$13),Config!$C$31,IF(AND(Config!$B$32=$A25,Config!$A$32=O$13),Config!$C$32,IF(AND(Config!$B$33=$A25,Config!$A$33=O$13),Config!$C$33,IF(AND(Config!$B$34=$A25,Config!$A$34=O$13),Config!$C$34,IF(AND(Config!$B$35=$A25,Config!$A$35=O$13),Config!$C$35,INDEX(Config!$I$14:$AJ$17,MATCH($C25,Config!$H$14:$H$17,0),MOD(O$10+$D25-1,28)+1)))))))))) | P25: =IF($A25="","",IF(AND(Config!$B$28=$A25,Config!$A$28=P$13),Config!$C$28,IF(AND(Config!$B$29=$A25,Config!$A$29=P$13),Config!$C$29,IF(AND(Config!$B$30=$A25,Config!$A$30=P$13),Config!$C$30,IF(AND(Config!$B$31=$A25,Config!$A$31=P$13),Config!$C$31,IF(AND(Config!$B$32=$A25,Config!$A$32=P$13),Config!$C$32,IF(AND(Config!$B$33=$A25,Config!$A$33=P$13),Config!$C$33,IF(AND(Config!$B$34=$A25,Config!$A$34=P$13),Config!$C$34,IF(AND(Config!$B$35=$A25,Config!$A$35=P$13),Config!$C$35,INDEX(Config!$I$14:$AJ$17,MATCH($C25,Config!$H$14:$H$17,0),MOD(P$10+$D25-1,28)+1)))))))))) | Q25: =IF($A25="","",IF(AND(Config!$B$28=$A25,Config!$A$28=Q$13),Config!$C$28,IF(AND(Config!$B$29=$A25,Config!$A$29=Q$13),Config!$C$29,IF(AND(Config!$B$30=$A25,Config!$A$30=Q$13),Config!$C$30,IF(AND(Config!$B$31=$A25,Config!$A$31=Q$13),Config!$C$31,IF(AND(Config!$B$32=$A25,Config!$A$32=Q$13),Config!$C$32,IF(AND(Config!$B$33=$A25,Config!$A$33=Q$13),Config!$C$33,IF(AND(Config!$B$34=$A25,Config!$A$34=Q$13),Config!$C$34,IF(AND(Config!$B$35=$A25,Config!$A$35=Q$13),Config!$C$35,INDEX(Config!$I$14:$AJ$17,MATCH($C25,Config!$H$14:$H$17,0),MOD(Q$10+$D25-1,28)+1)))))))))) | R25: =IF($A25="","",IF(AND(Config!$B$28=$A25,Config!$A$28=R$13),Config!$C$28,IF(AND(Config!$B$29=$A25,Config!$A$29=R$13),Config!$C$29,IF(AND(Config!$B$30=$A25,Config!$A$30=R$13),Config!$C$30,IF(AND(Config!$B$31=$A25,Config!$A$31=R$13),Config!$C$31,IF(AND(Config!$B$32=$A25,Config!$A$32=R$13),Config!$C$32,IF(AND(Config!$B$33=$A25,Config!$A$33=R$13),Config!$C$33,IF(AND(Config!$B$34=$A25,Config!$A$34=R$13),Config!$C$34,IF(AND(Config!$B$35=$A25,Config!$A$35=R$13),Config!$C$35,INDEX(Config!$I$14:$AJ$17,MATCH($C25,Config!$H$14:$H$17,0),MOD(R$10+$D25-1,28)+1)))))))))) | ... AL25: =IF($A25="","",IF(AND(Config!$B$28=$A25,Config!$A$28=AL$13),Config!$C$28,IF(AND(Config!$B$29=$A25,Config!$A$29=AL$13),Config!$C$29,IF(AND(Config!$B$30=$A25,Config!$A$30=AL$13),Config!$C$30,IF(AND(Config!$B$31=$A25,Config!$A$31=AL$13),Config!$C$31,IF(AND(Config!$B$32=$A25,Config!$A$32=AL$13),Config!$C$32,IF(AND(Config!$B$33=$A25,Config!$A$33=AL$13),Config!$C$33,IF(AND(Config!$B$34=$A25,Config!$A$34=AL$13),Config!$C$34,IF(AND(Config!$B$35=$A25,Config!$A$35=AL$13),Config!$C$35,INDEX(Config!$I$14:$AJ$17,MATCH($C25,Config!$H$14:$H$17,0),MOD(AL$10+$D25-1,28)+1))))))))))
A26: =IF(Config!B22="","",Config!B22) | B26: =IF(A26="","",Config!C22) | C26: =IF(A26="","",Config!D22) | D26: =IF(A26="","",Config!E22) | E26: =IF($A26="","",COUNTIF($K26:$AL26,"M")*Config!$L$5+COUNTIF($K26:$AL26,"T")*Config!$L$6+COUNTIF($K26:$AL26,"N")*Config!$L$7+COUNTIF($K26:$AL26,"F")*Config!$L$10) | F26: =IF($A26="","",COUNTIF($K26:$AL26,"M")) | G26: =IF($A26="","",COUNTIF($K26:$AL26,"T")) | H26: =IF($A26="","",COUNTIF($K26:$AL26,"N")) | I26: =IF($A26="","",COUNTIF($K26:$AL26,"L")+COUNTIF($K26:$AL26,"V")) | J26: =IF($A26="","",SUMPRODUCT(--(($K$12:$AL$12="Sáb")+($K$12:$AL$12="Dom")>0),--($K26:$AL26<>""),--($K26:$AL26<>"L"),--($K26:$AL26<>"V"))) | K26: =IF($A26="","",IF(AND(Config!$B$28=$A26,Config!$A$28=K$13),Config!$C$28,IF(AND(Config!$B$29=$A26,Config!$A$29=K$13),Config!$C$29,IF(AND(Config!$B$30=$A26,Config!$A$30=K$13),Config!$C$30,IF(AND(Config!$B$31=$A26,Config!$A$31=K$13),Config!$C$31,IF(AND(Config!$B$32=$A26,Config!$A$32=K$13),Config!$C$32,IF(AND(Config!$B$33=$A26,Config!$A$33=K$13),Config!$C$33,IF(AND(Config!$B$34=$A26,Config!$A$34=K$13),Config!$C$34,IF(AND(Config!$B$35=$A26,Config!$A$35=K$13),Config!$C$35,INDEX(Config!$I$14:$AJ$17,MATCH($C26,Config!$H$14:$H$17,0),MOD(K$10+$D26-1,28)+1)))))))))) | L26: =IF($A26="","",IF(AND(Config!$B$28=$A26,Config!$A$28=L$13),Config!$C$28,IF(AND(Config!$B$29=$A26,Config!$A$29=L$13),Config!$C$29,IF(AND(Config!$B$30=$A26,Config!$A$30=L$13),Config!$C$30,IF(AND(Config!$B$31=$A26,Config!$A$31=L$13),Config!$C$31,IF(AND(Config!$B$32=$A26,Config!$A$32=L$13),Config!$C$32,IF(AND(Config!$B$33=$A26,Config!$A$33=L$13),Config!$C$33,IF(AND(Config!$B$34=$A26,Config!$A$34=L$13),Config!$C$34,IF(AND(Config!$B$35=$A26,Config!$A$35=L$13),Config!$C$35,INDEX(Config!$I$14:$AJ$17,MATCH($C26,Config!$H$14:$H$17,0),MOD(L$10+$D26-1,28)+1)))))))))) | M26: =IF($A26="","",IF(AND(Config!$B$28=$A26,Config!$A$28=M$13),Config!$C$28,IF(AND(Config!$B$29=$A26,Config!$A$29=M$13),Config!$C$29,IF(AND(Config!$B$30=$A26,Config!$A$30=M$13),Config!$C$30,IF(AND(Config!$B$31=$A26,Config!$A$31=M$13),Config!$C$31,IF(AND(Config!$B$32=$A26,Config!$A$32=M$13),Config!$C$32,IF(AND(Config!$B$33=$A26,Config!$A$33=M$13),Config!$C$33,IF(AND(Config!$B$34=$A26,Config!$A$34=M$13),Config!$C$34,IF(AND(Config!$B$35=$A26,Config!$A$35=M$13),Config!$C$35,INDEX(Config!$I$14:$AJ$17,MATCH($C26,Config!$H$14:$H$17,0),MOD(M$10+$D26-1,28)+1)))))))))) | N26: =IF($A26="","",IF(AND(Config!$B$28=$A26,Config!$A$28=N$13),Config!$C$28,IF(AND(Config!$B$29=$A26,Config!$A$29=N$13),Config!$C$29,IF(AND(Config!$B$30=$A26,Config!$A$30=N$13),Config!$C$30,IF(AND(Config!$B$31=$A26,Config!$A$31=N$13),Config!$C$31,IF(AND(Config!$B$32=$A26,Config!$A$32=N$13),Config!$C$32,IF(AND(Config!$B$33=$A26,Config!$A$33=N$13),Config!$C$33,IF(AND(Config!$B$34=$A26,Config!$A$34=N$13),Config!$C$34,IF(AND(Config!$B$35=$A26,Config!$A$35=N$13),Config!$C$35,INDEX(Config!$I$14:$AJ$17,MATCH($C26,Config!$H$14:$H$17,0),MOD(N$10+$D26-1,28)+1)))))))))) | O26: =IF($A26="","",IF(AND(Config!$B$28=$A26,Config!$A$28=O$13),Config!$C$28,IF(AND(Config!$B$29=$A26,Config!$A$29=O$13),Config!$C$29,IF(AND(Config!$B$30=$A26,Config!$A$30=O$13),Config!$C$30,IF(AND(Config!$B$31=$A26,Config!$A$31=O$13),Config!$C$31,IF(AND(Config!$B$32=$A26,Config!$A$32=O$13),Config!$C$32,IF(AND(Config!$B$33=$A26,Config!$A$33=O$13),Config!$C$33,IF(AND(Config!$B$34=$A26,Config!$A$34=O$13),Config!$C$34,IF(AND(Config!$B$35=$A26,Config!$A$35=O$13),Config!$C$35,INDEX(Config!$I$14:$AJ$17,MATCH($C26,Config!$H$14:$H$17,0),MOD(O$10+$D26-1,28)+1)))))))))) | P26: =IF($A26="","",IF(AND(Config!$B$28=$A26,Config!$A$28=P$13),Config!$C$28,IF(AND(Config!$B$29=$A26,Config!$A$29=P$13),Config!$C$29,IF(AND(Config!$B$30=$A26,Config!$A$30=P$13),Config!$C$30,IF(AND(Config!$B$31=$A26,Config!$A$31=P$13),Config!$C$31,IF(AND(Config!$B$32=$A26,Config!$A$32=P$13),Config!$C$32,IF(AND(Config!$B$33=$A26,Config!$A$33=P$13),Config!$C$33,IF(AND(Config!$B$34=$A26,Config!$A$34=P$13),Config!$C$34,IF(AND(Config!$B$35=$A26,Config!$A$35=P$13),Config!$C$35,INDEX(Config!$I$14:$AJ$17,MATCH($C26,Config!$H$14:$H$17,0),MOD(P$10+$D26-1,28)+1)))))))))) | Q26: =IF($A26="","",IF(AND(Config!$B$28=$A26,Config!$A$28=Q$13),Config!$C$28,IF(AND(Config!$B$29=$A26,Config!$A$29=Q$13),Config!$C$29,IF(AND(Config!$B$30=$A26,Config!$A$30=Q$13),Config!$C$30,IF(AND(Config!$B$31=$A26,Config!$A$31=Q$13),Config!$C$31,IF(AND(Config!$B$32=$A26,Config!$A$32=Q$13),Config!$C$32,IF(AND(Config!$B$33=$A26,Config!$A$33=Q$13),Config!$C$33,IF(AND(Config!$B$34=$A26,Config!$A$34=Q$13),Config!$C$34,IF(AND(Config!$B$35=$A26,Config!$A$35=Q$13),Config!$C$35,INDEX(Config!$I$14:$AJ$17,MATCH($C26,Config!$H$14:$H$17,0),MOD(Q$10+$D26-1,28)+1)))))))))) | R26: =IF($A26="","",IF(AND(Config!$B$28=$A26,Config!$A$28=R$13),Config!$C$28,IF(AND(Config!$B$29=$A26,Config!$A$29=R$13),Config!$C$29,IF(AND(Config!$B$30=$A26,Config!$A$30=R$13),Config!$C$30,IF(AND(Config!$B$31=$A26,Config!$A$31=R$13),Config!$C$31,IF(AND(Config!$B$32=$A26,Config!$A$32=R$13),Config!$C$32,IF(AND(Config!$B$33=$A26,Config!$A$33=R$13),Config!$C$33,IF(AND(Config!$B$34=$A26,Config!$A$34=R$13),Config!$C$34,IF(AND(Config!$B$35=$A26,Config!$A$35=R$13),Config!$C$35,INDEX(Config!$I$14:$AJ$17,MATCH($C26,Config!$H$14:$H$17,0),MOD(R$10+$D26-1,28)+1)))))))))) | ... AL26: =IF($A26="","",IF(AND(Config!$B$28=$A26,Config!$A$28=AL$13),Config!$C$28,IF(AND(Config!$B$29=$A26,Config!$A$29=AL$13),Config!$C$29,IF(AND(Config!$B$30=$A26,Config!$A$30=AL$13),Config!$C$30,IF(AND(Config!$B$31=$A26,Config!$A$31=AL$13),Config!$C$31,IF(AND(Config!$B$32=$A26,Config!$A$32=AL$13),Config!$C$32,IF(AND(Config!$B$33=$A26,Config!$A$33=AL$13),Config!$C$33,IF(AND(Config!$B$34=$A26,Config!$A$34=AL$13),Config!$C$34,IF(AND(Config!$B$35=$A26,Config!$A$35=AL$13),Config!$C$35,INDEX(Config!$I$14:$AJ$17,MATCH($C26,Config!$H$14:$H$17,0),MOD(AL$10+$D26-1,28)+1))))))))))
A27: =IF(Config!B23="","",Config!B23) | B27: =IF(A27="","",Config!C23) | C27: =IF(A27="","",Config!D23) | D27: =IF(A27="","",Config!E23) | E27: =IF($A27="","",COUNTIF($K27:$AL27,"M")*Config!$L$5+COUNTIF($K27:$AL27,"T")*Config!$L$6+COUNTIF($K27:$AL27,"N")*Config!$L$7+COUNTIF($K27:$AL27,"F")*Config!$L$10) | F27: =IF($A27="","",COUNTIF($K27:$AL27,"M")) | G27: =IF($A27="","",COUNTIF($K27:$AL27,"T")) | H27: =IF($A27="","",COUNTIF($K27:$AL27,"N")) | I27: =IF($A27="","",COUNTIF($K27:$AL27,"L")+COUNTIF($K27:$AL27,"V")) | J27: =IF($A27="","",SUMPRODUCT(--(($K$12:$AL$12="Sáb")+($K$12:$AL$12="Dom")>0),--($K27:$AL27<>""),--($K27:$AL27<>"L"),--($K27:$AL27<>"V"))) | K27: =IF($A27="","",IF(AND(Config!$B$28=$A27,Config!$A$28=K$13),Config!$C$28,IF(AND(Config!$B$29=$A27,Config!$A$29=K$13),Config!$C$29,IF(AND(Config!$B$30=$A27,Config!$A$30=K$13),Config!$C$30,IF(AND(Config!$B$31=$A27,Config!$A$31=K$13),Config!$C$31,IF(AND(Config!$B$32=$A27,Config!$A$32=K$13),Config!$C$32,IF(AND(Config!$B$33=$A27,Config!$A$33=K$13),Config!$C$33,IF(AND(Config!$B$34=$A27,Config!$A$34=K$13),Config!$C$34,IF(AND(Config!$B$35=$A27,Config!$A$35=K$13),Config!$C$35,INDEX(Config!$I$14:$AJ$17,MATCH($C27,Config!$H$14:$H$17,0),MOD(K$10+$D27-1,28)+1)))))))))) | L27: =IF($A27="","",IF(AND(Config!$B$28=$A27,Config!$A$28=L$13),Config!$C$28,IF(AND(Config!$B$29=$A27,Config!$A$29=L$13),Config!$C$29,IF(AND(Config!$B$30=$A27,Config!$A$30=L$13),Config!$C$30,IF(AND(Config!$B$31=$A27,Config!$A$31=L$13),Config!$C$31,IF(AND(Config!$B$32=$A27,Config!$A$32=L$13),Config!$C$32,IF(AND(Config!$B$33=$A27,Config!$A$33=L$13),Config!$C$33,IF(AND(Config!$B$34=$A27,Config!$A$34=L$13),Config!$C$34,IF(AND(Config!$B$35=$A27,Config!$A$35=L$13),Config!$C$35,INDEX(Config!$I$14:$AJ$17,MATCH($C27,Config!$H$14:$H$17,0),MOD(L$10+$D27-1,28)+1)))))))))) | M27: =IF($A27="","",IF(AND(Config!$B$28=$A27,Config!$A$28=M$13),Config!$C$28,IF(AND(Config!$B$29=$A27,Config!$A$29=M$13),Config!$C$29,IF(AND(Config!$B$30=$A27,Config!$A$30=M$13),Config!$C$30,IF(AND(Config!$B$31=$A27,Config!$A$31=M$13),Config!$C$31,IF(AND(Config!$B$32=$A27,Config!$A$32=M$13),Config!$C$32,IF(AND(Config!$B$33=$A27,Config!$A$33=M$13),Config!$C$33,IF(AND(Config!$B$34=$A27,Config!$A$34=M$13),Config!$C$34,IF(AND(Config!$B$35=$A27,Config!$A$35=M$13),Config!$C$35,INDEX(Config!$I$14:$AJ$17,MATCH($C27,Config!$H$14:$H$17,0),MOD(M$10+$D27-1,28)+1)))))))))) | N27: =IF($A27="","",IF(AND(Config!$B$28=$A27,Config!$A$28=N$13),Config!$C$28,IF(AND(Config!$B$29=$A27,Config!$A$29=N$13),Config!$C$29,IF(AND(Config!$B$30=$A27,Config!$A$30=N$13),Config!$C$30,IF(AND(Config!$B$31=$A27,Config!$A$31=N$13),Config!$C$31,IF(AND(Config!$B$32=$A27,Config!$A$32=N$13),Config!$C$32,IF(AND(Config!$B$33=$A27,Config!$A$33=N$13),Config!$C$33,IF(AND(Config!$B$34=$A27,Config!$A$34=N$13),Config!$C$34,IF(AND(Config!$B$35=$A27,Config!$A$35=N$13),Config!$C$35,INDEX(Config!$I$14:$AJ$17,MATCH($C27,Config!$H$14:$H$17,0),MOD(N$10+$D27-1,28)+1)))))))))) | O27: =IF($A27="","",IF(AND(Config!$B$28=$A27,Config!$A$28=O$13),Config!$C$28,IF(AND(Config!$B$29=$A27,Config!$A$29=O$13),Config!$C$29,IF(AND(Config!$B$30=$A27,Config!$A$30=O$13),Config!$C$30,IF(AND(Config!$B$31=$A27,Config!$A$31=O$13),Config!$C$31,IF(AND(Config!$B$32=$A27,Config!$A$32=O$13),Config!$C$32,IF(AND(Config!$B$33=$A27,Config!$A$33=O$13),Config!$C$33,IF(AND(Config!$B$34=$A27,Config!$A$34=O$13),Config!$C$34,IF(AND(Config!$B$35=$A27,Config!$A$35=O$13),Config!$C$35,INDEX(Config!$I$14:$AJ$17,MATCH($C27,Config!$H$14:$H$17,0),MOD(O$10+$D27-1,28)+1)))))))))) | P27: =IF($A27="","",IF(AND(Config!$B$28=$A27,Config!$A$28=P$13),Config!$C$28,IF(AND(Config!$B$29=$A27,Config!$A$29=P$13),Config!$C$29,IF(AND(Config!$B$30=$A27,Config!$A$30=P$13),Config!$C$30,IF(AND(Config!$B$31=$A27,Config!$A$31=P$13),Config!$C$31,IF(AND(Config!$B$32=$A27,Config!$A$32=P$13),Config!$C$32,IF(AND(Config!$B$33=$A27,Config!$A$33=P$13),Config!$C$33,IF(AND(Config!$B$34=$A27,Config!$A$34=P$13),Config!$C$34,IF(AND(Config!$B$35=$A27,Config!$A$35=P$13),Config!$C$35,INDEX(Config!$I$14:$AJ$17,MATCH($C27,Config!$H$14:$H$17,0),MOD(P$10+$D27-1,28)+1)))))))))) | Q27: =IF($A27="","",IF(AND(Config!$B$28=$A27,Config!$A$28=Q$13),Config!$C$28,IF(AND(Config!$B$29=$A27,Config!$A$29=Q$13),Config!$C$29,IF(AND(Config!$B$30=$A27,Config!$A$30=Q$13),Config!$C$30,IF(AND(Config!$B$31=$A27,Config!$A$31=Q$13),Config!$C$31,IF(AND(Config!$B$32=$A27,Config!$A$32=Q$13),Config!$C$32,IF(AND(Config!$B$33=$A27,Config!$A$33=Q$13),Config!$C$33,IF(AND(Config!$B$34=$A27,Config!$A$34=Q$13),Config!$C$34,IF(AND(Config!$B$35=$A27,Config!$A$35=Q$13),Config!$C$35,INDEX(Config!$I$14:$AJ$17,MATCH($C27,Config!$H$14:$H$17,0),MOD(Q$10+$D27-1,28)+1)))))))))) | R27: =IF($A27="","",IF(AND(Config!$B$28=$A27,Config!$A$28=R$13),Config!$C$28,IF(AND(Config!$B$29=$A27,Config!$A$29=R$13),Config!$C$29,IF(AND(Config!$B$30=$A27,Config!$A$30=R$13),Config!$C$30,IF(AND(Config!$B$31=$A27,Config!$A$31=R$13),Config!$C$31,IF(AND(Config!$B$32=$A27,Config!$A$32=R$13),Config!$C$32,IF(AND(Config!$B$33=$A27,Config!$A$33=R$13),Config!$C$33,IF(AND(Config!$B$34=$A27,Config!$A$34=R$13),Config!$C$34,IF(AND(Config!$B$35=$A27,Config!$A$35=R$13),Config!$C$35,INDEX(Config!$I$14:$AJ$17,MATCH($C27,Config!$H$14:$H$17,0),MOD(R$10+$D27-1,28)+1)))))))))) | ... AL27: =IF($A27="","",IF(AND(Config!$B$28=$A27,Config!$A$28=AL$13),Config!$C$28,IF(AND(Config!$B$29=$A27,Config!$A$29=AL$13),Config!$C$29,IF(AND(Config!$B$30=$A27,Config!$A$30=AL$13),Config!$C$30,IF(AND(Config!$B$31=$A27,Config!$A$31=AL$13),Config!$C$31,IF(AND(Config!$B$32=$A27,Config!$A$32=AL$13),Config!$C$32,IF(AND(Config!$B$33=$A27,Config!$A$33=AL$13),Config!$C$33,IF(AND(Config!$B$34=$A27,Config!$A$34=AL$13),Config!$C$34,IF(AND(Config!$B$35=$A27,Config!$A$35=AL$13),Config!$C$35,INDEX(Config!$I$14:$AJ$17,MATCH($C27,Config!$H$14:$H$17,0),MOD(AL$10+$D27-1,28)+1))))))))))
A30: Cobertura diaria
A31: Mañana (M) - asignado | K31: =COUNTIF(K$16:K$27,"M") -> 2 | L31: =COUNTIF(L$16:L$27,"M") -> 2 | M31: =COUNTIF(M$16:M$27,"M") -> 2 | N31: =COUNTIF(N$16:N$27,"M") -> 2 | O31: =COUNTIF(O$16:O$27,"M") -> 2 | P31: =COUNTIF(P$16:P$27,"M") -> 2 | Q31: =COUNTIF(Q$16:Q$27,"M") -> 2 | R31: =COUNTIF(R$16:R$27,"M") -> 2 | ... AL31: =COUNTIF(AL$16:AL$27,"M") -> 2
A32: Mañana (M) - objetivo | K32: =IF(OR(K$12="Sáb",K$12="Dom"),Config!$J$22,Config!$I$22) -> 2 | L32: =IF(OR(L$12="Sáb",L$12="Dom"),Config!$J$22,Config!$I$22) -> 2 | M32: =IF(OR(M$12="Sáb",M$12="Dom"),Config!$J$22,Config!$I$22) -> 2 | N32: =IF(OR(N$12="Sáb",N$12="Dom"),Config!$J$22,Config!$I$22) -> 2 | O32: =IF(OR(O$12="Sáb",O$12="Dom"),Config!$J$22,Config!$I$22) -> 2 | P32: =IF(OR(P$12="Sáb",P$12="Dom"),Config!$J$22,Config!$I$22) -> 2 | Q32: =IF(OR(Q$12="Sáb",Q$12="Dom"),Config!$J$22,Config!$I$22) -> 2 | R32: =IF(OR(R$12="Sáb",R$12="Dom"),Config!$J$22,Config!$I$22) -> 2 | ... AL32: =IF(OR(AL$12="Sáb",AL$12="Dom"),Config!$J$22,Config!$I$22) -> 2
A33: Mañana (M) - diferencia | K33: =K31-K32 -> 0 | L33: =L31-L32 -> 0 | M33: =M31-M32 -> 0 | N33: =N31-N32 -> 0 | O33: =O31-O32 -> 0 | P33: =P31-P32 -> 0 | Q33: =Q31-Q32 -> 0 | R33: =R31-R32 -> 0 | ... AL33: =AL31-AL32 -> 0
A35: Tarde (T) - asignado | K35: =COUNTIF(K$16:K$27,"T") -> 2 | L35: =COUNTIF(L$16:L$27,"T") -> 2 | M35: =COUNTIF(M$16:M$27,"T") -> 2 | N35: =COUNTIF(N$16:N$27,"T") -> 2 | O35: =COUNTIF(O$16:O$27,"T") -> 2 | P35: =COUNTIF(P$16:P$27,"T") -> 2 | Q35: =COUNTIF(Q$16:Q$27,"T") -> 2 | R35: =COUNTIF(R$16:R$27,"T") -> 2 | ... AL35: =COUNTIF(AL$16:AL$27,"T") -> 2
A36: Tarde (T) - objetivo | K36: =IF(OR(K$12="Sáb",K$12="Dom"),Config!$J$23,Config!$I$23) -> 2 | L36: =IF(OR(L$12="Sáb",L$12="Dom"),Config!$J$23,Config!$I$23) -> 2 | M36: =IF(OR(M$12="Sáb",M$12="Dom"),Config!$J$23,Config!$I$23) -> 2 | N36: =IF(OR(N$12="Sáb",N$12="Dom"),Config!$J$23,Config!$I$23) -> 2 | O36: =IF(OR(O$12="Sáb",O$12="Dom"),Config!$J$23,Config!$I$23) -> 2 | P36: =IF(OR(P$12="Sáb",P$12="Dom"),Config!$J$23,Config!$I$23) -> 2 | Q36: =IF(OR(Q$12="Sáb",Q$12="Dom"),Config!$J$23,Config!$I$23) -> 2 | R36: =IF(OR(R$12="Sáb",R$12="Dom"),Config!$J$23,Config!$I$23) -> 2 | ... AL36: =IF(OR(AL$12="Sáb",AL$12="Dom"),Config!$J$23,Config!$I$23) -> 2
A37: Tarde (T) - diferencia | K37: =K35-K36 -> 0 | L37: =L35-L36 -> 0 | M37: =M35-M36 -> 0 | N37: =N35-N36 -> 0 | O37: =O35-O36 -> 0 | P37: =P35-P36 -> 0 | Q37: =Q35-Q36 -> 0 | R37: =R35-R36 -> 0 | ... AL37: =AL35-AL36 -> 0
A39: Noche (N) - asignado | K39: =COUNTIF(K$16:K$27,"N") -> 2 | L39: =COUNTIF(L$16:L$27,"N") -> 2 | M39: =COUNTIF(M$16:M$27,"N") -> 2 | N39: =COUNTIF(N$16:N$27,"N") -> 2 | O39: =COUNTIF(O$16:O$27,"N") -> 2 | P39: =COUNTIF(P$16:P$27,"N") -> 2 | Q39: =COUNTIF(Q$16:Q$27,"N") -> 2 | R39: =COUNTIF(R$16:R$27,"N") -> 2 | ... AL39: =COUNTIF(AL$16:AL$27,"N") -> 2
A40: Noche (N) - objetivo | K40: =IF(OR(K$12="Sáb",K$12="Dom"),Config!$J$24,Config!$I$24) -> 2 | L40: =IF(OR(L$12="Sáb",L$12="Dom"),Config!$J$24,Config!$I$24) -> 2 | M40: =IF(OR(M$12="Sáb",M$12="Dom"),Config!$J$24,Config!$I$24) -> 2 | N40: =IF(OR(N$12="Sáb",N$12="Dom"),Config!$J$24,Config!$I$24) -> 2 | O40: =IF(OR(O$12="Sáb",O$12="Dom"),Config!$J$24,Config!$I$24) -> 2 | P40: =IF(OR(P$12="Sáb",P$12="Dom"),Config!$J$24,Config!$I$24) -> 2 | Q40: =IF(OR(Q$12="Sáb",Q$12="Dom"),Config!$J$24,Config!$I$24) -> 2 | R40: =IF(OR(R$12="Sáb",R$12="Dom"),Config!$J$24,Config!$I$24) -> 2 | ... AL40: =IF(OR(AL$12="Sáb",AL$12="Dom"),Config!$J$24,Config!$I$24) -> 2
A41: Noche (N) - diferencia | K41: =K39-K40 -> 0 | L41: =L39-L40 -> 0 | M41: =M39-M40 -> 0 | N41: =N39-N40 -> 0 | O41: =O39-O40 -> 0 | P41: =P39-P40 -> 0 | Q41: =Q39-Q40 -> 0 | R41: =R39-R40 -> 0 | ... AL41: =AL39-AL40 -> 0
A43: Si necesitas una excepción puntual, añade la fecha y el empleado en la tabla de Incidencias de la hoja Configuración.

Sheet Config
A1: Configuración del cuadrante rotativo
A3: Parámetros | D3: Cómo usar | H3: Códigos de turno
A4: Servicio / equipo | B4: Centro de movilidad urbana | D4: 1) Ajusta la fecha de inicio. 2) Modifica empleados, grupos y desfases. 3) Usa Incidencias para vacaciones, formación o cambios puntuales. 4) El cuadrante se recalcula solo. | H4: Código | I4: Turno | J4: Inicio | K4: Fin | L4: Horas
A5: Inicio del ciclo (lunes) | B5: 45754 | H5: M | I5: Mañana | J5: 06:00 | K5: 14:00 | L5: 8
A6: Fin del ciclo | B6: =B5+27 -> 45781 | H6: T | I6: Tarde | J6: 14:00 | K6: 22:00 | L6: 8
A7: Validación | B7: =IF(WEEKDAY(B5,2)=1,"Correcto: empieza en lunes","Revisa: la fecha debe ser lunes") -> Correcto: empieza en lunes | H7: N | I7: Noche | J7: 22:00 | K7: 06:00 | L7: 8
H8: L | I8: Libre | J8: - | K8: - | L8: 0
H9: V | I9: Vacaciones | J9: - | K9: - | L9: 0
A10: Equipo | H10: F | I10: Formación | J10: 09:00 | K10: 17:00 | L10: 8
A11: Activo | B11: Empleado | C11: Área | D11: Grupo | E11: Desfase (días) | F11: Observación
A12: Sí | B12: Alba Soto | C12: Operación | D12: A | E12: 0 | F12: Base | H12: Patrón rotativo base (28 días)
A13: Sí | B13: Bruno Márquez | C13: Monitoreo | D13: A | E13: 0 | F13: Base | H13: Grupo | I13: 1 | J13: 2 | K13: 3 | L13: 4 | M13: 5 | N13: 6 | O13: 7 | P13: 8 | Q13: 9 | R13: 10 | S13: 11 | T13: 12 | U13: 13 | V13: 14 | W13: 15 | X13: 16 | Y13: 17 | Z13: 18 | AA13: 19 | AB13: 20 | AC13: 21 | AD13: 22 | AE13: 23 | AF13: 24 | AG13: 25 | AH13: 26 | AI13: 27 | AJ13: 28
A14: Sí | B14: Carmen Leal | C14: Atención | D14: B | E14: 0 | F14: Base | H14: A | I14: M | J14: M | K14: M | L14: M | M14: M | N14: M | O14: M | P14: T | Q14: T | R14: T | S14: T | T14: T | U14: T | V14: T | W14: N | X14: N | Y14: N | Z14: N | AA14: N | AB14: N | AC14: N | AD14: L | AE14: L | AF14: L | AG14: L | AH14: L | AI14: L | AJ14: L
A15: Sí | B15: Daniel Serra | C15: Atención | D15: B | E15: 0 | F15: Base | H15: B | I15: T | J15: T | K15: T | L15: T | M15: T | N15: T | O15: T | P15: N | Q15: N | R15: N | S15: N | T15: N | U15: N | V15: N | W15: L | X15: L | Y15: L | Z15: L | AA15: L | AB15: L | AC15: L | AD15: M | AE15: M | AF15: M | AG15: M | AH15: M | AI15: M | AJ15: M
A16: Sí | B16: Eva Pardo | C16: Coordinación | D16: C | E16: 0 | F16: Base | H16: C | I16: N | J16: N | K16: N | L16: N | M16: N | N16: N | O16: N | P16: L | Q16: L | R16: L | S16: L | T16: L | U16: L | V16: L | W16: M | X16: M | Y16: M | Z16: M | AA16: M | AB16: M | AC16: M | AD16: T | AE16: T | AF16: T | AG16: T | AH16: T | AI16: T | AJ16: T
A17: Sí | B17: Fabio Costa | C17: Coordinación | D17: C | E17: 0 | F17: Base | H17: D | I17: L | J17: L | K17: L | L17: L | M17: L | N17: L | O17: L | P17: M | Q17: M | R17: M | S17: M | T17: M | U17: M | V17: M | W17: T | X17: T | Y17: T | Z17: T | AA17: T | AB17: T | AC17: T | AD17: N | AE17: N | AF17: N | AG17: N | AH17: N | AI17: N | AJ17: N
A18: Sí | B18: Greta Ríos | C18: Incidencias | D18: D | E18: 0 | F18: Base | H18: Puedes cambiar cualquier código del patrón para adaptar el ciclo a tu operación.
A19: Sí | B19: Hugo Mena | C19: Incidencias | D19: D | E19: 0 | F19: Base
E20: 0 | H20: Cobertura objetivo
E21: 0 | H21: Turno | I21: Lun-Vie | J21: Sáb-Dom
E22: 0 | H22: M | I22: 2 | J22: 2
E23: 0 | H23: T | I23: 2 | J23: 2
A24: Los grupos A-D alimentan el patrón automático. El desfase permite adelantar o retrasar días dentro del ciclo. | H24: N | I24: 2 | J24: 2
A26: Incidencias / excepciones
A27: Fecha | B27: Empleado | C27: Código manual | D27: Nota | E27: Clave
A28: 45763 | B28: Greta Ríos | C28: V | D28: Vacaciones | E28: =IF(OR(A28="",B28=""),"",B28&"|"&A28) -> Greta Ríos|45763
A29: 45767 | B29: Daniel Serra | C29: F | D29: Formación interna | E29: =IF(OR(A29="",B29=""),"",B29&"|"&A29) -> Daniel Serra|45767
E30: =IF(OR(A30="",B30=""),"",B30&"|"&A30)
E31: =IF(OR(A31="",B31=""),"",B31&"|"&A31)
E32: =IF(OR(A32="",B32=""),"",B32&"|"&A32)
E33: =IF(OR(A33="",B33=""),"",B33&"|"&A33)
E34: =IF(OR(A34="",B34=""),"",B34&"|"&A34)
E35: =IF(OR(A35="",B35=""),"",B35&"|"&A35)
A36: Las incidencias tienen prioridad sobre el patrón automático.
