Workbook

Sheet Cuadrante
A1: Cuadrante rotativo de lunes a domingo
A2: Hoja principal de consulta. La planificación se genera desde la pestaña Configuración.
A4: Equipo | B4: =Config!B4 -> Centro de movilidad urbana | D4: Inicio | E4: =Config!B5 -> 45754 | G4: Fin | H4: =Config!B6 -> 45781 | J4: Estado | K4: =Config!B7 -> Correcto: empieza en lunes
A6: Consejo: modifica fecha, empleados, desfases e incidencias en Configuración. Esta hoja sirve para visualizar, imprimir y revisar cobertura.
A9: Leyenda
A10: Código | B10: Significado | C10: Horas | K10: 1 | L10: 2 | M10: 3 | N10: 4 | O10: 5 | P10: 6 | Q10: 7 | R10: 8 | S10: 9 | T10: 10 | U10: 11 | V10: 12 | W10: 13 | X10: 14 | Y10: 15 | Z10: 16 | AA10: 17 | AB10: 18 | AC10: 19 | AD10: 20 | AE10: 21 | AF10: 22 | AG10: 23 | AH10: 24 | AI10: 25 | AJ10: 26 | AK10: 27 | AL10: 28
A11: M | B11: Mañana | C11: 8 | K11: Semana 1 | R11: Semana 2 | Y11: Semana 3 | AF11: Semana 4
A12: T | B12: Tarde | C12: 8 | K12: =CHOOSE(WEEKDAY(K$13,2),"Lun","Mar","Mié","Jue","Vie","Sáb","Dom") -> Lun | L12: =CHOOSE(WEEKDAY(L$13,2),"Lun","Mar","Mié","Jue","Vie","Sáb","Dom") -> Mar | M12: =CHOOSE(WEEKDAY(M$13,2),"Lun","Mar","Mié","Jue","Vie","Sáb","Dom") -> Mié | N12: =CHOOSE(WEEKDAY(N$13,2),"Lun","Mar","Mié","Jue","Vie","Sáb","Dom") -> Jue | O12: =CHOOSE(WEEKDAY(O$13,2),"Lun","Mar","Mié","Jue","Vie","Sáb","Dom") -> Vie | P12: =CHOOSE(WEEKDAY(P$13,2),"Lun","Mar","Mié","Jue","Vie","Sáb","Dom") -> Sáb | Q12: =CHOOSE(WEEKDAY(Q$13,2),"Lun","Mar","Mié","Jue","Vie","Sáb","Dom") -> Dom | R12: =CHOOSE(WEEKDAY(R$13,2),"Lun","Mar","Mié","Jue","Vie","Sáb","Dom") -> Lun | ... AL12: =CHOOSE(WEEKDAY(AL$13,2),"Lun","Mar","Mié","Jue","Vie","Sáb","Dom") -> Dom
A13: N | B13: Noche | C13: 8 | K13: =Config!$B$5+K$10-1 -> 45754 | L13: =Config!$B$5+L$10-1 -> 45755 | M13: =Config!$B$5+M$10-1 -> 45756 | N13: =Config!$B$5+N$10-1 -> 45757 | O13: =Config!$B$5+O$10-1 -> 45758 | P13: =Config!$B$5+P$10-1 -> 45759 | Q13: =Config!$B$5+Q$10-1 -> 45760 | R13: =Config!$B$5+R$10-1 -> 45761 | ... AL13: =Config!$B$5+AL$10-1 -> 45781
A14: L | B14: Libre | C14: 0
A15: Empleado | B15: Área | C15: Grupo | D15: Desf. | E15: Horas | F15: M | G15: T | H15: N | I15: L/V | J15: FDS | K15: Planificación automática del ciclo
A16: =IF(Config!B12="","",Config!B12) -> Alba Soto | B16: =IF(A16="","",Config!C12) -> Operación | C16: =IF(A16="","",Config!D12) -> A | D16: =IF(A16="","",Config!E12) -> 0 | E16: =IF($A16="","",COUNTIF($K16:$AL16,"M")*Config!$L$5+COUNTIF($K16:$AL16,"T")*Config!$L$6+COUNTIF($K16:$AL16,"N")*Config!$L$7+COUNTIF($K16:$AL16,"F")*Config!$L$10) -> 168 | F16: =IF($A16="","",COUNTIF($K16:$AL16,"M")) -> 7 | G16: =IF($A16="","",COUNTIF($K16:$AL16,"T")) -> 7 | H16: =IF($A16="","",COUNTIF($K16:$AL16,"N")) -> 7 | I16: =IF($A16="","",COUNTIF($K16:$AL16,"L")+COUNTIF($K16:$AL16,"V")) -> 7 | J16: =IF($A16="","",SUMPRODUCT(--(($K$12:$AL$12="Sáb")+($K$12:$AL$12="Dom")>0),--($K16:$AL16<>""),--($K16:$AL16<>"L"),--($K16:$AL16<>"V"))) -> 6 | K16: =IF($A16="","",IF(AND(Config!$B$28=$A16,Config!$A$28=K$13),Config!$C$28,IF(AND(Config!$B$29=$A16,Config!$A$29=K$13),Config!$C$29,IF(AND(Config!$B$30=$A16,Config!$A$30=K$13),Config!$C$30,IF(AND(Config!$B$31=$A16,Config!$A$31=K$13),Config!$C$31,IF(AND(Config!$B$32=$A16,Config!$A$32=K$13),Config!$C$32,IF(AND(Config!$B$33=$A16,Config!$A$33=K$13),Config!$C$33,IF(AND(Config!$B$34=$A16,Config!$A$34=K$13),Config!$C$34,IF(AND(Config!$B$35=$A16,Config!$A$35=K$13),Config!$C$35,INDEX(Config!$I$14:$AJ$17,MATCH($C16,Config!$H$14:$H$17,0),MOD(K$10+$D16-1,28)+1)))))))))) -> M | L16: =IF($A16="","",IF(AND(Config!$B$28=$A16,Config!$A$28=L$13),Config!$C$28,IF(AND(Config!$B$29=$A16,Config!$A$29=L$13),Config!$C$29,IF(AND(Config!$B$30=$A16,Config!$A$30=L$13),Config!$C$30,IF(AND(Config!$B$31=$A16,Config!$A$31=L$13),Config!$C$31,IF(AND(Config!$B$32=$A16,Config!$A$32=L$13),Config!$C$32,IF(AND(Config!$B$33=$A16,Config!$A$33=L$13),Config!$C$33,IF(AND(Config!$B$34=$A16,Config!$A$34=L$13),Config!$C$34,IF(AND(Config!$B$35=$A16,Config!$A$35=L$13),Config!$C$35,INDEX(Config!$I$14:$AJ$17,MATCH($C16,Config!$H$14:$H$17,0),MOD(L$10+$D16-1,28)+1)))))))))) -> M | M16: =IF($A16="","",IF(AND(Config!$B$28=$A16,Config!$A$28=M$13),Config!$C$28,IF(AND(Config!$B$29=$A16,Config!$A$29=M$13),Config!$C$29,IF(AND(Config!$B$30=$A16,Config!$A$30=M$13),Config!$C$30,IF(AND(Config!$B$31=$A16,Config!$A$31=M$13),Config!$C$31,IF(AND(Config!$B$32=$A16,Config!$A$32=M$13),Config!$C$32,IF(AND(Config!$B$33=$A16,Config!$A$33=M$13),Config!$C$33,IF(AND(Config!$B$34=$A16,Config!$A$34=M$13),Config!$C$34,IF(AND(Config!$B$35=$A16,Config!$A$35=M$13),Config!$C$35,INDEX(Config!$I$14:$AJ$17,MATCH($C16,Config!$H$14:$H$17,0),MOD(M$10+$D16-1,28)+1)))))))))) -> M | N16: =IF($A16="","",IF(AND(Config!$B$28=$A16,Config!$A$28=N$13),Config!$C$28,IF(AND(Config!$B$29=$A16,Config!$A$29=N$13),Config!$C$29,IF(AND(Config!$B$30=$A16,Config!$A$30=N$13),Config!$C$30,IF(AND(Config!$B$31=$A16,Config!$A$31=N$13),Config!$C$31,IF(AND(Config!$B$32=$A16,Config!$A$32=N$13),Config!$C$32,IF(AND(Config!$B$33=$A16,Config!$A$33=N$13),Config!$C$33,IF(AND(Config!$B$34=$A16,Config!$A$34=N$13),Config!$C$34,IF(AND(Config!$B$35=$A16,Config!$A$35=N$13),Config!$C$35,INDEX(Config!$I$14:$AJ$17,MATCH($C16,Config!$H$14:$H$17,0),MOD(N$10+$D16-1,28)+1)))))))))) -> M | O16: =IF($A16="","",IF(AND(Config!$B$28=$A16,Config!$A$28=O$13),Config!$C$28,IF(AND(Config!$B$29=$A16,Config!$A$29=O$13),Config!$C$29,IF(AND(Config!$B$30=$A16,Config!$A$30=O$13),Config!$C$30,IF(AND(Config!$B$31=$A16,Config!$A$31=O$13),Config!$C$31,IF(AND(Config!$B$32=$A16,Config!$A$32=O$13),Config!$C$32,IF(AND(Config!$B$33=$A16,Config!$A$33=O$13),Config!$C$33,IF(AND(Config!$B$34=$A16,Config!$A$34=O$13),Config!$C$34,IF(AND(Config!$B$35=$A16,Config!$A$35=O$13),Config!$C$35,INDEX(Config!$I$14:$AJ$17,MATCH($C16,Config!$H$14:$H$17,0),MOD(O$10+$D16-1,28)+1)))))))))) -> M | P16: =IF($A16="","",IF(AND(Config!$B$28=$A16,Config!$A$28=P$13),Config!$C$28,IF(AND(Config!$B$29=$A16,Config!$A$29=P$13),Config!$C$29,IF(AND(Config!$B$30=$A16,Config!$A$30=P$13),Config!$C$30,IF(AND(Config!$B$31=$A16,Config!$A$31=P$13),Config!$C$31,IF(AND(Config!$B$32=$A16,Config!$A$32=P$13),Config!$C$32,IF(AND(Config!$B$33=$A16,Config!$A$33=P$13),Config!$C$33,IF(AND(Config!$B$34=$A16,Config!$A$34=P$13),Config!$C$34,IF(AND(Config!$B$35=$A16,Config!$A$35=P$13),Config!$C$35,INDEX(Config!$I$14:$AJ$17,MATCH($C16,Config!$H$14:$H$17,0),MOD(P$10+$D16-1,28)+1)))))))))) -> M | Q16: =IF($A16="","",IF(AND(Config!$B$28=$A16,Config!$A$28=Q$13),Config!$C$28,IF(AND(Config!$B$29=$A16,Config!$A$29=Q$13),Config!$C$29,IF(AND(Config!$B$30=$A16,Config!$A$30=Q$13),Config!$C$30,IF(AND(Config!$B$31=$A16,Config!$A$31=Q$13),Config!$C$31,IF(AND(Config!$B$32=$A16,Config!$A$32=Q$13),Config!$C$32,IF(AND(Config!$B$33=$A16,Config!$A$33=Q$13),Config!$C$33,IF(AND(Config!$B$34=$A16,Config!$A$34=Q$13),Config!$C$34,IF(AND(Config!$B$35=$A16,Config!$A$35=Q$13),Config!$C$35,INDEX(Config!$I$14:$AJ$17,MATCH($C16,Config!$H$14:$H$17,0),MOD(Q$10+$D16-1,28)+1)))))))))) -> M | R16: =IF($A16="","",IF(AND(Config!$B$28=$A16,Config!$A$28=R$13),Config!$C$28,IF(AND(Config!$B$29=$A16,Config!$A$29=R$13),Config!$C$29,IF(AND(Config!$B$30=$A16,Config!$A$30=R$13),Config!$C$30,IF(AND(Config!$B$31=$A16,Config!$A$31=R$13),Config!$C$31,IF(AND(Config!$B$32=$A16,Config!$A$32=R$13),Config!$C$32,IF(AND(Config!$B$33=$A16,Config!$A$33=R$13),Config!$C$33,IF(AND(Config!$B$34=$A16,Config!$A$34=R$13),Config!$C$34,IF(AND(Config!$B$35=$A16,Config!$A$35=R$13),Config!$C$35,INDEX(Config!$I$14:$AJ$17,MATCH($C16,Config!$H$14:$H$17,0),MOD(R$10+$D16-1,28)+1)))))))))) -> T | ... AL16: =IF($A16="","",IF(AND(Config!$B$28=$A16,Config!$A$28=AL$13),Config!$C$28,IF(AND(Config!$B$29=$A16,Config!$A$29=AL$13),Config!$C$29,IF(AND(Config!$B$30=$A16,Config!$A$30=AL$13),Config!$C$30,IF(AND(Config!$B$31=$A16,Config!$A$31=AL$13),Config!$C$31,IF(AND(Config!$B$32=$A16,Config!$A$32=AL$13),Config!$C$32,IF(AND(Config!$B$33=$A16,Config!$A$33=AL$13),Config!$C$33,IF(AND(Config!$B$34=$A16,Config!$A$34=AL$13),Config!$C$34,IF(AND(Config!$B$35=$A16,Config!$A$35=AL$13),Config!$C$35,INDEX(Config!$I$14:$AJ$17,MATCH($C16,Config!$H$14:$H$17,0),MOD(AL$10+$D16-1,28)+1)))))))))) -> L
A17: =IF(Config!B13="","",Config!B13) -> Bruno Márquez | B17: =IF(A17="","",Config!C13) -> Monitoreo | C17: =IF(A17="","",Config!D13) -> A | D17: =IF(A17="","",Config!E13) -> 0 | E17: =IF($A17="","",COUNTIF($K17:$AL17,"M")*Config!$L$5+COUNTIF($K17:$AL17,"T")*Config!$L$6+COUNTIF($K17:$AL17,"N")*Config!$L$7+COUNTIF($K17:$AL17,"F")*Config!$L$10) -> 168 | F17: =IF($A17="","",COUNTIF($K17:$AL17,"M")) -> 7 | G17: =IF($A17="","",COUNTIF($K17:$AL17,"T")) -> 7 | H17: =IF($A17="","",COUNTIF($K17:$AL17,"N")) -> 7 | I17: =IF($A17="","",COUNTIF($K17:$AL17,"L")+COUNTIF($K17:$AL17,"V")) -> 7 | J17: =IF($A17="","",SUMPRODUCT(--(($K$12:$AL$12="Sáb")+($K$12:$AL$12="Dom")>0),--($K17:$AL17<>""),--($K17:$AL17<>"L"),--($K17:$AL17<>"V"))) -> 6 | K17: =IF($A17="","",IF(AND(Config!$B$28=$A17,Config!$A$28=K$13),Config!$C$28,IF(AND(Config!$B$29=$A17,Config!$A$29=K$13),Config!$C$29,IF(AND(Config!$B$30=$A17,Config!$A$30=K$13),Config!$C$30,IF(AND(Config!$B$31=$A17,Config!$A$31=K$13),Config!$C$31,IF(AND(Config!$B$32=$A17,Config!$A$32=K$13),Config!$C$32,IF(AND(Config!$B$33=$A17,Config!$A$33=K$13),Config!$C$33,IF(AND(Config!$B$34=$A17,Config!$A$34=K$13),Config!$C$34,IF(AND(Config!$B$35=$A17,Config!$A$35=K$13),Config!$C$35,INDEX(Config!$I$14:$AJ$17,MATCH($C17,Config!$H$14:$H$17,0),MOD(K$10+$D17-1,28)+1)))))))))) -> M | L17: =IF($A17="","",IF(AND(Config!$B$28=$A17,Config!$A$28=L$13),Config!$C$28,IF(AND(Config!$B$29=$A17,Config!$A$29=L$13),Config!$C$29,IF(AND(Config!$B$30=$A17,Config!$A$30=L$13),Config!$C$30,IF(AND(Config!$B$31=$A17,Config!$A$31=L$13),Config!$C$31,IF(AND(Config!$B$32=$A17,Config!$A$32=L$13),Config!$C$32,IF(AND(Config!$B$33=$A17,Config!$A$33=L$13),Config!$C$33,IF(AND(Config!$B$34=$A17,Config!$A$34=L$13),Config!$C$34,IF(AND(Config!$B$35=$A17,Config!$A$35=L$13),Config!$C$35,INDEX(Config!$I$14:$AJ$17,MATCH($C17,Config!$H$14:$H$17,0),MOD(L$10+$D17-1,28)+1)))))))))) -> M | M17: =IF($A17="","",IF(AND(Config!$B$28=$A17,Config!$A$28=M$13),Config!$C$28,IF(AND(Config!$B$29=$A17,Config!$A$29=M$13),Config!$C$29,IF(AND(Config!$B$30=$A17,Config!$A$30=M$13),Config!$C$30,IF(AND(Config!$B$31=$A17,Config!$A$31=M$13),Config!$C$31,IF(AND(Config!$B$32=$A17,Config!$A$32=M$13),Config!$C$32,IF(AND(Config!$B$33=$A17,Config!$A$33=M$13),Config!$C$33,IF(AND(Config!$B$34=$A17,Config!$A$34=M$13),Config!$C$34,IF(AND(Config!$B$35=$A17,Config!$A$35=M$13),Config!$C$35,INDEX(Config!$I$14:$AJ$17,MATCH($C17,Config!$H$14:$H$17,0),MOD(M$10+$D17-1,28)+1)))))))))) -> M | N17: =IF($A17="","",IF(AND(Config!$B$28=$A17,Config!$A$28=N$13),Config!$C$28,IF(AND(Config!$B$29=$A17,Config!$A$29=N$13),Config!$C$29,IF(AND(Config!$B$30=$A17,Config!$A$30=N$13),Config!$C$30,IF(AND(Config!$B$31=$A17,Config!$A$31=N$13),Config!$C$31,IF(AND(Config!$B$32=$A17,Config!$A$32=N$13),Config!$C$32,IF(AND(Config!$B$33=$A17,Config!$A$33=N$13),Config!$C$33,IF(AND(Config!$B$34=$A17,Config!$A$34=N$13),Config!$C$34,IF(AND(Config!$B$35=$A17,Config!$A$35=N$13),Config!$C$35,INDEX(Config!$I$14:$AJ$17,MATCH($C17,Config!$H$14:$H$17,0),MOD(N$10+$D17-1,28)+1)))))))))) -> M | O17: =IF($A17="","",IF(AND(Config!$B$28=$A17,Config!$A$28=O$13),Config!$C$28,IF(AND(Config!$B$29=$A17,Config!$A$29=O$13),Config!$C$29,IF(AND(Config!$B$30=$A17,Config!$A$30=O$13),Config!$C$30,IF(AND(Config!$B$31=$A17,Config!$A$31=O$13),Config!$C$31,IF(AND(Config!$B$32=$A17,Config!$A$32=O$13),Config!$C$32,IF(AND(Config!$B$33=$A17,Config!$A$33=O$13),Config!$C$33,IF(AND(Config!$B$34=$A17,Config!$A$34=O$13),Config!$C$34,IF(AND(Config!$B$35=$A17,Config!$A$35=O$13),Config!$C$35,INDEX(Config!$I$14:$AJ$17,MATCH($C17,Config!$H$14:$H$17,0),MOD(O$10+$D17-1,28)+1)))))))))) -> M | P17: =IF($A17="","",IF(AND(Config!$B$28=$A17,Config!$A$28=P$13),Config!$C$28,IF(AND(Config!$B$29=$A17,Config!$A$29=P$13),Config!$C$29,IF(AND(Config!$B$30=$A17,Config!$A$30=P$13),Config!$C$30,IF(AND(Config!$B$31=$A17,Config!$A$31=P$13),Config!$C$31,IF(AND(Config!$B$32=$A17,Config!$A$32=P$13),Config!$C$32,IF(AND(Config!$B$33=$A17,Config!$A$33=P$13),Config!$C$33,IF(AND(Config!$B$34=$A17,Config!$A$34=P$13),Config!$C$34,IF(AND(Config!$B$35=$A17,Config!$A$35=P$13),Config!$C$35,INDEX(Config!$I$14:$AJ$17,MATCH($C17,Config!$H$14:$H$17,0),MOD(P$10+$D17-1,28)+1)))))))))) -> M | Q17: =IF($A17="","",IF(AND(Config!$B$28=$A17,Config!$A$28=Q$13),Config!$C$28,IF(AND(Config!$B$29=$A17,Config!$A$29=Q$13),Config!$C$29,IF(AND(Config!$B$30=$A17,Config!$A$30=Q$13),Config!$C$30,IF(AND(Config!$B$31=$A17,Config!$A$31=Q$13),Config!$C$31,IF(AND(Config!$B$32=$A17,Config!$A$32=Q$13),Config!$C$32,IF(AND(Config!$B$33=$A17,Config!$A$33=Q$13),Config!$C$33,IF(AND(Config!$B$34=$A17,Config!$A$34=Q$13),Config!$C$34,IF(AND(Config!$B$35=$A17,Config!$A$35=Q$13),Config!$C$35,INDEX(Config!$I$14:$AJ$17,MATCH($C17,Config!$H$14:$H$17,0),MOD(Q$10+$D17-1,28)+1)))))))))) -> M | R17: =IF($A17="","",IF(AND(Config!$B$28=$A17,Config!$A$28=R$13),Config!$C$28,IF(AND(Config!$B$29=$A17,Config!$A$29=R$13),Config!$C$29,IF(AND(Config!$B$30=$A17,Config!$A$30=R$13),Config!$C$30,IF(AND(Config!$B$31=$A17,Config!$A$31=R$13),Config!$C$31,IF(AND(Config!$B$32=$A17,Config!$A$32=R$13),Config!$C$32,IF(AND(Config!$B$33=$A17,Config!$A$33=R$13),Config!$C$33,IF(AND(Config!$B$34=$A17,Config!$A$34=R$13),Config!$C$34,IF(AND(Config!$B$35=$A17,Config!$A$35=R$13),Config!$C$35,INDEX(Config!$I$14:$AJ$17,MATCH($C17,Config!$H$14:$H$17,0),MOD(R$10+$D17-1,28)+1)))))))))) -> T | ... AL17: =IF($A17="","",IF(AND(Config!$B$28=$A17,Config!$A$28=AL$13),Config!$C$28,IF(AND(Config!$B$29=$A17,Config!$A$29=AL$13),Config!$C$29,IF(AND(Config!$B$30=$A17,Config!$A$30=AL$13),Config!$C$30,IF(AND(Config!$B$31=$A17,Config!$A$31=AL$13),Config!$C$31,IF(AND(Config!$B$32=$A17,Config!$A$32=AL$13),Config!$C$32,IF(AND(Config!$B$33=$A17,Config!$A$33=AL$13),Config!$C$33,IF(AND(Config!$B$34=$A17,Config!$A$34=AL$13),Config!$C$34,IF(AND(Config!$B$35=$A17,Config!$A$35=AL$13),Config!$C$35,INDEX(Config!$I$14:$AJ$17,MATCH($C17,Config!$H$14:$H$17,0),MOD(AL$10+$D17-1,28)+1)))))))))) -> L
A18: =IF(Config!B14="","",Config!B14) -> Carmen Leal | B18: =IF(A18="","",Config!C14) -> Atención | C18: =IF(A18="","",Config!D14) -> B | D18: =IF(A18="","",Config!E14) -> 0 | E18: =IF($A18="","",COUNTIF($K18:$AL18,"M")*Config!$L$5+COUNTIF($K18:$AL18,"T")*Config!$L$6+COUNTIF($K18:$AL18,"N")*Config!$L$7+COUNTIF($K18:$AL18,"F")*Config!$L$10) -> 168 | F18: =IF($A18="","",COUNTIF($K18:$AL18,"M")) -> 7 | G18: =IF($A18="","",COUNTIF($K18:$AL18,"T")) -> 7 | H18: =IF($A18="","",COUNTIF($K18:$AL18,"N")) -> 7 | I18: =IF($A18="","",COUNTIF($K18:$AL18,"L")+COUNTIF($K18:$AL18,"V")) -> 7 | J18: =IF($A18="","",SUMPRODUCT(--(($K$12:$AL$12="Sáb")+($K$12:$AL$12="Dom")>0),--($K18:$AL18<>""),--($K18:$AL18<>"L"),--($K18:$AL18<>"V"))) -> 6 | K18: =IF($A18="","",IF(AND(Config!$B$28=$A18,Config!$A$28=K$13),Config!$C$28,IF(AND(Config!$B$29=$A18,Config!$A$29=K$13),Config!$C$29,IF(AND(Config!$B$30=$A18,Config!$A$30=K$13),Config!$C$30,IF(AND(Config!$B$31=$A18,Config!$A$31=K$13),Config!$C$31,IF(AND(Config!$B$32=$A18,Config!$A$32=K$13),Config!$C$32,IF(AND(Config!$B$33=$A18,Config!$A$33=K$13),Config!$C$33,IF(AND(Config!$B$34=$A18,Config!$A$34=K$13),Config!$C$34,IF(AND(Config!$B$35=$A18,Config!$A$35=K$13),Config!$C$35,INDEX(Config!$I$14:$AJ$17,MATCH($C18,Config!$H$14:$H$17,0),MOD(K$10+$D18-1,28)+1)))))))))) -> T | L18: =IF($A18="","",IF(AND(Config!$B$28=$A18,Config!$A$28=L$13),Config!$C$28,IF(AND(Config!$B$29=$A18,Config!$A$29=L$13),Config!$C$29,IF(AND(Config!$B$30=$A18,Config!$A$30=L$13),Config!$C$30,IF(AND(Config!$B$31=$A18,Config!$A$31=L$13),Config!$C$31,IF(AND(Config!$B$32=$A18,Config!$A$32=L$13),Config!$C$32,IF(AND(Config!$B$33=$A18,Config!$A$33=L$13),Config!$C$33,IF(AND(Config!$B$34=$A18,Config!$A$34=L$13),Config!$C$34,IF(AND(Config!$B$35=$A18,Config!$A$35=L$13),Config!$C$35,INDEX(Config!$I$14:$AJ$17,MATCH($C18,Config!$H$14:$H$17,0),MOD(L$10+$D18-1,28)+1)))))))))) -> T | M18: =IF($A18="","",IF(AND(Config!$B$28=$A18,Config!$A$28=M$13),Config!$C$28,IF(AND(Config!$B$29=$A18,Config!$A$29=M$13),Config!$C$29,IF(AND(Config!$B$30=$A18,Config!$A$30=M$13),Config!$C$30,IF(AND(Config!$B$31=$A18,Config!$A$31=M$13),Config!$C$31,IF(AND(Config!$B$32=$A18,Config!$A$32=M$13),Config!$C$32,IF(AND(Config!$B$33=$A18,Config!$A$33=M$13),Config!$C$33,IF(AND(Config!$B$34=$A18,Config!$A$34=M$13),Config!$C$34,IF(AND(Config!$B$35=$A18,Config!$A$35=M$13),Config!$C$35,INDEX(Config!$I$14:$AJ$17,MATCH($C18,Config!$H$14:$H$17,0),MOD(M$10+$D18-1,28)+1)))))))))) -> T | N18: =IF($A18="","",IF(AND(Config!$B$28=$A18,Config!$A$28=N$13),Config!$C$28,IF(AND(Config!$B$29=$A18,Config!$A$29=N$13),Config!$C$29,IF(AND(Config!$B$30=$A18,Config!$A$30=N$13),Config!$C$30,IF(AND(Config!$B$31=$A18,Config!$A$31=N$13),Config!$C$31,IF(AND(Config!$B$32=$A18,Config!$A$32=N$13),Config!$C$32,IF(AND(Config!$B$33=$A18,Config!$A$33=N$13),Config!$C$33,IF(AND(Config!$B$34=$A18,Config!$A$34=N$13),Config!$C$34,IF(AND(Config!$B$35=$A18,Config!$A$35=N$13),Config!$C$35,INDEX(Config!$I$14:$AJ$17,MATCH($C18,Config!$H$14:$H$17,0),MOD(N$10+$D18-1,28)+1)))))))))) -> T | O18: =IF($A18="","",IF(AND(Config!$B$28=$A18,Config!$A$28=O$13),Config!$C$28,IF(AND(Config!$B$29=$A18,Config!$A$29=O$13),Config!$C$29,IF(AND(Config!$B$30=$A18,Config!$A$30=O$13),Config!$C$30,IF(AND(Config!$B$31=$A18,Config!$A$31=O$13),Config!$C$31,IF(AND(Config!$B$32=$A18,Config!$A$32=O$13),Config!$C$32,IF(AND(Config!$B$33=$A18,Config!$A$33=O$13),Config!$C$33,IF(AND(Config!$B$34=$A18,Config!$A$34=O$13),Config!$C$34,IF(AND(Config!$B$35=$A18,Config!$A$35=O$13),Config!$C$35,INDEX(Config!$I$14:$AJ$17,MATCH($C18,Config!$H$14:$H$17,0),MOD(O$10+$D18-1,28)+1)))))))))) -> T | P18: =IF($A18="","",IF(AND(Config!$B$28=$A18,Config!$A$28=P$13),Config!$C$28,IF(AND(Config!$B$29=$A18,Config!$A$29=P$13),Config!$C$29,IF(AND(Config!$B$30=$A18,Config!$A$30=P$13),Config!$C$30,IF(AND(Config!$B$31=$A18,Config!$A$31=P$13),Config!$C$31,IF(AND(Config!$B$32=$A18,Config!$A$32=P$13),Config!$C$32,IF(AND(Config!$B$33=$A18,Config!$A$33=P$13),Config!$C$33,IF(AND(Config!$B$34=$A18,Config!$A$34=P$13),Config!$C$34,IF(AND(Config!$B$35=$A18,Config!$A$35=P$13),Config!$C$35,INDEX(Config!$I$14:$AJ$17,MATCH($C18,Config!$H$14:$H$17,0),MOD(P$10+$D18-1,28)+1)))))))))) -> T | Q18: =IF($A18="","",IF(AND(Config!$B$28=$A18,Config!$A$28=Q$13),Config!$C$28,IF(AND(Config!$B$29=$A18,Config!$A$29=Q$13),Config!$C$29,IF(AND(Config!$B$30=$A18,Config!$A$30=Q$13),Config!$C$30,IF(AND(Config!$B$31=$A18,Config!$A$31=Q$13),Config!$C$31,IF(AND(Config!$B$32=$A18,Config!$A$32=Q$13),Config!$C$32,IF(AND(Config!$B$33=$A18,Config!$A$33=Q$13),Config!$C$33,IF(AND(Config!$B$34=$A18,Config!$A$34=Q$13),Config!$C$34,IF(AND(Config!$B$35=$A18,Config!$A$35=Q$13),Config!$C$35,INDEX(Config!$I$14:$AJ$17,MATCH($C18,Config!$H$14:$H$17,0),MOD(Q$10+$D18-1,28)+1)))))))))) -> T | R18: =IF($A18="","",IF(AND(Config!$B$28=$A18,Config!$A$28=R$13),Config!$C$28,IF(AND(Config!$B$29=$A18,Config!$A$29=R$13),Config!$C$29,IF(AND(Config!$B$30=$A18,Config!$A$30=R$13),Config!$C$30,IF(AND(Config!$B$31=$A18,Config!$A$31=R$13),Config!$C$31,IF(AND(Config!$B$32=$A18,Config!$A$32=R$13),Config!$C$32,IF(AND(Config!$B$33=$A18,Config!$A$33=R$13),Config!$C$33,IF(AND(Config!$B$34=$A18,Config!$A$34=R$13),Config!$C$34,IF(AND(Config!$B$35=$A18,Config!$A$35=R$13),Config!$C$35,INDEX(Config!$I$14:$AJ$17,MATCH($C18,Config!$H$14:$H$17,0),MOD(R$10+$D18-1,28)+1)))))))))) -> N | ... AL18: =IF($A18="","",IF(AND(Config!$B$28=$A18,Config!$A$28=AL$13),Config!$C$28,IF(AND(Config!$B$29=$A18,Config!$A$29=AL$13),Config!$C$29,IF(AND(Config!$B$30=$A18,Config!$A$30=AL$13),Config!$C$30,IF(AND(Config!$B$31=$A18,Config!$A$31=AL$13),Config!$C$31,IF(AND(Config!$B$32=$A18,Config!$A$32=AL$13),Config!$C$32,IF(AND(Config!$B$33=$A18,Config!$A$33=AL$13),Config!$C$33,IF(AND(Config!$B$34=$A18,Config!$A$34=AL$13),Config!$C$34,IF(AND(Config!$B$35=$A18,Config!$A$35=AL$13),Config!$C$35,INDEX(Config!$I$14:$AJ$17,MATCH($C18,Config!$H$14:$H$17,0),MOD(AL$10+$D18-1,28)+1)))))))))) -> M
A19: =IF(Config!B15="","",Config!B15) -> Daniel Serra | B19: =IF(A19="","",Config!C15) -> Atención | C19: =IF(A19="","",Config!D15) -> B | D19: =IF(A19="","",Config!E15) -> 0 | E19: =IF($A19="","",COUNTIF($K19:$AL19,"M")*Config!$L$5+COUNTIF($K19:$AL19,"T")*Config!$L$6+COUNTIF($K19:$AL19,"N")*Config!$L$7+COUNTIF($K19:$AL19,"F")*Config!$L$10) -> 168 | F19: =IF($A19="","",COUNTIF($K19:$AL19,"M")) -> 7 | G19: =IF($A19="","",COUNTIF($K19:$AL19,"T")) -> 7 | H19: =IF($A19="","",COUNTIF($K19:$AL19,"N")) -> 6 | I19: =IF($A19="","",COUNTIF($K19:$AL19,"L")+COUNTIF($K19:$AL19,"V")) -> 7 | J19: =IF($A19="","",SUMPRODUCT(--(($K$12:$AL$12="Sáb")+($K$12:$AL$12="Dom")>0),--($K19:$AL19<>""),--($K19:$AL19<>"L"),--($K19:$AL19<>"V"))) -> 6 | K19: =IF($A19="","",IF(AND(Config!$B$28=$A19,Config!$A$28=K$13),Config!$C$28,IF(AND(Config!$B$29=$A19,Config!$A$29=K$13),Config!$C$29,IF(AND(Config!$B$30=$A19,Config!$A$30=K$13),Config!$C$30,IF(AND(Config!$B$31=$A19,Config!$A$31=K$13),Config!$C$31,IF(AND(Config!$B$32=$A19,Config!$A$32=K$13),Config!$C$32,IF(AND(Config!$B$33=$A19,Config!$A$33=K$13),Config!$C$33,IF(AND(Config!$B$34=$A19,Config!$A$34=K$13),Config!$C$34,IF(AND(Config!$B$35=$A19,Config!$A$35=K$13),Config!$C$35,INDEX(Config!$I$14:$AJ$17,MATCH($C19,Config!$H$14:$H$17,0),MOD(K$10+$D19-1,28)+1)))))))))) -> T | L19: =IF($A19="","",IF(AND(Config!$B$28=$A19,Config!$A$28=L$13),Config!$C$28,IF(AND(Config!$B$29=$A19,Config!$A$29=L$13),Config!$C$29,IF(AND(Config!$B$30=$A19,Config!$A$30=L$13),Config!$C$30,IF(AND(Config!$B$31=$A19,Config!$A$31=L$13),Config!$C$31,IF(AND(Config!$B$32=$A19,Config!$A$32=L$13),Config!$C$32,IF(AND(Config!$B$33=$A19,Config!$A$33=L$13),Config!$C$33,IF(AND(Config!$B$34=$A19,Config!$A$34=L$13),Config!$C$34,IF(AND(Config!$B$35=$A19,Config!$A$35=L$13),Config!$C$35,INDEX(Config!$I$14:$AJ$17,MATCH($C19,Config!$H$14:$H$17,0),MOD(L$10+$D19-1,28)+1)))))))))) -> T | M19: =IF($A19="","",IF(AND(Config!$B$28=$A19,Config!$A$28=M$13),Config!$C$28,IF(AND(Config!$B$29=$A19,Config!$A$29=M$13),Config!$C$29,IF(AND(Config!$B$30=$A19,Config!$A$30=M$13),Config!$C$30,IF(AND(Config!$B$31=$A19,Config!$A$31=M$13),Config!$C$31,IF(AND(Config!$B$32=$A19,Config!$A$32=M$13),Config!$C$32,IF(AND(Config!$B$33=$A19,Config!$A$33=M$13),Config!$C$33,IF(AND(Config!$B$34=$A19,Config!$A$34=M$13),Config!$C$34,IF(AND(Config!$B$35=$A19,Config!$A$35=M$13),Config!$C$35,INDEX(Config!$I$14:$AJ$17,MATCH($C19,Config!$H$14:$H$17,0),MOD(M$10+$D19-1,28)+1)))))))))) -> T | N19: =IF($A19="","",IF(AND(Config!$B$28=$A19,Config!$A$28=N$13),Config!$C$28,IF(AND(Config!$B$29=$A19,Config!$A$29=N$13),Config!$C$29,IF(AND(Config!$B$30=$A19,Config!$A$30=N$13),Config!$C$30,IF(AND(Config!$B$31=$A19,Config!$A$31=N$13),Config!$C$31,IF(AND(Config!$B$32=$A19,Config!$A$32=N$13),Config!$C$32,IF(AND(Config!$B$33=$A19,Config!$A$33=N$13),Config!$C$33,IF(AND(Config!$B$34=$A19,Config!$A$34=N$13),Config!$C$34,IF(AND(Config!$B$35=$A19,Config!$A$35=N$13),Config!$C$35,INDEX(Config!$I$14:$AJ$17,MATCH($C19,Config!$H$14:$H$17,0),MOD(N$10+$D19-1,28)+1)))))))))) -> T | O19: =IF($A19="","",IF(AND(Config!$B$28=$A19,Config!$A$28=O$13),Config!$C$28,IF(AND(Config!$B$29=$A19,Config!$A$29=O$13),Config!$C$29,IF(AND(Config!$B$30=$A19,Config!$A$30=O$13),Config!$C$30,IF(AND(Config!$B$31=$A19,Config!$A$31=O$13),Config!$C$31,IF(AND(Config!$B$32=$A19,Config!$A$32=O$13),Config!$C$32,IF(AND(Config!$B$33=$A19,Config!$A$33=O$13),Config!$C$33,IF(AND(Config!$B$34=$A19,Config!$A$34=O$13),Config!$C$34,IF(AND(Config!$B$35=$A19,Config!$A$35=O$13),Config!$C$35,INDEX(Config!$I$14:$AJ$17,MATCH($C19,Config!$H$14:$H$17,0),MOD(O$10+$D19-1,28)+1)))))))))) -> T | P19: =IF($A19="","",IF(AND(Config!$B$28=$A19,Config!$A$28=P$13),Config!$C$28,IF(AND(Config!$B$29=$A19,Config!$A$29=P$13),Config!$C$29,IF(AND(Config!$B$30=$A19,Config!$A$30=P$13),Config!$C$30,IF(AND(Config!$B$31=$A19,Config!$A$31=P$13),Config!$C$31,IF(AND(Config!$B$32=$A19,Config!$A$32=P$13),Config!$C$32,IF(AND(Config!$B$33=$A19,Config!$A$33=P$13),Config!$C$33,IF(AND(Config!$B$34=$A19,Config!$A$34=P$13),Config!$C$34,IF(AND(Config!$B$35=$A19,Config!$A$35=P$13),Config!$C$35,INDEX(Config!$I$14:$AJ$17,MATCH($C19,Config!$H$14:$H$17,0),MOD(P$10+$D19-1,28)+1)))))))))) -> T | Q19: =IF($A19="","",IF(AND(Config!$B$28=$A19,Config!$A$28=Q$13),Config!$C$28,IF(AND(Config!$B$29=$A19,Config!$A$29=Q$13),Config!$C$29,IF(AND(Config!$B$30=$A19,Config!$A$30=Q$13),Config!$C$30,IF(AND(Config!$B$31=$A19,Config!$A$31=Q$13),Config!$C$31,IF(AND(Config!$B$32=$A19,Config!$A$32=Q$13),Config!$C$32,IF(AND(Config!$B$33=$A19,Config!$A$33=Q$13),Config!$C$33,IF(AND(Config!$B$34=$A19,Config!$A$34=Q$13),Config!$C$34,IF(AND(Config!$B$35=$A19,Config!$A$35=Q$13),Config!$C$35,INDEX(Config!$I$14:$AJ$17,MATCH($C19,Config!$H$14:$H$17,0),MOD(Q$10+$D19-1,28)+1)))))))))) -> T | R19: =IF($A19="","",IF(AND(Config!$B$28=$A19,Config!$A$28=R$13),Config!$C$28,IF(AND(Config!$B$29=$A19,Config!$A$29=R$13),Config!$C$29,IF(AND(Config!$B$30=$A19,Config!$A$30=R$13),Config!$C$30,IF(AND(Config!$B$31=$A19,Config!$A$31=R$13),Config!$C$31,IF(AND(Config!$B$32=$A19,Config!$A$32=R$13),Config!$C$32,IF(AND(Config!$B$33=$A19,Config!$A$33=R$13),Config!$C$33,IF(AND(Config!$B$34=$A19,Config!$A$34=R$13),Config!$C$34,IF(AND(Config!$B$35=$A19,Config!$A$35=R$13),Config!$C$35,INDEX(Config!$I$14:$AJ$17,MATCH($C19,Config!$H$14:$H$17,0),MOD(R$10+$D19-1,28)+1)))))))))) -> N | ... AL19: =IF($A19="","",IF(AND(Config!$B$28=$A19,Config!$A$28=AL$13),Config!$C$28,IF(AND(Config!$B$29=$A19,Config!$A$29=AL$13),Config!$C$29,IF(AND(Config!$B$30=$A19,Config!$A$30=AL$13),Config!$C$30,IF(AND(Config!$B$31=$A19,Config!$A$31=AL$13),Config!$C$31,IF(AND(Config!$B$32=$A19,Config!$A$32=AL$13),Config!$C$32,IF(AND(Config!$B$33=$A19,Config!$A$33=AL$13),Config!$C$33,IF(AND(Config!$B$34=$A19,Config!$A$34=AL$13),Config!$C$34,IF(AND(Config!$B$35=$A19,Config!$A$35=AL$13),Config!$C$35,INDEX(Config!$I$14:$AJ$17,MATCH($C19,Config!$H$14:$H$17,0),MOD(AL$10+$D19-1,28)+1)))))))))) -> M
A20: =IF(Config!B16="","",Config!B16) -> Eva Pardo | B20: =IF(A20="","",Config!C16) -> Coordinación | C20: =IF(A20="","",Config!D16) -> C | D20: =IF(A20="","",Config!E16) -> 0 | E20: =IF($A20="","",COUNTIF($K20:$AL20,"M")*Config!$L$5+COUNTIF($K20:$AL20,"T")*Config!$L$6+COUNTIF($K20:$AL20,"N")*Config!$L$7+COUNTIF($K20:$AL20,"F")*Config!$L$10) -> 168 | F20: =IF($A20="","",COUNTIF($K20:$AL20,"M")) -> 7 | G20: =IF($A20="","",COUNTIF($K20:$AL20,"T")) -> 7 | H20: =IF($A20="","",COUNTIF($K20:$AL20,"N")) -> 7 | I20: =IF($A20="","",COUNTIF($K20:$AL20,"L")+COUNTIF($K20:$AL20,"V")) -> 7 | J20: =IF($A20="","",SUMPRODUCT(--(($K$12:$AL$12="Sáb")+($K$12:$AL$12="Dom")>0),--($K20:$AL20<>""),--($K20:$AL20<>"L"),--($K20:$AL20<>"V"))) -> 6 | K20: =IF($A20="","",IF(AND(Config!$B$28=$A20,Config!$A$28=K$13),Config!$C$28,IF(AND(Config!$B$29=$A20,Config!$A$29=K$13),Config!$C$29,IF(AND(Config!$B$30=$A20,Config!$A$30=K$13),Config!$C$30,IF(AND(Config!$B$31=$A20,Config!$A$31=K$13),Config!$C$31,IF(AND(Config!$B$32=$A20,Config!$A$32=K$13),Config!$C$32,IF(AND(Config!$B$33=$A20,Config!$A$33=K$13),Config!$C$33,IF(AND(Config!$B$34=$A20,Config!$A$34=K$13),Config!$C$34,IF(AND(Config!$B$35=$A20,Config!$A$35=K$13),Config!$C$35,INDEX(Config!$I$14:$AJ$17,MATCH($C20,Config!$H$14:$H$17,0),MOD(K$10+$D20-1,28)+1)))))))))) -> N | L20: =IF($A20="","",IF(AND(Config!$B$28=$A20,Config!$A$28=L$13),Config!$C$28,IF(AND(Config!$B$29=$A20,Config!$A$29=L$13),Config!$C$29,IF(AND(Config!$B$30=$A20,Config!$A$30=L$13),Config!$C$30,IF(AND(Config!$B$31=$A20,Config!$A$31=L$13),Config!$C$31,IF(AND(Config!$B$32=$A20,Config!$A$32=L$13),Config!$C$32,IF(AND(Config!$B$33=$A20,Config!$A$33=L$13),Config!$C$33,IF(AND(Config!$B$34=$A20,Config!$A$34=L$13),Config!$C$34,IF(AND(Config!$B$35=$A20,Config!$A$35=L$13),Config!$C$35,INDEX(Config!$I$14:$AJ$17,MATCH($C20,Config!$H$14:$H$17,0),MOD(L$10+$D20-1,28)+1)))))))))) -> N | M20: =IF($A20="","",IF(AND(Config!$B$28=$A20,Config!$A$28=M$13),Config!$C$28,IF(AND(Config!$B$29=$A20,Config!$A$29=M$13),Config!$C$29,IF(AND(Config!$B$30=$A20,Config!$A$30=M$13),Config!$C$30,IF(AND(Config!$B$31=$A20,Config!$A$31=M$13),Config!$C$31,IF(AND(Config!$B$32=$A20,Config!$A$32=M$13),Config!$C$32,IF(AND(Config!$B$33=$A20,Config!$A$33=M$13),Config!$C$33,IF(AND(Config!$B$34=$A20,Config!$A$34=M$13),Config!$C$34,IF(AND(Config!$B$35=$A20,Config!$A$35=M$13),Config!$C$35,INDEX(Config!$I$14:$AJ$17,MATCH($C20,Config!$H$14:$H$17,0),MOD(M$10+$D20-1,28)+1)))))))))) -> N | N20: =IF($A20="","",IF(AND(Config!$B$28=$A20,Config!$A$28=N$13),Config!$C$28,IF(AND(Config!$B$29=$A20,Config!$A$29=N$13),Config!$C$29,IF(AND(Config!$B$30=$A20,Config!$A$30=N$13),Config!$C$30,IF(AND(Config!$B$31=$A20,Config!$A$31=N$13),Config!$C$31,IF(AND(Config!$B$32=$A20,Config!$A$32=N$13),Config!$C$32,IF(AND(Config!$B$33=$A20,Config!$A$33=N$13),Config!$C$33,IF(AND(Config!$B$34=$A20,Config!$A$34=N$13),Config!$C$34,IF(AND(Config!$B$35=$A20,Config!$A$35=N$13),Config!$C$35,INDEX(Config!$I$14:$AJ$17,MATCH($C20,Config!$H$14:$H$17,0),MOD(N$10+$D20-1,28)+1)))))))))) -> N | O20: =IF($A20="","",IF(AND(Config!$B$28=$A20,Config!$A$28=O$13),Config!$C$28,IF(AND(Config!$B$29=$A20,Config!$A$29=O$13),Config!$C$29,IF(AND(Config!$B$30=$A20,Config!$A$30=O$13),Config!$C$30,IF(AND(Config!$B$31=$A20,Config!$A$31=O$13),Config!$C$31,IF(AND(Config!$B$32=$A20,Config!$A$32=O$13),Config!$C$32,IF(AND(Config!$B$33=$A20,Config!$A$33=O$13),Config!$C$33,IF(AND(Config!$B$34=$A20,Config!$A$34=O$13),Config!$C$34,IF(AND(Config!$B$35=$A20,Config!$A$35=O$13),Config!$C$35,INDEX(Config!$I$14:$AJ$17,MATCH($C20,Config!$H$14:$H$17,0),MOD(O$10+$D20-1,28)+1)))))))))) -> N | P20: =IF($A20="","",IF(AND(Config!$B$28=$A20,Config!$A$28=P$13),Config!$C$28,IF(AND(Config!$B$29=$A20,Config!$A$29=P$13),Config!$C$29,IF(AND(Config!$B$30=$A20,Config!$A$30=P$13),Config!$C$30,IF(AND(Config!$B$31=$A20,Config!$A$31=P$13),Config!$C$31,IF(AND(Config!$B$32=$A20,Config!$A$32=P$13),Config!$C$32,IF(AND(Config!$B$33=$A20,Config!$A$33=P$13),Config!$C$33,IF(AND(Config!$B$34=$A20,Config!$A$34=P$13),Config!$C$34,IF(AND(Config!$B$35=$A20,Config!$A$35=P$13),Config!$C$35,INDEX(Config!$I$14:$AJ$17,MATCH($C20,Config!$H$14:$H$17,0),MOD(P$10+$D20-1,28)+1)))))))))) -> N | Q20: =IF($A20="","",IF(AND(Config!$B$28=$A20,Config!$A$28=Q$13),Config!$C$28,IF(AND(Config!$B$29=$A20,Config!$A$29=Q$13),Config!$C$29,IF(AND(Config!$B$30=$A20,Config!$A$30=Q$13),Config!$C$30,IF(AND(Config!$B$31=$A20,Config!$A$31=Q$13),Config!$C$31,IF(AND(Config!$B$32=$A20,Config!$A$32=Q$13),Config!$C$32,IF(AND(Config!$B$33=$A20,Config!$A$33=Q$13),Config!$C$33,IF(AND(Config!$B$34=$A20,Config!$A$34=Q$13),Config!$C$34,IF(AND(Config!$B$35=$A20,Config!$A$35=Q$13),Config!$C$35,INDEX(Config!$I$14:$AJ$17,MATCH($C20,Config!$H$14:$H$17,0),MOD(Q$10+$D20-1,28)+1)))))))))) -> N | R20: =IF($A20="","",IF(AND(Config!$B$28=$A20,Config!$A$28=R$13),Config!$C$28,IF(AND(Config!$B$29=$A20,Config!$A$29=R$13),Config!$C$29,IF(AND(Config!$B$30=$A20,Config!$A$30=R$13),Config!$C$30,IF(AND(Config!$B$31=$A20,Config!$A$31=R$13),Config!$C$31,IF(AND(Config!$B$32=$A20,Config!$A$32=R$13),Config!$C$32,IF(AND(Config!$B$33=$A20,Config!$A$33=R$13),Config!$C$33,IF(AND(Config!$B$34=$A20,Config!$A$34=R$13),Config!$C$34,IF(AND(Config!$B$35=$A20,Config!$A$35=R$13),Config!$C$35,INDEX(Config!$I$14:$AJ$17,MATCH($C20,Config!$H$14:$H$17,0),MOD(R$10+$D20-1,28)+1)))))))))) -> L | ... AL20: =IF($A20="","",IF(AND(Config!$B$28=$A20,Config!$A$28=AL$13),Config!$C$28,IF(AND(Config!$B$29=$A20,Config!$A$29=AL$13),Config!$C$29,IF(AND(Config!$B$30=$A20,Config!$A$30=AL$13),Config!$C$30,IF(AND(Config!$B$31=$A20,Config!$A$31=AL$13),Config!$C$31,IF(AND(Config!$B$32=$A20,Config!$A$32=AL$13),Config!$C$32,IF(AND(Config!$B$33=$A20,Config!$A$33=AL$13),Config!$C$33,IF(AND(Config!$B$34=$A20,Config!$A$34=AL$13),Config!$C$34,IF(AND(Config!$B$35=$A20,Config!$A$35=AL$13),Config!$C$35,INDEX(Config!$I$14:$AJ$17,MATCH($C20,Config!$H$14:$H$17,0),MOD(AL$10+$D20-1,28)+1)))))))))) -> T
A21: =IF(Config!B17="","",Config!B17) -> Fabio Costa | B21: =IF(A21="","",Config!C17) -> Coordinación | C21: =IF(A21="","",Config!D17) -> C | D21: =IF(A21="","",Config!E17) -> 0 | E21: =IF($A21="","",COUNTIF($K21:$AL21,"M")*Config!$L$5+COUNTIF($K21:$AL21,"T")*Config!$L$6+COUNTIF($K21:$AL21,"N")*Config!$L$7+COUNTIF($K21:$AL21,"F")*Config!$L$10) -> 168 | F21: =IF($A21="","",COUNTIF($K21:$AL21,"M")) -> 7 | G21: =IF($A21="","",COUNTIF($K21:$AL21,"T")) -> 7 | H21: =IF($A21="","",COUNTIF($K21:$AL21,"N")) -> 7 | I21: =IF($A21="","",COUNTIF($K21:$AL21,"L")+COUNTIF($K21:$AL21,"V")) -> 7 | J21: =IF($A21="","",SUMPRODUCT(--(($K$12:$AL$12="Sáb")+($K$12:$AL$12="Dom")>0),--($K21:$AL21<>""),--($K21:$AL21<>"L"),--($K21:$AL21<>"V"))) -> 6 | K21: =IF($A21="","",IF(AND(Config!$B$28=$A21,Config!$A$28=K$13),Config!$C$28,IF(AND(Config!$B$29=$A21,Config!$A$29=K$13),Config!$C$29,IF(AND(Config!$B$30=$A21,Config!$A$30=K$13),Config!$C$30,IF(AND(Config!$B$31=$A21,Config!$A$31=K$13),Config!$C$31,IF(AND(Config!$B$32=$A21,Config!$A$32=K$13),Config!$C$32,IF(AND(Config!$B$33=$A21,Config!$A$33=K$13),Config!$C$33,IF(AND(Config!$B$34=$A21,Config!$A$34=K$13),Config!$C$34,IF(AND(Config!$B$35=$A21,Config!$A$35=K$13),Config!$C$35,INDEX(Config!$I$14:$AJ$17,MATCH($C21,Config!$H$14:$H$17,0),MOD(K$10+$D21-1,28)+1)))))))))) -> N | L21: =IF($A21="","",IF(AND(Config!$B$28=$A21,Config!$A$28=L$13),Config!$C$28,IF(AND(Config!$B$29=$A21,Config!$A$29=L$13),Config!$C$29,IF(AND(Config!$B$30=$A21,Config!$A$30=L$13),Config!$C$30,IF(AND(Config!$B$31=$A21,Config!$A$31=L$13),Config!$C$31,IF(AND(Config!$B$32=$A21,Config!$A$32=L$13),Config!$C$32,IF(AND(Config!$B$33=$A21,Config!$A$33=L$13),Config!$C$33,IF(AND(Config!$B$34=$A21,Config!$A$34=L$13),Config!$C$34,IF(AND(Config!$B$35=$A21,Config!$A$35=L$13),Config!$C$35,INDEX(Config!$I$14:$AJ$17,MATCH($C21,Config!$H$14:$H$17,0),MOD(L$10+$D21-1,28)+1)))))))))) -> N | M21: =IF($A21="","",IF(AND(Config!$B$28=$A21,Config!$A$28=M$13),Config!$C$28,IF(AND(Config!$B$29=$A21,Config!$A$29=M$13),Config!$C$29,IF(AND(Config!$B$30=$A21,Config!$A$30=M$13),Config!$C$30,IF(AND(Config!$B$31=$A21,Config!$A$31=M$13),Config!$C$31,IF(AND(Config!$B$32=$A21,Config!$A$32=M$13),Config!$C$32,IF(AND(Config!$B$33=$A21,Config!$A$33=M$13),Config!$C$33,IF(AND(Config!$B$34=$A21,Config!$A$34=M$13),Config!$C$34,IF(AND(Config!$B$35=$A21,Config!$A$35=M$13),Config!$C$35,INDEX(Config!$I$14:$AJ$17,MATCH($C21,Config!$H$14:$H$17,0),MOD(M$10+$D21-1,28)+1)))))))))) -> N | N21: =IF($A21="","",IF(AND(Config!$B$28=$A21,Config!$A$28=N$13),Config!$C$28,IF(AND(Config!$B$29=$A21,Config!$A$29=N$13),Config!$C$29,IF(AND(Config!$B$30=$A21,Config!$A$30=N$13),Config!$C$30,IF(AND(Config!$B$31=$A21,Config!$A$31=N$13),Config!$C$31,IF(AND(Config!$B$32=$A21,Config!$A$32=N$13),Config!$C$32,IF(AND(Config!$B$33=$A21,Config!$A$33=N$13),Config!$C$33,IF(AND(Config!$B$34=$A21,Config!$A$34=N$13),Config!$C$34,IF(AND(Config!$B$35=$A21,Config!$A$35=N$13),Config!$C$35,INDEX(Config!$I$14:$AJ$17,MATCH($C21,Config!$H$14:$H$17,0),MOD(N$10+$D21-1,28)+1)))))))))) -> N | O21: =IF($A21="","",IF(AND(Config!$B$28=$A21,Config!$A$28=O$13),Config!$C$28,IF(AND(Config!$B$29=$A21,Config!$A$29=O$13),Config!$C$29,IF(AND(Config!$B$30=$A21,Config!$A$30=O$13),Config!$C$30,IF(AND(Config!$B$31=$A21,Config!$A$31=O$13),Config!$C$31,IF(AND(Config!$B$32=$A21,Config!$A$32=O$13),Config!$C$32,IF(AND(Config!$B$33=$A21,Config!$A$33=O$13),Config!$C$33,IF(AND(Config!$B$34=$A21,Config!$A$34=O$13),Config!$C$34,IF(AND(Config!$B$35=$A21,Config!$A$35=O$13),Config!$C$35,INDEX(Config!$I$14:$AJ$17,MATCH($C21,Config!$H$14:$H$17,0),MOD(O$10+$D21-1,28)+1)))))))))) -> N | P21: =IF($A21="","",IF(AND(Config!$B$28=$A21,Config!$A$28=P$13),Config!$C$28,IF(AND(Config!$B$29=$A21,Config!$A$29=P$13),Config!$C$29,IF(AND(Config!$B$30=$A21,Config!$A$30=P$13),Config!$C$30,IF(AND(Config!$B$31=$A21,Config!$A$31=P$13),Config!$C$31,IF(AND(Config!$B$32=$A21,Config!$A$32=P$13),Config!$C$32,IF(AND(Config!$B$33=$A21,Config!$A$33=P$13),Config!$C$33,IF(AND(Config!$B$34=$A21,Config!$A$34=P$13),Config!$C$34,IF(AND(Config!$B$35=$A21,Config!$A$35=P$13),Config!$C$35,INDEX(Config!$I$14:$AJ$17,MATCH($C21,Config!$H$14:$H$17,0),MOD(P$10+$D21-1,28)+1)))))))))) -> N | Q21: =IF($A21="","",IF(AND(Config!$B$28=$A21,Config!$A$28=Q$13),Config!$C$28,IF(AND(Config!$B$29=$A21,Config!$A$29=Q$13),Config!$C$29,IF(AND(Config!$B$30=$A21,Config!$A$30=Q$13),Config!$C$30,IF(AND(Config!$B$31=$A21,Config!$A$31=Q$13),Config!$C$31,IF(AND(Config!$B$32=$A21,Config!$A$32=Q$13),Config!$C$32,IF(AND(Config!$B$33=$A21,Config!$A$33=Q$13),Config!$C$33,IF(AND(Config!$B$34=$A21,Config!$A$34=Q$13),Config!$C$34,IF(AND(Config!$B$35=$A21,Config!$A$35=Q$13),Config!$C$35,INDEX(Config!$I$14:$AJ$17,MATCH($C21,Config!$H$14:$H$17,0),MOD(Q$10+$D21-1,28)+1)))))))))) -> N | R21: =IF($A21="","",IF(AND(Config!$B$28=$A21,Config!$A$28=R$13),Config!$C$28,IF(AND(Config!$B$29=$A21,Config!$A$29=R$13),Config!$C$29,IF(AND(Config!$B$30=$A21,Config!$A$30=R$13),Config!$C$30,IF(AND(Config!$B$31=$A21,Config!$A$31=R$13),Config!$C$31,IF(AND(Config!$B$32=$A21,Config!$A$32=R$13),Config!$C$32,IF(AND(Config!$B$33=$A21,Config!$A$33=R$13),Config!$C$33,IF(AND(Config!$B$34=$A21,Config!$A$34=R$13),Config!$C$34,IF(AND(Config!$B$35=$A21,Config!$A$35=R$13),Config!$C$35,INDEX(Config!$I$14:$AJ$17,MATCH($C21,Config!$H$14:$H$17,0),MOD(R$10+$D21-1,28)+1)))))))))) -> L | ... AL21: =IF($A21="","",IF(AND(Config!$B$28=$A21,Config!$A$28=AL$13),Config!$C$28,IF(AND(Config!$B$29=$A21,Config!$A$29=AL$13),Config!$C$29,IF(AND(Config!$B$30=$A21,Config!$A$30=AL$13),Config!$C$30,IF(AND(Config!$B$31=$A21,Config!$A$31=AL$13),Config!$C$31,IF(AND(Config!$B$32=$A21,Config!$A$32=AL$13),Config!$C$32,IF(AND(Config!$B$33=$A21,Config!$A$33=AL$13),Config!$C$33,IF(AND(Config!$B$34=$A21,Config!$A$34=AL$13),Config!$C$34,IF(AND(Config!$B$35=$A21,Config!$A$35=AL$13),Config!$C$35,INDEX(Config!$I$14:$AJ$17,MATCH($C21,Config!$H$14:$H$17,0),MOD(AL$10+$D21-1,28)+1)))))))))) -> T
A22: =IF(Config!B18="","",Config!B18) -> Greta Ríos | B22: =IF(A22="","",Config!C18) -> Incidencias | C22: =IF(A22="","",Config!D18) -> D | D22: =IF(A22="","",Config!E18) -> 0 | E22: =IF($A22="","",COUNTIF($K22:$AL22,"M")*Config!$L$5+COUNTIF($K22:$AL22,"T")*Config!$L$6+COUNTIF($K22:$AL22,"N")*Config!$L$7+COUNTIF($K22:$AL22,"F")*Config!$L$10) -> 160 | F22: =IF($A22="","",COUNTIF($K22:$AL22,"M")) -> 6 | G22: =IF($A22="","",COUNTIF($K22:$AL22,"T")) -> 7 | H22: =IF($A22="","",COUNTIF($K22:$AL22,"N")) -> 7 | I22: =IF($A22="","",COUNTIF($K22:$AL22,"L")+COUNTIF($K22:$AL22,"V")) -> 8 | J22: =IF($A22="","",SUMPRODUCT(--(($K$12:$AL$12="Sáb")+($K$12:$AL$12="Dom")>0),--($K22:$AL22<>""),--($K22:$AL22<>"L"),--($K22:$AL22<>"V"))) -> 6 | K22: =IF($A22="","",IF(AND(Config!$B$28=$A22,Config!$A$28=K$13),Config!$C$28,IF(AND(Config!$B$29=$A22,Config!$A$29=K$13),Config!$C$29,IF(AND(Config!$B$30=$A22,Config!$A$30=K$13),Config!$C$30,IF(AND(Config!$B$31=$A22,Config!$A$31=K$13),Config!$C$31,IF(AND(Config!$B$32=$A22,Config!$A$32=K$13),Config!$C$32,IF(AND(Config!$B$33=$A22,Config!$A$33=K$13),Config!$C$33,IF(AND(Config!$B$34=$A22,Config!$A$34=K$13),Config!$C$34,IF(AND(Config!$B$35=$A22,Config!$A$35=K$13),Config!$C$35,INDEX(Config!$I$14:$AJ$17,MATCH($C22,Config!$H$14:$H$17,0),MOD(K$10+$D22-1,28)+1)))))))))) -> L | L22: =IF($A22="","",IF(AND(Config!$B$28=$A22,Config!$A$28=L$13),Config!$C$28,IF(AND(Config!$B$29=$A22,Config!$A$29=L$13),Config!$C$29,IF(AND(Config!$B$30=$A22,Config!$A$30=L$13),Config!$C$30,IF(AND(Config!$B$31=$A22,Config!$A$31=L$13),Config!$C$31,IF(AND(Config!$B$32=$A22,Config!$A$32=L$13),Config!$C$32,IF(AND(Config!$B$33=$A22,Config!$A$33=L$13),Config!$C$33,IF(AND(Config!$B$34=$A22,Config!$A$34=L$13),Config!$C$34,IF(AND(Config!$B$35=$A22,Config!$A$35=L$13),Config!$C$35,INDEX(Config!$I$14:$AJ$17,MATCH($C22,Config!$H$14:$H$17,0),MOD(L$10+$D22-1,28)+1)))))))))) -> L | M22: =IF($A22="","",IF(AND(Config!$B$28=$A22,Config!$A$28=M$13),Config!$C$28,IF(AND(Config!$B$29=$A22,Config!$A$29=M$13),Config!$C$29,IF(AND(Config!$B$30=$A22,Config!$A$30=M$13),Config!$C$30,IF(AND(Config!$B$31=$A22,Config!$A$31=M$13),Config!$C$31,IF(AND(Config!$B$32=$A22,Config!$A$32=M$13),Config!$C$32,IF(AND(Config!$B$33=$A22,Config!$A$33=M$13),Config!$C$33,IF(AND(Config!$B$34=$A22,Config!$A$34=M$13),Config!$C$34,IF(AND(Config!$B$35=$A22,Config!$A$35=M$13),Config!$C$35,INDEX(Config!$I$14:$AJ$17,MATCH($C22,Config!$H$14:$H$17,0),MOD(M$10+$D22-1,28)+1)))))))))) -> L | N22: =IF($A22="","",IF(AND(Config!$B$28=$A22,Config!$A$28=N$13),Config!$C$28,IF(AND(Config!$B$29=$A22,Config!$A$29=N$13),Config!$C$29,IF(AND(Config!$B$30=$A22,Config!$A$30=N$13),Config!$C$30,IF(AND(Config!$B$31=$A22,Config!$A$31=N$13),Config!$C$31,IF(AND(Config!$B$32=$A22,Config!$A$32=N$13),Config!$C$32,IF(AND(Config!$B$33=$A22,Config!$A$33=N$13),Config!$C$33,IF(AND(Config!$B$34=$A22,Config!$A$34=N$13),Config!$C$34,IF(AND(Config!$B$35=$A22,Config!$A$35=N$13),Config!$C$35,INDEX(Config!$I$14:$AJ$17,MATCH($C22,Config!$H$14:$H$17,0),MOD(N$10+$D22-1,28)+1)))))))))) -> L | O22: =IF($A22="","",IF(AND(Config!$B$28=$A22,Config!$A$28=O$13),Config!$C$28,IF(AND(Config!$B$29=$A22,Config!$A$29=O$13),Config!$C$29,IF(AND(Config!$B$30=$A22,Config!$A$30=O$13),Config!$C$30,IF(AND(Config!$B$31=$A22,Config!$A$31=O$13),Config!$C$31,IF(AND(Config!$B$32=$A22,Config!$A$32=O$13),Config!$C$32,IF(AND(Config!$B$33=$A22,Config!$A$33=O$13),Config!$C$33,IF(AND(Config!$B$34=$A22,Config!$A$34=O$13),Config!$C$34,IF(AND(Config!$B$35=$A22,Config!$A$35=O$13),Config!$C$35,INDEX(Config!$I$14:$AJ$17,MATCH($C22,Config!$H$14:$H$17,0),MOD(O$10+$D22-1,28)+1)))))))))) -> L | P22: =IF($A22="","",IF(AND(Config!$B$28=$A22,Config!$A$28=P$13),Config!$C$28,IF(AND(Config!$B$29=$A22,Config!$A$29=P$13),Config!$C$29,IF(AND(Config!$B$30=$A22,Config!$A$30=P$13),Config!$C$30,IF(AND(Config!$B$31=$A22,Config!$A$31=P$13),Config!$C$31,IF(AND(Config!$B$32=$A22,Config!$A$32=P$13),Config!$C$32,IF(AND(Config!$B$33=$A22,Config!$A$33=P$13),Config!$C$33,IF(AND(Config!$B$34=$A22,Config!$A$34=P$13),Config!$C$34,IF(AND(Config!$B$35=$A22,Config!$A$35=P$13),Config!$C$35,INDEX(Config!$I$14:$AJ$17,MATCH($C22,Config!$H$14:$H$17,0),MOD(P$10+$D22-1,28)+1)))))))))) -> L | Q22: =IF($A22="","",IF(AND(Config!$B$28=$A22,Config!$A$28=Q$13),Config!$C$28,IF(AND(Config!$B$29=$A22,Config!$A$29=Q$13),Config!$C$29,IF(AND(Config!$B$30=$A22,Config!$A$30=Q$13),Config!$C$30,IF(AND(Config!$B$31=$A22,Config!$A$31=Q$13),Config!$C$31,IF(AND(Config!$B$32=$A22,Config!$A$32=Q$13),Config!$C$32,IF(AND(Config!$B$33=$A22,Config!$A$33=Q$13),Config!$C$33,IF(AND(Config!$B$34=$A22,Config!$A$34=Q$13),Config!$C$34,IF(AND(Config!$B$35=$A22,Config!$A$35=Q$13),Config!$C$35,INDEX(Config!$I$14:$AJ$17,MATCH($C22,Config!$H$14:$H$17,0),MOD(Q$10+$D22-1,28)+1)))))))))) -> L | R22: =IF($A22="","",IF(AND(Config!$B$28=$A22,Config!$A$28=R$13),Config!$C$28,IF(AND(Config!$B$29=$A22,Config!$A$29=R$13),Config!$C$29,IF(AND(Config!$B$30=$A22,Config!$A$30=R$13),Config!$C$30,IF(AND(Config!$B$31=$A22,Config!$A$31=R$13),Config!$C$31,IF(AND(Config!$B$32=$A22,Config!$A$32=R$13),Config!$C$32,IF(AND(Config!$B$33=$A22,Config!$A$33=R$13),Config!$C$33,IF(AND(Config!$B$34=$A22,Config!$A$34=R$13),Config!$C$34,IF(AND(Config!$B$35=$A22,Config!$A$35=R$13),Config!$C$35,INDEX(Config!$I$14:$AJ$17,MATCH($C22,Config!$H$14:$H$17,0),MOD(R$10+$D22-1,28)+1)))))))))) -> M | ... AL22: =IF($A22="","",IF(AND(Config!$B$28=$A22,Config!$A$28=AL$13),Config!$C$28,IF(AND(Config!$B$29=$A22,Config!$A$29=AL$13),Config!$C$29,IF(AND(Config!$B$30=$A22,Config!$A$30=AL$13),Config!$C$30,IF(AND(Config!$B$31=$A22,Config!$A$31=AL$13),Config!$C$31,IF(AND(Config!$B$32=$A22,Config!$A$32=AL$13),Config!$C$32,IF(AND(Config!$B$33=$A22,Config!$A$33=AL$13),Config!$C$33,IF(AND(Config!$B$34=$A22,Config!$A$34=AL$13),Config!$C$34,IF(AND(Config!$B$35=$A22,Config!$A$35=AL$13),Config!$C$35,INDEX(Config!$I$14:$AJ$17,MATCH($C22,Config!$H$14:$H$17,0),MOD(AL$10+$D22-1,28)+1)))))))))) -> N
A23: =IF(Config!B19="","",Config!B19) -> Hugo Mena | B23: =IF(A23="","",Config!C19) -> Incidencias | C23: =IF(A23="","",Config!D19) -> D | D23: =IF(A23="","",Config!E19) -> 0 | E23: =IF($A23="","",COUNTIF($K23:$AL23,"M")*Config!$L$5+COUNTIF($K23:$AL23,"T")*Config!$L$6+COUNTIF($K23:$AL23,"N")*Config!$L$7+COUNTIF($K23:$AL23,"F")*Config!$L$10) -> 168 | F23: =IF($A23="","",COUNTIF($K23:$AL23,"M")) -> 7 | G23: =IF($A23="","",COUNTIF($K23:$AL23,"T")) -> 7 | H23: =IF($A23="","",COUNTIF($K23:$AL23,"N")) -> 7 | I23: =IF($A23="","",COUNTIF($K23:$AL23,"L")+COUNTIF($K23:$AL23,"V")) -> 7 | J23: =IF($A23="","",SUMPRODUCT(--(($K$12:$AL$12="Sáb")+($K$12:$AL$12="Dom")>0),--($K23:$AL23<>""),--($K23:$AL23<>"L"),--($K23:$AL23<>"V"))) -> 6 | K23: =IF($A23="","",IF(AND(Config!$B$28=$A23,Config!$A$28=K$13),Config!$C$28,IF(AND(Config!$B$29=$A23,Config!$A$29=K$13),Config!$C$29,IF(AND(Config!$B$30=$A23,Config!$A$30=K$13),Config!$C$30,IF(AND(Config!$B$31=$A23,Config!$A$31=K$13),Config!$C$31,IF(AND(Config!$B$32=$A23,Config!$A$32=K$13),Config!$C$32,IF(AND(Config!$B$33=$A23,Config!$A$33=K$13),Config!$C$33,IF(AND(Config!$B$34=$A23,Config!$A$34=K$13),Config!$C$34,IF(AND(Config!$B$35=$A23,Config!$A$35=K$13),Config!$C$35,INDEX(Config!$I$14:$AJ$17,MATCH($C23,Config!$H$14:$H$17,0),MOD(K$10+$D23-1,28)+1)))))))))) -> L | L23: =IF($A23="","",IF(AND(Config!$B$28=$A23,Config!$A$28=L$13),Config!$C$28,IF(AND(Config!$B$29=$A23,Config!$A$29=L$13),Config!$C$29,IF(AND(Config!$B$30=$A23,Config!$A$30=L$13),Config!$C$30,IF(AND(Config!$B$31=$A23,Config!$A$31=L$13),Config!$C$31,IF(AND(Config!$B$32=$A23,Config!$A$32=L$13),Config!$C$32,IF(AND(Config!$B$33=$A23,Config!$A$33=L$13),Config!$C$33,IF(AND(Config!$B$34=$A23,Config!$A$34=L$13),Config!$C$34,IF(AND(Config!$B$35=$A23,Config!$A$35=L$13),Config!$C$35,INDEX(Config!$I$14:$AJ$17,MATCH($C23,Config!$H$14:$H$17,0),MOD(L$10+$D23-1,28)+1)))))))))) -> L | M23: =IF($A23="","",IF(AND(Config!$B$28=$A23,Config!$A$28=M$13),Config!$C$28,IF(AND(Config!$B$29=$A23,Config!$A$29=M$13),Config!$C$29,IF(AND(Config!$B$30=$A23,Config!$A$30=M$13),Config!$C$30,IF(AND(Config!$B$31=$A23,Config!$A$31=M$13),Config!$C$31,IF(AND(Config!$B$32=$A23,Config!$A$32=M$13),Config!$C$32,IF(AND(Config!$B$33=$A23,Config!$A$33=M$13),Config!$C$33,IF(AND(Config!$B$34=$A23,Config!$A$34=M$13),Config!$C$34,IF(AND(Config!$B$35=$A23,Config!$A$35=M$13),Config!$C$35,INDEX(Config!$I$14:$AJ$17,MATCH($C23,Config!$H$14:$H$17,0),MOD(M$10+$D23-1,28)+1)))))))))) -> L | N23: =IF($A23="","",IF(AND(Config!$B$28=$A23,Config!$A$28=N$13),Config!$C$28,IF(AND(Config!$B$29=$A23,Config!$A$29=N$13),Config!$C$29,IF(AND(Config!$B$30=$A23,Config!$A$30=N$13),Config!$C$30,IF(AND(Config!$B$31=$A23,Config!$A$31=N$13),Config!$C$31,IF(AND(Config!$B$32=$A23,Config!$A$32=N$13),Config!$C$32,IF(AND(Config!$B$33=$A23,Config!$A$33=N$13),Config!$C$33,IF(AND(Config!$B$34=$A23,Config!$A$34=N$13),Config!$C$34,IF(AND(Config!$B$35=$A23,Config!$A$35=N$13),Config!$C$35,INDEX(Config!$I$14:$AJ$17,MATCH($C23,Config!$H$14:$H$17,0),MOD(N$10+$D23-1,28)+1)))))))))) -> L | O23: =IF($A23="","",IF(AND(Config!$B$28=$A23,Config!$A$28=O$13),Config!$C$28,IF(AND(Config!$B$29=$A23,Config!$A$29=O$13),Config!$C$29,IF(AND(Config!$B$30=$A23,Config!$A$30=O$13),Config!$C$30,IF(AND(Config!$B$31=$A23,Config!$A$31=O$13),Config!$C$31,IF(AND(Config!$B$32=$A23,Config!$A$32=O$13),Config!$C$32,IF(AND(Config!$B$33=$A23,Config!$A$33=O$13),Config!$C$33,IF(AND(Config!$B$34=$A23,Config!$A$34=O$13),Config!$C$34,IF(AND(Config!$B$35=$A23,Config!$A$35=O$13),Config!$C$35,INDEX(Config!$I$14:$AJ$17,MATCH($C23,Config!$H$14:$H$17,0),MOD(O$10+$D23-1,28)+1)))))))))) -> L | P23: =IF($A23="","",IF(AND(Config!$B$28=$A23,Config!$A$28=P$13),Config!$C$28,IF(AND(Config!$B$29=$A23,Config!$A$29=P$13),Config!$C$29,IF(AND(Config!$B$30=$A23,Config!$A$30=P$13),Config!$C$30,IF(AND(Config!$B$31=$A23,Config!$A$31=P$13),Config!$C$31,IF(AND(Config!$B$32=$A23,Config!$A$32=P$13),Config!$C$32,IF(AND(Config!$B$33=$A23,Config!$A$33=P$13),Config!$C$33,IF(AND(Config!$B$34=$A23,Config!$A$34=P$13),Config!$C$34,IF(AND(Config!$B$35=$A23,Config!$A$35=P$13),Config!$C$35,INDEX(Config!$I$14:$AJ$17,MATCH($C23,Config!$H$14:$H$17,0),MOD(P$10+$D23-1,28)+1)))))))))) -> L | Q23: =IF($A23="","",IF(AND(Config!$B$28=$A23,Config!$A$28=Q$13),Config!$C$28,IF(AND(Config!$B$29=$A23,Config!$A$29=Q$13),Config!$C$29,IF(AND(Config!$B$30=$A23,Config!$A$30=Q$13),Config!$C$30,IF(AND(Config!$B$31=$A23,Config!$A$31=Q$13),Config!$C$31,IF(AND(Config!$B$32=$A23,Config!$A$32=Q$13),Config!$C$32,IF(AND(Config!$B$33=$A23,Config!$A$33=Q$13),Config!$C$33,IF(AND(Config!$B$34=$A23,Config!$A$34=Q$13),Config!$C$34,IF(AND(Config!$B$35=$A23,Config!$A$35=Q$13),Config!$C$35,INDEX(Config!$I$14:$AJ$17,MATCH($C23,Config!$H$14:$H$17,0),MOD(Q$10+$D23-1,28)+1)))))))))) -> L | R23: =IF($A23="","",IF(AND(Config!$B$28=$A23,Config!$A$28=R$13),Config!$C$28,IF(AND(Config!$B$29=$A23,Config!$A$29=R$13),Config!$C$29,IF(AND(Config!$B$30=$A23,Config!$A$30=R$13),Config!$C$30,IF(AND(Config!$B$31=$A23,Config!$A$31=R$13),Config!$C$31,IF(AND(Config!$B$32=$A23,Config!$A$32=R$13),Config!$C$32,IF(AND(Config!$B$33=$A23,Config!$A$33=R$13),Config!$C$33,IF(AND(Config!$B$34=$A23,Config!$A$34=R$13),Config!$C$34,IF(AND(Config!$B$35=$A23,Config!$A$35=R$13),Config!$C$35,INDEX(Config!$I$14:$AJ$17,MATCH($C23,Config!$H$14:$H$17,0),MOD(R$10+$D23-1,28)+1)))))))))) -> M | ... AL23: =IF($A23="","",IF(AND(Config!$B$28=$A23,Config!$A$28=AL$13),Config!$C$28,IF(AND(Config!$B$29=$A23,Config!$A$29=AL$13),Config!$C$29,IF(AND(Config!$B$30=$A23,Config!$A$30=AL$13),Config!$C$30,IF(AND(Config!$B$31=$A23,Config!$A$31=AL$13),Config!$C$31,IF(AND(Config!$B$32=$A23,Config!$A$32=AL$13),Config!$C$32,IF(AND(Config!$B$33=$A23,Config!$A$33=AL$13),Config!$C$33,IF(AND(Config!$B$34=$A23,Config!$A$34=AL$13),Config!$C$34,IF(AND(Config!$B$35=$A23,Config!$A$35=AL$13),Config!$C$35,INDEX(Config!$I$14:$AJ$17,MATCH($C23,Config!$H$14:$H$17,0),MOD(AL$10+$D23-1,28)+1)))))))))) -> N
A24: =IF(Config!B20="","",Config!B20) | B24: =IF(A24="","",Config!C20) | C24: =IF(A24="","",Config!D20) | D24: =IF(A24="","",Config!E20) | E24: =IF($A24="","",COUNTIF($K24:$AL24,"M")*Config!$L$5+COUNTIF($K24:$AL24,"T")*Config!$L$6+COUNTIF($K24:$AL24,"N")*Config!$L$7+COUNTIF($K24:$AL24,"F")*Config!$L$10) | F24: =IF($A24="","",COUNTIF($K24:$AL24,"M")) | G24: =IF($A24="","",COUNTIF($K24:$AL24,"T")) | H24: =IF($A24="","",COUNTIF($K24:$AL24,"N")) | I24: =IF($A24="","",COUNTIF($K24:$AL24,"L")+COUNTIF($K24:$AL24,"V")) | J24: =IF($A24="","",SUMPRODUCT(--(($K$12:$AL$12="Sáb")+($K$12:$AL$12="Dom")>0),--($K24:$AL24<>""),--($K24:$AL24<>"L"),--($K24:$AL24<>"V"))) | L24: =IF($A24="","",IF(AND(Config!$B$28=$A24,Config!$A$28=L$13),Config!$C$28,IF(AND(Config!$B$29=$A24,Config!$A$29=L$13),Config!$C$29,IF(AND(Config!$B$30=$A24,Config!$A$30=L$13),Config!$C$30,IF(AND(Config!$B$31=$A24,Config!$A$31=L$13),Config!$C$31,IF(AND(Config!$B$32=$A24,Config!$A$32=L$13),Config!$C$32,IF(AND(Config!$B$33=$A24,Config!$A$33=L$13),Config!$C$33,IF(AND(Config!$B$34=$A24,Config!$A$34=L$13),Config!$C$34,IF(AND(Config!$B$35=$A24,Config!$A$35=L$13),Config!$C$35,INDEX(Config!$I$14:$AJ$17,MATCH($C24,Config!$H$14:$H$17,0),MOD(L$10+$D24-1,28)+1)))))))))) | M24: =IF($A24="","",IF(AND(Config!$B$28=$A24,Config!$A$28=M$13),Config!$C$28,IF(AND(Config!$B$29=$A24,Config!$A$29=M$13),Config!$C$29,IF(AND(Config!$B$30=$A24,Config!$A$30=M$13),Config!$C$30,IF(AND(Config!$B$31=$A24,Config!$A$31=M$13),Config!$C$31,IF(AND(Config!$B$32=$A24,Config!$A$32=M$13),Config!$C$32,IF(AND(Config!$B$33=$A24,Config!$A$33=M$13),Config!$C$33,IF(AND(Config!$B$34=$A24,Config!$A$34=M$13),Config!$C$34,IF(AND(Config!$B$35=$A24,Config!$A$35=M$13),Config!$C$35,INDEX(Config!$I$14:$AJ$17,MATCH($C24,Config!$H$14:$H$17,0),MOD(M$10+$D24-1,28)+1)))))))))) | N24: =IF($A24="","",IF(AND(Config!$B$28=$A24,Config!$A$28=N$13),Config!$C$28,IF(AND(Config!$B$29=$A24,Config!$A$29=N$13),Config!$C$29,IF(AND(Config!$B$30=$A24,Config!$A$30=N$13),Config!$C$30,IF(AND(Config!$B$31=$A24,Config!$A$31=N$13),Config!$C$31,IF(AND(Config!$B$32=$A24,Config!$A$32=N$13),Config!$C$32,IF(AND(Config!$B$33=$A24,Config!$A$33=N$13),Config!$C$33,IF(AND(Config!$B$34=$A24,Config!$A$34=N$13),Config!$C$34,IF(AND(Config!$B$35=$A24,Config!$A$35=N$13),Config!$C$35,INDEX(Config!$I$14:$AJ$17,MATCH($C24,Config!$H$14:$H$17,0),MOD(N$10+$D24-1,28)+1)))))))))) | O24: =IF($A24="","",IF(AND(Config!$B$28=$A24,Config!$A$28=O$13),Config!$C$28,IF(AND(Config!$B$29=$A24,Config!$A$29=O$13),Config!$C$29,IF(AND(Config!$B$30=$A24,Config!$A$30=O$13),Config!$C$30,IF(AND(Config!$B$31=$A24,Config!$A$31=O$13),Config!$C$31,IF(AND(Config!$B$32=$A24,Config!$A$32=O$13),Config!$C$32,IF(AND(Config!$B$33=$A24,Config!$A$33=O$13),Config!$C$33,IF(AND(Config!$B$34=$A24,Config!$A$34=O$13),Config!$C$34,IF(AND(Config!$B$35=$A24,Config!$A$35=O$13),Config!$C$35,INDEX(Config!$I$14:$AJ$17,MATCH($C24,Config!$H$14:$H$17,0),MOD(O$10+$D24-1,28)+1)))))))))) | P24: =IF($A24="","",IF(AND(Config!$B$28=$A24,Config!$A$28=P$13),Config!$C$28,IF(AND(Config!$B$29=$A24,Config!$A$29=P$13),Config!$C$29,IF(AND(Config!$B$30=$A24,Config!$A$30=P$13),Config!$C$30,IF(AND(Config!$B$31=$A24,Config!$A$31=P$13),Config!$C$31,IF(AND(Config!$B$32=$A24,Config!$A$32=P$13),Config!$C$32,IF(AND(Config!$B$33=$A24,Config!$A$33=P$13),Config!$C$33,IF(AND(Config!$B$34=$A24,Config!$A$34=P$13),Config!$C$34,IF(AND(Config!$B$35=$A24,Config!$A$35=P$13),Config!$C$35,INDEX(Config!$I$14:$AJ$17,MATCH($C24,Config!$H$14:$H$17,0),MOD(P$10+$D24-1,28)+1)))))))))) | Q24: =IF($A24="","",IF(AND(Config!$B$28=$A24,Config!$A$28=Q$13),Config!$C$28,IF(AND(Config!$B$29=$A24,Config!$A$29=Q$13),Config!$C$29,IF(AND(Config!$B$30=$A24,Config!$A$30=Q$13),Config!$C$30,IF(AND(Config!$B$31=$A24,Config!$A$31=Q$13),Config!$C$31,IF(AND(Config!$B$32=$A24,Config!$A$32=Q$13),Config!$C$32,IF(AND(Config!$B$33=$A24,Config!$A$33=Q$13),Config!$C$33,IF(AND(Config!$B$34=$A24,Config!$A$34=Q$13),Config!$C$34,IF(AND(Config!$B$35=$A24,Config!$A$35=Q$13),Config!$C$35,INDEX(Config!$I$14:$AJ$17,MATCH($C24,Config!$H$14:$H$17,0),MOD(Q$10+$D24-1,28)+1)))))))))) | R24: =IF($A24="","",IF(AND(Config!$B$28=$A24,Config!$A$28=R$13),Config!$C$28,IF(AND(Config!$B$29=$A24,Config!$A$29=R$13),Config!$C$29,IF(AND(Config!$B$30=$A24,Config!$A$30=R$13),Config!$C$30,IF(AND(Config!$B$31=$A24,Config!$A$31=R$13),Config!$C$31,IF(AND(Config!$B$32=$A24,Config!$A$32=R$13),Config!$C$32,IF(AND(Config!$B$33=$A24,Config!$A$33=R$13),Config!$C$33,IF(AND(Config!$B$34=$A24,Config!$A$34=R$13),Config!$C$34,IF(AND(Config!$B$35=$A24,Config!$A$35=R$13),Config!$C$35,INDEX(Config!$I$14:$AJ$17,MATCH($C24,Config!$H$14:$H$17,0),MOD(R$10+$D24-1,28)+1)))))))))) | S24: =IF($A24="","",IF(AND(Config!$B$28=$A24,Config!$A$28=S$13),Config!$C$28,IF(AND(Config!$B$29=$A24,Config!$A$29=S$13),Config!$C$29,IF(AND(Config!$B$30=$A24,Config!$A$30=S$13),Config!$C$30,IF(AND(Config!$B$31=$A24,Config!$A$31=S$13),Config!$C$31,IF(AND(Config!$B$32=$A24,Config!$A$32=S$13),Config!$C$32,IF(AND(Config!$B$33=$A24,Config!$A$33=S$13),Config!$C$33,IF(AND(Config!$B$34=$A24,Config!$A$34=S$13),Config!$C$34,IF(AND(Config!$B$35=$A24,Config!$A$35=S$13),Config!$C$35,INDEX(Config!$I$14:$AJ$17,MATCH($C24,Config!$H$14:$H$17,0),MOD(S$10+$D24-1,28)+1)))))))))) | ... AL24: =IF($A24="","",IF(AND(Config!$B$28=$A24,Config!$A$28=AL$13),Config!$C$28,IF(AND(Config!$B$29=$A24,Config!$A$29=AL$13),Config!$C$29,IF(AND(Config!$B$30=$A24,Config!$A$30=AL$13),Config!$C$30,IF(AND(Config!$B$31=$A24,Config!$A$31=AL$13),Config!$C$31,IF(AND(Config!$B$32=$A24,Config!$A$32=AL$13),Config!$C$32,IF(AND(Config!$B$33=$A24,Config!$A$33=AL$13),Config!$C$33,IF(AND(Config!$B$34=$A24,Config!$A$34=AL$13),Config!$C$34,IF(AND(Config!$B$35=$A24,Config!$A$35=AL$13),Config!$C$35,INDEX(Config!$I$14:$AJ$17,MATCH($C24,Config!$H$14:$H$17,0),MOD(AL$10+$D24-1,28)+1))))))))))
