Workbook

Sheet Panel
A1: Panel de Productividad
N3: (helper)
B4: Mes (selecciona): | C4: Ene-2026 | N4: TotalHoras | O4: =SUMIFS(Registro!$D$6:$D$505,Registro!$A$6:$A$505,">="&$B$7,Registro!$A$6:$A$505,"<="&$C$7) -> 60.75
N5: HorasProfundo | O5: =SUMIFS(Registro!$D$6:$D$505,Registro!$A$6:$A$505,">="&$B$7,Registro!$A$6:$A$505,"<="&$C$7,Registro!$E$6:$E$505,"Trabajo profundo") -> 30.25
B6: Inicio mes | C6: Fin mes | N6: %Profundo | O6: =IFERROR(O5/O4,"") -> 0.49794239
B7: =IFERROR(VLOOKUP($C$4,Configuración!$A$13:$D$30,2,FALSE),"") -> 46023 | C7: =IFERROR(VLOOKUP($C$4,Configuración!$A$13:$D$30,3,FALSE),"") -> 46053 | N7: TareasHechas | O7: =COUNTIFS(Registro!$A$6:$A$505,">="&$B$7,Registro!$A$6:$A$505,"<="&$C$7,Registro!$J$6:$J$505,"Hecho",Registro!$E$6:$E$505,"<>Descanso") -> 43
N8: PuntosTotal | O8: =SUMIFS(Registro!$N$6:$N$505,Registro!$A$6:$A$505,">="&$B$7,Registro!$A$6:$A$505,"<="&$C$7) -> 40.31
N9: HorasUtiles | O9: =SUMIFS(Registro!$D$6:$D$505,Registro!$A$6:$A$505,">="&$B$7,Registro!$A$6:$A$505,"<="&$C$7,Registro!$E$6:$E$505,"<>Descanso",Registro!$E$6:$E$505,"<>Interrupciones") -> 57.75
B10: Horas registradas | E10: Horas trabajo profundo | H10: % trabajo profundo | K10: Interrupciones | N10: PuntosHora | O10: =IFERROR(O8/O9,"") -> 0.69800866
B11: =O4 -> 60.75 | E11: =O5 -> 30.25 | H11: =O6 -> 0.49794239 | K11: =O11 -> 90 | N11: Interrupciones | O11: =SUMIFS(Registro!$K$6:$K$505,Registro!$A$6:$A$505,">="&$B$7,Registro!$A$6:$A$505,"<="&$C$7) -> 90
N12: EficienciaMedia | O12: =IFERROR(SUMIFS(Registro!$M$6:$M$505,Registro!$A$6:$A$505,">="&$B$7,Registro!$A$6:$A$505,"<="&$C$7,Registro!$J$6:$J$505,"Hecho")/COUNTIFS(Registro!$A$6:$A$505,">="&$B$7,Registro!$A$6:$A$505,"<="&$C$7,Registro!$J$6:$J$505,"Hecho",Registro!$M$6:$M$505,">0"),"") -> 1.0103721
B15: Tareas hechas | E15: Puntos totales | H15: Puntos por hora útil | K15: Eficiencia media (Hecho)
B16: =O7 -> 43 | E16: =O8 -> 40.31 | H16: =O10 -> 0.69800866 | K16: =O12 -> 1.0103721
B20: Cómo usar: 1) Registra tus bloques en 'Registro' (Fecha/Inicio/Fin/Categoría/Estado). 2) Ajusta pesos u objetivos en 'Configuración' si quieres. 3) Filtra el mes aquí y mira tus KPIs y gráficos.
B24: Resumen por categoría | H24: Tendencia diaria (puntos)
B25: Categoría | C25: Horas | D25: Puntos | H25: Fecha | I25: Puntos
B26: Trabajo profundo | C26: =SUMIFS(Registro!$D$6:$D$505,Registro!$A$6:$A$505,">="&$B$7,Registro!$A$6:$A$505,"<="&$C$7,Registro!$E$6:$E$505,B26) -> 30.25 | D26: =SUMIFS(Registro!$N$6:$N$505,Registro!$A$6:$A$505,">="&$B$7,Registro!$A$6:$A$505,"<="&$C$7,Registro!$E$6:$E$505,B26) -> 25.15 | H26: =IF($B$7+1-1<=$C$7,$B$7+1-1,"") -> 46023 | I26: =IF(H26="","",SUMIFS(Registro!$N$6:$N$505,Registro!$A$6:$A$505,H26)) -> 0
B27: Colaboración | C27: =SUMIFS(Registro!$D$6:$D$505,Registro!$A$6:$A$505,">="&$B$7,Registro!$A$6:$A$505,"<="&$C$7,Registro!$E$6:$E$505,B27) -> 8.25 | D27: =SUMIFS(Registro!$N$6:$N$505,Registro!$A$6:$A$505,">="&$B$7,Registro!$A$6:$A$505,"<="&$C$7,Registro!$E$6:$E$505,B27) -> 4.23 | H27: =IF($B$7+2-1<=$C$7,$B$7+2-1,"") -> 46024 | I27: =IF(H27="","",SUMIFS(Registro!$N$6:$N$505,Registro!$A$6:$A$505,H27)) -> 0
B28: Operativo | C28: =SUMIFS(Registro!$D$6:$D$505,Registro!$A$6:$A$505,">="&$B$7,Registro!$A$6:$A$505,"<="&$C$7,Registro!$E$6:$E$505,B28) -> 11 | D28: =SUMIFS(Registro!$N$6:$N$505,Registro!$A$6:$A$505,">="&$B$7,Registro!$A$6:$A$505,"<="&$C$7,Registro!$E$6:$E$505,B28) -> 5.48 | H28: =IF($B$7+3-1<=$C$7,$B$7+3-1,"") -> 46025 | I28: =IF(H28="","",SUMIFS(Registro!$N$6:$N$505,Registro!$A$6:$A$505,H28)) -> 0
B29: Aprendizaje | C29: =SUMIFS(Registro!$D$6:$D$505,Registro!$A$6:$A$505,">="&$B$7,Registro!$A$6:$A$505,"<="&$C$7,Registro!$E$6:$E$505,B29) -> 8.25 | D29: =SUMIFS(Registro!$N$6:$N$505,Registro!$A$6:$A$505,">="&$B$7,Registro!$A$6:$A$505,"<="&$C$7,Registro!$E$6:$E$505,B29) -> 5.45 | H29: =IF($B$7+4-1<=$C$7,$B$7+4-1,"") -> 46026 | I29: =IF(H29="","",SUMIFS(Registro!$N$6:$N$505,Registro!$A$6:$A$505,H29)) -> 0
B30: Descanso | C30: =SUMIFS(Registro!$D$6:$D$505,Registro!$A$6:$A$505,">="&$B$7,Registro!$A$6:$A$505,"<="&$C$7,Registro!$E$6:$E$505,B30) -> 3 | D30: =SUMIFS(Registro!$N$6:$N$505,Registro!$A$6:$A$505,">="&$B$7,Registro!$A$6:$A$505,"<="&$C$7,Registro!$E$6:$E$505,B30) -> 0 | H30: =IF($B$7+5-1<=$C$7,$B$7+5-1,"") -> 46027 | I30: =IF(H30="","",SUMIFS(Registro!$N$6:$N$505,Registro!$A$6:$A$505,H30)) -> 5.35
B31: Interrupciones | C31: =SUMIFS(Registro!$D$6:$D$505,Registro!$A$6:$A$505,">="&$B$7,Registro!$A$6:$A$505,"<="&$C$7,Registro!$E$6:$E$505,B31) -> 0 | D31: =SUMIFS(Registro!$N$6:$N$505,Registro!$A$6:$A$505,">="&$B$7,Registro!$A$6:$A$505,"<="&$C$7,Registro!$E$6:$E$505,B31) -> 0 | H31: =IF($B$7+6-1<=$C$7,$B$7+6-1,"") -> 46028 | I31: =IF(H31="","",SUMIFS(Registro!$N$6:$N$505,Registro!$A$6:$A$505,H31)) -> 2.48
H32: =IF($B$7+7-1<=$C$7,$B$7+7-1,"") -> 46029 | I32: =IF(H32="","",SUMIFS(Registro!$N$6:$N$505,Registro!$A$6:$A$505,H32)) -> 3.52
H33: =IF($B$7+8-1<=$C$7,$B$7+8-1,"") -> 46030 | I33: =IF(H33="","",SUMIFS(Registro!$N$6:$N$505,Registro!$A$6:$A$505,H33)) -> 4.32
H34: =IF($B$7+9-1<=$C$7,$B$7+9-1,"") -> 46031 | I34: =IF(H34="","",SUMIFS(Registro!$N$6:$N$505,Registro!$A$6:$A$505,H34)) -> 2.64
H35: =IF($B$7+10-1<=$C$7,$B$7+10-1,"") -> 46032 | I35: =IF(H35="","",SUMIFS(Registro!$N$6:$N$505,Registro!$A$6:$A$505,H35)) -> 0
H36: =IF($B$7+11-1<=$C$7,$B$7+11-1,"") -> 46033 | I36: =IF(H36="","",SUMIFS(Registro!$N$6:$N$505,Registro!$A$6:$A$505,H36)) -> 0
H37: =IF($B$7+12-1<=$C$7,$B$7+12-1,"") -> 46034 | I37: =IF(H37="","",SUMIFS(Registro!$N$6:$N$505,Registro!$A$6:$A$505,H37)) -> 3.12
H38: =IF($B$7+13-1<=$C$7,$B$7+13-1,"") -> 46035 | I38: =IF(H38="","",SUMIFS(Registro!$N$6:$N$505,Registro!$A$6:$A$505,H38)) -> 4.04
H39: =IF($B$7+14-1<=$C$7,$B$7+14-1,"") -> 46036 | I39: =IF(H39="","",SUMIFS(Registro!$N$6:$N$505,Registro!$A$6:$A$505,H39)) -> 4.14
H40: =IF($B$7+15-1<=$C$7,$B$7+15-1,"") -> 46037 | I40: =IF(H40="","",SUMIFS(Registro!$N$6:$N$505,Registro!$A$6:$A$505,H40)) -> 2.56
H41: =IF($B$7+16-1<=$C$7,$B$7+16-1,"") -> 46038 | I41: =IF(H41="","",SUMIFS(Registro!$N$6:$N$505,Registro!$A$6:$A$505,H41)) -> 3
H42: =IF($B$7+17-1<=$C$7,$B$7+17-1,"") -> 46039 | I42: =IF(H42="","",SUMIFS(Registro!$N$6:$N$505,Registro!$A$6:$A$505,H42)) -> 0
H43: =IF($B$7+18-1<=$C$7,$B$7+18-1,"") -> 46040 | I43: =IF(H43="","",SUMIFS(Registro!$N$6:$N$505,Registro!$A$6:$A$505,H43)) -> 0
H44: =IF($B$7+19-1<=$C$7,$B$7+19-1,"") -> 46041 | I44: =IF(H44="","",SUMIFS(Registro!$N$6:$N$505,Registro!$A$6:$A$505,H44)) -> 5.14
H45: =IF($B$7+20-1<=$C$7,$B$7+20-1,"") -> 46042 | I45: =IF(H45="","",SUMIFS(Registro!$N$6:$N$505,Registro!$A$6:$A$505,H45)) -> 0
H46: =IF($B$7+21-1<=$C$7,$B$7+21-1,"") -> 46043 | I46: =IF(H46="","",SUMIFS(Registro!$N$6:$N$505,Registro!$A$6:$A$505,H46)) -> 0
H47: =IF($B$7+22-1<=$C$7,$B$7+22-1,"") -> 46044 | I47: =IF(H47="","",SUMIFS(Registro!$N$6:$N$505,Registro!$A$6:$A$505,H47)) -> 0
H48: =IF($B$7+23-1<=$C$7,$B$7+23-1,"") -> 46045 | I48: =IF(H48="","",SUMIFS(Registro!$N$6:$N$505,Registro!$A$6:$A$505,H48)) -> 0
H49: =IF($B$7+24-1<=$C$7,$B$7+24-1,"") -> 46046 | I49: =IF(H49="","",SUMIFS(Registro!$N$6:$N$505,Registro!$A$6:$A$505,H49)) -> 0
...

Sheet Registro
A1: Registro de actividades (rellena una fila por bloque de trabajo)
A2: Tip: completa Fecha, Inicio, Fin, Categoría, Actividad y Estado. La Duración, Eficiencia y Puntos se calculan solos.
A5: Fecha | B5: Inicio | C5: Fin | D5: Duración (h) | E5: Categoría | F5: Actividad | G5: Proyecto/Área | H5: Prioridad | I5: Valor (1-5) | J5: Estado | K5: Interrupciones (#) | L5: Horas plan (h) | M5: Eficiencia (plan/real) | N5: Puntos | O5: Notas
A6: 46027 | B6: 0.375 | C6: 0.4375 | D6: =IF(OR(B6="",C6=""),"", (C6-B6)*24) -> 1.5 | E6: Trabajo profundo | F6: Diseñar flujo de preguntas para capturar requisitos | G6: Mejora de onboarding | H6: Alta | I6: 5 | J6: Hecho | K6: 4 | L6: 1.46 | M6: =IFERROR(IF(L6="","", L6/D6),"") -> 0.97333333 | N6: =IF(D6="","",ROUND(D6*VLOOKUP(E6,Configuración!$A$4:$B$9,2,FALSE)*VLOOKUP(H6,Configuración!$D$4:$E$6,2,FALSE)*(I6/5)*VLOOKUP(J6,Configuración!$G$4:$H$7,2,FALSE)*(1-IFERROR(MIN(0.3,K6*0.03),0)),2)) -> 2.23
A7: 46027 | B7: 0.44791667 | C7: 0.47916667 | D7: =IF(OR(B7="",C7=""),"", (C7-B7)*24) -> 0.75 | E7: Colaboración | F7: Sesión de alineación con stakeholders | G7: Base de conocimiento | H7: Media | I7: 2 | J7: Hecho | K7: 3 | L7: 0.71 | M7: =IFERROR(IF(L7="","", L7/D7),"") -> 0.94666667 | N7: =IF(D7="","",ROUND(D7*VLOOKUP(E7,Configuración!$A$4:$B$9,2,FALSE)*VLOOKUP(H7,Configuración!$D$4:$E$6,2,FALSE)*(I7/5)*VLOOKUP(J7,Configuración!$G$4:$H$7,2,FALSE)*(1-IFERROR(MIN(0.3,K7*0.03),0)),2)) -> 0.27
A8: 46027 | B8: 0.48958333 | C8: 0.54166667 | D8: =IF(OR(B8="",C8=""),"", (C8-B8)*24) -> 1.25 | E8: Trabajo profundo | F8: Crear plantilla de respuestas rápidas | G8: Base de conocimiento | H8: Alta | I8: 3 | J8: Hecho | K8: 1 | L8: 1.33 | M8: =IFERROR(IF(L8="","", L8/D8),"") -> 1.064 | N8: =IF(D8="","",ROUND(D8*VLOOKUP(E8,Configuración!$A$4:$B$9,2,FALSE)*VLOOKUP(H8,Configuración!$D$4:$E$6,2,FALSE)*(I8/5)*VLOOKUP(J8,Configuración!$G$4:$H$7,2,FALSE)*(1-IFERROR(MIN(0.3,K8*0.03),0)),2)) -> 1.23
A9: 46027 | B9: 0.58333333 | C9: 0.625 | D9: =IF(OR(B9="",C9=""),"", (C9-B9)*24) -> 1 | E9: Operativo | F9: Gestionar dependencias y bloqueos | G9: Análisis de incidencias | H9: Alta | I9: 5 | J9: Hecho | K9: 2 | L9: 1.07 | M9: =IFERROR(IF(L9="","", L9/D9),"") -> 1.07 | N9: =IF(D9="","",ROUND(D9*VLOOKUP(E9,Configuración!$A$4:$B$9,2,FALSE)*VLOOKUP(H9,Configuración!$D$4:$E$6,2,FALSE)*(I9/5)*VLOOKUP(J9,Configuración!$G$4:$H$7,2,FALSE)*(1-IFERROR(MIN(0.3,K9*0.03),0)),2)) -> 0.98
A10: 46027 | B10: 0.63541667 | C10: 0.66666667 | D10: =IF(OR(B10="",C10=""),"", (C10-B10)*24) -> 0.75 | E10: Aprendizaje | F10: Explorar nuevas funciones de Excel | G10: Capacitación interna | H10: Baja | I10: 5 | J10: Hecho | K10: 1 | L10: 0.77 | M10: =IFERROR(IF(L10="","", L10/D10),"") -> 1.0266667 | N10: =IF(D10="","",ROUND(D10*VLOOKUP(E10,Configuración!$A$4:$B$9,2,FALSE)*VLOOKUP(H10,Configuración!$D$4:$E$6,2,FALSE)*(I10/5)*VLOOKUP(J10,Configuración!$G$4:$H$7,2,FALSE)*(1-IFERROR(MIN(0.3,K10*0.03),0)),2)) -> 0.64
A11: 46027 | B11: 0.54166667 | C11: 0.58333333 | D11: =IF(OR(B11="",C11=""),"", (C11-B11)*24) -> 1 | E11: Descanso | F11: Descanso | G11: — | H11: Baja | I11: 1 | J11: Hecho | K11: 0 | M11: =IFERROR(IF(L11="","", L11/D11),"") | N11: =IF(D11="","",ROUND(D11*VLOOKUP(E11,Configuración!$A$4:$B$9,2,FALSE)*VLOOKUP(H11,Configuración!$D$4:$E$6,2,FALSE)*(I11/5)*VLOOKUP(J11,Configuración!$G$4:$H$7,2,FALSE)*(1-IFERROR(MIN(0.3,K11*0.03),0)),2)) -> 0
A12: 46028 | B12: 0.375 | C12: 0.4375 | D12: =IF(OR(B12="",C12=""),"", (C12-B12)*24) -> 1.5 | E12: Trabajo profundo | F12: Diseñar flujo de preguntas para capturar requisitos | G12: Automatización de reportes | H12: Alta | I12: 3 | J12: Bloqueado | K12: 2 | L12: 1.38 | M12: =IFERROR(IF(L12="","", L12/D12),"") -> 0.92 | N12: =IF(D12="","",ROUND(D12*VLOOKUP(E12,Configuración!$A$4:$B$9,2,FALSE)*VLOOKUP(H12,Configuración!$D$4:$E$6,2,FALSE)*(I12/5)*VLOOKUP(J12,Configuración!$G$4:$H$7,2,FALSE)*(1-IFERROR(MIN(0.3,K12*0.03),0)),2)) -> 0.43
A13: 46028 | B13: 0.44791667 | C13: 0.47916667 | D13: =IF(OR(B13="",C13=""),"", (C13-B13)*24) -> 0.75 | E13: Colaboración | F13: Revisión cruzada de entregables | G13: Automatización de reportes | H13: Media | I13: 3 | J13: En curso | K13: 0 | L13: 0.8 | M13: =IFERROR(IF(L13="","", L13/D13),"") -> 1.0666667 | N13: =IF(D13="","",ROUND(D13*VLOOKUP(E13,Configuración!$A$4:$B$9,2,FALSE)*VLOOKUP(H13,Configuración!$D$4:$E$6,2,FALSE)*(I13/5)*VLOOKUP(J13,Configuración!$G$4:$H$7,2,FALSE)*(1-IFERROR(MIN(0.3,K13*0.03),0)),2)) -> 0.27
A14: 46028 | B14: 0.48958333 | C14: 0.54166667 | D14: =IF(OR(B14="",C14=""),"", (C14-B14)*24) -> 1.25 | E14: Trabajo profundo | F14: Analizar datos de soporte y detectar patrones | G14: Análisis de incidencias | H14: Media | I14: 4 | J14: Hecho | K14: 4 | L14: 1.32 | M14: =IFERROR(IF(L14="","", L14/D14),"") -> 1.056 | N14: =IF(D14="","",ROUND(D14*VLOOKUP(E14,Configuración!$A$4:$B$9,2,FALSE)*VLOOKUP(H14,Configuración!$D$4:$E$6,2,FALSE)*(I14/5)*VLOOKUP(J14,Configuración!$G$4:$H$7,2,FALSE)*(1-IFERROR(MIN(0.3,K14*0.03),0)),2)) -> 1.14
A15: 46028 | B15: 0.58333333 | C15: 0.625 | D15: =IF(OR(B15="",C15=""),"", (C15-B15)*24) -> 1 | E15: Operativo | F15: Responder tickets de baja complejidad | G15: Análisis de incidencias | H15: Media | I15: 2 | J15: Hecho | K15: 0 | L15: 1.07 | M15: =IFERROR(IF(L15="","", L15/D15),"") -> 1.07 | N15: =IF(D15="","",ROUND(D15*VLOOKUP(E15,Configuración!$A$4:$B$9,2,FALSE)*VLOOKUP(H15,Configuración!$D$4:$E$6,2,FALSE)*(I15/5)*VLOOKUP(J15,Configuración!$G$4:$H$7,2,FALSE)*(1-IFERROR(MIN(0.3,K15*0.03),0)),2)) -> 0.32
A16: 46028 | B16: 0.63541667 | C16: 0.66666667 | D16: =IF(OR(B16="",C16=""),"", (C16-B16)*24) -> 0.75 | E16: Aprendizaje | F16: Leer documentación y tomar notas | G16: Optimización de procesos | H16: Media | I16: 2 | J16: Hecho | K16: 1 | L16: 0.68 | M16: =IFERROR(IF(L16="","", L16/D16),"") -> 0.90666667 | N16: =IF(D16="","",ROUND(D16*VLOOKUP(E16,Configuración!$A$4:$B$9,2,FALSE)*VLOOKUP(H16,Configuración!$D$4:$E$6,2,FALSE)*(I16/5)*VLOOKUP(J16,Configuración!$G$4:$H$7,2,FALSE)*(1-IFERROR(MIN(0.3,K16*0.03),0)),2)) -> 0.32
A17: 46029 | B17: 0.375 | C17: 0.4375 | D17: =IF(OR(B17="",C17=""),"", (C17-B17)*24) -> 1.5 | E17: Trabajo profundo | F17: Preparar guion de prueba de usabilidad | G17: Optimización de procesos | H17: Alta | I17: 3 | J17: Hecho | K17: 0 | L17: 1.53 | M17: =IFERROR(IF(L17="","", L17/D17),"") -> 1.02 | N17: =IF(D17="","",ROUND(D17*VLOOKUP(E17,Configuración!$A$4:$B$9,2,FALSE)*VLOOKUP(H17,Configuración!$D$4:$E$6,2,FALSE)*(I17/5)*VLOOKUP(J17,Configuración!$G$4:$H$7,2,FALSE)*(1-IFERROR(MIN(0.3,K17*0.03),0)),2)) -> 1.52
A18: 46029 | B18: 0.44791667 | C18: 0.47916667 | D18: =IF(OR(B18="",C18=""),"", (C18-B18)*24) -> 0.75 | E18: Colaboración | F18: Revisión cruzada de entregables | G18: Optimización de procesos | H18: Media | I18: 4 | J18: Bloqueado | K18: 0 | L18: 0.78 | M18: =IFERROR(IF(L18="","", L18/D18),"") -> 1.04 | N18: =IF(D18="","",ROUND(D18*VLOOKUP(E18,Configuración!$A$4:$B$9,2,FALSE)*VLOOKUP(H18,Configuración!$D$4:$E$6,2,FALSE)*(I18/5)*VLOOKUP(J18,Configuración!$G$4:$H$7,2,FALSE)*(1-IFERROR(MIN(0.3,K18*0.03),0)),2)) -> 0.18
A19: 46029 | B19: 0.48958333 | C19: 0.54166667 | D19: =IF(OR(B19="",C19=""),"", (C19-B19)*24) -> 1.25 | E19: Trabajo profundo | F19: Crear plantilla de respuestas rápidas | G19: Mejora de onboarding | H19: Baja | I19: 3 | J19: Hecho | K19: 0 | L19: 1.25 | M19: =IFERROR(IF(L19="","", L19/D19),"") -> 1 | N19: =IF(D19="","",ROUND(D19*VLOOKUP(E19,Configuración!$A$4:$B$9,2,FALSE)*VLOOKUP(H19,Configuración!$D$4:$E$6,2,FALSE)*(I19/5)*VLOOKUP(J19,Configuración!$G$4:$H$7,2,FALSE)*(1-IFERROR(MIN(0.3,K19*0.03),0)),2)) -> 0.78
A20: 46029 | B20: 0.58333333 | C20: 0.625 | D20: =IF(OR(B20="",C20=""),"", (C20-B20)*24) -> 1 | E20: Operativo | F20: Actualizar tablero y documentación | G20: Base de conocimiento | H20: Media | I20: 5 | J20: Hecho | K20: 2 | L20: 1.09 | M20: =IFERROR(IF(L20="","", L20/D20),"") -> 1.09 | N20: =IF(D20="","",ROUND(D20*VLOOKUP(E20,Configuración!$A$4:$B$9,2,FALSE)*VLOOKUP(H20,Configuración!$D$4:$E$6,2,FALSE)*(I20/5)*VLOOKUP(J20,Configuración!$G$4:$H$7,2,FALSE)*(1-IFERROR(MIN(0.3,K20*0.03),0)),2)) -> 0.75
A21: 46029 | B21: 0.63541667 | C21: 0.66666667 | D21: =IF(OR(B21="",C21=""),"", (C21-B21)*24) -> 0.75 | E21: Aprendizaje | F21: Formación breve: buenas prácticas de comunicación | G21: Base de conocimiento | H21: Media | I21: 3 | J21: En curso | K21: 1 | L21: 0.71 | M21: =IFERROR(IF(L21="","", L21/D21),"") -> 0.94666667 | N21: =IF(D21="","",ROUND(D21*VLOOKUP(E21,Configuración!$A$4:$B$9,2,FALSE)*VLOOKUP(H21,Configuración!$D$4:$E$6,2,FALSE)*(I21/5)*VLOOKUP(J21,Configuración!$G$4:$H$7,2,FALSE)*(1-IFERROR(MIN(0.3,K21*0.03),0)),2)) -> 0.29
A22: 46030 | B22: 0.375 | C22: 0.4375 | D22: =IF(OR(B22="",C22=""),"", (C22-B22)*24) -> 1.5 | E22: Trabajo profundo | F22: Preparar guion de prueba de usabilidad | G22: Optimización de procesos | H22: Alta | I22: 2 | J22: Hecho | K22: 3 | L22: 1.63 | M22: =IFERROR(IF(L22="","", L22/D22),"") -> 1.0866667 | N22: =IF(D22="","",ROUND(D22*VLOOKUP(E22,Configuración!$A$4:$B$9,2,FALSE)*VLOOKUP(H22,Configuración!$D$4:$E$6,2,FALSE)*(I22/5)*VLOOKUP(J22,Configuración!$G$4:$H$7,2,FALSE)*(1-IFERROR(MIN(0.3,K22*0.03),0)),2)) -> 0.92
A23: 46030 | B23: 0.44791667 | C23: 0.47916667 | D23: =IF(OR(B23="",C23=""),"", (C23-B23)*24) -> 0.75 | E23: Colaboración | F23: Reunión de coordinación con equipo | G23: Base de conocimiento | H23: Alta | I23: 4 | J23: Hecho | K23: 4 | L23: 0.81 | M23: =IFERROR(IF(L23="","", L23/D23),"") -> 1.08 | N23: =IF(D23="","",ROUND(D23*VLOOKUP(E23,Configuración!$A$4:$B$9,2,FALSE)*VLOOKUP(H23,Configuración!$D$4:$E$6,2,FALSE)*(I23/5)*VLOOKUP(J23,Configuración!$G$4:$H$7,2,FALSE)*(1-IFERROR(MIN(0.3,K23*0.03),0)),2)) -> 0.69
... A26: 46030 | B26: 0.63541667 | C26: 0.66666667 | D26: =IF(OR(B26="",C26=""),"", (C26-B26)*24) -> 0.75 | E26: Aprendizaje | F26: Leer documentación y tomar notas | G26: Base de conocimiento | H26: Baja | I26: 4 | J26: Hecho | K26: 1 | L26: 0.74 | M26: =IFERROR(IF(L26="","", L26/D26),"") -> 0.98666667 | N26: =IF(D26="","",ROUND(D26*VLOOKUP(E26,Configuración!$A$4:$B$9,2,FALSE)*VLOOKUP(H26,Configuración!$D$4:$E$6,2,FALSE)*(I26/5)*VLOOKUP(J26,Configuración!$G$4:$H$7,2,FALSE)*(1-IFERROR(MIN(0.3,K26*0.03),0)),2)) -> 0.51
A27: 46030 | B27: 0.54166667 | C27: 0.58333333 | D27: =IF(OR(B27="",C27=""),"", (C27-B27)*24) -> 1 | E27: Descanso | F27: Almuerzo | G27: — | H27: Baja | I27: 1 | J27: Hecho | K27: 0 | M27: =IFERROR(IF(L27="","", L27/D27),"") | N27: =IF(D27="","",ROUND(D27*VLOOKUP(E27,Configuración!$A$4:$B$9,2,FALSE)*VLOOKUP(H27,Configuración!$D$4:$E$6,2,FALSE)*(I27/5)*VLOOKUP(J27,Configuración!$G$4:$H$7,2,FALSE)*(1-IFERROR(MIN(0.3,K27*0.03),0)),2)) -> 0
A28: 46031 | B28: 0.375 | C28: 0.4375 | D28: =IF(OR(B28="",C28=""),"", (C28-B28)*24) -> 1.5 | E28: Trabajo profundo | F28: Crear plantilla de respuestas rápidas | G28: Mejora de onboarding | H28: Media | I28: 2 | J28: Hecho | K28: 1 | L28: 1.41 | M28: =IFERROR(IF(L28="","", L28/D28),"") -> 0.94 | N28: =IF(D28="","",ROUND(D28*VLOOKUP(E28,Configuración!$A$4:$B$9,2,FALSE)*VLOOKUP(H28,Configuración!$D$4:$E$6,2,FALSE)*(I28/5)*VLOOKUP(J28,Configuración!$G$4:$H$7,2,FALSE)*(1-IFERROR(MIN(0.3,K28*0.03),0)),2)) -> 0.76
A29: 46031 | B29: 0.44791667 | C29: 0.47916667 | D29: =IF(OR(B29="",C29=""),"", (C29-B29)*24) -> 0.75 | E29: Colaboración | F29: Sesión de alineación con stakeholders | G29: Base de conocimiento | H29: Baja | I29: 4 | J29: En curso | K29: 1 | L29: 0.7 | M29: =IFERROR(IF(L29="","", L29/D29),"") -> 0.93333333 | N29: =IF(D29="","",ROUND(D29*VLOOKUP(E29,Configuración!$A$4:$B$9,2,FALSE)*VLOOKUP(H29,Configuración!$D$4:$E$6,2,FALSE)*(I29/5)*VLOOKUP(J29,Configuración!$G$4:$H$7,2,FALSE)*(1-IFERROR(MIN(0.3,K29*0.03),0)),2)) -> 0.28
A30: 46031 | B30: 0.48958333 | C30: 0.54166667 | D30: =IF(OR(B30="",C30=""),"", (C30-B30)*24) -> 1.25 | E30: Trabajo profundo | F30: Construir checklist de calidad para entregables | G30: Análisis de incidencias | H30: Media | I30: 3 | J30: Hecho | K30: 2 | L30: 1.2 | M30: =IFERROR(IF(L30="","", L30/D30),"") -> 0.96 | N30: =IF(D30="","",ROUND(D30*VLOOKUP(E30,Configuración!$A$4:$B$9,2,FALSE)*VLOOKUP(H30,Configuración!$D$4:$E$6,2,FALSE)*(I30/5)*VLOOKUP(J30,Configuración!$G$4:$H$7,2,FALSE)*(1-IFERROR(MIN(0.3,K30*0.03),0)),2)) -> 0.92
A31: 46031 | B31: 0.58333333 | C31: 0.625 | D31: =IF(OR(B31="",C31=""),"", (C31-B31)*24) -> 1 | E31: Operativo | F31: Clasificar y priorizar solicitudes entrantes | G31: Automatización de reportes | H31: Baja | I31: 2 | J31: Hecho | K31: 1 | L31: 1.09 | M31: =IFERROR(IF(L31="","", L31/D31),"") -> 1.09 | N31: =IF(D31="","",ROUND(D31*VLOOKUP(E31,Configuración!$A$4:$B$9,2,FALSE)*VLOOKUP(H31,Configuración!$D$4:$E$6,2,FALSE)*(I31/5)*VLOOKUP(J31,Configuración!$G$4:$H$7,2,FALSE)*(1-IFERROR(MIN(0.3,K31*0.03),0)),2)) -> 0.25
A32: 46031 | B32: 0.63541667 | C32: 0.66666667 | D32: =IF(OR(B32="",C32=""),"", (C32-B32)*24) -> 0.75 | E32: Aprendizaje | F32: Formación breve: buenas prácticas de comunicación | G32: Optimización de procesos | H32: Alta | I32: 2 | J32: Hecho | K32: 0 | L32: 0.7 | M32: =IFERROR(IF(L32="","", L32/D32),"") -> 0.93333333 | N32: =IF(D32="","",ROUND(D32*VLOOKUP(E32,Configuración!$A$4:$B$9,2,FALSE)*VLOOKUP(H32,Configuración!$D$4:$E$6,2,FALSE)*(I32/5)*VLOOKUP(J32,Configuración!$G$4:$H$7,2,FALSE)*(1-IFERROR(MIN(0.3,K32*0.03),0)),2)) -> 0.43
A33: 46034 | B33: 0.375 | C33: 0.4375 | D33: =IF(OR(B33="",C33=""),"", (C33-B33)*24) -> 1.5 | E33: Trabajo profundo | F33: Diseñar flujo de preguntas para capturar requisitos | G33: Análisis de incidencias | H33: Alta | I33: 2 | J33: Hecho | K33: 1 | L33: 1.6 | M33: =IFERROR(IF(L33="","", L33/D33),"") -> 1.0666667 | N33: =IF(D33="","",ROUND(D33*VLOOKUP(E33,Configuración!$A$4:$B$9,2,FALSE)*VLOOKUP(H33,Configuración!$D$4:$E$6,2,FALSE)*(I33/5)*VLOOKUP(J33,Configuración!$G$4:$H$7,2,FALSE)*(1-IFERROR(MIN(0.3,K33*0.03),0)),2)) -> 0.98
A34: 46034 | B34: 0.44791667 | C34: 0.47916667 | D34: =IF(OR(B34="",C34=""),"", (C34-B34)*24) -> 0.75 | E34: Colaboración | F34: Reunión de coordinación con equipo | G34: Automatización de reportes | H34: Media | I34: 4 | J34: Hecho | K34: 2 | L34: 0.71 | M34: =IFERROR(IF(L34="","", L34/D34),"") -> 0.94666667 | N34: =IF(D34="","",ROUND(D34*VLOOKUP(E34,Configuración!$A$4:$B$9,2,FALSE)*VLOOKUP(H34,Configuración!$D$4:$E$6,2,FALSE)*(I34/5)*VLOOKUP(J34,Configuración!$G$4:$H$7,2,FALSE)*(1-IFERROR(MIN(0.3,K34*0.03),0)),2)) -> 0.56
A35: 46034 | B35: 0.48958333 | C35: 0.54166667 | D35: =IF(OR(B35="",C35=""),"", (C35-B35)*24) -> 1.25 | E35: Trabajo profundo | F35: Diseñar flujo de preguntas para capturar requisitos | G35: Optimización de procesos | H35: Media | I35: 4 | J35: En curso | K35: 2 | L35: 1.34 | M35: =IFERROR(IF(L35="","", L35/D35),"") -> 1.072 | N35: =IF(D35="","",ROUND(D35*VLOOKUP(E35,Configuración!$A$4:$B$9,2,FALSE)*VLOOKUP(H35,Configuración!$D$4:$E$6,2,FALSE)*(I35/5)*VLOOKUP(J35,Configuración!$G$4:$H$7,2,FALSE)*(1-IFERROR(MIN(0.3,K35*0.03),0)),2)) -> 0.73
A36: 46034 | B36: 0.58333333 | C36: 0.625 | D36: =IF(OR(B36="",C36=""),"", (C36-B36)*24) -> 1 | E36: Operativo | F36: Gestionar dependencias y bloqueos | G36: Automatización de reportes | H36: Media | I36: 5 | J36: Bloqueado | K36: 2 | L36: 0.98 | M36: =IFERROR(IF(L36="","", L36/D36),"") -> 0.98 | N36: =IF(D36="","",ROUND(D36*VLOOKUP(E36,Configuración!$A$4:$B$9,2,FALSE)*VLOOKUP(H36,Configuración!$D$4:$E$6,2,FALSE)*(I36/5)*VLOOKUP(J36,Configuración!$G$4:$H$7,2,FALSE)*(1-IFERROR(MIN(0.3,K36*0.03),0)),2)) -> 0.23
A37: 46034 | B37: 0.63541667 | C37: 0.66666667 | D37: =IF(OR(B37="",C37=""),"", (C37-B37)*24) -> 0.75 | E37: Aprendizaje | F37: Leer documentación y tomar notas | G37: Análisis de incidencias | H37: Baja | I37: 5 | J37: Hecho | K37: 2 | L37: 0.69 | M37: =IFERROR(IF(L37="","", L37/D37),"") -> 0.92 | N37: =IF(D37="","",ROUND(D37*VLOOKUP(E37,Configuración!$A$4:$B$9,2,FALSE)*VLOOKUP(H37,Configuración!$D$4:$E$6,2,FALSE)*(I37/5)*VLOOKUP(J37,Configuración!$G$4:$H$7,2,FALSE)*(1-IFERROR(MIN(0.3,K37*0.03),0)),2)) -> 0.62
A38: 46035 | B38: 0.375 | C38: 0.4375 | D38: =IF(OR(B38="",C38=""),"", (C38-B38)*24) -> 1.5 | E38: Trabajo profundo | F38: Construir checklist de calidad para entregables | G38: Mejora de onboarding | H38: Media | I38: 5 | J38: Hecho | K38: 4 | L38: 1.64 | M38: =IFERROR(IF(L38="","", L38/D38),"") -> 1.0933333 | N38: =IF(D38="","",ROUND(D38*VLOOKUP(E38,Configuración!$A$4:$B$9,2,FALSE)*VLOOKUP(H38,Configuración!$D$4:$E$6,2,FALSE)*(I38/5)*VLOOKUP(J38,Configuración!$G$4:$H$7,2,FALSE)*(1-IFERROR(MIN(0.3,K38*0.03),0)),2)) -> 1.72
A39: 46035 | B39: 0.44791667 | C39: 0.47916667 | D39: =IF(OR(B39="",C39=""),"", (C39-B39)*24) -> 0.75 | E39: Colaboración | F39: Revisión cruzada de entregables | G39: Mejora de onboarding | H39: Baja | I39: 4 | J39: Hecho | K39: 4 | L39: 0.76 | M39: =IFERROR(IF(L39="","", L39/D39),"") -> 1.0133333 | N39: =IF(D39="","",ROUND(D39*VLOOKUP(E39,Configuración!$A$4:$B$9,2,FALSE)*VLOOKUP(H39,Configuración!$D$4:$E$6,2,FALSE)*(I39/5)*VLOOKUP(J39,Configuración!$G$4:$H$7,2,FALSE)*(1-IFERROR(MIN(0.3,K39*0.03),0)),2)) -> 0.42
... A47: 46036 | B47: 0.63541667 | C47: 0.66666667 | D47: =IF(OR(B47="",C47=""),"", (C47-B47)*24) -> 0.75 | E47: Aprendizaje | F47: Formación breve: buenas prácticas de comunicación | G47: Base de conocimiento | H47: Alta | I47: 4 | J47: Hecho | K47: 0 | L47: 0.73 | M47: =IFERROR(IF(L47="","", L47/D47),"") -> 0.97333333 | N47: =IF(D47="","",ROUND(D47*VLOOKUP(E47,Configuración!$A$4:$B$9,2,FALSE)*VLOOKUP(H47,Configuración!$D$4:$E$6,2,FALSE)*(I47/5)*VLOOKUP(J47,Configuración!$G$4:$H$7,2,FALSE)*(1-IFERROR(MIN(0.3,K47*0.03),0)),2)) -> 0.86
A48: 46036 | B48: 0.54166667 | C48: 0.58333333 | D48: =IF(OR(B48="",C48=""),"", (C48-B48)*24) -> 1 | E48: Descanso | F48: Pausa café | G48: — | H48: Baja | I48: 1 | J48: Hecho | K48: 0 | M48: =IFERROR(IF(L48="","", L48/D48),"") | N48: =IF(D48="","",ROUND(D48*VLOOKUP(E48,Configuración!$A$4:$B$9,2,FALSE)*VLOOKUP(H48,Configuración!$D$4:$E$6,2,FALSE)*(I48/5)*VLOOKUP(J48,Configuración!$G$4:$H$7,2,FALSE)*(1-IFERROR(MIN(0.3,K48*0.03),0)),2)) -> 0
A49: 46037 | B49: 0.375 | C49: 0.4375 | D49: =IF(OR(B49="",C49=""),"", (C49-B49)*24) -> 1.5 | E49: Trabajo profundo | F49: Construir checklist de calidad para entregables | G49: Automatización de reportes | H49: Baja | I49: 2 | J49: Hecho | K49: 0 | L49: 1.52 | M49: =IFERROR(IF(L49="","", L49/D49),"") -> 1.0133333 | N49: =IF(D49="","",ROUND(D49*VLOOKUP(E49,Configuración!$A$4:$B$9,2,FALSE)*VLOOKUP(H49,Configuración!$D$4:$E$6,2,FALSE)*(I49/5)*VLOOKUP(J49,Configuración!$G$4:$H$7,2,FALSE)*(1-IFERROR(MIN(0.3,K49*0.03),0)),2)) -> 0.62
A50: 46037 | B50: 0.44791667 | C50: 0.47916667 | D50: =IF(OR(B50="",C50=""),"", (C50-B50)*24) -> 0.75 | E50: Colaboración | F50: Reunión de coordinación con equipo | G50: Análisis de incidencias | H50: Baja | I50: 5 | J50: En curso | K50: 1 | L50: 0.79 | M50: =IFERROR(IF(L50="","", L50/D50),"") -> 1.0533333 | N50: =IF(D50="","",ROUND(D50*VLOOKUP(E50,Configuración!$A$4:$B$9,2,FALSE)*VLOOKUP(H50,Configuración!$D$4:$E$6,2,FALSE)*(I50/5)*VLOOKUP(J50,Configuración!$G$4:$H$7,2,FALSE)*(1-IFERROR(MIN(0.3,K50*0.03),0)),2)) -> 0.35
A51: 46037 | B51: 0.48958333 | C51: 0.54166667 | D51: =IF(OR(B51="",C51=""),"", (C51-B51)*24) -> 1.25 | E51: Trabajo profundo | F51: Preparar guion de prueba de usabilidad | G51: Capacitación interna | H51: Baja | I51: 2 | J51: Hecho | K51: 0 | L51: 1.26 | M51: =IFERROR(IF(L51="","", L51/D51),"") -> 1.008 | N51: =IF(D51="","",ROUND(D51*VLOOKUP(E51,Configuración!$A$4:$B$9,2,FALSE)*VLOOKUP(H51,Configuración!$D$4:$E$6,2,FALSE)*(I51/5)*VLOOKUP(J51,Configuración!$G$4:$H$7,2,FALSE)*(1-IFERROR(MIN(0.3,K51*0.03),0)),2)) -> 0.52
...

Sheet Configuración
A1: Listas y pesos (edita si lo necesitas)
A3: Categoría | B3: Peso | D3: Prioridad | E3: Peso | G3: Estado | H3: Factor | J3: Valor (1-5)
A4: Trabajo profundo | B4: 1.3 | D4: Alta | E4: 1.3 | G4: Hecho | H4: 1 | J4: 1
A5: Colaboración | B5: 1 | D5: Media | E5: 1 | G5: En curso | H5: 0.6 | J5: 2
A6: Operativo | B6: 0.8 | D6: Baja | E6: 0.8 | G6: Bloqueado | H6: 0.3 | J6: 3
A7: Aprendizaje | B7: 1.1 | G7: Cancelado | H7: 0 | J7: 4
A8: Descanso | B8: 0 | J8: 5
A9: Interrupciones | B9: 0
A11: Meses disponibles (para el filtro del Panel) | F11: Objetivos (opcional)
A12: Mes | B12: Inicio mes | C12: Fin mes | D12: Clave (yyyymm) | F12: Métrica | G12: Objetivo
A13: Ene-2026 | B13: 46023 | C13: 46053 | D13: 202601 | F13: Horas objetivo/día | G13: 8
A14: Feb-2026 | B14: 46054 | C14: 46081 | D14: 202602 | F14: % objetivo trabajo profundo | G14: 0.45
A15: Mar-2026 | B15: 46082 | C15: 46112 | D15: 202603 | F15: Interrupciones objetivo/día | G15: 6
