Workbook

Sheet Inicio
A1: Plantillas Excel futbol gratis — Gestor de liga
A3: Configuracion
A4: Nombre de la liga | B4: Liga amateur de invierno | D4: Temporada | E4: 2026
A5: Tipo | B5: Ida y vuelta | D5: Fecha inicio | E5: 46082
A6: Dias entre jornadas | B6: 7 | D6: Puntos (V / E / D) | E6: 3 | F6: 1 | G6: 0
A8: Equipos (3 a 18)
A9: # | B9: Equipo | D9: Equipos detectados | E9: =COUNTIF(B10:B27,"<>") -> 10 | F9: Equipos (con descanso) | G9: =IF(MOD(E9,2)=1,E9+1,E9) -> 10
A10: 1 | B10: Atletico Bahia
A11: 2 | B11: Deportivo Alboran
A12: 3 | B12: Racing del Prado
A13: 4 | B13: Union Sierra
A14: 5 | B14: Sporting Marea
A15: 6 | B15: Real Mirador
A16: 7 | B16: CD Aurora
A17: 8 | B17: Inter Laguna
A18: 9 | B18: Juventud Central
A19: 10 | B19: Velez Sur
A20: 11
A21: 12
A22: 13
A23: 14
A24: 15
A25: 16
A26: 17
A27: 18
A29: Uso rapido: escribe los equipos sin dejar huecos; elige 'Solo ida' o 'Ida y vuelta'; introduce resultados en la pestaña Partidos; la Clasificacion se actualiza sola. Con numero impar de equipos, se añade automaticamente 'Descansa'.

Sheet Partidos
A1: Partidos y resultados
A4: Jornada | B4: Fecha | C4: Local | D4: Goles L | E4: Goles V | F4: Visitante | G4: Estado | H4: Pts L | I4: Pts V | J4: WL | K4: DL | L4: LL | M4: WV | N4: DV | O4: LV
A5: =IF(OR(Calculos!$B$7=0,1>Calculos!$B$7),"",INT((1-1)/Calculos!$B$6)+1) -> 1 | B5: =IF(A5="","",Inicio!$E$5+(A5-1)*Inicio!$B$6) -> 46082 | C5: =IF(A5="","",INDEX(Calculos!$B$11:$B$28,IF(A5>Calculos!$B$4,IF(MOD(IF(A5<=Calculos!$B$4,A5,A5-Calculos!$B$4)+MOD(1-1,Calculos!$B$6)+1,2)=0,INDEX(Calculos!$B$36:$S$52,IF(A5<=Calculos!$B$4,A5,A5-Calculos!$B$4),MOD(1-1,Calculos!$B$6)+1),INDEX(Calculos!$B$36:$S$52,IF(A5<=Calculos!$B$4,A5,A5-Calculos!$B$4),Calculos!$B$2+1-MOD(1-1,Calculos!$B$6)+1)),IF(MOD(IF(A5<=Calculos!$B$4,A5,A5-Calculos!$B$4)+MOD(1-1,Calculos!$B$6)+1,2)=0,INDEX(Calculos!$B$36:$S$52,IF(A5<=Calculos!$B$4,A5,A5-Calculos!$B$4),Calculos!$B$2+1-MOD(1-1,Calculos!$B$6)+1),INDEX(Calculos!$B$36:$S$52,IF(A5<=Calculos!$B$4,A5,A5-Calculos!$B$4),MOD(1-1,Calculos!$B$6)+1))))) -> #VALUE! | D5: 2 | E5: 1 | F5: =IF(A5="","",INDEX(Calculos!$B$11:$B$28,IF(A5>Calculos!$B$4,IF(MOD(IF(A5<=Calculos!$B$4,A5,A5-Calculos!$B$4)+MOD(1-1,Calculos!$B$6)+1,2)=0,INDEX(Calculos!$B$36:$S$52,IF(A5<=Calculos!$B$4,A5,A5-Calculos!$B$4),Calculos!$B$2+1-MOD(1-1,Calculos!$B$6)+1),INDEX(Calculos!$B$36:$S$52,IF(A5<=Calculos!$B$4,A5,A5-Calculos!$B$4),MOD(1-1,Calculos!$B$6)+1)),IF(MOD(IF(A5<=Calculos!$B$4,A5,A5-Calculos!$B$4)+MOD(1-1,Calculos!$B$6)+1,2)=0,INDEX(Calculos!$B$36:$S$52,IF(A5<=Calculos!$B$4,A5,A5-Calculos!$B$4),MOD(1-1,Calculos!$B$6)+1),INDEX(Calculos!$B$36:$S$52,IF(A5<=Calculos!$B$4,A5,A5-Calculos!$B$4),Calculos!$B$2+1-MOD(1-1,Calculos!$B$6)+1))))) -> #VALUE! | G5: =IF(A5="","",IF(AND(ISNUMBER(D5),ISNUMBER(E5)),"Jugado","Pendiente")) -> Jugado | H5: =IF(OR(C5="",F5=""),"",IF(AND(ISNUMBER(D5),ISNUMBER(E5)),IF(D5>E5,Inicio!$E$6,IF(D5=E5,Inicio!$F$6,Inicio!$G$6)),"")) -> #VALUE! | I5: =IF(OR(C5="",F5=""),"",IF(AND(ISNUMBER(D5),ISNUMBER(E5)),IF(D5<E5,Inicio!$E$6,IF(D5=E5,Inicio!$F$6,Inicio!$G$6)),"")) -> #VALUE! | J5: =IF(AND(ISNUMBER(D5),ISNUMBER(E5),D5>E5),1,0) -> 1 | K5: =IF(AND(ISNUMBER(D5),ISNUMBER(E5),D5=E5),1,0) -> 0 | L5: =IF(AND(ISNUMBER(D5),ISNUMBER(E5),D5<E5),1,0) -> 0 | M5: =IF(AND(ISNUMBER(D5),ISNUMBER(E5),D5<E5),1,0) -> 0 | N5: =IF(AND(ISNUMBER(D5),ISNUMBER(E5),D5=E5),1,0) -> 0 | O5: =IF(AND(ISNUMBER(D5),ISNUMBER(E5),D5>E5),1,0) -> 1
A6: =IF(OR(Calculos!$B$7=0,2>Calculos!$B$7),"",INT((2-1)/Calculos!$B$6)+1) -> 1 | B6: =IF(A6="","",Inicio!$E$5+(A6-1)*Inicio!$B$6) -> 46082 | C6: =IF(A6="","",INDEX(Calculos!$B$11:$B$28,IF(A6>Calculos!$B$4,IF(MOD(IF(A6<=Calculos!$B$4,A6,A6-Calculos!$B$4)+MOD(2-1,Calculos!$B$6)+1,2)=0,INDEX(Calculos!$B$36:$S$52,IF(A6<=Calculos!$B$4,A6,A6-Calculos!$B$4),MOD(2-1,Calculos!$B$6)+1),INDEX(Calculos!$B$36:$S$52,IF(A6<=Calculos!$B$4,A6,A6-Calculos!$B$4),Calculos!$B$2+1-MOD(2-1,Calculos!$B$6)+1)),IF(MOD(IF(A6<=Calculos!$B$4,A6,A6-Calculos!$B$4)+MOD(2-1,Calculos!$B$6)+1,2)=0,INDEX(Calculos!$B$36:$S$52,IF(A6<=Calculos!$B$4,A6,A6-Calculos!$B$4),Calculos!$B$2+1-MOD(2-1,Calculos!$B$6)+1),INDEX(Calculos!$B$36:$S$52,IF(A6<=Calculos!$B$4,A6,A6-Calculos!$B$4),MOD(2-1,Calculos!$B$6)+1))))) -> #VALUE! | D6: 0 | E6: 0 | F6: =IF(A6="","",INDEX(Calculos!$B$11:$B$28,IF(A6>Calculos!$B$4,IF(MOD(IF(A6<=Calculos!$B$4,A6,A6-Calculos!$B$4)+MOD(2-1,Calculos!$B$6)+1,2)=0,INDEX(Calculos!$B$36:$S$52,IF(A6<=Calculos!$B$4,A6,A6-Calculos!$B$4),Calculos!$B$2+1-MOD(2-1,Calculos!$B$6)+1),INDEX(Calculos!$B$36:$S$52,IF(A6<=Calculos!$B$4,A6,A6-Calculos!$B$4),MOD(2-1,Calculos!$B$6)+1)),IF(MOD(IF(A6<=Calculos!$B$4,A6,A6-Calculos!$B$4)+MOD(2-1,Calculos!$B$6)+1,2)=0,INDEX(Calculos!$B$36:$S$52,IF(A6<=Calculos!$B$4,A6,A6-Calculos!$B$4),MOD(2-1,Calculos!$B$6)+1),INDEX(Calculos!$B$36:$S$52,IF(A6<=Calculos!$B$4,A6,A6-Calculos!$B$4),Calculos!$B$2+1-MOD(2-1,Calculos!$B$6)+1))))) -> #VALUE! | G6: =IF(A6="","",IF(AND(ISNUMBER(D6),ISNUMBER(E6)),"Jugado","Pendiente")) -> Jugado | H6: =IF(OR(C6="",F6=""),"",IF(AND(ISNUMBER(D6),ISNUMBER(E6)),IF(D6>E6,Inicio!$E$6,IF(D6=E6,Inicio!$F$6,Inicio!$G$6)),"")) -> #VALUE! | I6: =IF(OR(C6="",F6=""),"",IF(AND(ISNUMBER(D6),ISNUMBER(E6)),IF(D6<E6,Inicio!$E$6,IF(D6=E6,Inicio!$F$6,Inicio!$G$6)),"")) -> #VALUE! | J6: =IF(AND(ISNUMBER(D6),ISNUMBER(E6),D6>E6),1,0) -> 0 | K6: =IF(AND(ISNUMBER(D6),ISNUMBER(E6),D6=E6),1,0) -> 1 | L6: =IF(AND(ISNUMBER(D6),ISNUMBER(E6),D6<E6),1,0) -> 0 | M6: =IF(AND(ISNUMBER(D6),ISNUMBER(E6),D6<E6),1,0) -> 0 | N6: =IF(AND(ISNUMBER(D6),ISNUMBER(E6),D6=E6),1,0) -> 1 | O6: =IF(AND(ISNUMBER(D6),ISNUMBER(E6),D6>E6),1,0) -> 0
A7: =IF(OR(Calculos!$B$7=0,3>Calculos!$B$7),"",INT((3-1)/Calculos!$B$6)+1) -> 1 | B7: =IF(A7="","",Inicio!$E$5+(A7-1)*Inicio!$B$6) -> 46082 | C7: =IF(A7="","",INDEX(Calculos!$B$11:$B$28,IF(A7>Calculos!$B$4,IF(MOD(IF(A7<=Calculos!$B$4,A7,A7-Calculos!$B$4)+MOD(3-1,Calculos!$B$6)+1,2)=0,INDEX(Calculos!$B$36:$S$52,IF(A7<=Calculos!$B$4,A7,A7-Calculos!$B$4),MOD(3-1,Calculos!$B$6)+1),INDEX(Calculos!$B$36:$S$52,IF(A7<=Calculos!$B$4,A7,A7-Calculos!$B$4),Calculos!$B$2+1-MOD(3-1,Calculos!$B$6)+1)),IF(MOD(IF(A7<=Calculos!$B$4,A7,A7-Calculos!$B$4)+MOD(3-1,Calculos!$B$6)+1,2)=0,INDEX(Calculos!$B$36:$S$52,IF(A7<=Calculos!$B$4,A7,A7-Calculos!$B$4),Calculos!$B$2+1-MOD(3-1,Calculos!$B$6)+1),INDEX(Calculos!$B$36:$S$52,IF(A7<=Calculos!$B$4,A7,A7-Calculos!$B$4),MOD(3-1,Calculos!$B$6)+1))))) -> #VALUE! | D7: 3 | E7: 2 | F7: =IF(A7="","",INDEX(Calculos!$B$11:$B$28,IF(A7>Calculos!$B$4,IF(MOD(IF(A7<=Calculos!$B$4,A7,A7-Calculos!$B$4)+MOD(3-1,Calculos!$B$6)+1,2)=0,INDEX(Calculos!$B$36:$S$52,IF(A7<=Calculos!$B$4,A7,A7-Calculos!$B$4),Calculos!$B$2+1-MOD(3-1,Calculos!$B$6)+1),INDEX(Calculos!$B$36:$S$52,IF(A7<=Calculos!$B$4,A7,A7-Calculos!$B$4),MOD(3-1,Calculos!$B$6)+1)),IF(MOD(IF(A7<=Calculos!$B$4,A7,A7-Calculos!$B$4)+MOD(3-1,Calculos!$B$6)+1,2)=0,INDEX(Calculos!$B$36:$S$52,IF(A7<=Calculos!$B$4,A7,A7-Calculos!$B$4),MOD(3-1,Calculos!$B$6)+1),INDEX(Calculos!$B$36:$S$52,IF(A7<=Calculos!$B$4,A7,A7-Calculos!$B$4),Calculos!$B$2+1-MOD(3-1,Calculos!$B$6)+1))))) -> #VALUE! | G7: =IF(A7="","",IF(AND(ISNUMBER(D7),ISNUMBER(E7)),"Jugado","Pendiente")) -> Jugado | H7: =IF(OR(C7="",F7=""),"",IF(AND(ISNUMBER(D7),ISNUMBER(E7)),IF(D7>E7,Inicio!$E$6,IF(D7=E7,Inicio!$F$6,Inicio!$G$6)),"")) -> #VALUE! | I7: =IF(OR(C7="",F7=""),"",IF(AND(ISNUMBER(D7),ISNUMBER(E7)),IF(D7<E7,Inicio!$E$6,IF(D7=E7,Inicio!$F$6,Inicio!$G$6)),"")) -> #VALUE! | J7: =IF(AND(ISNUMBER(D7),ISNUMBER(E7),D7>E7),1,0) -> 1 | K7: =IF(AND(ISNUMBER(D7),ISNUMBER(E7),D7=E7),1,0) -> 0 | L7: =IF(AND(ISNUMBER(D7),ISNUMBER(E7),D7<E7),1,0) -> 0 | M7: =IF(AND(ISNUMBER(D7),ISNUMBER(E7),D7<E7),1,0) -> 0 | N7: =IF(AND(ISNUMBER(D7),ISNUMBER(E7),D7=E7),1,0) -> 0 | O7: =IF(AND(ISNUMBER(D7),ISNUMBER(E7),D7>E7),1,0) -> 1
A8: =IF(OR(Calculos!$B$7=0,4>Calculos!$B$7),"",INT((4-1)/Calculos!$B$6)+1) -> 1 | B8: =IF(A8="","",Inicio!$E$5+(A8-1)*Inicio!$B$6) -> 46082 | C8: =IF(A8="","",INDEX(Calculos!$B$11:$B$28,IF(A8>Calculos!$B$4,IF(MOD(IF(A8<=Calculos!$B$4,A8,A8-Calculos!$B$4)+MOD(4-1,Calculos!$B$6)+1,2)=0,INDEX(Calculos!$B$36:$S$52,IF(A8<=Calculos!$B$4,A8,A8-Calculos!$B$4),MOD(4-1,Calculos!$B$6)+1),INDEX(Calculos!$B$36:$S$52,IF(A8<=Calculos!$B$4,A8,A8-Calculos!$B$4),Calculos!$B$2+1-MOD(4-1,Calculos!$B$6)+1)),IF(MOD(IF(A8<=Calculos!$B$4,A8,A8-Calculos!$B$4)+MOD(4-1,Calculos!$B$6)+1,2)=0,INDEX(Calculos!$B$36:$S$52,IF(A8<=Calculos!$B$4,A8,A8-Calculos!$B$4),Calculos!$B$2+1-MOD(4-1,Calculos!$B$6)+1),INDEX(Calculos!$B$36:$S$52,IF(A8<=Calculos!$B$4,A8,A8-Calculos!$B$4),MOD(4-1,Calculos!$B$6)+1))))) -> #VALUE! | D8: 1 | E8: 2 | F8: =IF(A8="","",INDEX(Calculos!$B$11:$B$28,IF(A8>Calculos!$B$4,IF(MOD(IF(A8<=Calculos!$B$4,A8,A8-Calculos!$B$4)+MOD(4-1,Calculos!$B$6)+1,2)=0,INDEX(Calculos!$B$36:$S$52,IF(A8<=Calculos!$B$4,A8,A8-Calculos!$B$4),Calculos!$B$2+1-MOD(4-1,Calculos!$B$6)+1),INDEX(Calculos!$B$36:$S$52,IF(A8<=Calculos!$B$4,A8,A8-Calculos!$B$4),MOD(4-1,Calculos!$B$6)+1)),IF(MOD(IF(A8<=Calculos!$B$4,A8,A8-Calculos!$B$4)+MOD(4-1,Calculos!$B$6)+1,2)=0,INDEX(Calculos!$B$36:$S$52,IF(A8<=Calculos!$B$4,A8,A8-Calculos!$B$4),MOD(4-1,Calculos!$B$6)+1),INDEX(Calculos!$B$36:$S$52,IF(A8<=Calculos!$B$4,A8,A8-Calculos!$B$4),Calculos!$B$2+1-MOD(4-1,Calculos!$B$6)+1))))) -> #VALUE! | G8: =IF(A8="","",IF(AND(ISNUMBER(D8),ISNUMBER(E8)),"Jugado","Pendiente")) -> Jugado | H8: =IF(OR(C8="",F8=""),"",IF(AND(ISNUMBER(D8),ISNUMBER(E8)),IF(D8>E8,Inicio!$E$6,IF(D8=E8,Inicio!$F$6,Inicio!$G$6)),"")) -> #VALUE! | I8: =IF(OR(C8="",F8=""),"",IF(AND(ISNUMBER(D8),ISNUMBER(E8)),IF(D8<E8,Inicio!$E$6,IF(D8=E8,Inicio!$F$6,Inicio!$G$6)),"")) -> #VALUE! | J8: =IF(AND(ISNUMBER(D8),ISNUMBER(E8),D8>E8),1,0) -> 0 | K8: =IF(AND(ISNUMBER(D8),ISNUMBER(E8),D8=E8),1,0) -> 0 | L8: =IF(AND(ISNUMBER(D8),ISNUMBER(E8),D8<E8),1,0) -> 1 | M8: =IF(AND(ISNUMBER(D8),ISNUMBER(E8),D8<E8),1,0) -> 1 | N8: =IF(AND(ISNUMBER(D8),ISNUMBER(E8),D8=E8),1,0) -> 0 | O8: =IF(AND(ISNUMBER(D8),ISNUMBER(E8),D8>E8),1,0) -> 0
A9: =IF(OR(Calculos!$B$7=0,5>Calculos!$B$7),"",INT((5-1)/Calculos!$B$6)+1) -> 1 | B9: =IF(A9="","",Inicio!$E$5+(A9-1)*Inicio!$B$6) -> 46082 | C9: =IF(A9="","",INDEX(Calculos!$B$11:$B$28,IF(A9>Calculos!$B$4,IF(MOD(IF(A9<=Calculos!$B$4,A9,A9-Calculos!$B$4)+MOD(5-1,Calculos!$B$6)+1,2)=0,INDEX(Calculos!$B$36:$S$52,IF(A9<=Calculos!$B$4,A9,A9-Calculos!$B$4),MOD(5-1,Calculos!$B$6)+1),INDEX(Calculos!$B$36:$S$52,IF(A9<=Calculos!$B$4,A9,A9-Calculos!$B$4),Calculos!$B$2+1-MOD(5-1,Calculos!$B$6)+1)),IF(MOD(IF(A9<=Calculos!$B$4,A9,A9-Calculos!$B$4)+MOD(5-1,Calculos!$B$6)+1,2)=0,INDEX(Calculos!$B$36:$S$52,IF(A9<=Calculos!$B$4,A9,A9-Calculos!$B$4),Calculos!$B$2+1-MOD(5-1,Calculos!$B$6)+1),INDEX(Calculos!$B$36:$S$52,IF(A9<=Calculos!$B$4,A9,A9-Calculos!$B$4),MOD(5-1,Calculos!$B$6)+1))))) -> #VALUE! | D9: 4 | E9: 0 | F9: =IF(A9="","",INDEX(Calculos!$B$11:$B$28,IF(A9>Calculos!$B$4,IF(MOD(IF(A9<=Calculos!$B$4,A9,A9-Calculos!$B$4)+MOD(5-1,Calculos!$B$6)+1,2)=0,INDEX(Calculos!$B$36:$S$52,IF(A9<=Calculos!$B$4,A9,A9-Calculos!$B$4),Calculos!$B$2+1-MOD(5-1,Calculos!$B$6)+1),INDEX(Calculos!$B$36:$S$52,IF(A9<=Calculos!$B$4,A9,A9-Calculos!$B$4),MOD(5-1,Calculos!$B$6)+1)),IF(MOD(IF(A9<=Calculos!$B$4,A9,A9-Calculos!$B$4)+MOD(5-1,Calculos!$B$6)+1,2)=0,INDEX(Calculos!$B$36:$S$52,IF(A9<=Calculos!$B$4,A9,A9-Calculos!$B$4),MOD(5-1,Calculos!$B$6)+1),INDEX(Calculos!$B$36:$S$52,IF(A9<=Calculos!$B$4,A9,A9-Calculos!$B$4),Calculos!$B$2+1-MOD(5-1,Calculos!$B$6)+1))))) -> #VALUE! | G9: =IF(A9="","",IF(AND(ISNUMBER(D9),ISNUMBER(E9)),"Jugado","Pendiente")) -> Jugado | H9: =IF(OR(C9="",F9=""),"",IF(AND(ISNUMBER(D9),ISNUMBER(E9)),IF(D9>E9,Inicio!$E$6,IF(D9=E9,Inicio!$F$6,Inicio!$G$6)),"")) -> #VALUE! | I9: =IF(OR(C9="",F9=""),"",IF(AND(ISNUMBER(D9),ISNUMBER(E9)),IF(D9<E9,Inicio!$E$6,IF(D9=E9,Inicio!$F$6,Inicio!$G$6)),"")) -> #VALUE! | J9: =IF(AND(ISNUMBER(D9),ISNUMBER(E9),D9>E9),1,0) -> 1 | K9: =IF(AND(ISNUMBER(D9),ISNUMBER(E9),D9=E9),1,0) -> 0 | L9: =IF(AND(ISNUMBER(D9),ISNUMBER(E9),D9<E9),1,0) -> 0 | M9: =IF(AND(ISNUMBER(D9),ISNUMBER(E9),D9<E9),1,0) -> 0 | N9: =IF(AND(ISNUMBER(D9),ISNUMBER(E9),D9=E9),1,0) -> 0 | O9: =IF(AND(ISNUMBER(D9),ISNUMBER(E9),D9>E9),1,0) -> 1
A10: =IF(OR(Calculos!$B$7=0,6>Calculos!$B$7),"",INT((6-1)/Calculos!$B$6)+1) -> 2 | B10: =IF(A10="","",Inicio!$E$5+(A10-1)*Inicio!$B$6) -> 46089 | C10: =IF(A10="","",INDEX(Calculos!$B$11:$B$28,IF(A10>Calculos!$B$4,IF(MOD(IF(A10<=Calculos!$B$4,A10,A10-Calculos!$B$4)+MOD(6-1,Calculos!$B$6)+1,2)=0,INDEX(Calculos!$B$36:$S$52,IF(A10<=Calculos!$B$4,A10,A10-Calculos!$B$4),MOD(6-1,Calculos!$B$6)+1),INDEX(Calculos!$B$36:$S$52,IF(A10<=Calculos!$B$4,A10,A10-Calculos!$B$4),Calculos!$B$2+1-MOD(6-1,Calculos!$B$6)+1)),IF(MOD(IF(A10<=Calculos!$B$4,A10,A10-Calculos!$B$4)+MOD(6-1,Calculos!$B$6)+1,2)=0,INDEX(Calculos!$B$36:$S$52,IF(A10<=Calculos!$B$4,A10,A10-Calculos!$B$4),Calculos!$B$2+1-MOD(6-1,Calculos!$B$6)+1),INDEX(Calculos!$B$36:$S$52,IF(A10<=Calculos!$B$4,A10,A10-Calculos!$B$4),MOD(6-1,Calculos!$B$6)+1))))) -> #VALUE! | D10: 1 | E10: 1 | F10: =IF(A10="","",INDEX(Calculos!$B$11:$B$28,IF(A10>Calculos!$B$4,IF(MOD(IF(A10<=Calculos!$B$4,A10,A10-Calculos!$B$4)+MOD(6-1,Calculos!$B$6)+1,2)=0,INDEX(Calculos!$B$36:$S$52,IF(A10<=Calculos!$B$4,A10,A10-Calculos!$B$4),Calculos!$B$2+1-MOD(6-1,Calculos!$B$6)+1),INDEX(Calculos!$B$36:$S$52,IF(A10<=Calculos!$B$4,A10,A10-Calculos!$B$4),MOD(6-1,Calculos!$B$6)+1)),IF(MOD(IF(A10<=Calculos!$B$4,A10,A10-Calculos!$B$4)+MOD(6-1,Calculos!$B$6)+1,2)=0,INDEX(Calculos!$B$36:$S$52,IF(A10<=Calculos!$B$4,A10,A10-Calculos!$B$4),MOD(6-1,Calculos!$B$6)+1),INDEX(Calculos!$B$36:$S$52,IF(A10<=Calculos!$B$4,A10,A10-Calculos!$B$4),Calculos!$B$2+1-MOD(6-1,Calculos!$B$6)+1))))) -> #VALUE! | G10: =IF(A10="","",IF(AND(ISNUMBER(D10),ISNUMBER(E10)),"Jugado","Pendiente")) -> Jugado | H10: =IF(OR(C10="",F10=""),"",IF(AND(ISNUMBER(D10),ISNUMBER(E10)),IF(D10>E10,Inicio!$E$6,IF(D10=E10,Inicio!$F$6,Inicio!$G$6)),"")) -> #VALUE! | I10: =IF(OR(C10="",F10=""),"",IF(AND(ISNUMBER(D10),ISNUMBER(E10)),IF(D10<E10,Inicio!$E$6,IF(D10=E10,Inicio!$F$6,Inicio!$G$6)),"")) -> #VALUE! | J10: =IF(AND(ISNUMBER(D10),ISNUMBER(E10),D10>E10),1,0) -> 0 | K10: =IF(AND(ISNUMBER(D10),ISNUMBER(E10),D10=E10),1,0) -> 1 | L10: =IF(AND(ISNUMBER(D10),ISNUMBER(E10),D10<E10),1,0) -> 0 | M10: =IF(AND(ISNUMBER(D10),ISNUMBER(E10),D10<E10),1,0) -> 0 | N10: =IF(AND(ISNUMBER(D10),ISNUMBER(E10),D10=E10),1,0) -> 1 | O10: =IF(AND(ISNUMBER(D10),ISNUMBER(E10),D10>E10),1,0) -> 0
A11: =IF(OR(Calculos!$B$7=0,7>Calculos!$B$7),"",INT((7-1)/Calculos!$B$6)+1) -> 2 | B11: =IF(A11="","",Inicio!$E$5+(A11-1)*Inicio!$B$6) -> 46089 | C11: =IF(A11="","",INDEX(Calculos!$B$11:$B$28,IF(A11>Calculos!$B$4,IF(MOD(IF(A11<=Calculos!$B$4,A11,A11-Calculos!$B$4)+MOD(7-1,Calculos!$B$6)+1,2)=0,INDEX(Calculos!$B$36:$S$52,IF(A11<=Calculos!$B$4,A11,A11-Calculos!$B$4),MOD(7-1,Calculos!$B$6)+1),INDEX(Calculos!$B$36:$S$52,IF(A11<=Calculos!$B$4,A11,A11-Calculos!$B$4),Calculos!$B$2+1-MOD(7-1,Calculos!$B$6)+1)),IF(MOD(IF(A11<=Calculos!$B$4,A11,A11-Calculos!$B$4)+MOD(7-1,Calculos!$B$6)+1,2)=0,INDEX(Calculos!$B$36:$S$52,IF(A11<=Calculos!$B$4,A11,A11-Calculos!$B$4),Calculos!$B$2+1-MOD(7-1,Calculos!$B$6)+1),INDEX(Calculos!$B$36:$S$52,IF(A11<=Calculos!$B$4,A11,A11-Calculos!$B$4),MOD(7-1,Calculos!$B$6)+1))))) -> Atletico Bahia | D11: 2 | E11: 0 | F11: =IF(A11="","",INDEX(Calculos!$B$11:$B$28,IF(A11>Calculos!$B$4,IF(MOD(IF(A11<=Calculos!$B$4,A11,A11-Calculos!$B$4)+MOD(7-1,Calculos!$B$6)+1,2)=0,INDEX(Calculos!$B$36:$S$52,IF(A11<=Calculos!$B$4,A11,A11-Calculos!$B$4),Calculos!$B$2+1-MOD(7-1,Calculos!$B$6)+1),INDEX(Calculos!$B$36:$S$52,IF(A11<=Calculos!$B$4,A11,A11-Calculos!$B$4),MOD(7-1,Calculos!$B$6)+1)),IF(MOD(IF(A11<=Calculos!$B$4,A11,A11-Calculos!$B$4)+MOD(7-1,Calculos!$B$6)+1,2)=0,INDEX(Calculos!$B$36:$S$52,IF(A11<=Calculos!$B$4,A11,A11-Calculos!$B$4),MOD(7-1,Calculos!$B$6)+1),INDEX(Calculos!$B$36:$S$52,IF(A11<=Calculos!$B$4,A11,A11-Calculos!$B$4),Calculos!$B$2+1-MOD(7-1,Calculos!$B$6)+1))))) -> Atletico Bahia | G11: =IF(A11="","",IF(AND(ISNUMBER(D11),ISNUMBER(E11)),"Jugado","Pendiente")) -> Jugado | H11: =IF(OR(C11="",F11=""),"",IF(AND(ISNUMBER(D11),ISNUMBER(E11)),IF(D11>E11,Inicio!$E$6,IF(D11=E11,Inicio!$F$6,Inicio!$G$6)),"")) -> 3 | I11: =IF(OR(C11="",F11=""),"",IF(AND(ISNUMBER(D11),ISNUMBER(E11)),IF(D11<E11,Inicio!$E$6,IF(D11=E11,Inicio!$F$6,Inicio!$G$6)),"")) -> 0 | J11: =IF(AND(ISNUMBER(D11),ISNUMBER(E11),D11>E11),1,0) -> 1 | K11: =IF(AND(ISNUMBER(D11),ISNUMBER(E11),D11=E11),1,0) -> 0 | L11: =IF(AND(ISNUMBER(D11),ISNUMBER(E11),D11<E11),1,0) -> 0 | M11: =IF(AND(ISNUMBER(D11),ISNUMBER(E11),D11<E11),1,0) -> 0 | N11: =IF(AND(ISNUMBER(D11),ISNUMBER(E11),D11=E11),1,0) -> 0 | O11: =IF(AND(ISNUMBER(D11),ISNUMBER(E11),D11>E11),1,0) -> 1
A12: =IF(OR(Calculos!$B$7=0,8>Calculos!$B$7),"",INT((8-1)/Calculos!$B$6)+1) -> 2 | B12: =IF(A12="","",Inicio!$E$5+(A12-1)*Inicio!$B$6) -> 46089 | C12: =IF(A12="","",INDEX(Calculos!$B$11:$B$28,IF(A12>Calculos!$B$4,IF(MOD(IF(A12<=Calculos!$B$4,A12,A12-Calculos!$B$4)+MOD(8-1,Calculos!$B$6)+1,2)=0,INDEX(Calculos!$B$36:$S$52,IF(A12<=Calculos!$B$4,A12,A12-Calculos!$B$4),MOD(8-1,Calculos!$B$6)+1),INDEX(Calculos!$B$36:$S$52,IF(A12<=Calculos!$B$4,A12,A12-Calculos!$B$4),Calculos!$B$2+1-MOD(8-1,Calculos!$B$6)+1)),IF(MOD(IF(A12<=Calculos!$B$4,A12,A12-Calculos!$B$4)+MOD(8-1,Calculos!$B$6)+1,2)=0,INDEX(Calculos!$B$36:$S$52,IF(A12<=Calculos!$B$4,A12,A12-Calculos!$B$4),Calculos!$B$2+1-MOD(8-1,Calculos!$B$6)+1),INDEX(Calculos!$B$36:$S$52,IF(A12<=Calculos!$B$4,A12,A12-Calculos!$B$4),MOD(8-1,Calculos!$B$6)+1))))) -> Deportivo Alboran | D12: 0 | E12: 2 | F12: =IF(A12="","",INDEX(Calculos!$B$11:$B$28,IF(A12>Calculos!$B$4,IF(MOD(IF(A12<=Calculos!$B$4,A12,A12-Calculos!$B$4)+MOD(8-1,Calculos!$B$6)+1,2)=0,INDEX(Calculos!$B$36:$S$52,IF(A12<=Calculos!$B$4,A12,A12-Calculos!$B$4),Calculos!$B$2+1-MOD(8-1,Calculos!$B$6)+1),INDEX(Calculos!$B$36:$S$52,IF(A12<=Calculos!$B$4,A12,A12-Calculos!$B$4),MOD(8-1,Calculos!$B$6)+1)),IF(MOD(IF(A12<=Calculos!$B$4,A12,A12-Calculos!$B$4)+MOD(8-1,Calculos!$B$6)+1,2)=0,INDEX(Calculos!$B$36:$S$52,IF(A12<=Calculos!$B$4,A12,A12-Calculos!$B$4),MOD(8-1,Calculos!$B$6)+1),INDEX(Calculos!$B$36:$S$52,IF(A12<=Calculos!$B$4,A12,A12-Calculos!$B$4),Calculos!$B$2+1-MOD(8-1,Calculos!$B$6)+1))))) -> Deportivo Alboran | G12: =IF(A12="","",IF(AND(ISNUMBER(D12),ISNUMBER(E12)),"Jugado","Pendiente")) -> Jugado | H12: =IF(OR(C12="",F12=""),"",IF(AND(ISNUMBER(D12),ISNUMBER(E12)),IF(D12>E12,Inicio!$E$6,IF(D12=E12,Inicio!$F$6,Inicio!$G$6)),"")) -> 0 | I12: =IF(OR(C12="",F12=""),"",IF(AND(ISNUMBER(D12),ISNUMBER(E12)),IF(D12<E12,Inicio!$E$6,IF(D12=E12,Inicio!$F$6,Inicio!$G$6)),"")) -> 3 | J12: =IF(AND(ISNUMBER(D12),ISNUMBER(E12),D12>E12),1,0) -> 0 | K12: =IF(AND(ISNUMBER(D12),ISNUMBER(E12),D12=E12),1,0) -> 0 | L12: =IF(AND(ISNUMBER(D12),ISNUMBER(E12),D12<E12),1,0) -> 1 | M12: =IF(AND(ISNUMBER(D12),ISNUMBER(E12),D12<E12),1,0) -> 1 | N12: =IF(AND(ISNUMBER(D12),ISNUMBER(E12),D12=E12),1,0) -> 0 | O12: =IF(AND(ISNUMBER(D12),ISNUMBER(E12),D12>E12),1,0) -> 0
A13: =IF(OR(Calculos!$B$7=0,9>Calculos!$B$7),"",INT((9-1)/Calculos!$B$6)+1) -> 2 | B13: =IF(A13="","",Inicio!$E$5+(A13-1)*Inicio!$B$6) -> 46089 | C13: =IF(A13="","",INDEX(Calculos!$B$11:$B$28,IF(A13>Calculos!$B$4,IF(MOD(IF(A13<=Calculos!$B$4,A13,A13-Calculos!$B$4)+MOD(9-1,Calculos!$B$6)+1,2)=0,INDEX(Calculos!$B$36:$S$52,IF(A13<=Calculos!$B$4,A13,A13-Calculos!$B$4),MOD(9-1,Calculos!$B$6)+1),INDEX(Calculos!$B$36:$S$52,IF(A13<=Calculos!$B$4,A13,A13-Calculos!$B$4),Calculos!$B$2+1-MOD(9-1,Calculos!$B$6)+1)),IF(MOD(IF(A13<=Calculos!$B$4,A13,A13-Calculos!$B$4)+MOD(9-1,Calculos!$B$6)+1,2)=0,INDEX(Calculos!$B$36:$S$52,IF(A13<=Calculos!$B$4,A13,A13-Calculos!$B$4),Calculos!$B$2+1-MOD(9-1,Calculos!$B$6)+1),INDEX(Calculos!$B$36:$S$52,IF(A13<=Calculos!$B$4,A13,A13-Calculos!$B$4),MOD(9-1,Calculos!$B$6)+1))))) -> Racing del Prado | D13: 3 | E13: 1 | F13: =IF(A13="","",INDEX(Calculos!$B$11:$B$28,IF(A13>Calculos!$B$4,IF(MOD(IF(A13<=Calculos!$B$4,A13,A13-Calculos!$B$4)+MOD(9-1,Calculos!$B$6)+1,2)=0,INDEX(Calculos!$B$36:$S$52,IF(A13<=Calculos!$B$4,A13,A13-Calculos!$B$4),Calculos!$B$2+1-MOD(9-1,Calculos!$B$6)+1),INDEX(Calculos!$B$36:$S$52,IF(A13<=Calculos!$B$4,A13,A13-Calculos!$B$4),MOD(9-1,Calculos!$B$6)+1)),IF(MOD(IF(A13<=Calculos!$B$4,A13,A13-Calculos!$B$4)+MOD(9-1,Calculos!$B$6)+1,2)=0,INDEX(Calculos!$B$36:$S$52,IF(A13<=Calculos!$B$4,A13,A13-Calculos!$B$4),MOD(9-1,Calculos!$B$6)+1),INDEX(Calculos!$B$36:$S$52,IF(A13<=Calculos!$B$4,A13,A13-Calculos!$B$4),Calculos!$B$2+1-MOD(9-1,Calculos!$B$6)+1))))) -> Racing del Prado | G13: =IF(A13="","",IF(AND(ISNUMBER(D13),ISNUMBER(E13)),"Jugado","Pendiente")) -> Jugado | H13: =IF(OR(C13="",F13=""),"",IF(AND(ISNUMBER(D13),ISNUMBER(E13)),IF(D13>E13,Inicio!$E$6,IF(D13=E13,Inicio!$F$6,Inicio!$G$6)),"")) -> 3 | I13: =IF(OR(C13="",F13=""),"",IF(AND(ISNUMBER(D13),ISNUMBER(E13)),IF(D13<E13,Inicio!$E$6,IF(D13=E13,Inicio!$F$6,Inicio!$G$6)),"")) -> 0 | J13: =IF(AND(ISNUMBER(D13),ISNUMBER(E13),D13>E13),1,0) -> 1 | K13: =IF(AND(ISNUMBER(D13),ISNUMBER(E13),D13=E13),1,0) -> 0 | L13: =IF(AND(ISNUMBER(D13),ISNUMBER(E13),D13<E13),1,0) -> 0 | M13: =IF(AND(ISNUMBER(D13),ISNUMBER(E13),D13<E13),1,0) -> 0 | N13: =IF(AND(ISNUMBER(D13),ISNUMBER(E13),D13=E13),1,0) -> 0 | O13: =IF(AND(ISNUMBER(D13),ISNUMBER(E13),D13>E13),1,0) -> 1
A14: =IF(OR(Calculos!$B$7=0,10>Calculos!$B$7),"",INT((10-1)/Calculos!$B$6)+1) -> 2 | B14: =IF(A14="","",Inicio!$E$5+(A14-1)*Inicio!$B$6) -> 46089 | C14: =IF(A14="","",INDEX(Calculos!$B$11:$B$28,IF(A14>Calculos!$B$4,IF(MOD(IF(A14<=Calculos!$B$4,A14,A14-Calculos!$B$4)+MOD(10-1,Calculos!$B$6)+1,2)=0,INDEX(Calculos!$B$36:$S$52,IF(A14<=Calculos!$B$4,A14,A14-Calculos!$B$4),MOD(10-1,Calculos!$B$6)+1),INDEX(Calculos!$B$36:$S$52,IF(A14<=Calculos!$B$4,A14,A14-Calculos!$B$4),Calculos!$B$2+1-MOD(10-1,Calculos!$B$6)+1)),IF(MOD(IF(A14<=Calculos!$B$4,A14,A14-Calculos!$B$4)+MOD(10-1,Calculos!$B$6)+1,2)=0,INDEX(Calculos!$B$36:$S$52,IF(A14<=Calculos!$B$4,A14,A14-Calculos!$B$4),Calculos!$B$2+1-MOD(10-1,Calculos!$B$6)+1),INDEX(Calculos!$B$36:$S$52,IF(A14<=Calculos!$B$4,A14,A14-Calculos!$B$4),MOD(10-1,Calculos!$B$6)+1))))) -> Union Sierra | D14: 1 | E14: 3 | F14: =IF(A14="","",INDEX(Calculos!$B$11:$B$28,IF(A14>Calculos!$B$4,IF(MOD(IF(A14<=Calculos!$B$4,A14,A14-Calculos!$B$4)+MOD(10-1,Calculos!$B$6)+1,2)=0,INDEX(Calculos!$B$36:$S$52,IF(A14<=Calculos!$B$4,A14,A14-Calculos!$B$4),Calculos!$B$2+1-MOD(10-1,Calculos!$B$6)+1),INDEX(Calculos!$B$36:$S$52,IF(A14<=Calculos!$B$4,A14,A14-Calculos!$B$4),MOD(10-1,Calculos!$B$6)+1)),IF(MOD(IF(A14<=Calculos!$B$4,A14,A14-Calculos!$B$4)+MOD(10-1,Calculos!$B$6)+1,2)=0,INDEX(Calculos!$B$36:$S$52,IF(A14<=Calculos!$B$4,A14,A14-Calculos!$B$4),MOD(10-1,Calculos!$B$6)+1),INDEX(Calculos!$B$36:$S$52,IF(A14<=Calculos!$B$4,A14,A14-Calculos!$B$4),Calculos!$B$2+1-MOD(10-1,Calculos!$B$6)+1))))) -> Union Sierra | G14: =IF(A14="","",IF(AND(ISNUMBER(D14),ISNUMBER(E14)),"Jugado","Pendiente")) -> Jugado | H14: =IF(OR(C14="",F14=""),"",IF(AND(ISNUMBER(D14),ISNUMBER(E14)),IF(D14>E14,Inicio!$E$6,IF(D14=E14,Inicio!$F$6,Inicio!$G$6)),"")) -> 0 | I14: =IF(OR(C14="",F14=""),"",IF(AND(ISNUMBER(D14),ISNUMBER(E14)),IF(D14<E14,Inicio!$E$6,IF(D14=E14,Inicio!$F$6,Inicio!$G$6)),"")) -> 3 | J14: =IF(AND(ISNUMBER(D14),ISNUMBER(E14),D14>E14),1,0) -> 0 | K14: =IF(AND(ISNUMBER(D14),ISNUMBER(E14),D14=E14),1,0) -> 0 | L14: =IF(AND(ISNUMBER(D14),ISNUMBER(E14),D14<E14),1,0) -> 1 | M14: =IF(AND(ISNUMBER(D14),ISNUMBER(E14),D14<E14),1,0) -> 1 | N14: =IF(AND(ISNUMBER(D14),ISNUMBER(E14),D14=E14),1,0) -> 0 | O14: =IF(AND(ISNUMBER(D14),ISNUMBER(E14),D14>E14),1,0) -> 0
A15: =IF(OR(Calculos!$B$7=0,11>Calculos!$B$7),"",INT((11-1)/Calculos!$B$6)+1) -> 3 | B15: =IF(A15="","",Inicio!$E$5+(A15-1)*Inicio!$B$6) -> 46096 | C15: =IF(A15="","",INDEX(Calculos!$B$11:$B$28,IF(A15>Calculos!$B$4,IF(MOD(IF(A15<=Calculos!$B$4,A15,A15-Calculos!$B$4)+MOD(11-1,Calculos!$B$6)+1,2)=0,INDEX(Calculos!$B$36:$S$52,IF(A15<=Calculos!$B$4,A15,A15-Calculos!$B$4),MOD(11-1,Calculos!$B$6)+1),INDEX(Calculos!$B$36:$S$52,IF(A15<=Calculos!$B$4,A15,A15-Calculos!$B$4),Calculos!$B$2+1-MOD(11-1,Calculos!$B$6)+1)),IF(MOD(IF(A15<=Calculos!$B$4,A15,A15-Calculos!$B$4)+MOD(11-1,Calculos!$B$6)+1,2)=0,INDEX(Calculos!$B$36:$S$52,IF(A15<=Calculos!$B$4,A15,A15-Calculos!$B$4),Calculos!$B$2+1-MOD(11-1,Calculos!$B$6)+1),INDEX(Calculos!$B$36:$S$52,IF(A15<=Calculos!$B$4,A15,A15-Calculos!$B$4),MOD(11-1,Calculos!$B$6)+1))))) -> Sporting Marea | D15: 0 | E15: 1 | F15: =IF(A15="","",INDEX(Calculos!$B$11:$B$28,IF(A15>Calculos!$B$4,IF(MOD(IF(A15<=Calculos!$B$4,A15,A15-Calculos!$B$4)+MOD(11-1,Calculos!$B$6)+1,2)=0,INDEX(Calculos!$B$36:$S$52,IF(A15<=Calculos!$B$4,A15,A15-Calculos!$B$4),Calculos!$B$2+1-MOD(11-1,Calculos!$B$6)+1),INDEX(Calculos!$B$36:$S$52,IF(A15<=Calculos!$B$4,A15,A15-Calculos!$B$4),MOD(11-1,Calculos!$B$6)+1)),IF(MOD(IF(A15<=Calculos!$B$4,A15,A15-Calculos!$B$4)+MOD(11-1,Calculos!$B$6)+1,2)=0,INDEX(Calculos!$B$36:$S$52,IF(A15<=Calculos!$B$4,A15,A15-Calculos!$B$4),MOD(11-1,Calculos!$B$6)+1),INDEX(Calculos!$B$36:$S$52,IF(A15<=Calculos!$B$4,A15,A15-Calculos!$B$4),Calculos!$B$2+1-MOD(11-1,Calculos!$B$6)+1))))) -> Sporting Marea | G15: =IF(A15="","",IF(AND(ISNUMBER(D15),ISNUMBER(E15)),"Jugado","Pendiente")) -> Jugado | H15: =IF(OR(C15="",F15=""),"",IF(AND(ISNUMBER(D15),ISNUMBER(E15)),IF(D15>E15,Inicio!$E$6,IF(D15=E15,Inicio!$F$6,Inicio!$G$6)),"")) -> 0 | I15: =IF(OR(C15="",F15=""),"",IF(AND(ISNUMBER(D15),ISNUMBER(E15)),IF(D15<E15,Inicio!$E$6,IF(D15=E15,Inicio!$F$6,Inicio!$G$6)),"")) -> 3 | J15: =IF(AND(ISNUMBER(D15),ISNUMBER(E15),D15>E15),1,0) -> 0 | K15: =IF(AND(ISNUMBER(D15),ISNUMBER(E15),D15=E15),1,0) -> 0 | L15: =IF(AND(ISNUMBER(D15),ISNUMBER(E15),D15<E15),1,0) -> 1 | M15: =IF(AND(ISNUMBER(D15),ISNUMBER(E15),D15<E15),1,0) -> 1 | N15: =IF(AND(ISNUMBER(D15),ISNUMBER(E15),D15=E15),1,0) -> 0 | O15: =IF(AND(ISNUMBER(D15),ISNUMBER(E15),D15>E15),1,0) -> 0
A16: =IF(OR(Calculos!$B$7=0,12>Calculos!$B$7),"",INT((12-1)/Calculos!$B$6)+1) -> 3 | B16: =IF(A16="","",Inicio!$E$5+(A16-1)*Inicio!$B$6) -> 46096 | C16: =IF(A16="","",INDEX(Calculos!$B$11:$B$28,IF(A16>Calculos!$B$4,IF(MOD(IF(A16<=Calculos!$B$4,A16,A16-Calculos!$B$4)+MOD(12-1,Calculos!$B$6)+1,2)=0,INDEX(Calculos!$B$36:$S$52,IF(A16<=Calculos!$B$4,A16,A16-Calculos!$B$4),MOD(12-1,Calculos!$B$6)+1),INDEX(Calculos!$B$36:$S$52,IF(A16<=Calculos!$B$4,A16,A16-Calculos!$B$4),Calculos!$B$2+1-MOD(12-1,Calculos!$B$6)+1)),IF(MOD(IF(A16<=Calculos!$B$4,A16,A16-Calculos!$B$4)+MOD(12-1,Calculos!$B$6)+1,2)=0,INDEX(Calculos!$B$36:$S$52,IF(A16<=Calculos!$B$4,A16,A16-Calculos!$B$4),Calculos!$B$2+1-MOD(12-1,Calculos!$B$6)+1),INDEX(Calculos!$B$36:$S$52,IF(A16<=Calculos!$B$4,A16,A16-Calculos!$B$4),MOD(12-1,Calculos!$B$6)+1))))) -> Real Mirador | D16: 2 | E16: 2 | F16: =IF(A16="","",INDEX(Calculos!$B$11:$B$28,IF(A16>Calculos!$B$4,IF(MOD(IF(A16<=Calculos!$B$4,A16,A16-Calculos!$B$4)+MOD(12-1,Calculos!$B$6)+1,2)=0,INDEX(Calculos!$B$36:$S$52,IF(A16<=Calculos!$B$4,A16,A16-Calculos!$B$4),Calculos!$B$2+1-MOD(12-1,Calculos!$B$6)+1),INDEX(Calculos!$B$36:$S$52,IF(A16<=Calculos!$B$4,A16,A16-Calculos!$B$4),MOD(12-1,Calculos!$B$6)+1)),IF(MOD(IF(A16<=Calculos!$B$4,A16,A16-Calculos!$B$4)+MOD(12-1,Calculos!$B$6)+1,2)=0,INDEX(Calculos!$B$36:$S$52,IF(A16<=Calculos!$B$4,A16,A16-Calculos!$B$4),MOD(12-1,Calculos!$B$6)+1),INDEX(Calculos!$B$36:$S$52,IF(A16<=Calculos!$B$4,A16,A16-Calculos!$B$4),Calculos!$B$2+1-MOD(12-1,Calculos!$B$6)+1))))) -> Real Mirador | G16: =IF(A16="","",IF(AND(ISNUMBER(D16),ISNUMBER(E16)),"Jugado","Pendiente")) -> Jugado | H16: =IF(OR(C16="",F16=""),"",IF(AND(ISNUMBER(D16),ISNUMBER(E16)),IF(D16>E16,Inicio!$E$6,IF(D16=E16,Inicio!$F$6,Inicio!$G$6)),"")) -> 1 | I16: =IF(OR(C16="",F16=""),"",IF(AND(ISNUMBER(D16),ISNUMBER(E16)),IF(D16<E16,Inicio!$E$6,IF(D16=E16,Inicio!$F$6,Inicio!$G$6)),"")) -> 1 | J16: =IF(AND(ISNUMBER(D16),ISNUMBER(E16),D16>E16),1,0) -> 0 | K16: =IF(AND(ISNUMBER(D16),ISNUMBER(E16),D16=E16),1,0) -> 1 | L16: =IF(AND(ISNUMBER(D16),ISNUMBER(E16),D16<E16),1,0) -> 0 | M16: =IF(AND(ISNUMBER(D16),ISNUMBER(E16),D16<E16),1,0) -> 0 | N16: =IF(AND(ISNUMBER(D16),ISNUMBER(E16),D16=E16),1,0) -> 1 | O16: =IF(AND(ISNUMBER(D16),ISNUMBER(E16),D16>E16),1,0) -> 0
A17: =IF(OR(Calculos!$B$7=0,13>Calculos!$B$7),"",INT((13-1)/Calculos!$B$6)+1) -> 3 | B17: =IF(A17="","",Inicio!$E$5+(A17-1)*Inicio!$B$6) -> 46096 | C17: =IF(A17="","",INDEX(Calculos!$B$11:$B$28,IF(A17>Calculos!$B$4,IF(MOD(IF(A17<=Calculos!$B$4,A17,A17-Calculos!$B$4)+MOD(13-1,Calculos!$B$6)+1,2)=0,INDEX(Calculos!$B$36:$S$52,IF(A17<=Calculos!$B$4,A17,A17-Calculos!$B$4),MOD(13-1,Calculos!$B$6)+1),INDEX(Calculos!$B$36:$S$52,IF(A17<=Calculos!$B$4,A17,A17-Calculos!$B$4),Calculos!$B$2+1-MOD(13-1,Calculos!$B$6)+1)),IF(MOD(IF(A17<=Calculos!$B$4,A17,A17-Calculos!$B$4)+MOD(13-1,Calculos!$B$6)+1,2)=0,INDEX(Calculos!$B$36:$S$52,IF(A17<=Calculos!$B$4,A17,A17-Calculos!$B$4),Calculos!$B$2+1-MOD(13-1,Calculos!$B$6)+1),INDEX(Calculos!$B$36:$S$52,IF(A17<=Calculos!$B$4,A17,A17-Calculos!$B$4),MOD(13-1,Calculos!$B$6)+1))))) -> CD Aurora | D17: 4 | E17: 2 | F17: =IF(A17="","",INDEX(Calculos!$B$11:$B$28,IF(A17>Calculos!$B$4,IF(MOD(IF(A17<=Calculos!$B$4,A17,A17-Calculos!$B$4)+MOD(13-1,Calculos!$B$6)+1,2)=0,INDEX(Calculos!$B$36:$S$52,IF(A17<=Calculos!$B$4,A17,A17-Calculos!$B$4),Calculos!$B$2+1-MOD(13-1,Calculos!$B$6)+1),INDEX(Calculos!$B$36:$S$52,IF(A17<=Calculos!$B$4,A17,A17-Calculos!$B$4),MOD(13-1,Calculos!$B$6)+1)),IF(MOD(IF(A17<=Calculos!$B$4,A17,A17-Calculos!$B$4)+MOD(13-1,Calculos!$B$6)+1,2)=0,INDEX(Calculos!$B$36:$S$52,IF(A17<=Calculos!$B$4,A17,A17-Calculos!$B$4),MOD(13-1,Calculos!$B$6)+1),INDEX(Calculos!$B$36:$S$52,IF(A17<=Calculos!$B$4,A17,A17-Calculos!$B$4),Calculos!$B$2+1-MOD(13-1,Calculos!$B$6)+1))))) -> CD Aurora | G17: =IF(A17="","",IF(AND(ISNUMBER(D17),ISNUMBER(E17)),"Jugado","Pendiente")) -> Jugado | H17: =IF(OR(C17="",F17=""),"",IF(AND(ISNUMBER(D17),ISNUMBER(E17)),IF(D17>E17,Inicio!$E$6,IF(D17=E17,Inicio!$F$6,Inicio!$G$6)),"")) -> 3 | I17: =IF(OR(C17="",F17=""),"",IF(AND(ISNUMBER(D17),ISNUMBER(E17)),IF(D17<E17,Inicio!$E$6,IF(D17=E17,Inicio!$F$6,Inicio!$G$6)),"")) -> 0 | J17: =IF(AND(ISNUMBER(D17),ISNUMBER(E17),D17>E17),1,0) -> 1 | K17: =IF(AND(ISNUMBER(D17),ISNUMBER(E17),D17=E17),1,0) -> 0 | L17: =IF(AND(ISNUMBER(D17),ISNUMBER(E17),D17<E17),1,0) -> 0 | M17: =IF(AND(ISNUMBER(D17),ISNUMBER(E17),D17<E17),1,0) -> 0 | N17: =IF(AND(ISNUMBER(D17),ISNUMBER(E17),D17=E17),1,0) -> 0 | O17: =IF(AND(ISNUMBER(D17),ISNUMBER(E17),D17>E17),1,0) -> 1
A18: =IF(OR(Calculos!$B$7=0,14>Calculos!$B$7),"",INT((14-1)/Calculos!$B$6)+1) -> 3 | B18: =IF(A18="","",Inicio!$E$5+(A18-1)*Inicio!$B$6) -> 46096 | C18: =IF(A18="","",INDEX(Calculos!$B$11:$B$28,IF(A18>Calculos!$B$4,IF(MOD(IF(A18<=Calculos!$B$4,A18,A18-Calculos!$B$4)+MOD(14-1,Calculos!$B$6)+1,2)=0,INDEX(Calculos!$B$36:$S$52,IF(A18<=Calculos!$B$4,A18,A18-Calculos!$B$4),MOD(14-1,Calculos!$B$6)+1),INDEX(Calculos!$B$36:$S$52,IF(A18<=Calculos!$B$4,A18,A18-Calculos!$B$4),Calculos!$B$2+1-MOD(14-1,Calculos!$B$6)+1)),IF(MOD(IF(A18<=Calculos!$B$4,A18,A18-Calculos!$B$4)+MOD(14-1,Calculos!$B$6)+1,2)=0,INDEX(Calculos!$B$36:$S$52,IF(A18<=Calculos!$B$4,A18,A18-Calculos!$B$4),Calculos!$B$2+1-MOD(14-1,Calculos!$B$6)+1),INDEX(Calculos!$B$36:$S$52,IF(A18<=Calculos!$B$4,A18,A18-Calculos!$B$4),MOD(14-1,Calculos!$B$6)+1))))) -> Inter Laguna | D18: 1 | E18: 0 | F18: =IF(A18="","",INDEX(Calculos!$B$11:$B$28,IF(A18>Calculos!$B$4,IF(MOD(IF(A18<=Calculos!$B$4,A18,A18-Calculos!$B$4)+MOD(14-1,Calculos!$B$6)+1,2)=0,INDEX(Calculos!$B$36:$S$52,IF(A18<=Calculos!$B$4,A18,A18-Calculos!$B$4),Calculos!$B$2+1-MOD(14-1,Calculos!$B$6)+1),INDEX(Calculos!$B$36:$S$52,IF(A18<=Calculos!$B$4,A18,A18-Calculos!$B$4),MOD(14-1,Calculos!$B$6)+1)),IF(MOD(IF(A18<=Calculos!$B$4,A18,A18-Calculos!$B$4)+MOD(14-1,Calculos!$B$6)+1,2)=0,INDEX(Calculos!$B$36:$S$52,IF(A18<=Calculos!$B$4,A18,A18-Calculos!$B$4),MOD(14-1,Calculos!$B$6)+1),INDEX(Calculos!$B$36:$S$52,IF(A18<=Calculos!$B$4,A18,A18-Calculos!$B$4),Calculos!$B$2+1-MOD(14-1,Calculos!$B$6)+1))))) -> Inter Laguna | G18: =IF(A18="","",IF(AND(ISNUMBER(D18),ISNUMBER(E18)),"Jugado","Pendiente")) -> Jugado | H18: =IF(OR(C18="",F18=""),"",IF(AND(ISNUMBER(D18),ISNUMBER(E18)),IF(D18>E18,Inicio!$E$6,IF(D18=E18,Inicio!$F$6,Inicio!$G$6)),"")) -> 3 | I18: =IF(OR(C18="",F18=""),"",IF(AND(ISNUMBER(D18),ISNUMBER(E18)),IF(D18<E18,Inicio!$E$6,IF(D18=E18,Inicio!$F$6,Inicio!$G$6)),"")) -> 0 | J18: =IF(AND(ISNUMBER(D18),ISNUMBER(E18),D18>E18),1,0) -> 1 | K18: =IF(AND(ISNUMBER(D18),ISNUMBER(E18),D18=E18),1,0) -> 0 | L18: =IF(AND(ISNUMBER(D18),ISNUMBER(E18),D18<E18),1,0) -> 0 | M18: =IF(AND(ISNUMBER(D18),ISNUMBER(E18),D18<E18),1,0) -> 0 | N18: =IF(AND(ISNUMBER(D18),ISNUMBER(E18),D18=E18),1,0) -> 0 | O18: =IF(AND(ISNUMBER(D18),ISNUMBER(E18),D18>E18),1,0) -> 1
A19: =IF(OR(Calculos!$B$7=0,15>Calculos!$B$7),"",INT((15-1)/Calculos!$B$6)+1) -> 3 | B19: =IF(A19="","",Inicio!$E$5+(A19-1)*Inicio!$B$6) -> 46096 | C19: =IF(A19="","",INDEX(Calculos!$B$11:$B$28,IF(A19>Calculos!$B$4,IF(MOD(IF(A19<=Calculos!$B$4,A19,A19-Calculos!$B$4)+MOD(15-1,Calculos!$B$6)+1,2)=0,INDEX(Calculos!$B$36:$S$52,IF(A19<=Calculos!$B$4,A19,A19-Calculos!$B$4),MOD(15-1,Calculos!$B$6)+1),INDEX(Calculos!$B$36:$S$52,IF(A19<=Calculos!$B$4,A19,A19-Calculos!$B$4),Calculos!$B$2+1-MOD(15-1,Calculos!$B$6)+1)),IF(MOD(IF(A19<=Calculos!$B$4,A19,A19-Calculos!$B$4)+MOD(15-1,Calculos!$B$6)+1,2)=0,INDEX(Calculos!$B$36:$S$52,IF(A19<=Calculos!$B$4,A19,A19-Calculos!$B$4),Calculos!$B$2+1-MOD(15-1,Calculos!$B$6)+1),INDEX(Calculos!$B$36:$S$52,IF(A19<=Calculos!$B$4,A19,A19-Calculos!$B$4),MOD(15-1,Calculos!$B$6)+1))))) -> Juventud Central | D19: 2 | E19: 4 | F19: =IF(A19="","",INDEX(Calculos!$B$11:$B$28,IF(A19>Calculos!$B$4,IF(MOD(IF(A19<=Calculos!$B$4,A19,A19-Calculos!$B$4)+MOD(15-1,Calculos!$B$6)+1,2)=0,INDEX(Calculos!$B$36:$S$52,IF(A19<=Calculos!$B$4,A19,A19-Calculos!$B$4),Calculos!$B$2+1-MOD(15-1,Calculos!$B$6)+1),INDEX(Calculos!$B$36:$S$52,IF(A19<=Calculos!$B$4,A19,A19-Calculos!$B$4),MOD(15-1,Calculos!$B$6)+1)),IF(MOD(IF(A19<=Calculos!$B$4,A19,A19-Calculos!$B$4)+MOD(15-1,Calculos!$B$6)+1,2)=0,INDEX(Calculos!$B$36:$S$52,IF(A19<=Calculos!$B$4,A19,A19-Calculos!$B$4),MOD(15-1,Calculos!$B$6)+1),INDEX(Calculos!$B$36:$S$52,IF(A19<=Calculos!$B$4,A19,A19-Calculos!$B$4),Calculos!$B$2+1-MOD(15-1,Calculos!$B$6)+1))))) -> Juventud Central | G19: =IF(A19="","",IF(AND(ISNUMBER(D19),ISNUMBER(E19)),"Jugado","Pendiente")) -> Jugado | H19: =IF(OR(C19="",F19=""),"",IF(AND(ISNUMBER(D19),ISNUMBER(E19)),IF(D19>E19,Inicio!$E$6,IF(D19=E19,Inicio!$F$6,Inicio!$G$6)),"")) -> 0 | I19: =IF(OR(C19="",F19=""),"",IF(AND(ISNUMBER(D19),ISNUMBER(E19)),IF(D19<E19,Inicio!$E$6,IF(D19=E19,Inicio!$F$6,Inicio!$G$6)),"")) -> 3 | J19: =IF(AND(ISNUMBER(D19),ISNUMBER(E19),D19>E19),1,0) -> 0 | K19: =IF(AND(ISNUMBER(D19),ISNUMBER(E19),D19=E19),1,0) -> 0 | L19: =IF(AND(ISNUMBER(D19),ISNUMBER(E19),D19<E19),1,0) -> 1 | M19: =IF(AND(ISNUMBER(D19),ISNUMBER(E19),D19<E19),1,0) -> 1 | N19: =IF(AND(ISNUMBER(D19),ISNUMBER(E19),D19=E19),1,0) -> 0 | O19: =IF(AND(ISNUMBER(D19),ISNUMBER(E19),D19>E19),1,0) -> 0
A20: =IF(OR(Calculos!$B$7=0,16>Calculos!$B$7),"",INT((16-1)/Calculos!$B$6)+1) -> 4 | B20: =IF(A20="","",Inicio!$E$5+(A20-1)*Inicio!$B$6) -> 46103 | C20: =IF(A20="","",INDEX(Calculos!$B$11:$B$28,IF(A20>Calculos!$B$4,IF(MOD(IF(A20<=Calculos!$B$4,A20,A20-Calculos!$B$4)+MOD(16-1,Calculos!$B$6)+1,2)=0,INDEX(Calculos!$B$36:$S$52,IF(A20<=Calculos!$B$4,A20,A20-Calculos!$B$4),MOD(16-1,Calculos!$B$6)+1),INDEX(Calculos!$B$36:$S$52,IF(A20<=Calculos!$B$4,A20,A20-Calculos!$B$4),Calculos!$B$2+1-MOD(16-1,Calculos!$B$6)+1)),IF(MOD(IF(A20<=Calculos!$B$4,A20,A20-Calculos!$B$4)+MOD(16-1,Calculos!$B$6)+1,2)=0,INDEX(Calculos!$B$36:$S$52,IF(A20<=Calculos!$B$4,A20,A20-Calculos!$B$4),Calculos!$B$2+1-MOD(16-1,Calculos!$B$6)+1),INDEX(Calculos!$B$36:$S$52,IF(A20<=Calculos!$B$4,A20,A20-Calculos!$B$4),MOD(16-1,Calculos!$B$6)+1))))) -> Velez Sur | F20: =IF(A20="","",INDEX(Calculos!$B$11:$B$28,IF(A20>Calculos!$B$4,IF(MOD(IF(A20<=Calculos!$B$4,A20,A20-Calculos!$B$4)+MOD(16-1,Calculos!$B$6)+1,2)=0,INDEX(Calculos!$B$36:$S$52,IF(A20<=Calculos!$B$4,A20,A20-Calculos!$B$4),Calculos!$B$2+1-MOD(16-1,Calculos!$B$6)+1),INDEX(Calculos!$B$36:$S$52,IF(A20<=Calculos!$B$4,A20,A20-Calculos!$B$4),MOD(16-1,Calculos!$B$6)+1)),IF(MOD(IF(A20<=Calculos!$B$4,A20,A20-Calculos!$B$4)+MOD(16-1,Calculos!$B$6)+1,2)=0,INDEX(Calculos!$B$36:$S$52,IF(A20<=Calculos!$B$4,A20,A20-Calculos!$B$4),MOD(16-1,Calculos!$B$6)+1),INDEX(Calculos!$B$36:$S$52,IF(A20<=Calculos!$B$4,A20,A20-Calculos!$B$4),Calculos!$B$2+1-MOD(16-1,Calculos!$B$6)+1))))) -> Velez Sur | G20: =IF(A20="","",IF(AND(ISNUMBER(D20),ISNUMBER(E20)),"Jugado","Pendiente")) -> Pendiente | H20: =IF(OR(C20="",F20=""),"",IF(AND(ISNUMBER(D20),ISNUMBER(E20)),IF(D20>E20,Inicio!$E$6,IF(D20=E20,Inicio!$F$6,Inicio!$G$6)),"")) | I20: =IF(OR(C20="",F20=""),"",IF(AND(ISNUMBER(D20),ISNUMBER(E20)),IF(D20<E20,Inicio!$E$6,IF(D20=E20,Inicio!$F$6,Inicio!$G$6)),"")) | J20: =IF(AND(ISNUMBER(D20),ISNUMBER(E20),D20>E20),1,0) -> 0 | K20: =IF(AND(ISNUMBER(D20),ISNUMBER(E20),D20=E20),1,0) -> 0 | L20: =IF(AND(ISNUMBER(D20),ISNUMBER(E20),D20<E20),1,0) -> 0 | M20: =IF(AND(ISNUMBER(D20),ISNUMBER(E20),D20<E20),1,0) -> 0 | N20: =IF(AND(ISNUMBER(D20),ISNUMBER(E20),D20=E20),1,0) -> 0 | O20: =IF(AND(ISNUMBER(D20),ISNUMBER(E20),D20>E20),1,0) -> 0
A21: =IF(OR(Calculos!$B$7=0,17>Calculos!$B$7),"",INT((17-1)/Calculos!$B$6)+1) -> 4 | B21: =IF(A21="","",Inicio!$E$5+(A21-1)*Inicio!$B$6) -> 46103 | C21: =IF(A21="","",INDEX(Calculos!$B$11:$B$28,IF(A21>Calculos!$B$4,IF(MOD(IF(A21<=Calculos!$B$4,A21,A21-Calculos!$B$4)+MOD(17-1,Calculos!$B$6)+1,2)=0,INDEX(Calculos!$B$36:$S$52,IF(A21<=Calculos!$B$4,A21,A21-Calculos!$B$4),MOD(17-1,Calculos!$B$6)+1),INDEX(Calculos!$B$36:$S$52,IF(A21<=Calculos!$B$4,A21,A21-Calculos!$B$4),Calculos!$B$2+1-MOD(17-1,Calculos!$B$6)+1)),IF(MOD(IF(A21<=Calculos!$B$4,A21,A21-Calculos!$B$4)+MOD(17-1,Calculos!$B$6)+1,2)=0,INDEX(Calculos!$B$36:$S$52,IF(A21<=Calculos!$B$4,A21,A21-Calculos!$B$4),Calculos!$B$2+1-MOD(17-1,Calculos!$B$6)+1),INDEX(Calculos!$B$36:$S$52,IF(A21<=Calculos!$B$4,A21,A21-Calculos!$B$4),MOD(17-1,Calculos!$B$6)+1))))) | F21: =IF(A21="","",INDEX(Calculos!$B$11:$B$28,IF(A21>Calculos!$B$4,IF(MOD(IF(A21<=Calculos!$B$4,A21,A21-Calculos!$B$4)+MOD(17-1,Calculos!$B$6)+1,2)=0,INDEX(Calculos!$B$36:$S$52,IF(A21<=Calculos!$B$4,A21,A21-Calculos!$B$4),Calculos!$B$2+1-MOD(17-1,Calculos!$B$6)+1),INDEX(Calculos!$B$36:$S$52,IF(A21<=Calculos!$B$4,A21,A21-Calculos!$B$4),MOD(17-1,Calculos!$B$6)+1)),IF(MOD(IF(A21<=Calculos!$B$4,A21,A21-Calculos!$B$4)+MOD(17-1,Calculos!$B$6)+1,2)=0,INDEX(Calculos!$B$36:$S$52,IF(A21<=Calculos!$B$4,A21,A21-Calculos!$B$4),MOD(17-1,Calculos!$B$6)+1),INDEX(Calculos!$B$36:$S$52,IF(A21<=Calculos!$B$4,A21,A21-Calculos!$B$4),Calculos!$B$2+1-MOD(17-1,Calculos!$B$6)+1))))) | G21: =IF(A21="","",IF(AND(ISNUMBER(D21),ISNUMBER(E21)),"Jugado","Pendiente")) -> Pendiente | H21: =IF(OR(C21="",F21=""),"",IF(AND(ISNUMBER(D21),ISNUMBER(E21)),IF(D21>E21,Inicio!$E$6,IF(D21=E21,Inicio!$F$6,Inicio!$G$6)),"")) | I21: =IF(OR(C21="",F21=""),"",IF(AND(ISNUMBER(D21),ISNUMBER(E21)),IF(D21<E21,Inicio!$E$6,IF(D21=E21,Inicio!$F$6,Inicio!$G$6)),"")) | J21: =IF(AND(ISNUMBER(D21),ISNUMBER(E21),D21>E21),1,0) -> 0 | K21: =IF(AND(ISNUMBER(D21),ISNUMBER(E21),D21=E21),1,0) -> 0 | L21: =IF(AND(ISNUMBER(D21),ISNUMBER(E21),D21<E21),1,0) -> 0 | M21: =IF(AND(ISNUMBER(D21),ISNUMBER(E21),D21<E21),1,0) -> 0 | N21: =IF(AND(ISNUMBER(D21),ISNUMBER(E21),D21=E21),1,0) -> 0 | O21: =IF(AND(ISNUMBER(D21),ISNUMBER(E21),D21>E21),1,0) -> 0
A22: =IF(OR(Calculos!$B$7=0,18>Calculos!$B$7),"",INT((18-1)/Calculos!$B$6)+1) -> 4 | B22: =IF(A22="","",Inicio!$E$5+(A22-1)*Inicio!$B$6) -> 46103 | C22: =IF(A22="","",INDEX(Calculos!$B$11:$B$28,IF(A22>Calculos!$B$4,IF(MOD(IF(A22<=Calculos!$B$4,A22,A22-Calculos!$B$4)+MOD(18-1,Calculos!$B$6)+1,2)=0,INDEX(Calculos!$B$36:$S$52,IF(A22<=Calculos!$B$4,A22,A22-Calculos!$B$4),MOD(18-1,Calculos!$B$6)+1),INDEX(Calculos!$B$36:$S$52,IF(A22<=Calculos!$B$4,A22,A22-Calculos!$B$4),Calculos!$B$2+1-MOD(18-1,Calculos!$B$6)+1)),IF(MOD(IF(A22<=Calculos!$B$4,A22,A22-Calculos!$B$4)+MOD(18-1,Calculos!$B$6)+1,2)=0,INDEX(Calculos!$B$36:$S$52,IF(A22<=Calculos!$B$4,A22,A22-Calculos!$B$4),Calculos!$B$2+1-MOD(18-1,Calculos!$B$6)+1),INDEX(Calculos!$B$36:$S$52,IF(A22<=Calculos!$B$4,A22,A22-Calculos!$B$4),MOD(18-1,Calculos!$B$6)+1))))) | F22: =IF(A22="","",INDEX(Calculos!$B$11:$B$28,IF(A22>Calculos!$B$4,IF(MOD(IF(A22<=Calculos!$B$4,A22,A22-Calculos!$B$4)+MOD(18-1,Calculos!$B$6)+1,2)=0,INDEX(Calculos!$B$36:$S$52,IF(A22<=Calculos!$B$4,A22,A22-Calculos!$B$4),Calculos!$B$2+1-MOD(18-1,Calculos!$B$6)+1),INDEX(Calculos!$B$36:$S$52,IF(A22<=Calculos!$B$4,A22,A22-Calculos!$B$4),MOD(18-1,Calculos!$B$6)+1)),IF(MOD(IF(A22<=Calculos!$B$4,A22,A22-Calculos!$B$4)+MOD(18-1,Calculos!$B$6)+1,2)=0,INDEX(Calculos!$B$36:$S$52,IF(A22<=Calculos!$B$4,A22,A22-Calculos!$B$4),MOD(18-1,Calculos!$B$6)+1),INDEX(Calculos!$B$36:$S$52,IF(A22<=Calculos!$B$4,A22,A22-Calculos!$B$4),Calculos!$B$2+1-MOD(18-1,Calculos!$B$6)+1))))) | G22: =IF(A22="","",IF(AND(ISNUMBER(D22),ISNUMBER(E22)),"Jugado","Pendiente")) -> Pendiente | H22: =IF(OR(C22="",F22=""),"",IF(AND(ISNUMBER(D22),ISNUMBER(E22)),IF(D22>E22,Inicio!$E$6,IF(D22=E22,Inicio!$F$6,Inicio!$G$6)),"")) | I22: =IF(OR(C22="",F22=""),"",IF(AND(ISNUMBER(D22),ISNUMBER(E22)),IF(D22<E22,Inicio!$E$6,IF(D22=E22,Inicio!$F$6,Inicio!$G$6)),"")) | J22: =IF(AND(ISNUMBER(D22),ISNUMBER(E22),D22>E22),1,0) -> 0 | K22: =IF(AND(ISNUMBER(D22),ISNUMBER(E22),D22=E22),1,0) -> 0 | L22: =IF(AND(ISNUMBER(D22),ISNUMBER(E22),D22<E22),1,0) -> 0 | M22: =IF(AND(ISNUMBER(D22),ISNUMBER(E22),D22<E22),1,0) -> 0 | N22: =IF(AND(ISNUMBER(D22),ISNUMBER(E22),D22=E22),1,0) -> 0 | O22: =IF(AND(ISNUMBER(D22),ISNUMBER(E22),D22>E22),1,0) -> 0
A23: =IF(OR(Calculos!$B$7=0,19>Calculos!$B$7),"",INT((19-1)/Calculos!$B$6)+1) -> 4 | B23: =IF(A23="","",Inicio!$E$5+(A23-1)*Inicio!$B$6) -> 46103 | C23: =IF(A23="","",INDEX(Calculos!$B$11:$B$28,IF(A23>Calculos!$B$4,IF(MOD(IF(A23<=Calculos!$B$4,A23,A23-Calculos!$B$4)+MOD(19-1,Calculos!$B$6)+1,2)=0,INDEX(Calculos!$B$36:$S$52,IF(A23<=Calculos!$B$4,A23,A23-Calculos!$B$4),MOD(19-1,Calculos!$B$6)+1),INDEX(Calculos!$B$36:$S$52,IF(A23<=Calculos!$B$4,A23,A23-Calculos!$B$4),Calculos!$B$2+1-MOD(19-1,Calculos!$B$6)+1)),IF(MOD(IF(A23<=Calculos!$B$4,A23,A23-Calculos!$B$4)+MOD(19-1,Calculos!$B$6)+1,2)=0,INDEX(Calculos!$B$36:$S$52,IF(A23<=Calculos!$B$4,A23,A23-Calculos!$B$4),Calculos!$B$2+1-MOD(19-1,Calculos!$B$6)+1),INDEX(Calculos!$B$36:$S$52,IF(A23<=Calculos!$B$4,A23,A23-Calculos!$B$4),MOD(19-1,Calculos!$B$6)+1))))) | F23: =IF(A23="","",INDEX(Calculos!$B$11:$B$28,IF(A23>Calculos!$B$4,IF(MOD(IF(A23<=Calculos!$B$4,A23,A23-Calculos!$B$4)+MOD(19-1,Calculos!$B$6)+1,2)=0,INDEX(Calculos!$B$36:$S$52,IF(A23<=Calculos!$B$4,A23,A23-Calculos!$B$4),Calculos!$B$2+1-MOD(19-1,Calculos!$B$6)+1),INDEX(Calculos!$B$36:$S$52,IF(A23<=Calculos!$B$4,A23,A23-Calculos!$B$4),MOD(19-1,Calculos!$B$6)+1)),IF(MOD(IF(A23<=Calculos!$B$4,A23,A23-Calculos!$B$4)+MOD(19-1,Calculos!$B$6)+1,2)=0,INDEX(Calculos!$B$36:$S$52,IF(A23<=Calculos!$B$4,A23,A23-Calculos!$B$4),MOD(19-1,Calculos!$B$6)+1),INDEX(Calculos!$B$36:$S$52,IF(A23<=Calculos!$B$4,A23,A23-Calculos!$B$4),Calculos!$B$2+1-MOD(19-1,Calculos!$B$6)+1))))) | G23: =IF(A23="","",IF(AND(ISNUMBER(D23),ISNUMBER(E23)),"Jugado","Pendiente")) -> Pendiente | H23: =IF(OR(C23="",F23=""),"",IF(AND(ISNUMBER(D23),ISNUMBER(E23)),IF(D23>E23,Inicio!$E$6,IF(D23=E23,Inicio!$F$6,Inicio!$G$6)),"")) | I23: =IF(OR(C23="",F23=""),"",IF(AND(ISNUMBER(D23),ISNUMBER(E23)),IF(D23<E23,Inicio!$E$6,IF(D23=E23,Inicio!$F$6,Inicio!$G$6)),"")) | J23: =IF(AND(ISNUMBER(D23),ISNUMBER(E23),D23>E23),1,0) -> 0 | K23: =IF(AND(ISNUMBER(D23),ISNUMBER(E23),D23=E23),1,0) -> 0 | L23: =IF(AND(ISNUMBER(D23),ISNUMBER(E23),D23<E23),1,0) -> 0 | M23: =IF(AND(ISNUMBER(D23),ISNUMBER(E23),D23<E23),1,0) -> 0 | N23: =IF(AND(ISNUMBER(D23),ISNUMBER(E23),D23=E23),1,0) -> 0 | O23: =IF(AND(ISNUMBER(D23),ISNUMBER(E23),D23>E23),1,0) -> 0
A24: =IF(OR(Calculos!$B$7=0,20>Calculos!$B$7),"",INT((20-1)/Calculos!$B$6)+1) -> 4 | B24: =IF(A24="","",Inicio!$E$5+(A24-1)*Inicio!$B$6) -> 46103 | C24: =IF(A24="","",INDEX(Calculos!$B$11:$B$28,IF(A24>Calculos!$B$4,IF(MOD(IF(A24<=Calculos!$B$4,A24,A24-Calculos!$B$4)+MOD(20-1,Calculos!$B$6)+1,2)=0,INDEX(Calculos!$B$36:$S$52,IF(A24<=Calculos!$B$4,A24,A24-Calculos!$B$4),MOD(20-1,Calculos!$B$6)+1),INDEX(Calculos!$B$36:$S$52,IF(A24<=Calculos!$B$4,A24,A24-Calculos!$B$4),Calculos!$B$2+1-MOD(20-1,Calculos!$B$6)+1)),IF(MOD(IF(A24<=Calculos!$B$4,A24,A24-Calculos!$B$4)+MOD(20-1,Calculos!$B$6)+1,2)=0,INDEX(Calculos!$B$36:$S$52,IF(A24<=Calculos!$B$4,A24,A24-Calculos!$B$4),Calculos!$B$2+1-MOD(20-1,Calculos!$B$6)+1),INDEX(Calculos!$B$36:$S$52,IF(A24<=Calculos!$B$4,A24,A24-Calculos!$B$4),MOD(20-1,Calculos!$B$6)+1))))) | F24: =IF(A24="","",INDEX(Calculos!$B$11:$B$28,IF(A24>Calculos!$B$4,IF(MOD(IF(A24<=Calculos!$B$4,A24,A24-Calculos!$B$4)+MOD(20-1,Calculos!$B$6)+1,2)=0,INDEX(Calculos!$B$36:$S$52,IF(A24<=Calculos!$B$4,A24,A24-Calculos!$B$4),Calculos!$B$2+1-MOD(20-1,Calculos!$B$6)+1),INDEX(Calculos!$B$36:$S$52,IF(A24<=Calculos!$B$4,A24,A24-Calculos!$B$4),MOD(20-1,Calculos!$B$6)+1)),IF(MOD(IF(A24<=Calculos!$B$4,A24,A24-Calculos!$B$4)+MOD(20-1,Calculos!$B$6)+1,2)=0,INDEX(Calculos!$B$36:$S$52,IF(A24<=Calculos!$B$4,A24,A24-Calculos!$B$4),MOD(20-1,Calculos!$B$6)+1),INDEX(Calculos!$B$36:$S$52,IF(A24<=Calculos!$B$4,A24,A24-Calculos!$B$4),Calculos!$B$2+1-MOD(20-1,Calculos!$B$6)+1))))) | G24: =IF(A24="","",IF(AND(ISNUMBER(D24),ISNUMBER(E24)),"Jugado","Pendiente")) -> Pendiente | H24: =IF(OR(C24="",F24=""),"",IF(AND(ISNUMBER(D24),ISNUMBER(E24)),IF(D24>E24,Inicio!$E$6,IF(D24=E24,Inicio!$F$6,Inicio!$G$6)),"")) | I24: =IF(OR(C24="",F24=""),"",IF(AND(ISNUMBER(D24),ISNUMBER(E24)),IF(D24<E24,Inicio!$E$6,IF(D24=E24,Inicio!$F$6,Inicio!$G$6)),"")) | J24: =IF(AND(ISNUMBER(D24),ISNUMBER(E24),D24>E24),1,0) -> 0 | K24: =IF(AND(ISNUMBER(D24),ISNUMBER(E24),D24=E24),1,0) -> 0 | L24: =IF(AND(ISNUMBER(D24),ISNUMBER(E24),D24<E24),1,0) -> 0 | M24: =IF(AND(ISNUMBER(D24),ISNUMBER(E24),D24<E24),1,0) -> 0 | N24: =IF(AND(ISNUMBER(D24),ISNUMBER(E24),D24=E24),1,0) -> 0 | O24: =IF(AND(ISNUMBER(D24),ISNUMBER(E24),D24>E24),1,0) -> 0
A25: =IF(OR(Calculos!$B$7=0,21>Calculos!$B$7),"",INT((21-1)/Calculos!$B$6)+1) -> 5 | B25: =IF(A25="","",Inicio!$E$5+(A25-1)*Inicio!$B$6) -> 46110 | C25: =IF(A25="","",INDEX(Calculos!$B$11:$B$28,IF(A25>Calculos!$B$4,IF(MOD(IF(A25<=Calculos!$B$4,A25,A25-Calculos!$B$4)+MOD(21-1,Calculos!$B$6)+1,2)=0,INDEX(Calculos!$B$36:$S$52,IF(A25<=Calculos!$B$4,A25,A25-Calculos!$B$4),MOD(21-1,Calculos!$B$6)+1),INDEX(Calculos!$B$36:$S$52,IF(A25<=Calculos!$B$4,A25,A25-Calculos!$B$4),Calculos!$B$2+1-MOD(21-1,Calculos!$B$6)+1)),IF(MOD(IF(A25<=Calculos!$B$4,A25,A25-Calculos!$B$4)+MOD(21-1,Calculos!$B$6)+1,2)=0,INDEX(Calculos!$B$36:$S$52,IF(A25<=Calculos!$B$4,A25,A25-Calculos!$B$4),Calculos!$B$2+1-MOD(21-1,Calculos!$B$6)+1),INDEX(Calculos!$B$36:$S$52,IF(A25<=Calculos!$B$4,A25,A25-Calculos!$B$4),MOD(21-1,Calculos!$B$6)+1))))) | F25: =IF(A25="","",INDEX(Calculos!$B$11:$B$28,IF(A25>Calculos!$B$4,IF(MOD(IF(A25<=Calculos!$B$4,A25,A25-Calculos!$B$4)+MOD(21-1,Calculos!$B$6)+1,2)=0,INDEX(Calculos!$B$36:$S$52,IF(A25<=Calculos!$B$4,A25,A25-Calculos!$B$4),Calculos!$B$2+1-MOD(21-1,Calculos!$B$6)+1),INDEX(Calculos!$B$36:$S$52,IF(A25<=Calculos!$B$4,A25,A25-Calculos!$B$4),MOD(21-1,Calculos!$B$6)+1)),IF(MOD(IF(A25<=Calculos!$B$4,A25,A25-Calculos!$B$4)+MOD(21-1,Calculos!$B$6)+1,2)=0,INDEX(Calculos!$B$36:$S$52,IF(A25<=Calculos!$B$4,A25,A25-Calculos!$B$4),MOD(21-1,Calculos!$B$6)+1),INDEX(Calculos!$B$36:$S$52,IF(A25<=Calculos!$B$4,A25,A25-Calculos!$B$4),Calculos!$B$2+1-MOD(21-1,Calculos!$B$6)+1))))) | G25: =IF(A25="","",IF(AND(ISNUMBER(D25),ISNUMBER(E25)),"Jugado","Pendiente")) -> Pendiente | H25: =IF(OR(C25="",F25=""),"",IF(AND(ISNUMBER(D25),ISNUMBER(E25)),IF(D25>E25,Inicio!$E$6,IF(D25=E25,Inicio!$F$6,Inicio!$G$6)),"")) | I25: =IF(OR(C25="",F25=""),"",IF(AND(ISNUMBER(D25),ISNUMBER(E25)),IF(D25<E25,Inicio!$E$6,IF(D25=E25,Inicio!$F$6,Inicio!$G$6)),"")) | J25: =IF(AND(ISNUMBER(D25),ISNUMBER(E25),D25>E25),1,0) -> 0 | K25: =IF(AND(ISNUMBER(D25),ISNUMBER(E25),D25=E25),1,0) -> 0 | L25: =IF(AND(ISNUMBER(D25),ISNUMBER(E25),D25<E25),1,0) -> 0 | M25: =IF(AND(ISNUMBER(D25),ISNUMBER(E25),D25<E25),1,0) -> 0 | N25: =IF(AND(ISNUMBER(D25),ISNUMBER(E25),D25=E25),1,0) -> 0 | O25: =IF(AND(ISNUMBER(D25),ISNUMBER(E25),D25>E25),1,0) -> 0
A26: =IF(OR(Calculos!$B$7=0,22>Calculos!$B$7),"",INT((22-1)/Calculos!$B$6)+1) -> 5 | B26: =IF(A26="","",Inicio!$E$5+(A26-1)*Inicio!$B$6) -> 46110 | C26: =IF(A26="","",INDEX(Calculos!$B$11:$B$28,IF(A26>Calculos!$B$4,IF(MOD(IF(A26<=Calculos!$B$4,A26,A26-Calculos!$B$4)+MOD(22-1,Calculos!$B$6)+1,2)=0,INDEX(Calculos!$B$36:$S$52,IF(A26<=Calculos!$B$4,A26,A26-Calculos!$B$4),MOD(22-1,Calculos!$B$6)+1),INDEX(Calculos!$B$36:$S$52,IF(A26<=Calculos!$B$4,A26,A26-Calculos!$B$4),Calculos!$B$2+1-MOD(22-1,Calculos!$B$6)+1)),IF(MOD(IF(A26<=Calculos!$B$4,A26,A26-Calculos!$B$4)+MOD(22-1,Calculos!$B$6)+1,2)=0,INDEX(Calculos!$B$36:$S$52,IF(A26<=Calculos!$B$4,A26,A26-Calculos!$B$4),Calculos!$B$2+1-MOD(22-1,Calculos!$B$6)+1),INDEX(Calculos!$B$36:$S$52,IF(A26<=Calculos!$B$4,A26,A26-Calculos!$B$4),MOD(22-1,Calculos!$B$6)+1))))) | F26: =IF(A26="","",INDEX(Calculos!$B$11:$B$28,IF(A26>Calculos!$B$4,IF(MOD(IF(A26<=Calculos!$B$4,A26,A26-Calculos!$B$4)+MOD(22-1,Calculos!$B$6)+1,2)=0,INDEX(Calculos!$B$36:$S$52,IF(A26<=Calculos!$B$4,A26,A26-Calculos!$B$4),Calculos!$B$2+1-MOD(22-1,Calculos!$B$6)+1),INDEX(Calculos!$B$36:$S$52,IF(A26<=Calculos!$B$4,A26,A26-Calculos!$B$4),MOD(22-1,Calculos!$B$6)+1)),IF(MOD(IF(A26<=Calculos!$B$4,A26,A26-Calculos!$B$4)+MOD(22-1,Calculos!$B$6)+1,2)=0,INDEX(Calculos!$B$36:$S$52,IF(A26<=Calculos!$B$4,A26,A26-Calculos!$B$4),MOD(22-1,Calculos!$B$6)+1),INDEX(Calculos!$B$36:$S$52,IF(A26<=Calculos!$B$4,A26,A26-Calculos!$B$4),Calculos!$B$2+1-MOD(22-1,Calculos!$B$6)+1))))) | G26: =IF(A26="","",IF(AND(ISNUMBER(D26),ISNUMBER(E26)),"Jugado","Pendiente")) -> Pendiente | H26: =IF(OR(C26="",F26=""),"",IF(AND(ISNUMBER(D26),ISNUMBER(E26)),IF(D26>E26,Inicio!$E$6,IF(D26=E26,Inicio!$F$6,Inicio!$G$6)),"")) | I26: =IF(OR(C26="",F26=""),"",IF(AND(ISNUMBER(D26),ISNUMBER(E26)),IF(D26<E26,Inicio!$E$6,IF(D26=E26,Inicio!$F$6,Inicio!$G$6)),"")) | J26: =IF(AND(ISNUMBER(D26),ISNUMBER(E26),D26>E26),1,0) -> 0 | K26: =IF(AND(ISNUMBER(D26),ISNUMBER(E26),D26=E26),1,0) -> 0 | L26: =IF(AND(ISNUMBER(D26),ISNUMBER(E26),D26<E26),1,0) -> 0 | M26: =IF(AND(ISNUMBER(D26),ISNUMBER(E26),D26<E26),1,0) -> 0 | N26: =IF(AND(ISNUMBER(D26),ISNUMBER(E26),D26=E26),1,0) -> 0 | O26: =IF(AND(ISNUMBER(D26),ISNUMBER(E26),D26>E26),1,0) -> 0
A27: =IF(OR(Calculos!$B$7=0,23>Calculos!$B$7),"",INT((23-1)/Calculos!$B$6)+1) -> 5 | B27: =IF(A27="","",Inicio!$E$5+(A27-1)*Inicio!$B$6) -> 46110 | C27: =IF(A27="","",INDEX(Calculos!$B$11:$B$28,IF(A27>Calculos!$B$4,IF(MOD(IF(A27<=Calculos!$B$4,A27,A27-Calculos!$B$4)+MOD(23-1,Calculos!$B$6)+1,2)=0,INDEX(Calculos!$B$36:$S$52,IF(A27<=Calculos!$B$4,A27,A27-Calculos!$B$4),MOD(23-1,Calculos!$B$6)+1),INDEX(Calculos!$B$36:$S$52,IF(A27<=Calculos!$B$4,A27,A27-Calculos!$B$4),Calculos!$B$2+1-MOD(23-1,Calculos!$B$6)+1)),IF(MOD(IF(A27<=Calculos!$B$4,A27,A27-Calculos!$B$4)+MOD(23-1,Calculos!$B$6)+1,2)=0,INDEX(Calculos!$B$36:$S$52,IF(A27<=Calculos!$B$4,A27,A27-Calculos!$B$4),Calculos!$B$2+1-MOD(23-1,Calculos!$B$6)+1),INDEX(Calculos!$B$36:$S$52,IF(A27<=Calculos!$B$4,A27,A27-Calculos!$B$4),MOD(23-1,Calculos!$B$6)+1))))) | F27: =IF(A27="","",INDEX(Calculos!$B$11:$B$28,IF(A27>Calculos!$B$4,IF(MOD(IF(A27<=Calculos!$B$4,A27,A27-Calculos!$B$4)+MOD(23-1,Calculos!$B$6)+1,2)=0,INDEX(Calculos!$B$36:$S$52,IF(A27<=Calculos!$B$4,A27,A27-Calculos!$B$4),Calculos!$B$2+1-MOD(23-1,Calculos!$B$6)+1),INDEX(Calculos!$B$36:$S$52,IF(A27<=Calculos!$B$4,A27,A27-Calculos!$B$4),MOD(23-1,Calculos!$B$6)+1)),IF(MOD(IF(A27<=Calculos!$B$4,A27,A27-Calculos!$B$4)+MOD(23-1,Calculos!$B$6)+1,2)=0,INDEX(Calculos!$B$36:$S$52,IF(A27<=Calculos!$B$4,A27,A27-Calculos!$B$4),MOD(23-1,Calculos!$B$6)+1),INDEX(Calculos!$B$36:$S$52,IF(A27<=Calculos!$B$4,A27,A27-Calculos!$B$4),Calculos!$B$2+1-MOD(23-1,Calculos!$B$6)+1))))) | G27: =IF(A27="","",IF(AND(ISNUMBER(D27),ISNUMBER(E27)),"Jugado","Pendiente")) -> Pendiente | H27: =IF(OR(C27="",F27=""),"",IF(AND(ISNUMBER(D27),ISNUMBER(E27)),IF(D27>E27,Inicio!$E$6,IF(D27=E27,Inicio!$F$6,Inicio!$G$6)),"")) | I27: =IF(OR(C27="",F27=""),"",IF(AND(ISNUMBER(D27),ISNUMBER(E27)),IF(D27<E27,Inicio!$E$6,IF(D27=E27,Inicio!$F$6,Inicio!$G$6)),"")) | J27: =IF(AND(ISNUMBER(D27),ISNUMBER(E27),D27>E27),1,0) -> 0 | K27: =IF(AND(ISNUMBER(D27),ISNUMBER(E27),D27=E27),1,0) -> 0 | L27: =IF(AND(ISNUMBER(D27),ISNUMBER(E27),D27<E27),1,0) -> 0 | M27: =IF(AND(ISNUMBER(D27),ISNUMBER(E27),D27<E27),1,0) -> 0 | N27: =IF(AND(ISNUMBER(D27),ISNUMBER(E27),D27=E27),1,0) -> 0 | O27: =IF(AND(ISNUMBER(D27),ISNUMBER(E27),D27>E27),1,0) -> 0
A28: =IF(OR(Calculos!$B$7=0,24>Calculos!$B$7),"",INT((24-1)/Calculos!$B$6)+1) -> 5 | B28: =IF(A28="","",Inicio!$E$5+(A28-1)*Inicio!$B$6) -> 46110 | C28: =IF(A28="","",INDEX(Calculos!$B$11:$B$28,IF(A28>Calculos!$B$4,IF(MOD(IF(A28<=Calculos!$B$4,A28,A28-Calculos!$B$4)+MOD(24-1,Calculos!$B$6)+1,2)=0,INDEX(Calculos!$B$36:$S$52,IF(A28<=Calculos!$B$4,A28,A28-Calculos!$B$4),MOD(24-1,Calculos!$B$6)+1),INDEX(Calculos!$B$36:$S$52,IF(A28<=Calculos!$B$4,A28,A28-Calculos!$B$4),Calculos!$B$2+1-MOD(24-1,Calculos!$B$6)+1)),IF(MOD(IF(A28<=Calculos!$B$4,A28,A28-Calculos!$B$4)+MOD(24-1,Calculos!$B$6)+1,2)=0,INDEX(Calculos!$B$36:$S$52,IF(A28<=Calculos!$B$4,A28,A28-Calculos!$B$4),Calculos!$B$2+1-MOD(24-1,Calculos!$B$6)+1),INDEX(Calculos!$B$36:$S$52,IF(A28<=Calculos!$B$4,A28,A28-Calculos!$B$4),MOD(24-1,Calculos!$B$6)+1))))) | F28: =IF(A28="","",INDEX(Calculos!$B$11:$B$28,IF(A28>Calculos!$B$4,IF(MOD(IF(A28<=Calculos!$B$4,A28,A28-Calculos!$B$4)+MOD(24-1,Calculos!$B$6)+1,2)=0,INDEX(Calculos!$B$36:$S$52,IF(A28<=Calculos!$B$4,A28,A28-Calculos!$B$4),Calculos!$B$2+1-MOD(24-1,Calculos!$B$6)+1),INDEX(Calculos!$B$36:$S$52,IF(A28<=Calculos!$B$4,A28,A28-Calculos!$B$4),MOD(24-1,Calculos!$B$6)+1)),IF(MOD(IF(A28<=Calculos!$B$4,A28,A28-Calculos!$B$4)+MOD(24-1,Calculos!$B$6)+1,2)=0,INDEX(Calculos!$B$36:$S$52,IF(A28<=Calculos!$B$4,A28,A28-Calculos!$B$4),MOD(24-1,Calculos!$B$6)+1),INDEX(Calculos!$B$36:$S$52,IF(A28<=Calculos!$B$4,A28,A28-Calculos!$B$4),Calculos!$B$2+1-MOD(24-1,Calculos!$B$6)+1))))) | G28: =IF(A28="","",IF(AND(ISNUMBER(D28),ISNUMBER(E28)),"Jugado","Pendiente")) -> Pendiente | H28: =IF(OR(C28="",F28=""),"",IF(AND(ISNUMBER(D28),ISNUMBER(E28)),IF(D28>E28,Inicio!$E$6,IF(D28=E28,Inicio!$F$6,Inicio!$G$6)),"")) | I28: =IF(OR(C28="",F28=""),"",IF(AND(ISNUMBER(D28),ISNUMBER(E28)),IF(D28<E28,Inicio!$E$6,IF(D28=E28,Inicio!$F$6,Inicio!$G$6)),"")) | J28: =IF(AND(ISNUMBER(D28),ISNUMBER(E28),D28>E28),1,0) -> 0 | K28: =IF(AND(ISNUMBER(D28),ISNUMBER(E28),D28=E28),1,0) -> 0 | L28: =IF(AND(ISNUMBER(D28),ISNUMBER(E28),D28<E28),1,0) -> 0 | M28: =IF(AND(ISNUMBER(D28),ISNUMBER(E28),D28<E28),1,0) -> 0 | N28: =IF(AND(ISNUMBER(D28),ISNUMBER(E28),D28=E28),1,0) -> 0 | O28: =IF(AND(ISNUMBER(D28),ISNUMBER(E28),D28>E28),1,0) -> 0
A29: =IF(OR(Calculos!$B$7=0,25>Calculos!$B$7),"",INT((25-1)/Calculos!$B$6)+1) -> 5 | B29: =IF(A29="","",Inicio!$E$5+(A29-1)*Inicio!$B$6) -> 46110 | C29: =IF(A29="","",INDEX(Calculos!$B$11:$B$28,IF(A29>Calculos!$B$4,IF(MOD(IF(A29<=Calculos!$B$4,A29,A29-Calculos!$B$4)+MOD(25-1,Calculos!$B$6)+1,2)=0,INDEX(Calculos!$B$36:$S$52,IF(A29<=Calculos!$B$4,A29,A29-Calculos!$B$4),MOD(25-1,Calculos!$B$6)+1),INDEX(Calculos!$B$36:$S$52,IF(A29<=Calculos!$B$4,A29,A29-Calculos!$B$4),Calculos!$B$2+1-MOD(25-1,Calculos!$B$6)+1)),IF(MOD(IF(A29<=Calculos!$B$4,A29,A29-Calculos!$B$4)+MOD(25-1,Calculos!$B$6)+1,2)=0,INDEX(Calculos!$B$36:$S$52,IF(A29<=Calculos!$B$4,A29,A29-Calculos!$B$4),Calculos!$B$2+1-MOD(25-1,Calculos!$B$6)+1),INDEX(Calculos!$B$36:$S$52,IF(A29<=Calculos!$B$4,A29,A29-Calculos!$B$4),MOD(25-1,Calculos!$B$6)+1))))) -> #VALUE! | F29: =IF(A29="","",INDEX(Calculos!$B$11:$B$28,IF(A29>Calculos!$B$4,IF(MOD(IF(A29<=Calculos!$B$4,A29,A29-Calculos!$B$4)+MOD(25-1,Calculos!$B$6)+1,2)=0,INDEX(Calculos!$B$36:$S$52,IF(A29<=Calculos!$B$4,A29,A29-Calculos!$B$4),Calculos!$B$2+1-MOD(25-1,Calculos!$B$6)+1),INDEX(Calculos!$B$36:$S$52,IF(A29<=Calculos!$B$4,A29,A29-Calculos!$B$4),MOD(25-1,Calculos!$B$6)+1)),IF(MOD(IF(A29<=Calculos!$B$4,A29,A29-Calculos!$B$4)+MOD(25-1,Calculos!$B$6)+1,2)=0,INDEX(Calculos!$B$36:$S$52,IF(A29<=Calculos!$B$4,A29,A29-Calculos!$B$4),MOD(25-1,Calculos!$B$6)+1),INDEX(Calculos!$B$36:$S$52,IF(A29<=Calculos!$B$4,A29,A29-Calculos!$B$4),Calculos!$B$2+1-MOD(25-1,Calculos!$B$6)+1))))) -> #VALUE! | G29: =IF(A29="","",IF(AND(ISNUMBER(D29),ISNUMBER(E29)),"Jugado","Pendiente")) -> Pendiente | H29: =IF(OR(C29="",F29=""),"",IF(AND(ISNUMBER(D29),ISNUMBER(E29)),IF(D29>E29,Inicio!$E$6,IF(D29=E29,Inicio!$F$6,Inicio!$G$6)),"")) -> #VALUE! | I29: =IF(OR(C29="",F29=""),"",IF(AND(ISNUMBER(D29),ISNUMBER(E29)),IF(D29<E29,Inicio!$E$6,IF(D29=E29,Inicio!$F$6,Inicio!$G$6)),"")) -> #VALUE! | J29: =IF(AND(ISNUMBER(D29),ISNUMBER(E29),D29>E29),1,0) -> 0 | K29: =IF(AND(ISNUMBER(D29),ISNUMBER(E29),D29=E29),1,0) -> 0 | L29: =IF(AND(ISNUMBER(D29),ISNUMBER(E29),D29<E29),1,0) -> 0 | M29: =IF(AND(ISNUMBER(D29),ISNUMBER(E29),D29<E29),1,0) -> 0 | N29: =IF(AND(ISNUMBER(D29),ISNUMBER(E29),D29=E29),1,0) -> 0 | O29: =IF(AND(ISNUMBER(D29),ISNUMBER(E29),D29>E29),1,0) -> 0
A30: =IF(OR(Calculos!$B$7=0,26>Calculos!$B$7),"",INT((26-1)/Calculos!$B$6)+1) -> 6 | B30: =IF(A30="","",Inicio!$E$5+(A30-1)*Inicio!$B$6) -> 46117 | C30: =IF(A30="","",INDEX(Calculos!$B$11:$B$28,IF(A30>Calculos!$B$4,IF(MOD(IF(A30<=Calculos!$B$4,A30,A30-Calculos!$B$4)+MOD(26-1,Calculos!$B$6)+1,2)=0,INDEX(Calculos!$B$36:$S$52,IF(A30<=Calculos!$B$4,A30,A30-Calculos!$B$4),MOD(26-1,Calculos!$B$6)+1),INDEX(Calculos!$B$36:$S$52,IF(A30<=Calculos!$B$4,A30,A30-Calculos!$B$4),Calculos!$B$2+1-MOD(26-1,Calculos!$B$6)+1)),IF(MOD(IF(A30<=Calculos!$B$4,A30,A30-Calculos!$B$4)+MOD(26-1,Calculos!$B$6)+1,2)=0,INDEX(Calculos!$B$36:$S$52,IF(A30<=Calculos!$B$4,A30,A30-Calculos!$B$4),Calculos!$B$2+1-MOD(26-1,Calculos!$B$6)+1),INDEX(Calculos!$B$36:$S$52,IF(A30<=Calculos!$B$4,A30,A30-Calculos!$B$4),MOD(26-1,Calculos!$B$6)+1))))) -> #VALUE! | F30: =IF(A30="","",INDEX(Calculos!$B$11:$B$28,IF(A30>Calculos!$B$4,IF(MOD(IF(A30<=Calculos!$B$4,A30,A30-Calculos!$B$4)+MOD(26-1,Calculos!$B$6)+1,2)=0,INDEX(Calculos!$B$36:$S$52,IF(A30<=Calculos!$B$4,A30,A30-Calculos!$B$4),Calculos!$B$2+1-MOD(26-1,Calculos!$B$6)+1),INDEX(Calculos!$B$36:$S$52,IF(A30<=Calculos!$B$4,A30,A30-Calculos!$B$4),MOD(26-1,Calculos!$B$6)+1)),IF(MOD(IF(A30<=Calculos!$B$4,A30,A30-Calculos!$B$4)+MOD(26-1,Calculos!$B$6)+1,2)=0,INDEX(Calculos!$B$36:$S$52,IF(A30<=Calculos!$B$4,A30,A30-Calculos!$B$4),MOD(26-1,Calculos!$B$6)+1),INDEX(Calculos!$B$36:$S$52,IF(A30<=Calculos!$B$4,A30,A30-Calculos!$B$4),Calculos!$B$2+1-MOD(26-1,Calculos!$B$6)+1))))) -> #VALUE! | G30: =IF(A30="","",IF(AND(ISNUMBER(D30),ISNUMBER(E30)),"Jugado","Pendiente")) -> Pendiente | H30: =IF(OR(C30="",F30=""),"",IF(AND(ISNUMBER(D30),ISNUMBER(E30)),IF(D30>E30,Inicio!$E$6,IF(D30=E30,Inicio!$F$6,Inicio!$G$6)),"")) -> #VALUE! | I30: =IF(OR(C30="",F30=""),"",IF(AND(ISNUMBER(D30),ISNUMBER(E30)),IF(D30<E30,Inicio!$E$6,IF(D30=E30,Inicio!$F$6,Inicio!$G$6)),"")) -> #VALUE! | J30: =IF(AND(ISNUMBER(D30),ISNUMBER(E30),D30>E30),1,0) -> 0 | K30: =IF(AND(ISNUMBER(D30),ISNUMBER(E30),D30=E30),1,0) -> 0 | L30: =IF(AND(ISNUMBER(D30),ISNUMBER(E30),D30<E30),1,0) -> 0 | M30: =IF(AND(ISNUMBER(D30),ISNUMBER(E30),D30<E30),1,0) -> 0 | N30: =IF(AND(ISNUMBER(D30),ISNUMBER(E30),D30=E30),1,0) -> 0 | O30: =IF(AND(ISNUMBER(D30),ISNUMBER(E30),D30>E30),1,0) -> 0
