Workbook

Sheet Inicio
A1: Plantillas Excel futbol gratis — Gestor de liga
A3: Configuracion
A4: Nombre de la liga | B4: Liga amateur de invierno | D4: Temporada | E4: 2026
A5: Tipo | B5: Ida y vuelta | D5: Fecha inicio | E5: 46082
A6: Dias entre jornadas | B6: 7 | D6: Puntos (V / E / D) | E6: 3 | F6: 1 | G6: 0
A8: Equipos (3 a 18)
A9: # | B9: Equipo | D9: Equipos detectados | E9: =COUNTIF(B10:B27,"<>") -> 10 | F9: Equipos (con descanso) | G9: =IF(MOD(E9,2)=1,E9+1,E9) -> 10
A10: 1 | B10: Atletico Bahia
A11: 2 | B11: Deportivo Alboran
A12: 3 | B12: Racing del Prado
A13: 4 | B13: Union Sierra
A14: 5 | B14: Sporting Marea
A15: 6 | B15: Real Mirador
A16: 7 | B16: CD Aurora
A17: 8 | B17: Inter Laguna
A18: 9 | B18: Juventud Central
A19: 10 | B19: Velez Sur
A20: 11
A21: 12
A22: 13
A23: 14
A24: 15
A25: 16
A26: 17
A27: 18
A29: Uso rapido: escribe los equipos sin dejar huecos; elige 'Solo ida' o 'Ida y vuelta'; introduce resultados en la pestaña Partidos; la Clasificacion se actualiza sola. Con numero impar de equipos, se añade automaticamente 'Descansa'.

Sheet Partidos
A1: Partidos y resultados
A4: Jornada | B4: Fecha | C4: Local | D4: Goles L | E4: Goles V | F4: Visitante | G4: Estado | H4: Pts L | I4: Pts V | J4: WL | K4: DL | L4: LL | M4: WV | N4: DV | O4: LV
A5: =IF(OR(Calculos!$B$7=0,1>Calculos!$B$7),"",INT((1-1)/Calculos!$B$6)+1) -> 1 | B5: =IF(A5="","",Inicio!$E$5+(A5-1)*Inicio!$B$6) -> 46082 | C5: =IF(A5="","",INDEX(Calculos!$B$11:$B$28,IF(A5>Calculos!$B$4,IF(MOD(IF(A5<=Calculos!$B$4,A5,A5-Calculos!$B$4)+MOD(1-1,Calculos!$B$6)+1,2)=0,INDEX(Calculos!$B$36:$S$52,IF(A5<=Calculos!$B$4,A5,A5-Calculos!$B$4),MOD(1-1,Calculos!$B$6)+1),INDEX(Calculos!$B$36:$S$52,IF(A5<=Calculos!$B$4,A5,A5-Calculos!$B$4),Calculos!$B$2+1-MOD(1-1,Calculos!$B$6)+1)),IF(MOD(IF(A5<=Calculos!$B$4,A5,A5-Calculos!$B$4)+MOD(1-1,Calculos!$B$6)+1,2)=0,INDEX(Calculos!$B$36:$S$52,IF(A5<=Calculos!$B$4,A5,A5-Calculos!$B$4),Calculos!$B$2+1-MOD(1-1,Calculos!$B$6)+1),INDEX(Calculos!$B$36:$S$52,IF(A5<=Calculos!$B$4,A5,A5-Calculos!$B$4),MOD(1-1,Calculos!$B$6)+1))))) -> #VALUE! | D5: 2 | E5: 1 | F5: =IF(A5="","",INDEX(Calculos!$B$11:$B$28,IF(A5>Calculos!$B$4,IF(MOD(IF(A5<=Calculos!$B$4,A5,A5-Calculos!$B$4)+MOD(1-1,Calculos!$B$6)+1,2)=0,INDEX(Calculos!$B$36:$S$52,IF(A5<=Calculos!$B$4,A5,A5-Calculos!$B$4),Calculos!$B$2+1-MOD(1-1,Calculos!$B$6)+1),INDEX(Calculos!$B$36:$S$52,IF(A5<=Calculos!$B$4,A5,A5-Calculos!$B$4),MOD(1-1,Calculos!$B$6)+1)),IF(MOD(IF(A5<=Calculos!$B$4,A5,A5-Calculos!$B$4)+MOD(1-1,Calculos!$B$6)+1,2)=0,INDEX(Calculos!$B$36:$S$52,IF(A5<=Calculos!$B$4,A5,A5-Calculos!$B$4),MOD(1-1,Calculos!$B$6)+1),INDEX(Calculos!$B$36:$S$52,IF(A5<=Calculos!$B$4,A5,A5-Calculos!$B$4),Calculos!$B$2+1-MOD(1-1,Calculos!$B$6)+1))))) -> #VALUE! | G5: =IF(A5="","",IF(AND(ISNUMBER(D5),ISNUMBER(E5)),"Jugado","Pendiente")) -> Jugado | H5: =IF(OR(C5="",F5=""),"",IF(AND(ISNUMBER(D5),ISNUMBER(E5)),IF(D5>E5,Inicio!$E$6,IF(D5=E5,Inicio!$F$6,Inicio!$G$6)),"")) -> #VALUE! | I5: =IF(OR(C5="",F5=""),"",IF(AND(ISNUMBER(D5),ISNUMBER(E5)),IF(D5<E5,Inicio!$E$6,IF(D5=E5,Inicio!$F$6,Inicio!$G$6)),"")) -> #VALUE! | J5: =IF(AND(ISNUMBER(D5),ISNUMBER(E5),D5>E5),1,0) -> 1 | K5: =IF(AND(ISNUMBER(D5),ISNUMBER(E5),D5=E5),1,0) -> 0 | L5: =IF(AND(ISNUMBER(D5),ISNUMBER(E5),D5<E5),1,0) -> 0 | M5: =IF(AND(ISNUMBER(D5),ISNUMBER(E5),D5<E5),1,0) -> 0 | N5: =IF(AND(ISNUMBER(D5),ISNUMBER(E5),D5=E5),1,0) -> 0 | O5: =IF(AND(ISNUMBER(D5),ISNUMBER(E5),D5>E5),1,0) -> 1
A6: =IF(OR(Calculos!$B$7=0,2>Calculos!$B$7),"",INT((2-1)/Calculos!$B$6)+1) -> 1 | B6: =IF(A6="","",Inicio!$E$5+(A6-1)*Inicio!$B$6) -> 46082 | C6: =IF(A6="","",INDEX(Calculos!$B$11:$B$28,IF(A6>Calculos!$B$4,IF(MOD(IF(A6<=Calculos!$B$4,A6,A6-Calculos!$B$4)+MOD(2-1,Calculos!$B$6)+1,2)=0,INDEX(Calculos!$B$36:$S$52,IF(A6<=Calculos!$B$4,A6,A6-Calculos!$B$4),MOD(2-1,Calculos!$B$6)+1),INDEX(Calculos!$B$36:$S$52,IF(A6<=Calculos!$B$4,A6,A6-Calculos!$B$4),Calculos!$B$2+1-MOD(2-1,Calculos!$B$6)+1)),IF(MOD(IF(A6<=Calculos!$B$4,A6,A6-Calculos!$B$4)+MOD(2-1,Calculos!$B$6)+1,2)=0,INDEX(Calculos!$B$36:$S$52,IF(A6<=Calculos!$B$4,A6,A6-Calculos!$B$4),Calculos!$B$2+1-MOD(2-1,Calculos!$B$6)+1),INDEX(Calculos!$B$36:$S$52,IF(A6<=Calculos!$B$4,A6,A6-Calculos!$B$4),MOD(2-1,Calculos!$B$6)+1))))) -> #VALUE! | D6: 0 | E6: 0 | F6: =IF(A6="","",INDEX(Calculos!$B$11:$B$28,IF(A6>Calculos!$B$4,IF(MOD(IF(A6<=Calculos!$B$4,A6,A6-Calculos!$B$4)+MOD(2-1,Calculos!$B$6)+1,2)=0,INDEX(Calculos!$B$36:$S$52,IF(A6<=Calculos!$B$4,A6,A6-Calculos!$B$4),Calculos!$B$2+1-MOD(2-1,Calculos!$B$6)+1),INDEX(Calculos!$B$36:$S$52,IF(A6<=Calculos!$B$4,A6,A6-Calculos!$B$4),MOD(2-1,Calculos!$B$6)+1)),IF(MOD(IF(A6<=Calculos!$B$4,A6,A6-Calculos!$B$4)+MOD(2-1,Calculos!$B$6)+1,2)=0,INDEX(Calculos!$B$36:$S$52,IF(A6<=Calculos!$B$4,A6,A6-Calculos!$B$4),MOD(2-1,Calculos!$B$6)+1),INDEX(Calculos!$B$36:$S$52,IF(A6<=Calculos!$B$4,A6,A6-Calculos!$B$4),Calculos!$B$2+1-MOD(2-1,Calculos!$B$6)+1))))) -> #VALUE! | G6: =IF(A6="","",IF(AND(ISNUMBER(D6),ISNUMBER(E6)),"Jugado","Pendiente")) -> Jugado | H6: =IF(OR(C6="",F6=""),"",IF(AND(ISNUMBER(D6),ISNUMBER(E6)),IF(D6>E6,Inicio!$E$6,IF(D6=E6,Inicio!$F$6,Inicio!$G$6)),"")) -> #VALUE! | I6: =IF(OR(C6="",F6=""),"",IF(AND(ISNUMBER(D6),ISNUMBER(E6)),IF(D6<E6,Inicio!$E$6,IF(D6=E6,Inicio!$F$6,Inicio!$G$6)),"")) -> #VALUE! | J6: =IF(AND(ISNUMBER(D6),ISNUMBER(E6),D6>E6),1,0) -> 0 | K6: =IF(AND(ISNUMBER(D6),ISNUMBER(E6),D6=E6),1,0) -> 1 | L6: =IF(AND(ISNUMBER(D6),ISNUMBER(E6),D6<E6),1,0) -> 0 | M6: =IF(AND(ISNUMBER(D6),ISNUMBER(E6),D6<E6),1,0) -> 0 | N6: =IF(AND(ISNUMBER(D6),ISNUMBER(E6),D6=E6),1,0) -> 1 | O6: =IF(AND(ISNUMBER(D6),ISNUMBER(E6),D6>E6),1,0) -> 0
A7: =IF(OR(Calculos!$B$7=0,3>Calculos!$B$7),"",INT((3-1)/Calculos!$B$6)+1) -> 1 | B7: =IF(A7="","",Inicio!$E$5+(A7-1)*Inicio!$B$6) -> 46082 | C7: =IF(A7="","",INDEX(Calculos!$B$11:$B$28,IF(A7>Calculos!$B$4,IF(MOD(IF(A7<=Calculos!$B$4,A7,A7-Calculos!$B$4)+MOD(3-1,Calculos!$B$6)+1,2)=0,INDEX(Calculos!$B$36:$S$52,IF(A7<=Calculos!$B$4,A7,A7-Calculos!$B$4),MOD(3-1,Calculos!$B$6)+1),INDEX(Calculos!$B$36:$S$52,IF(A7<=Calculos!$B$4,A7,A7-Calculos!$B$4),Calculos!$B$2+1-MOD(3-1,Calculos!$B$6)+1)),IF(MOD(IF(A7<=Calculos!$B$4,A7,A7-Calculos!$B$4)+MOD(3-1,Calculos!$B$6)+1,2)=0,INDEX(Calculos!$B$36:$S$52,IF(A7<=Calculos!$B$4,A7,A7-Calculos!$B$4),Calculos!$B$2+1-MOD(3-1,Calculos!$B$6)+1),INDEX(Calculos!$B$36:$S$52,IF(A7<=Calculos!$B$4,A7,A7-Calculos!$B$4),MOD(3-1,Calculos!$B$6)+1))))) -> #VALUE! | D7: 3 | E7: 2 | F7: =IF(A7="","",INDEX(Calculos!$B$11:$B$28,IF(A7>Calculos!$B$4,IF(MOD(IF(A7<=Calculos!$B$4,A7,A7-Calculos!$B$4)+MOD(3-1,Calculos!$B$6)+1,2)=0,INDEX(Calculos!$B$36:$S$52,IF(A7<=Calculos!$B$4,A7,A7-Calculos!$B$4),Calculos!$B$2+1-MOD(3-1,Calculos!$B$6)+1),INDEX(Calculos!$B$36:$S$52,IF(A7<=Calculos!$B$4,A7,A7-Calculos!$B$4),MOD(3-1,Calculos!$B$6)+1)),IF(MOD(IF(A7<=Calculos!$B$4,A7,A7-Calculos!$B$4)+MOD(3-1,Calculos!$B$6)+1,2)=0,INDEX(Calculos!$B$36:$S$52,IF(A7<=Calculos!$B$4,A7,A7-Calculos!$B$4),MOD(3-1,Calculos!$B$6)+1),INDEX(Calculos!$B$36:$S$52,IF(A7<=Calculos!$B$4,A7,A7-Calculos!$B$4),Calculos!$B$2+1-MOD(3-1,Calculos!$B$6)+1))))) -> #VALUE! | G7: =IF(A7="","",IF(AND(ISNUMBER(D7),ISNUMBER(E7)),"Jugado","Pendiente")) -> Jugado | H7: =IF(OR(C7="",F7=""),"",IF(AND(ISNUMBER(D7),ISNUMBER(E7)),IF(D7>E7,Inicio!$E$6,IF(D7=E7,Inicio!$F$6,Inicio!$G$6)),"")) -> #VALUE! | I7: =IF(OR(C7="",F7=""),"",IF(AND(ISNUMBER(D7),ISNUMBER(E7)),IF(D7<E7,Inicio!$E$6,IF(D7=E7,Inicio!$F$6,Inicio!$G$6)),"")) -> #VALUE! | J7: =IF(AND(ISNUMBER(D7),ISNUMBER(E7),D7>E7),1,0) -> 1 | K7: =IF(AND(ISNUMBER(D7),ISNUMBER(E7),D7=E7),1,0) -> 0 | L7: =IF(AND(ISNUMBER(D7),ISNUMBER(E7),D7<E7),1,0) -> 0 | M7: =IF(AND(ISNUMBER(D7),ISNUMBER(E7),D7<E7),1,0) -> 0 | N7: =IF(AND(ISNUMBER(D7),ISNUMBER(E7),D7=E7),1,0) -> 0 | O7: =IF(AND(ISNUMBER(D7),ISNUMBER(E7),D7>E7),1,0) -> 1
A8: =IF(OR(Calculos!$B$7=0,4>Calculos!$B$7),"",INT((4-1)/Calculos!$B$6)+1) -> 1 | B8: =IF(A8="","",Inicio!$E$5+(A8-1)*Inicio!$B$6) -> 46082 | C8: =IF(A8="","",INDEX(Calculos!$B$11:$B$28,IF(A8>Calculos!$B$4,IF(MOD(IF(A8<=Calculos!$B$4,A8,A8-Calculos!$B$4)+MOD(4-1,Calculos!$B$6)+1,2)=0,INDEX(Calculos!$B$36:$S$52,IF(A8<=Calculos!$B$4,A8,A8-Calculos!$B$4),MOD(4-1,Calculos!$B$6)+1),INDEX(Calculos!$B$36:$S$52,IF(A8<=Calculos!$B$4,A8,A8-Calculos!$B$4),Calculos!$B$2+1-MOD(4-1,Calculos!$B$6)+1)),IF(MOD(IF(A8<=Calculos!$B$4,A8,A8-Calculos!$B$4)+MOD(4-1,Calculos!$B$6)+1,2)=0,INDEX(Calculos!$B$36:$S$52,IF(A8<=Calculos!$B$4,A8,A8-Calculos!$B$4),Calculos!$B$2+1-MOD(4-1,Calculos!$B$6)+1),INDEX(Calculos!$B$36:$S$52,IF(A8<=Calculos!$B$4,A8,A8-Calculos!$B$4),MOD(4-1,Calculos!$B$6)+1))))) -> #VALUE! | D8: 1 | E8: 2 | F8: =IF(A8="","",INDEX(Calculos!$B$11:$B$28,IF(A8>Calculos!$B$4,IF(MOD(IF(A8<=Calculos!$B$4,A8,A8-Calculos!$B$4)+MOD(4-1,Calculos!$B$6)+1,2)=0,INDEX(Calculos!$B$36:$S$52,IF(A8<=Calculos!$B$4,A8,A8-Calculos!$B$4),Calculos!$B$2+1-MOD(4-1,Calculos!$B$6)+1),INDEX(Calculos!$B$36:$S$52,IF(A8<=Calculos!$B$4,A8,A8-Calculos!$B$4),MOD(4-1,Calculos!$B$6)+1)),IF(MOD(IF(A8<=Calculos!$B$4,A8,A8-Calculos!$B$4)+MOD(4-1,Calculos!$B$6)+1,2)=0,INDEX(Calculos!$B$36:$S$52,IF(A8<=Calculos!$B$4,A8,A8-Calculos!$B$4),MOD(4-1,Calculos!$B$6)+1),INDEX(Calculos!$B$36:$S$52,IF(A8<=Calculos!$B$4,A8,A8-Calculos!$B$4),Calculos!$B$2+1-MOD(4-1,Calculos!$B$6)+1))))) -> #VALUE! | G8: =IF(A8="","",IF(AND(ISNUMBER(D8),ISNUMBER(E8)),"Jugado","Pendiente")) -> Jugado | H8: =IF(OR(C8="",F8=""),"",IF(AND(ISNUMBER(D8),ISNUMBER(E8)),IF(D8>E8,Inicio!$E$6,IF(D8=E8,Inicio!$F$6,Inicio!$G$6)),"")) -> #VALUE! | I8: =IF(OR(C8="",F8=""),"",IF(AND(ISNUMBER(D8),ISNUMBER(E8)),IF(D8<E8,Inicio!$E$6,IF(D8=E8,Inicio!$F$6,Inicio!$G$6)),"")) -> #VALUE! | J8: =IF(AND(ISNUMBER(D8),ISNUMBER(E8),D8>E8),1,0) -> 0 | K8: =IF(AND(ISNUMBER(D8),ISNUMBER(E8),D8=E8),1,0) -> 0 | L8: =IF(AND(ISNUMBER(D8),ISNUMBER(E8),D8<E8),1,0) -> 1 | M8: =IF(AND(ISNUMBER(D8),ISNUMBER(E8),D8<E8),1,0) -> 1 | N8: =IF(AND(ISNUMBER(D8),ISNUMBER(E8),D8=E8),1,0) -> 0 | O8: =IF(AND(ISNUMBER(D8),ISNUMBER(E8),D8>E8),1,0) -> 0
A9: =IF(OR(Calculos!$B$7=0,5>Calculos!$B$7),"",INT((5-1)/Calculos!$B$6)+1) -> 1 | B9: =IF(A9="","",Inicio!$E$5+(A9-1)*Inicio!$B$6) -> 46082 | C9: =IF(A9="","",INDEX(Calculos!$B$11:$B$28,IF(A9>Calculos!$B$4,IF(MOD(IF(A9<=Calculos!$B$4,A9,A9-Calculos!$B$4)+MOD(5-1,Calculos!$B$6)+1,2)=0,INDEX(Calculos!$B$36:$S$52,IF(A9<=Calculos!$B$4,A9,A9-Calculos!$B$4),MOD(5-1,Calculos!$B$6)+1),INDEX(Calculos!$B$36:$S$52,IF(A9<=Calculos!$B$4,A9,A9-Calculos!$B$4),Calculos!$B$2+1-MOD(5-1,Calculos!$B$6)+1)),IF(MOD(IF(A9<=Calculos!$B$4,A9,A9-Calculos!$B$4)+MOD(5-1,Calculos!$B$6)+1,2)=0,INDEX(Calculos!$B$36:$S$52,IF(A9<=Calculos!$B$4,A9,A9-Calculos!$B$4),Calculos!$B$2+1-MOD(5-1,Calculos!$B$6)+1),INDEX(Calculos!$B$36:$S$52,IF(A9<=Calculos!$B$4,A9,A9-Calculos!$B$4),MOD(5-1,Calculos!$B$6)+1))))) -> #VALUE! | D9: 4 | E9: 0 | F9: =IF(A9="","",INDEX(Calculos!$B$11:$B$28,IF(A9>Calculos!$B$4,IF(MOD(IF(A9<=Calculos!$B$4,A9,A9-Calculos!$B$4)+MOD(5-1,Calculos!$B$6)+1,2)=0,INDEX(Calculos!$B$36:$S$52,IF(A9<=Calculos!$B$4,A9,A9-Calculos!$B$4),Calculos!$B$2+1-MOD(5-1,Calculos!$B$6)+1),INDEX(Calculos!$B$36:$S$52,IF(A9<=Calculos!$B$4,A9,A9-Calculos!$B$4),MOD(5-1,Calculos!$B$6)+1)),IF(MOD(IF(A9<=Calculos!$B$4,A9,A9-Calculos!$B$4)+MOD(5-1,Calculos!$B$6)+1,2)=0,INDEX(Calculos!$B$36:$S$52,IF(A9<=Calculos!$B$4,A9,A9-Calculos!$B$4),MOD(5-1,Calculos!$B$6)+1),INDEX(Calculos!$B$36:$S$52,IF(A9<=Calculos!$B$4,A9,A9-Calculos!$B$4),Calculos!$B$2+1-MOD(5-1,Calculos!$B$6)+1))))) -> #VALUE! | G9: =IF(A9="","",IF(AND(ISNUMBER(D9),ISNUMBER(E9)),"Jugado","Pendiente")) -> Jugado | H9: =IF(OR(C9="",F9=""),"",IF(AND(ISNUMBER(D9),ISNUMBER(E9)),IF(D9>E9,Inicio!$E$6,IF(D9=E9,Inicio!$F$6,Inicio!$G$6)),"")) -> #VALUE! | I9: =IF(OR(C9="",F9=""),"",IF(AND(ISNUMBER(D9),ISNUMBER(E9)),IF(D9<E9,Inicio!$E$6,IF(D9=E9,Inicio!$F$6,Inicio!$G$6)),"")) -> #VALUE! | J9: =IF(AND(ISNUMBER(D9),ISNUMBER(E9),D9>E9),1,0) -> 1 | K9: =IF(AND(ISNUMBER(D9),ISNUMBER(E9),D9=E9),1,0) -> 0 | L9: =IF(AND(ISNUMBER(D9),ISNUMBER(E9),D9<E9),1,0) -> 0 | M9: =IF(AND(ISNUMBER(D9),ISNUMBER(E9),D9<E9),1,0) -> 0 | N9: =IF(AND(ISNUMBER(D9),ISNUMBER(E9),D9=E9),1,0) -> 0 | O9: =IF(AND(ISNUMBER(D9),ISNUMBER(E9),D9>E9),1,0) -> 1
A10: =IF(OR(Calculos!$B$7=0,6>Calculos!$B$7),"",INT((6-1)/Calculos!$B$6)+1) -> 2 | B10: =IF(A10="","",Inicio!$E$5+(A10-1)*Inicio!$B$6) -> 46089 | C10: =IF(A10="","",INDEX(Calculos!$B$11:$B$28,IF(A10>Calculos!$B$4,IF(MOD(IF(A10<=Calculos!$B$4,A10,A10-Calculos!$B$4)+MOD(6-1,Calculos!$B$6)+1,2)=0,INDEX(Calculos!$B$36:$S$52,IF(A10<=Calculos!$B$4,A10,A10-Calculos!$B$4),MOD(6-1,Calculos!$B$6)+1),INDEX(Calculos!$B$36:$S$52,IF(A10<=Calculos!$B$4,A10,A10-Calculos!$B$4),Calculos!$B$2+1-MOD(6-1,Calculos!$B$6)+1)),IF(MOD(IF(A10<=Calculos!$B$4,A10,A10-Calculos!$B$4)+MOD(6-1,Calculos!$B$6)+1,2)=0,INDEX(Calculos!$B$36:$S$52,IF(A10<=Calculos!$B$4,A10,A10-Calculos!$B$4),Calculos!$B$2+1-MOD(6-1,Calculos!$B$6)+1),INDEX(Calculos!$B$36:$S$52,IF(A10<=Calculos!$B$4,A10,A10-Calculos!$B$4),MOD(6-1,Calculos!$B$6)+1))))) -> #VALUE! | D10: 1 | E10: 1 | F10: =IF(A10="","",INDEX(Calculos!$B$11:$B$28,IF(A10>Calculos!$B$4,IF(MOD(IF(A10<=Calculos!$B$4,A10,A10-Calculos!$B$4)+MOD(6-1,Calculos!$B$6)+1,2)=0,INDEX(Calculos!$B$36:$S$52,IF(A10<=Calculos!$B$4,A10,A10-Calculos!$B$4),Calculos!$B$2+1-MOD(6-1,Calculos!$B$6)+1),INDEX(Calculos!$B$36:$S$52,IF(A10<=Calculos!$B$4,A10,A10-Calculos!$B$4),MOD(6-1,Calculos!$B$6)+1)),IF(MOD(IF(A10<=Calculos!$B$4,A10,A10-Calculos!$B$4)+MOD(6-1,Calculos!$B$6)+1,2)=0,INDEX(Calculos!$B$36:$S$52,IF(A10<=Calculos!$B$4,A10,A10-Calculos!$B$4),MOD(6-1,Calculos!$B$6)+1),INDEX(Calculos!$B$36:$S$52,IF(A10<=Calculos!$B$4,A10,A10-Calculos!$B$4),Calculos!$B$2+1-MOD(6-1,Calculos!$B$6)+1))))) -> #VALUE! | G10: =IF(A10="","",IF(AND(ISNUMBER(D10),ISNUMBER(E10)),"Jugado","Pendiente")) -> Jugado | H10: =IF(OR(C10="",F10=""),"",IF(AND(ISNUMBER(D10),ISNUMBER(E10)),IF(D10>E10,Inicio!$E$6,IF(D10=E10,Inicio!$F$6,Inicio!$G$6)),"")) -> #VALUE! | I10: =IF(OR(C10="",F10=""),"",IF(AND(ISNUMBER(D10),ISNUMBER(E10)),IF(D10<E10,Inicio!$E$6,IF(D10=E10,Inicio!$F$6,Inicio!$G$6)),"")) -> #VALUE! | J10: =IF(AND(ISNUMBER(D10),ISNUMBER(E10),D10>E10),1,0) -> 0 | K10: =IF(AND(ISNUMBER(D10),ISNUMBER(E10),D10=E10),1,0) -> 1 | L10: =IF(AND(ISNUMBER(D10),ISNUMBER(E10),D10<E10),1,0) -> 0 | M10: =IF(AND(ISNUMBER(D10),ISNUMBER(E10),D10<E10),1,0) -> 0 | N10: =IF(AND(ISNUMBER(D10),ISNUMBER(E10),D10=E10),1,0) -> 1 | O10: =IF(AND(ISNUMBER(D10),ISNUMBER(E10),D10>E10),1,0) -> 0
A11: =IF(OR(Calculos!$B$7=0,7>Calculos!$B$7),"",INT((7-1)/Calculos!$B$6)+1) -> 2 | B11: =IF(A11="","",Inicio!$E$5+(A11-1)*Inicio!$B$6) -> 46089 | C11: =IF(A11="","",INDEX(Calculos!$B$11:$B$28,IF(A11>Calculos!$B$4,IF(MOD(IF(A11<=Calculos!$B$4,A11,A11-Calculos!$B$4)+MOD(7-1,Calculos!$B$6)+1,2)=0,INDEX(Calculos!$B$36:$S$52,IF(A11<=Calculos!$B$4,A11,A11-Calculos!$B$4),MOD(7-1,Calculos!$B$6)+1),INDEX(Calculos!$B$36:$S$52,IF(A11<=Calculos!$B$4,A11,A11-Calculos!$B$4),Calculos!$B$2+1-MOD(7-1,Calculos!$B$6)+1)),IF(MOD(IF(A11<=Calculos!$B$4,A11,A11-Calculos!$B$4)+MOD(7-1,Calculos!$B$6)+1,2)=0,INDEX(Calculos!$B$36:$S$52,IF(A11<=Calculos!$B$4,A11,A11-Calculos!$B$4),Calculos!$B$2+1-MOD(7-1,Calculos!$B$6)+1),INDEX(Calculos!$B$36:$S$52,IF(A11<=Calculos!$B$4,A11,A11-Calculos!$B$4),MOD(7-1,Calculos!$B$6)+1))))) -> Atletico Bahia | D11: 2 | E11: 0 | F11: =IF(A11="","",INDEX(Calculos!$B$11:$B$28,IF(A11>Calculos!$B$4,IF(MOD(IF(A11<=Calculos!$B$4,A11,A11-Calculos!$B$4)+MOD(7-1,Calculos!$B$6)+1,2)=0,INDEX(Calculos!$B$36:$S$52,IF(A11<=Calculos!$B$4,A11,A11-Calculos!$B$4),Calculos!$B$2+1-MOD(7-1,Calculos!$B$6)+1),INDEX(Calculos!$B$36:$S$52,IF(A11<=Calculos!$B$4,A11,A11-Calculos!$B$4),MOD(7-1,Calculos!$B$6)+1)),IF(MOD(IF(A11<=Calculos!$B$4,A11,A11-Calculos!$B$4)+MOD(7-1,Calculos!$B$6)+1,2)=0,INDEX(Calculos!$B$36:$S$52,IF(A11<=Calculos!$B$4,A11,A11-Calculos!$B$4),MOD(7-1,Calculos!$B$6)+1),INDEX(Calculos!$B$36:$S$52,IF(A11<=Calculos!$B$4,A11,A11-Calculos!$B$4),Calculos!$B$2+1-MOD(7-1,Calculos!$B$6)+1))))) -> Atletico Bahia | G11: =IF(A11="","",IF(AND(ISNUMBER(D11),ISNUMBER(E11)),"Jugado","Pendiente")) -> Jugado | H11: =IF(OR(C11="",F11=""),"",IF(AND(ISNUMBER(D11),ISNUMBER(E11)),IF(D11>E11,Inicio!$E$6,IF(D11=E11,Inicio!$F$6,Inicio!$G$6)),"")) -> 3 | I11: =IF(OR(C11="",F11=""),"",IF(AND(ISNUMBER(D11),ISNUMBER(E11)),IF(D11<E11,Inicio!$E$6,IF(D11=E11,Inicio!$F$6,Inicio!$G$6)),"")) -> 0 | J11: =IF(AND(ISNUMBER(D11),ISNUMBER(E11),D11>E11),1,0) -> 1 | K11: =IF(AND(ISNUMBER(D11),ISNUMBER(E11),D11=E11),1,0) -> 0 | L11: =IF(AND(ISNUMBER(D11),ISNUMBER(E11),D11<E11),1,0) -> 0 | M11: =IF(AND(ISNUMBER(D11),ISNUMBER(E11),D11<E11),1,0) -> 0 | N11: =IF(AND(ISNUMBER(D11),ISNUMBER(E11),D11=E11),1,0) -> 0 | O11: =IF(AND(ISNUMBER(D11),ISNUMBER(E11),D11>E11),1,0) -> 1
A12: =IF(OR(Calculos!$B$7=0,8>Calculos!$B$7),"",INT((8-1)/Calculos!$B$6)+1) -> 2 | B12: =IF(A12="","",Inicio!$E$5+(A12-1)*Inicio!$B$6) -> 46089 | C12: =IF(A12="","",INDEX(Calculos!$B$11:$B$28,IF(A12>Calculos!$B$4,IF(MOD(IF(A12<=Calculos!$B$4,A12,A12-Calculos!$B$4)+MOD(8-1,Calculos!$B$6)+1,2)=0,INDEX(Calculos!$B$36:$S$52,IF(A12<=Calculos!$B$4,A12,A12-Calculos!$B$4),MOD(8-1,Calculos!$B$6)+1),INDEX(Calculos!$B$36:$S$52,IF(A12<=Calculos!$B$4,A12,A12-Calculos!$B$4),Calculos!$B$2+1-MOD(8-1,Calculos!$B$6)+1)),IF(MOD(IF(A12<=Calculos!$B$4,A12,A12-Calculos!$B$4)+MOD(8-1,Calculos!$B$6)+1,2)=0,INDEX(Calculos!$B$36:$S$52,IF(A12<=Calculos!$B$4,A12,A12-Calculos!$B$4),Calculos!$B$2+1-MOD(8-1,Calculos!$B$6)+1),INDEX(Calculos!$B$36:$S$52,IF(A12<=Calculos!$B$4,A12,A12-Calculos!$B$4),MOD(8-1,Calculos!$B$6)+1))))) -> Deportivo Alboran | D12: 0 | E12: 2 | F12: =IF(A12="","",INDEX(Calculos!$B$11:$B$28,IF(A12>Calculos!$B$4,IF(MOD(IF(A12<=Calculos!$B$4,A12,A12-Calculos!$B$4)+MOD(8-1,Calculos!$B$6)+1,2)=0,INDEX(Calculos!$B$36:$S$52,IF(A12<=Calculos!$B$4,A12,A12-Calculos!$B$4),Calculos!$B$2+1-MOD(8-1,Calculos!$B$6)+1),INDEX(Calculos!$B$36:$S$52,IF(A12<=Calculos!$B$4,A12,A12-Calculos!$B$4),MOD(8-1,Calculos!$B$6)+1)),IF(MOD(IF(A12<=Calculos!$B$4,A12,A12-Calculos!$B$4)+MOD(8-1,Calculos!$B$6)+1,2)=0,INDEX(Calculos!$B$36:$S$52,IF(A12<=Calculos!$B$4,A12,A12-Calculos!$B$4),MOD(8-1,Calculos!$B$6)+1),INDEX(Calculos!$B$36:$S$52,IF(A12<=Calculos!$B$4,A12,A12-Calculos!$B$4),Calculos!$B$2+1-MOD(8-1,Calculos!$B$6)+1))))) -> Deportivo Alboran | G12: =IF(A12="","",IF(AND(ISNUMBER(D12),ISNUMBER(E12)),"Jugado","Pendiente")) -> Jugado | H12: =IF(OR(C12="",F12=""),"",IF(AND(ISNUMBER(D12),ISNUMBER(E12)),IF(D12>E12,Inicio!$E$6,IF(D12=E12,Inicio!$F$6,Inicio!$G$6)),"")) -> 0 | I12: =IF(OR(C12="",F12=""),"",IF(AND(ISNUMBER(D12),ISNUMBER(E12)),IF(D12<E12,Inicio!$E$6,IF(D12=E12,Inicio!$F$6,Inicio!$G$6)),"")) -> 3 | J12: =IF(AND(ISNUMBER(D12),ISNUMBER(E12),D12>E12),1,0) -> 0 | K12: =IF(AND(ISNUMBER(D12),ISNUMBER(E12),D12=E12),1,0) -> 0 | L12: =IF(AND(ISNUMBER(D12),ISNUMBER(E12),D12<E12),1,0) -> 1 | M12: =IF(AND(ISNUMBER(D12),ISNUMBER(E12),D12<E12),1,0) -> 1 | N12: =IF(AND(ISNUMBER(D12),ISNUMBER(E12),D12=E12),1,0) -> 0 | O12: =IF(AND(ISNUMBER(D12),ISNUMBER(E12),D12>E12),1,0) -> 0
A13: =IF(OR(Calculos!$B$7=0,9>Calculos!$B$7),"",INT((9-1)/Calculos!$B$6)+1) -> 2 | B13: =IF(A13="","",Inicio!$E$5+(A13-1)*Inicio!$B$6) -> 46089 | C13: =IF(A13="","",INDEX(Calculos!$B$11:$B$28,IF(A13>Calculos!$B$4,IF(MOD(IF(A13<=Calculos!$B$4,A13,A13-Calculos!$B$4)+MOD(9-1,Calculos!$B$6)+1,2)=0,INDEX(Calculos!$B$36:$S$52,IF(A13<=Calculos!$B$4,A13,A13-Calculos!$B$4),MOD(9-1,Calculos!$B$6)+1),INDEX(Calculos!$B$36:$S$52,IF(A13<=Calculos!$B$4,A13,A13-Calculos!$B$4),Calculos!$B$2+1-MOD(9-1,Calculos!$B$6)+1)),IF(MOD(IF(A13<=Calculos!$B$4,A13,A13-Calculos!$B$4)+MOD(9-1,Calculos!$B$6)+1,2)=0,INDEX(Calculos!$B$36:$S$52,IF(A13<=Calculos!$B$4,A13,A13-Calculos!$B$4),Calculos!$B$2+1-MOD(9-1,Calculos!$B$6)+1),INDEX(Calculos!$B$36:$S$52,IF(A13<=Calculos!$B$4,A13,A13-Calculos!$B$4),MOD(9-1,Calculos!$B$6)+1))))) -> Racing del Prado | D13: 3 | E13: 1 | F13: =IF(A13="","",INDEX(Calculos!$B$11:$B$28,IF(A13>Calculos!$B$4,IF(MOD(IF(A13<=Calculos!$B$4,A13,A13-Calculos!$B$4)+MOD(9-1,Calculos!$B$6)+1,2)=0,INDEX(Calculos!$B$36:$S$52,IF(A13<=Calculos!$B$4,A13,A13-Calculos!$B$4),Calculos!$B$2+1-MOD(9-1,Calculos!$B$6)+1),INDEX(Calculos!$B$36:$S$52,IF(A13<=Calculos!$B$4,A13,A13-Calculos!$B$4),MOD(9-1,Calculos!$B$6)+1)),IF(MOD(IF(A13<=Calculos!$B$4,A13,A13-Calculos!$B$4)+MOD(9-1,Calculos!$B$6)+1,2)=0,INDEX(Calculos!$B$36:$S$52,IF(A13<=Calculos!$B$4,A13,A13-Calculos!$B$4),MOD(9-1,Calculos!$B$6)+1),INDEX(Calculos!$B$36:$S$52,IF(A13<=Calculos!$B$4,A13,A13-Calculos!$B$4),Calculos!$B$2+1-MOD(9-1,Calculos!$B$6)+1))))) -> Racing del Prado | G13: =IF(A13="","",IF(AND(ISNUMBER(D13),ISNUMBER(E13)),"Jugado","Pendiente")) -> Jugado | H13: =IF(OR(C13="",F13=""),"",IF(AND(ISNUMBER(D13),ISNUMBER(E13)),IF(D13>E13,Inicio!$E$6,IF(D13=E13,Inicio!$F$6,Inicio!$G$6)),"")) -> 3 | I13: =IF(OR(C13="",F13=""),"",IF(AND(ISNUMBER(D13),ISNUMBER(E13)),IF(D13<E13,Inicio!$E$6,IF(D13=E13,Inicio!$F$6,Inicio!$G$6)),"")) -> 0 | J13: =IF(AND(ISNUMBER(D13),ISNUMBER(E13),D13>E13),1,0) -> 1 | K13: =IF(AND(ISNUMBER(D13),ISNUMBER(E13),D13=E13),1,0) -> 0 | L13: =IF(AND(ISNUMBER(D13),ISNUMBER(E13),D13<E13),1,0) -> 0 | M13: =IF(AND(ISNUMBER(D13),ISNUMBER(E13),D13<E13),1,0) -> 0 | N13: =IF(AND(ISNUMBER(D13),ISNUMBER(E13),D13=E13),1,0) -> 0 | O13: =IF(AND(ISNUMBER(D13),ISNUMBER(E13),D13>E13),1,0) -> 1
A14: =IF(OR(Calculos!$B$7=0,10>Calculos!$B$7),"",INT((10-1)/Calculos!$B$6)+1) -> 2 | B14: =IF(A14="","",Inicio!$E$5+(A14-1)*Inicio!$B$6) -> 46089 | C14: =IF(A14="","",INDEX(Calculos!$B$11:$B$28,IF(A14>Calculos!$B$4,IF(MOD(IF(A14<=Calculos!$B$4,A14,A14-Calculos!$B$4)+MOD(10-1,Calculos!$B$6)+1,2)=0,INDEX(Calculos!$B$36:$S$52,IF(A14<=Calculos!$B$4,A14,A14-Calculos!$B$4),MOD(10-1,Calculos!$B$6)+1),INDEX(Calculos!$B$36:$S$52,IF(A14<=Calculos!$B$4,A14,A14-Calculos!$B$4),Calculos!$B$2+1-MOD(10-1,Calculos!$B$6)+1)),IF(MOD(IF(A14<=Calculos!$B$4,A14,A14-Calculos!$B$4)+MOD(10-1,Calculos!$B$6)+1,2)=0,INDEX(Calculos!$B$36:$S$52,IF(A14<=Calculos!$B$4,A14,A14-Calculos!$B$4),Calculos!$B$2+1-MOD(10-1,Calculos!$B$6)+1),INDEX(Calculos!$B$36:$S$52,IF(A14<=Calculos!$B$4,A14,A14-Calculos!$B$4),MOD(10-1,Calculos!$B$6)+1))))) -> Union Sierra | D14: 1 | E14: 3 | F14: =IF(A14="","",INDEX(Calculos!$B$11:$B$28,IF(A14>Calculos!$B$4,IF(MOD(IF(A14<=Calculos!$B$4,A14,A14-Calculos!$B$4)+MOD(10-1,Calculos!$B$6)+1,2)=0,INDEX(Calculos!$B$36:$S$52,IF(A14<=Calculos!$B$4,A14,A14-Calculos!$B$4),Calculos!$B$2+1-MOD(10-1,Calculos!$B$6)+1),INDEX(Calculos!$B$36:$S$52,IF(A14<=Calculos!$B$4,A14,A14-Calculos!$B$4),MOD(10-1,Calculos!$B$6)+1)),IF(MOD(IF(A14<=Calculos!$B$4,A14,A14-Calculos!$B$4)+MOD(10-1,Calculos!$B$6)+1,2)=0,INDEX(Calculos!$B$36:$S$52,IF(A14<=Calculos!$B$4,A14,A14-Calculos!$B$4),MOD(10-1,Calculos!$B$6)+1),INDEX(Calculos!$B$36:$S$52,IF(A14<=Calculos!$B$4,A14,A14-Calculos!$B$4),Calculos!$B$2+1-MOD(10-1,Calculos!$B$6)+1))))) -> Union Sierra | G14: =IF(A14="","",IF(AND(ISNUMBER(D14),ISNUMBER(E14)),"Jugado","Pendiente")) -> Jugado | H14: =IF(OR(C14="",F14=""),"",IF(AND(ISNUMBER(D14),ISNUMBER(E14)),IF(D14>E14,Inicio!$E$6,IF(D14=E14,Inicio!$F$6,Inicio!$G$6)),"")) -> 0 | I14: =IF(OR(C14="",F14=""),"",IF(AND(ISNUMBER(D14),ISNUMBER(E14)),IF(D14<E14,Inicio!$E$6,IF(D14=E14,Inicio!$F$6,Inicio!$G$6)),"")) -> 3 | J14: =IF(AND(ISNUMBER(D14),ISNUMBER(E14),D14>E14),1,0) -> 0 | K14: =IF(AND(ISNUMBER(D14),ISNUMBER(E14),D14=E14),1,0) -> 0 | L14: =IF(AND(ISNUMBER(D14),ISNUMBER(E14),D14<E14),1,0) -> 1 | M14: =IF(AND(ISNUMBER(D14),ISNUMBER(E14),D14<E14),1,0) -> 1 | N14: =IF(AND(ISNUMBER(D14),ISNUMBER(E14),D14=E14),1,0) -> 0 | O14: =IF(AND(ISNUMBER(D14),ISNUMBER(E14),D14>E14),1,0) -> 0
A15: =IF(OR(Calculos!$B$7=0,11>Calculos!$B$7),"",INT((11-1)/Calculos!$B$6)+1) -> 3 | B15: =IF(A15="","",Inicio!$E$5+(A15-1)*Inicio!$B$6) -> 46096 | C15: =IF(A15="","",INDEX(Calculos!$B$11:$B$28,IF(A15>Calculos!$B$4,IF(MOD(IF(A15<=Calculos!$B$4,A15,A15-Calculos!$B$4)+MOD(11-1,Calculos!$B$6)+1,2)=0,INDEX(Calculos!$B$36:$S$52,IF(A15<=Calculos!$B$4,A15,A15-Calculos!$B$4),MOD(11-1,Calculos!$B$6)+1),INDEX(Calculos!$B$36:$S$52,IF(A15<=Calculos!$B$4,A15,A15-Calculos!$B$4),Calculos!$B$2+1-MOD(11-1,Calculos!$B$6)+1)),IF(MOD(IF(A15<=Calculos!$B$4,A15,A15-Calculos!$B$4)+MOD(11-1,Calculos!$B$6)+1,2)=0,INDEX(Calculos!$B$36:$S$52,IF(A15<=Calculos!$B$4,A15,A15-Calculos!$B$4),Calculos!$B$2+1-MOD(11-1,Calculos!$B$6)+1),INDEX(Calculos!$B$36:$S$52,IF(A15<=Calculos!$B$4,A15,A15-Calculos!$B$4),MOD(11-1,Calculos!$B$6)+1))))) -> Sporting Marea | D15: 0 | E15: 1 | F15: =IF(A15="","",INDEX(Calculos!$B$11:$B$28,IF(A15>Calculos!$B$4,IF(MOD(IF(A15<=Calculos!$B$4,A15,A15-Calculos!$B$4)+MOD(11-1,Calculos!$B$6)+1,2)=0,INDEX(Calculos!$B$36:$S$52,IF(A15<=Calculos!$B$4,A15,A15-Calculos!$B$4),Calculos!$B$2+1-MOD(11-1,Calculos!$B$6)+1),INDEX(Calculos!$B$36:$S$52,IF(A15<=Calculos!$B$4,A15,A15-Calculos!$B$4),MOD(11-1,Calculos!$B$6)+1)),IF(MOD(IF(A15<=Calculos!$B$4,A15,A15-Calculos!$B$4)+MOD(11-1,Calculos!$B$6)+1,2)=0,INDEX(Calculos!$B$36:$S$52,IF(A15<=Calculos!$B$4,A15,A15-Calculos!$B$4),MOD(11-1,Calculos!$B$6)+1),INDEX(Calculos!$B$36:$S$52,IF(A15<=Calculos!$B$4,A15,A15-Calculos!$B$4),Calculos!$B$2+1-MOD(11-1,Calculos!$B$6)+1))))) -> Sporting Marea | G15: =IF(A15="","",IF(AND(ISNUMBER(D15),ISNUMBER(E15)),"Jugado","Pendiente")) -> Jugado | H15: =IF(OR(C15="",F15=""),"",IF(AND(ISNUMBER(D15),ISNUMBER(E15)),IF(D15>E15,Inicio!$E$6,IF(D15=E15,Inicio!$F$6,Inicio!$G$6)),"")) -> 0 | I15: =IF(OR(C15="",F15=""),"",IF(AND(ISNUMBER(D15),ISNUMBER(E15)),IF(D15<E15,Inicio!$E$6,IF(D15=E15,Inicio!$F$6,Inicio!$G$6)),"")) -> 3 | J15: =IF(AND(ISNUMBER(D15),ISNUMBER(E15),D15>E15),1,0) -> 0 | K15: =IF(AND(ISNUMBER(D15),ISNUMBER(E15),D15=E15),1,0) -> 0 | L15: =IF(AND(ISNUMBER(D15),ISNUMBER(E15),D15<E15),1,0) -> 1 | M15: =IF(AND(ISNUMBER(D15),ISNUMBER(E15),D15<E15),1,0) -> 1 | N15: =IF(AND(ISNUMBER(D15),ISNUMBER(E15),D15=E15),1,0) -> 0 | O15: =IF(AND(ISNUMBER(D15),ISNUMBER(E15),D15>E15),1,0) -> 0
A16: =IF(OR(Calculos!$B$7=0,12>Calculos!$B$7),"",INT((12-1)/Calculos!$B$6)+1) -> 3 | B16: =IF(A16="","",Inicio!$E$5+(A16-1)*Inicio!$B$6) -> 46096 | C16: =IF(A16="","",INDEX(Calculos!$B$11:$B$28,IF(A16>Calculos!$B$4,IF(MOD(IF(A16<=Calculos!$B$4,A16,A16-Calculos!$B$4)+MOD(12-1,Calculos!$B$6)+1,2)=0,INDEX(Calculos!$B$36:$S$52,IF(A16<=Calculos!$B$4,A16,A16-Calculos!$B$4),MOD(12-1,Calculos!$B$6)+1),INDEX(Calculos!$B$36:$S$52,IF(A16<=Calculos!$B$4,A16,A16-Calculos!$B$4),Calculos!$B$2+1-MOD(12-1,Calculos!$B$6)+1)),IF(MOD(IF(A16<=Calculos!$B$4,A16,A16-Calculos!$B$4)+MOD(12-1,Calculos!$B$6)+1,2)=0,INDEX(Calculos!$B$36:$S$52,IF(A16<=Calculos!$B$4,A16,A16-Calculos!$B$4),Calculos!$B$2+1-MOD(12-1,Calculos!$B$6)+1),INDEX(Calculos!$B$36:$S$52,IF(A16<=Calculos!$B$4,A16,A16-Calculos!$B$4),MOD(12-1,Calculos!$B$6)+1))))) -> Real Mirador | D16: 2 | E16: 2 | F16: =IF(A16="","",INDEX(Calculos!$B$11:$B$28,IF(A16>Calculos!$B$4,IF(MOD(IF(A16<=Calculos!$B$4,A16,A16-Calculos!$B$4)+MOD(12-1,Calculos!$B$6)+1,2)=0,INDEX(Calculos!$B$36:$S$52,IF(A16<=Calculos!$B$4,A16,A16-Calculos!$B$4),Calculos!$B$2+1-MOD(12-1,Calculos!$B$6)+1),INDEX(Calculos!$B$36:$S$52,IF(A16<=Calculos!$B$4,A16,A16-Calculos!$B$4),MOD(12-1,Calculos!$B$6)+1)),IF(MOD(IF(A16<=Calculos!$B$4,A16,A16-Calculos!$B$4)+MOD(12-1,Calculos!$B$6)+1,2)=0,INDEX(Calculos!$B$36:$S$52,IF(A16<=Calculos!$B$4,A16,A16-Calculos!$B$4),MOD(12-1,Calculos!$B$6)+1),INDEX(Calculos!$B$36:$S$52,IF(A16<=Calculos!$B$4,A16,A16-Calculos!$B$4),Calculos!$B$2+1-MOD(12-1,Calculos!$B$6)+1))))) -> Real Mirador | G16: =IF(A16="","",IF(AND(ISNUMBER(D16),ISNUMBER(E16)),"Jugado","Pendiente")) -> Jugado | H16: =IF(OR(C16="",F16=""),"",IF(AND(ISNUMBER(D16),ISNUMBER(E16)),IF(D16>E16,Inicio!$E$6,IF(D16=E16,Inicio!$F$6,Inicio!$G$6)),"")) -> 1 | I16: =IF(OR(C16="",F16=""),"",IF(AND(ISNUMBER(D16),ISNUMBER(E16)),IF(D16<E16,Inicio!$E$6,IF(D16=E16,Inicio!$F$6,Inicio!$G$6)),"")) -> 1 | J16: =IF(AND(ISNUMBER(D16),ISNUMBER(E16),D16>E16),1,0) -> 0 | K16: =IF(AND(ISNUMBER(D16),ISNUMBER(E16),D16=E16),1,0) -> 1 | L16: =IF(AND(ISNUMBER(D16),ISNUMBER(E16),D16<E16),1,0) -> 0 | M16: =IF(AND(ISNUMBER(D16),ISNUMBER(E16),D16<E16),1,0) -> 0 | N16: =IF(AND(ISNUMBER(D16),ISNUMBER(E16),D16=E16),1,0) -> 1 | O16: =IF(AND(ISNUMBER(D16),ISNUMBER(E16),D16>E16),1,0) -> 0
A17: =IF(OR(Calculos!$B$7=0,13>Calculos!$B$7),"",INT((13-1)/Calculos!$B$6)+1) -> 3 | B17: =IF(A17="","",Inicio!$E$5+(A17-1)*Inicio!$B$6) -> 46096 | C17: =IF(A17="","",INDEX(Calculos!$B$11:$B$28,IF(A17>Calculos!$B$4,IF(MOD(IF(A17<=Calculos!$B$4,A17,A17-Calculos!$B$4)+MOD(13-1,Calculos!$B$6)+1,2)=0,INDEX(Calculos!$B$36:$S$52,IF(A17<=Calculos!$B$4,A17,A17-Calculos!$B$4),MOD(13-1,Calculos!$B$6)+1),INDEX(Calculos!$B$36:$S$52,IF(A17<=Calculos!$B$4,A17,A17-Calculos!$B$4),Calculos!$B$2+1-MOD(13-1,Calculos!$B$6)+1)),IF(MOD(IF(A17<=Calculos!$B$4,A17,A17-Calculos!$B$4)+MOD(13-1,Calculos!$B$6)+1,2)=0,INDEX(Calculos!$B$36:$S$52,IF(A17<=Calculos!$B$4,A17,A17-Calculos!$B$4),Calculos!$B$2+1-MOD(13-1,Calculos!$B$6)+1),INDEX(Calculos!$B$36:$S$52,IF(A17<=Calculos!$B$4,A17,A17-Calculos!$B$4),MOD(13-1,Calculos!$B$6)+1))))) -> CD Aurora | D17: 4 | E17: 2 | F17: =IF(A17="","",INDEX(Calculos!$B$11:$B$28,IF(A17>Calculos!$B$4,IF(MOD(IF(A17<=Calculos!$B$4,A17,A17-Calculos!$B$4)+MOD(13-1,Calculos!$B$6)+1,2)=0,INDEX(Calculos!$B$36:$S$52,IF(A17<=Calculos!$B$4,A17,A17-Calculos!$B$4),Calculos!$B$2+1-MOD(13-1,Calculos!$B$6)+1),INDEX(Calculos!$B$36:$S$52,IF(A17<=Calculos!$B$4,A17,A17-Calculos!$B$4),MOD(13-1,Calculos!$B$6)+1)),IF(MOD(IF(A17<=Calculos!$B$4,A17,A17-Calculos!$B$4)+MOD(13-1,Calculos!$B$6)+1,2)=0,INDEX(Calculos!$B$36:$S$52,IF(A17<=Calculos!$B$4,A17,A17-Calculos!$B$4),MOD(13-1,Calculos!$B$6)+1),INDEX(Calculos!$B$36:$S$52,IF(A17<=Calculos!$B$4,A17,A17-Calculos!$B$4),Calculos!$B$2+1-MOD(13-1,Calculos!$B$6)+1))))) -> CD Aurora | G17: =IF(A17="","",IF(AND(ISNUMBER(D17),ISNUMBER(E17)),"Jugado","Pendiente")) -> Jugado | H17: =IF(OR(C17="",F17=""),"",IF(AND(ISNUMBER(D17),ISNUMBER(E17)),IF(D17>E17,Inicio!$E$6,IF(D17=E17,Inicio!$F$6,Inicio!$G$6)),"")) -> 3 | I17: =IF(OR(C17="",F17=""),"",IF(AND(ISNUMBER(D17),ISNUMBER(E17)),IF(D17<E17,Inicio!$E$6,IF(D17=E17,Inicio!$F$6,Inicio!$G$6)),"")) -> 0 | J17: =IF(AND(ISNUMBER(D17),ISNUMBER(E17),D17>E17),1,0) -> 1 | K17: =IF(AND(ISNUMBER(D17),ISNUMBER(E17),D17=E17),1,0) -> 0 | L17: =IF(AND(ISNUMBER(D17),ISNUMBER(E17),D17<E17),1,0) -> 0 | M17: =IF(AND(ISNUMBER(D17),ISNUMBER(E17),D17<E17),1,0) -> 0 | N17: =IF(AND(ISNUMBER(D17),ISNUMBER(E17),D17=E17),1,0) -> 0 | O17: =IF(AND(ISNUMBER(D17),ISNUMBER(E17),D17>E17),1,0) -> 1
A18: =IF(OR(Calculos!$B$7=0,14>Calculos!$B$7),"",INT((14-1)/Calculos!$B$6)+1) -> 3 | B18: =IF(A18="","",Inicio!$E$5+(A18-1)*Inicio!$B$6) -> 46096 | C18: =IF(A18="","",INDEX(Calculos!$B$11:$B$28,IF(A18>Calculos!$B$4,IF(MOD(IF(A18<=Calculos!$B$4,A18,A18-Calculos!$B$4)+MOD(14-1,Calculos!$B$6)+1,2)=0,INDEX(Calculos!$B$36:$S$52,IF(A18<=Calculos!$B$4,A18,A18-Calculos!$B$4),MOD(14-1,Calculos!$B$6)+1),INDEX(Calculos!$B$36:$S$52,IF(A18<=Calculos!$B$4,A18,A18-Calculos!$B$4),Calculos!$B$2+1-MOD(14-1,Calculos!$B$6)+1)),IF(MOD(IF(A18<=Calculos!$B$4,A18,A18-Calculos!$B$4)+MOD(14-1,Calculos!$B$6)+1,2)=0,INDEX(Calculos!$B$36:$S$52,IF(A18<=Calculos!$B$4,A18,A18-Calculos!$B$4),Calculos!$B$2+1-MOD(14-1,Calculos!$B$6)+1),INDEX(Calculos!$B$36:$S$52,IF(A18<=Calculos!$B$4,A18,A18-Calculos!$B$4),MOD(14-1,Calculos!$B$6)+1))))) -> Inter Laguna | D18: 1 | E18: 0 | F18: =IF(A18="","",INDEX(Calculos!$B$11:$B$28,IF(A18>Calculos!$B$4,IF(MOD(IF(A18<=Calculos!$B$4,A18,A18-Calculos!$B$4)+MOD(14-1,Calculos!$B$6)+1,2)=0,INDEX(Calculos!$B$36:$S$52,IF(A18<=Calculos!$B$4,A18,A18-Calculos!$B$4),Calculos!$B$2+1-MOD(14-1,Calculos!$B$6)+1),INDEX(Calculos!$B$36:$S$52,IF(A18<=Calculos!$B$4,A18,A18-Calculos!$B$4),MOD(14-1,Calculos!$B$6)+1)),IF(MOD(IF(A18<=Calculos!$B$4,A18,A18-Calculos!$B$4)+MOD(14-1,Calculos!$B$6)+1,2)=0,INDEX(Calculos!$B$36:$S$52,IF(A18<=Calculos!$B$4,A18,A18-Calculos!$B$4),MOD(14-1,Calculos!$B$6)+1),INDEX(Calculos!$B$36:$S$52,IF(A18<=Calculos!$B$4,A18,A18-Calculos!$B$4),Calculos!$B$2+1-MOD(14-1,Calculos!$B$6)+1))))) -> Inter Laguna | G18: =IF(A18="","",IF(AND(ISNUMBER(D18),ISNUMBER(E18)),"Jugado","Pendiente")) -> Jugado | H18: =IF(OR(C18="",F18=""),"",IF(AND(ISNUMBER(D18),ISNUMBER(E18)),IF(D18>E18,Inicio!$E$6,IF(D18=E18,Inicio!$F$6,Inicio!$G$6)),"")) -> 3 | I18: =IF(OR(C18="",F18=""),"",IF(AND(ISNUMBER(D18),ISNUMBER(E18)),IF(D18<E18,Inicio!$E$6,IF(D18=E18,Inicio!$F$6,Inicio!$G$6)),"")) -> 0 | J18: =IF(AND(ISNUMBER(D18),ISNUMBER(E18),D18>E18),1,0) -> 1 | K18: =IF(AND(ISNUMBER(D18),ISNUMBER(E18),D18=E18),1,0) -> 0 | L18: =IF(AND(ISNUMBER(D18),ISNUMBER(E18),D18<E18),1,0) -> 0 | M18: =IF(AND(ISNUMBER(D18),ISNUMBER(E18),D18<E18),1,0) -> 0 | N18: =IF(AND(ISNUMBER(D18),ISNUMBER(E18),D18=E18),1,0) -> 0 | O18: =IF(AND(ISNUMBER(D18),ISNUMBER(E18),D18>E18),1,0) -> 1
A19: =IF(OR(Calculos!$B$7=0,15>Calculos!$B$7),"",INT((15-1)/Calculos!$B$6)+1) -> 3 | B19: =IF(A19="","",Inicio!$E$5+(A19-1)*Inicio!$B$6) -> 46096 | C19: =IF(A19="","",INDEX(Calculos!$B$11:$B$28,IF(A19>Calculos!$B$4,IF(MOD(IF(A19<=Calculos!$B$4,A19,A19-Calculos!$B$4)+MOD(15-1,Calculos!$B$6)+1,2)=0,INDEX(Calculos!$B$36:$S$52,IF(A19<=Calculos!$B$4,A19,A19-Calculos!$B$4),MOD(15-1,Calculos!$B$6)+1),INDEX(Calculos!$B$36:$S$52,IF(A19<=Calculos!$B$4,A19,A19-Calculos!$B$4),Calculos!$B$2+1-MOD(15-1,Calculos!$B$6)+1)),IF(MOD(IF(A19<=Calculos!$B$4,A19,A19-Calculos!$B$4)+MOD(15-1,Calculos!$B$6)+1,2)=0,INDEX(Calculos!$B$36:$S$52,IF(A19<=Calculos!$B$4,A19,A19-Calculos!$B$4),Calculos!$B$2+1-MOD(15-1,Calculos!$B$6)+1),INDEX(Calculos!$B$36:$S$52,IF(A19<=Calculos!$B$4,A19,A19-Calculos!$B$4),MOD(15-1,Calculos!$B$6)+1))))) -> Juventud Central | D19: 2 | E19: 4 | F19: =IF(A19="","",INDEX(Calculos!$B$11:$B$28,IF(A19>Calculos!$B$4,IF(MOD(IF(A19<=Calculos!$B$4,A19,A19-Calculos!$B$4)+MOD(15-1,Calculos!$B$6)+1,2)=0,INDEX(Calculos!$B$36:$S$52,IF(A19<=Calculos!$B$4,A19,A19-Calculos!$B$4),Calculos!$B$2+1-MOD(15-1,Calculos!$B$6)+1),INDEX(Calculos!$B$36:$S$52,IF(A19<=Calculos!$B$4,A19,A19-Calculos!$B$4),MOD(15-1,Calculos!$B$6)+1)),IF(MOD(IF(A19<=Calculos!$B$4,A19,A19-Calculos!$B$4)+MOD(15-1,Calculos!$B$6)+1,2)=0,INDEX(Calculos!$B$36:$S$52,IF(A19<=Calculos!$B$4,A19,A19-Calculos!$B$4),MOD(15-1,Calculos!$B$6)+1),INDEX(Calculos!$B$36:$S$52,IF(A19<=Calculos!$B$4,A19,A19-Calculos!$B$4),Calculos!$B$2+1-MOD(15-1,Calculos!$B$6)+1))))) -> Juventud Central | G19: =IF(A19="","",IF(AND(ISNUMBER(D19),ISNUMBER(E19)),"Jugado","Pendiente")) -> Jugado | H19: =IF(OR(C19="",F19=""),"",IF(AND(ISNUMBER(D19),ISNUMBER(E19)),IF(D19>E19,Inicio!$E$6,IF(D19=E19,Inicio!$F$6,Inicio!$G$6)),"")) -> 0 | I19: =IF(OR(C19="",F19=""),"",IF(AND(ISNUMBER(D19),ISNUMBER(E19)),IF(D19<E19,Inicio!$E$6,IF(D19=E19,Inicio!$F$6,Inicio!$G$6)),"")) -> 3 | J19: =IF(AND(ISNUMBER(D19),ISNUMBER(E19),D19>E19),1,0) -> 0 | K19: =IF(AND(ISNUMBER(D19),ISNUMBER(E19),D19=E19),1,0) -> 0 | L19: =IF(AND(ISNUMBER(D19),ISNUMBER(E19),D19<E19),1,0) -> 1 | M19: =IF(AND(ISNUMBER(D19),ISNUMBER(E19),D19<E19),1,0) -> 1 | N19: =IF(AND(ISNUMBER(D19),ISNUMBER(E19),D19=E19),1,0) -> 0 | O19: =IF(AND(ISNUMBER(D19),ISNUMBER(E19),D19>E19),1,0) -> 0
A20: =IF(OR(Calculos!$B$7=0,16>Calculos!$B$7),"",INT((16-1)/Calculos!$B$6)+1) -> 4 | B20: =IF(A20="","",Inicio!$E$5+(A20-1)*Inicio!$B$6) -> 46103 | C20: =IF(A20="","",INDEX(Calculos!$B$11:$B$28,IF(A20>Calculos!$B$4,IF(MOD(IF(A20<=Calculos!$B$4,A20,A20-Calculos!$B$4)+MOD(16-1,Calculos!$B$6)+1,2)=0,INDEX(Calculos!$B$36:$S$52,IF(A20<=Calculos!$B$4,A20,A20-Calculos!$B$4),MOD(16-1,Calculos!$B$6)+1),INDEX(Calculos!$B$36:$S$52,IF(A20<=Calculos!$B$4,A20,A20-Calculos!$B$4),Calculos!$B$2+1-MOD(16-1,Calculos!$B$6)+1)),IF(MOD(IF(A20<=Calculos!$B$4,A20,A20-Calculos!$B$4)+MOD(16-1,Calculos!$B$6)+1,2)=0,INDEX(Calculos!$B$36:$S$52,IF(A20<=Calculos!$B$4,A20,A20-Calculos!$B$4),Calculos!$B$2+1-MOD(16-1,Calculos!$B$6)+1),INDEX(Calculos!$B$36:$S$52,IF(A20<=Calculos!$B$4,A20,A20-Calculos!$B$4),MOD(16-1,Calculos!$B$6)+1))))) -> Velez Sur | F20: =IF(A20="","",INDEX(Calculos!$B$11:$B$28,IF(A20>Calculos!$B$4,IF(MOD(IF(A20<=Calculos!$B$4,A20,A20-Calculos!$B$4)+MOD(16-1,Calculos!$B$6)+1,2)=0,INDEX(Calculos!$B$36:$S$52,IF(A20<=Calculos!$B$4,A20,A20-Calculos!$B$4),Calculos!$B$2+1-MOD(16-1,Calculos!$B$6)+1),INDEX(Calculos!$B$36:$S$52,IF(A20<=Calculos!$B$4,A20,A20-Calculos!$B$4),MOD(16-1,Calculos!$B$6)+1)),IF(MOD(IF(A20<=Calculos!$B$4,A20,A20-Calculos!$B$4)+MOD(16-1,Calculos!$B$6)+1,2)=0,INDEX(Calculos!$B$36:$S$52,IF(A20<=Calculos!$B$4,A20,A20-Calculos!$B$4),MOD(16-1,Calculos!$B$6)+1),INDEX(Calculos!$B$36:$S$52,IF(A20<=Calculos!$B$4,A20,A20-Calculos!$B$4),Calculos!$B$2+1-MOD(16-1,Calculos!$B$6)+1))))) -> Velez Sur | G20: =IF(A20="","",IF(AND(ISNUMBER(D20),ISNUMBER(E20)),"Jugado","Pendiente")) -> Pendiente | H20: =IF(OR(C20="",F20=""),"",IF(AND(ISNUMBER(D20),ISNUMBER(E20)),IF(D20>E20,Inicio!$E$6,IF(D20=E20,Inicio!$F$6,Inicio!$G$6)),"")) | I20: =IF(OR(C20="",F20=""),"",IF(AND(ISNUMBER(D20),ISNUMBER(E20)),IF(D20<E20,Inicio!$E$6,IF(D20=E20,Inicio!$F$6,Inicio!$G$6)),"")) | J20: =IF(AND(ISNUMBER(D20),ISNUMBER(E20),D20>E20),1,0) -> 0 | K20: =IF(AND(ISNUMBER(D20),ISNUMBER(E20),D20=E20),1,0) -> 0 | L20: =IF(AND(ISNUMBER(D20),ISNUMBER(E20),D20<E20),1,0) -> 0 | M20: =IF(AND(ISNUMBER(D20),ISNUMBER(E20),D20<E20),1,0) -> 0 | N20: =IF(AND(ISNUMBER(D20),ISNUMBER(E20),D20=E20),1,0) -> 0 | O20: =IF(AND(ISNUMBER(D20),ISNUMBER(E20),D20>E20),1,0) -> 0
A21: =IF(OR(Calculos!$B$7=0,17>Calculos!$B$7),"",INT((17-1)/Calculos!$B$6)+1) -> 4 | B21: =IF(A21="","",Inicio!$E$5+(A21-1)*Inicio!$B$6) -> 46103 | C21: =IF(A21="","",INDEX(Calculos!$B$11:$B$28,IF(A21>Calculos!$B$4,IF(MOD(IF(A21<=Calculos!$B$4,A21,A21-Calculos!$B$4)+MOD(17-1,Calculos!$B$6)+1,2)=0,INDEX(Calculos!$B$36:$S$52,IF(A21<=Calculos!$B$4,A21,A21-Calculos!$B$4),MOD(17-1,Calculos!$B$6)+1),INDEX(Calculos!$B$36:$S$52,IF(A21<=Calculos!$B$4,A21,A21-Calculos!$B$4),Calculos!$B$2+1-MOD(17-1,Calculos!$B$6)+1)),IF(MOD(IF(A21<=Calculos!$B$4,A21,A21-Calculos!$B$4)+MOD(17-1,Calculos!$B$6)+1,2)=0,INDEX(Calculos!$B$36:$S$52,IF(A21<=Calculos!$B$4,A21,A21-Calculos!$B$4),Calculos!$B$2+1-MOD(17-1,Calculos!$B$6)+1),INDEX(Calculos!$B$36:$S$52,IF(A21<=Calculos!$B$4,A21,A21-Calculos!$B$4),MOD(17-1,Calculos!$B$6)+1))))) | F21: =IF(A21="","",INDEX(Calculos!$B$11:$B$28,IF(A21>Calculos!$B$4,IF(MOD(IF(A21<=Calculos!$B$4,A21,A21-Calculos!$B$4)+MOD(17-1,Calculos!$B$6)+1,2)=0,INDEX(Calculos!$B$36:$S$52,IF(A21<=Calculos!$B$4,A21,A21-Calculos!$B$4),Calculos!$B$2+1-MOD(17-1,Calculos!$B$6)+1),INDEX(Calculos!$B$36:$S$52,IF(A21<=Calculos!$B$4,A21,A21-Calculos!$B$4),MOD(17-1,Calculos!$B$6)+1)),IF(MOD(IF(A21<=Calculos!$B$4,A21,A21-Calculos!$B$4)+MOD(17-1,Calculos!$B$6)+1,2)=0,INDEX(Calculos!$B$36:$S$52,IF(A21<=Calculos!$B$4,A21,A21-Calculos!$B$4),MOD(17-1,Calculos!$B$6)+1),INDEX(Calculos!$B$36:$S$52,IF(A21<=Calculos!$B$4,A21,A21-Calculos!$B$4),Calculos!$B$2+1-MOD(17-1,Calculos!$B$6)+1))))) | G21: =IF(A21="","",IF(AND(ISNUMBER(D21),ISNUMBER(E21)),"Jugado","Pendiente")) -> Pendiente | H21: =IF(OR(C21="",F21=""),"",IF(AND(ISNUMBER(D21),ISNUMBER(E21)),IF(D21>E21,Inicio!$E$6,IF(D21=E21,Inicio!$F$6,Inicio!$G$6)),"")) | I21: =IF(OR(C21="",F21=""),"",IF(AND(ISNUMBER(D21),ISNUMBER(E21)),IF(D21<E21,Inicio!$E$6,IF(D21=E21,Inicio!$F$6,Inicio!$G$6)),"")) | J21: =IF(AND(ISNUMBER(D21),ISNUMBER(E21),D21>E21),1,0) -> 0 | K21: =IF(AND(ISNUMBER(D21),ISNUMBER(E21),D21=E21),1,0) -> 0 | L21: =IF(AND(ISNUMBER(D21),ISNUMBER(E21),D21<E21),1,0) -> 0 | M21: =IF(AND(ISNUMBER(D21),ISNUMBER(E21),D21<E21),1,0) -> 0 | N21: =IF(AND(ISNUMBER(D21),ISNUMBER(E21),D21=E21),1,0) -> 0 | O21: =IF(AND(ISNUMBER(D21),ISNUMBER(E21),D21>E21),1,0) -> 0
A22: =IF(OR(Calculos!$B$7=0,18>Calculos!$B$7),"",INT((18-1)/Calculos!$B$6)+1) -> 4 | B22: =IF(A22="","",Inicio!$E$5+(A22-1)*Inicio!$B$6) -> 46103 | C22: =IF(A22="","",INDEX(Calculos!$B$11:$B$28,IF(A22>Calculos!$B$4,IF(MOD(IF(A22<=Calculos!$B$4,A22,A22-Calculos!$B$4)+MOD(18-1,Calculos!$B$6)+1,2)=0,INDEX(Calculos!$B$36:$S$52,IF(A22<=Calculos!$B$4,A22,A22-Calculos!$B$4),MOD(18-1,Calculos!$B$6)+1),INDEX(Calculos!$B$36:$S$52,IF(A22<=Calculos!$B$4,A22,A22-Calculos!$B$4),Calculos!$B$2+1-MOD(18-1,Calculos!$B$6)+1)),IF(MOD(IF(A22<=Calculos!$B$4,A22,A22-Calculos!$B$4)+MOD(18-1,Calculos!$B$6)+1,2)=0,INDEX(Calculos!$B$36:$S$52,IF(A22<=Calculos!$B$4,A22,A22-Calculos!$B$4),Calculos!$B$2+1-MOD(18-1,Calculos!$B$6)+1),INDEX(Calculos!$B$36:$S$52,IF(A22<=Calculos!$B$4,A22,A22-Calculos!$B$4),MOD(18-1,Calculos!$B$6)+1))))) | F22: =IF(A22="","",INDEX(Calculos!$B$11:$B$28,IF(A22>Calculos!$B$4,IF(MOD(IF(A22<=Calculos!$B$4,A22,A22-Calculos!$B$4)+MOD(18-1,Calculos!$B$6)+1,2)=0,INDEX(Calculos!$B$36:$S$52,IF(A22<=Calculos!$B$4,A22,A22-Calculos!$B$4),Calculos!$B$2+1-MOD(18-1,Calculos!$B$6)+1),INDEX(Calculos!$B$36:$S$52,IF(A22<=Calculos!$B$4,A22,A22-Calculos!$B$4),MOD(18-1,Calculos!$B$6)+1)),IF(MOD(IF(A22<=Calculos!$B$4,A22,A22-Calculos!$B$4)+MOD(18-1,Calculos!$B$6)+1,2)=0,INDEX(Calculos!$B$36:$S$52,IF(A22<=Calculos!$B$4,A22,A22-Calculos!$B$4),MOD(18-1,Calculos!$B$6)+1),INDEX(Calculos!$B$36:$S$52,IF(A22<=Calculos!$B$4,A22,A22-Calculos!$B$4),Calculos!$B$2+1-MOD(18-1,Calculos!$B$6)+1))))) | G22: =IF(A22="","",IF(AND(ISNUMBER(D22),ISNUMBER(E22)),"Jugado","Pendiente")) -> Pendiente | H22: =IF(OR(C22="",F22=""),"",IF(AND(ISNUMBER(D22),ISNUMBER(E22)),IF(D22>E22,Inicio!$E$6,IF(D22=E22,Inicio!$F$6,Inicio!$G$6)),"")) | I22: =IF(OR(C22="",F22=""),"",IF(AND(ISNUMBER(D22),ISNUMBER(E22)),IF(D22<E22,Inicio!$E$6,IF(D22=E22,Inicio!$F$6,Inicio!$G$6)),"")) | J22: =IF(AND(ISNUMBER(D22),ISNUMBER(E22),D22>E22),1,0) -> 0 | K22: =IF(AND(ISNUMBER(D22),ISNUMBER(E22),D22=E22),1,0) -> 0 | L22: =IF(AND(ISNUMBER(D22),ISNUMBER(E22),D22<E22),1,0) -> 0 | M22: =IF(AND(ISNUMBER(D22),ISNUMBER(E22),D22<E22),1,0) -> 0 | N22: =IF(AND(ISNUMBER(D22),ISNUMBER(E22),D22=E22),1,0) -> 0 | O22: =IF(AND(ISNUMBER(D22),ISNUMBER(E22),D22>E22),1,0) -> 0
A23: =IF(OR(Calculos!$B$7=0,19>Calculos!$B$7),"",INT((19-1)/Calculos!$B$6)+1) -> 4 | B23: =IF(A23="","",Inicio!$E$5+(A23-1)*Inicio!$B$6) -> 46103 | C23: =IF(A23="","",INDEX(Calculos!$B$11:$B$28,IF(A23>Calculos!$B$4,IF(MOD(IF(A23<=Calculos!$B$4,A23,A23-Calculos!$B$4)+MOD(19-1,Calculos!$B$6)+1,2)=0,INDEX(Calculos!$B$36:$S$52,IF(A23<=Calculos!$B$4,A23,A23-Calculos!$B$4),MOD(19-1,Calculos!$B$6)+1),INDEX(Calculos!$B$36:$S$52,IF(A23<=Calculos!$B$4,A23,A23-Calculos!$B$4),Calculos!$B$2+1-MOD(19-1,Calculos!$B$6)+1)),IF(MOD(IF(A23<=Calculos!$B$4,A23,A23-Calculos!$B$4)+MOD(19-1,Calculos!$B$6)+1,2)=0,INDEX(Calculos!$B$36:$S$52,IF(A23<=Calculos!$B$4,A23,A23-Calculos!$B$4),Calculos!$B$2+1-MOD(19-1,Calculos!$B$6)+1),INDEX(Calculos!$B$36:$S$52,IF(A23<=Calculos!$B$4,A23,A23-Calculos!$B$4),MOD(19-1,Calculos!$B$6)+1))))) | F23: =IF(A23="","",INDEX(Calculos!$B$11:$B$28,IF(A23>Calculos!$B$4,IF(MOD(IF(A23<=Calculos!$B$4,A23,A23-Calculos!$B$4)+MOD(19-1,Calculos!$B$6)+1,2)=0,INDEX(Calculos!$B$36:$S$52,IF(A23<=Calculos!$B$4,A23,A23-Calculos!$B$4),Calculos!$B$2+1-MOD(19-1,Calculos!$B$6)+1),INDEX(Calculos!$B$36:$S$52,IF(A23<=Calculos!$B$4,A23,A23-Calculos!$B$4),MOD(19-1,Calculos!$B$6)+1)),IF(MOD(IF(A23<=Calculos!$B$4,A23,A23-Calculos!$B$4)+MOD(19-1,Calculos!$B$6)+1,2)=0,INDEX(Calculos!$B$36:$S$52,IF(A23<=Calculos!$B$4,A23,A23-Calculos!$B$4),MOD(19-1,Calculos!$B$6)+1),INDEX(Calculos!$B$36:$S$52,IF(A23<=Calculos!$B$4,A23,A23-Calculos!$B$4),Calculos!$B$2+1-MOD(19-1,Calculos!$B$6)+1))))) | G23: =IF(A23="","",IF(AND(ISNUMBER(D23),ISNUMBER(E23)),"Jugado","Pendiente")) -> Pendiente | H23: =IF(OR(C23="",F23=""),"",IF(AND(ISNUMBER(D23),ISNUMBER(E23)),IF(D23>E23,Inicio!$E$6,IF(D23=E23,Inicio!$F$6,Inicio!$G$6)),"")) | I23: =IF(OR(C23="",F23=""),"",IF(AND(ISNUMBER(D23),ISNUMBER(E23)),IF(D23<E23,Inicio!$E$6,IF(D23=E23,Inicio!$F$6,Inicio!$G$6)),"")) | J23: =IF(AND(ISNUMBER(D23),ISNUMBER(E23),D23>E23),1,0) -> 0 | K23: =IF(AND(ISNUMBER(D23),ISNUMBER(E23),D23=E23),1,0) -> 0 | L23: =IF(AND(ISNUMBER(D23),ISNUMBER(E23),D23<E23),1,0) -> 0 | M23: =IF(AND(ISNUMBER(D23),ISNUMBER(E23),D23<E23),1,0) -> 0 | N23: =IF(AND(ISNUMBER(D23),ISNUMBER(E23),D23=E23),1,0) -> 0 | O23: =IF(AND(ISNUMBER(D23),ISNUMBER(E23),D23>E23),1,0) -> 0
A24: =IF(OR(Calculos!$B$7=0,20>Calculos!$B$7),"",INT((20-1)/Calculos!$B$6)+1) -> 4 | B24: =IF(A24="","",Inicio!$E$5+(A24-1)*Inicio!$B$6) -> 46103 | C24: =IF(A24="","",INDEX(Calculos!$B$11:$B$28,IF(A24>Calculos!$B$4,IF(MOD(IF(A24<=Calculos!$B$4,A24,A24-Calculos!$B$4)+MOD(20-1,Calculos!$B$6)+1,2)=0,INDEX(Calculos!$B$36:$S$52,IF(A24<=Calculos!$B$4,A24,A24-Calculos!$B$4),MOD(20-1,Calculos!$B$6)+1),INDEX(Calculos!$B$36:$S$52,IF(A24<=Calculos!$B$4,A24,A24-Calculos!$B$4),Calculos!$B$2+1-MOD(20-1,Calculos!$B$6)+1)),IF(MOD(IF(A24<=Calculos!$B$4,A24,A24-Calculos!$B$4)+MOD(20-1,Calculos!$B$6)+1,2)=0,INDEX(Calculos!$B$36:$S$52,IF(A24<=Calculos!$B$4,A24,A24-Calculos!$B$4),Calculos!$B$2+1-MOD(20-1,Calculos!$B$6)+1),INDEX(Calculos!$B$36:$S$52,IF(A24<=Calculos!$B$4,A24,A24-Calculos!$B$4),MOD(20-1,Calculos!$B$6)+1))))) | F24: =IF(A24="","",INDEX(Calculos!$B$11:$B$28,IF(A24>Calculos!$B$4,IF(MOD(IF(A24<=Calculos!$B$4,A24,A24-Calculos!$B$4)+MOD(20-1,Calculos!$B$6)+1,2)=0,INDEX(Calculos!$B$36:$S$52,IF(A24<=Calculos!$B$4,A24,A24-Calculos!$B$4),Calculos!$B$2+1-MOD(20-1,Calculos!$B$6)+1),INDEX(Calculos!$B$36:$S$52,IF(A24<=Calculos!$B$4,A24,A24-Calculos!$B$4),MOD(20-1,Calculos!$B$6)+1)),IF(MOD(IF(A24<=Calculos!$B$4,A24,A24-Calculos!$B$4)+MOD(20-1,Calculos!$B$6)+1,2)=0,INDEX(Calculos!$B$36:$S$52,IF(A24<=Calculos!$B$4,A24,A24-Calculos!$B$4),MOD(20-1,Calculos!$B$6)+1),INDEX(Calculos!$B$36:$S$52,IF(A24<=Calculos!$B$4,A24,A24-Calculos!$B$4),Calculos!$B$2+1-MOD(20-1,Calculos!$B$6)+1))))) | G24: =IF(A24="","",IF(AND(ISNUMBER(D24),ISNUMBER(E24)),"Jugado","Pendiente")) -> Pendiente | H24: =IF(OR(C24="",F24=""),"",IF(AND(ISNUMBER(D24),ISNUMBER(E24)),IF(D24>E24,Inicio!$E$6,IF(D24=E24,Inicio!$F$6,Inicio!$G$6)),"")) | I24: =IF(OR(C24="",F24=""),"",IF(AND(ISNUMBER(D24),ISNUMBER(E24)),IF(D24<E24,Inicio!$E$6,IF(D24=E24,Inicio!$F$6,Inicio!$G$6)),"")) | J24: =IF(AND(ISNUMBER(D24),ISNUMBER(E24),D24>E24),1,0) -> 0 | K24: =IF(AND(ISNUMBER(D24),ISNUMBER(E24),D24=E24),1,0) -> 0 | L24: =IF(AND(ISNUMBER(D24),ISNUMBER(E24),D24<E24),1,0) -> 0 | M24: =IF(AND(ISNUMBER(D24),ISNUMBER(E24),D24<E24),1,0) -> 0 | N24: =IF(AND(ISNUMBER(D24),ISNUMBER(E24),D24=E24),1,0) -> 0 | O24: =IF(AND(ISNUMBER(D24),ISNUMBER(E24),D24>E24),1,0) -> 0
A25: =IF(OR(Calculos!$B$7=0,21>Calculos!$B$7),"",INT((21-1)/Calculos!$B$6)+1) -> 5 | B25: =IF(A25="","",Inicio!$E$5+(A25-1)*Inicio!$B$6) -> 46110 | C25: =IF(A25="","",INDEX(Calculos!$B$11:$B$28,IF(A25>Calculos!$B$4,IF(MOD(IF(A25<=Calculos!$B$4,A25,A25-Calculos!$B$4)+MOD(21-1,Calculos!$B$6)+1,2)=0,INDEX(Calculos!$B$36:$S$52,IF(A25<=Calculos!$B$4,A25,A25-Calculos!$B$4),MOD(21-1,Calculos!$B$6)+1),INDEX(Calculos!$B$36:$S$52,IF(A25<=Calculos!$B$4,A25,A25-Calculos!$B$4),Calculos!$B$2+1-MOD(21-1,Calculos!$B$6)+1)),IF(MOD(IF(A25<=Calculos!$B$4,A25,A25-Calculos!$B$4)+MOD(21-1,Calculos!$B$6)+1,2)=0,INDEX(Calculos!$B$36:$S$52,IF(A25<=Calculos!$B$4,A25,A25-Calculos!$B$4),Calculos!$B$2+1-MOD(21-1,Calculos!$B$6)+1),INDEX(Calculos!$B$36:$S$52,IF(A25<=Calculos!$B$4,A25,A25-Calculos!$B$4),MOD(21-1,Calculos!$B$6)+1))))) | F25: =IF(A25="","",INDEX(Calculos!$B$11:$B$28,IF(A25>Calculos!$B$4,IF(MOD(IF(A25<=Calculos!$B$4,A25,A25-Calculos!$B$4)+MOD(21-1,Calculos!$B$6)+1,2)=0,INDEX(Calculos!$B$36:$S$52,IF(A25<=Calculos!$B$4,A25,A25-Calculos!$B$4),Calculos!$B$2+1-MOD(21-1,Calculos!$B$6)+1),INDEX(Calculos!$B$36:$S$52,IF(A25<=Calculos!$B$4,A25,A25-Calculos!$B$4),MOD(21-1,Calculos!$B$6)+1)),IF(MOD(IF(A25<=Calculos!$B$4,A25,A25-Calculos!$B$4)+MOD(21-1,Calculos!$B$6)+1,2)=0,INDEX(Calculos!$B$36:$S$52,IF(A25<=Calculos!$B$4,A25,A25-Calculos!$B$4),MOD(21-1,Calculos!$B$6)+1),INDEX(Calculos!$B$36:$S$52,IF(A25<=Calculos!$B$4,A25,A25-Calculos!$B$4),Calculos!$B$2+1-MOD(21-1,Calculos!$B$6)+1))))) | G25: =IF(A25="","",IF(AND(ISNUMBER(D25),ISNUMBER(E25)),"Jugado","Pendiente")) -> Pendiente | H25: =IF(OR(C25="",F25=""),"",IF(AND(ISNUMBER(D25),ISNUMBER(E25)),IF(D25>E25,Inicio!$E$6,IF(D25=E25,Inicio!$F$6,Inicio!$G$6)),"")) | I25: =IF(OR(C25="",F25=""),"",IF(AND(ISNUMBER(D25),ISNUMBER(E25)),IF(D25<E25,Inicio!$E$6,IF(D25=E25,Inicio!$F$6,Inicio!$G$6)),"")) | J25: =IF(AND(ISNUMBER(D25),ISNUMBER(E25),D25>E25),1,0) -> 0 | K25: =IF(AND(ISNUMBER(D25),ISNUMBER(E25),D25=E25),1,0) -> 0 | L25: =IF(AND(ISNUMBER(D25),ISNUMBER(E25),D25<E25),1,0) -> 0 | M25: =IF(AND(ISNUMBER(D25),ISNUMBER(E25),D25<E25),1,0) -> 0 | N25: =IF(AND(ISNUMBER(D25),ISNUMBER(E25),D25=E25),1,0) -> 0 | O25: =IF(AND(ISNUMBER(D25),ISNUMBER(E25),D25>E25),1,0) -> 0
A26: =IF(OR(Calculos!$B$7=0,22>Calculos!$B$7),"",INT((22-1)/Calculos!$B$6)+1) -> 5 | B26: =IF(A26="","",Inicio!$E$5+(A26-1)*Inicio!$B$6) -> 46110 | C26: =IF(A26="","",INDEX(Calculos!$B$11:$B$28,IF(A26>Calculos!$B$4,IF(MOD(IF(A26<=Calculos!$B$4,A26,A26-Calculos!$B$4)+MOD(22-1,Calculos!$B$6)+1,2)=0,INDEX(Calculos!$B$36:$S$52,IF(A26<=Calculos!$B$4,A26,A26-Calculos!$B$4),MOD(22-1,Calculos!$B$6)+1),INDEX(Calculos!$B$36:$S$52,IF(A26<=Calculos!$B$4,A26,A26-Calculos!$B$4),Calculos!$B$2+1-MOD(22-1,Calculos!$B$6)+1)),IF(MOD(IF(A26<=Calculos!$B$4,A26,A26-Calculos!$B$4)+MOD(22-1,Calculos!$B$6)+1,2)=0,INDEX(Calculos!$B$36:$S$52,IF(A26<=Calculos!$B$4,A26,A26-Calculos!$B$4),Calculos!$B$2+1-MOD(22-1,Calculos!$B$6)+1),INDEX(Calculos!$B$36:$S$52,IF(A26<=Calculos!$B$4,A26,A26-Calculos!$B$4),MOD(22-1,Calculos!$B$6)+1))))) | F26: =IF(A26="","",INDEX(Calculos!$B$11:$B$28,IF(A26>Calculos!$B$4,IF(MOD(IF(A26<=Calculos!$B$4,A26,A26-Calculos!$B$4)+MOD(22-1,Calculos!$B$6)+1,2)=0,INDEX(Calculos!$B$36:$S$52,IF(A26<=Calculos!$B$4,A26,A26-Calculos!$B$4),Calculos!$B$2+1-MOD(22-1,Calculos!$B$6)+1),INDEX(Calculos!$B$36:$S$52,IF(A26<=Calculos!$B$4,A26,A26-Calculos!$B$4),MOD(22-1,Calculos!$B$6)+1)),IF(MOD(IF(A26<=Calculos!$B$4,A26,A26-Calculos!$B$4)+MOD(22-1,Calculos!$B$6)+1,2)=0,INDEX(Calculos!$B$36:$S$52,IF(A26<=Calculos!$B$4,A26,A26-Calculos!$B$4),MOD(22-1,Calculos!$B$6)+1),INDEX(Calculos!$B$36:$S$52,IF(A26<=Calculos!$B$4,A26,A26-Calculos!$B$4),Calculos!$B$2+1-MOD(22-1,Calculos!$B$6)+1))))) | G26: =IF(A26="","",IF(AND(ISNUMBER(D26),ISNUMBER(E26)),"Jugado","Pendiente")) -> Pendiente | H26: =IF(OR(C26="",F26=""),"",IF(AND(ISNUMBER(D26),ISNUMBER(E26)),IF(D26>E26,Inicio!$E$6,IF(D26=E26,Inicio!$F$6,Inicio!$G$6)),"")) | I26: =IF(OR(C26="",F26=""),"",IF(AND(ISNUMBER(D26),ISNUMBER(E26)),IF(D26<E26,Inicio!$E$6,IF(D26=E26,Inicio!$F$6,Inicio!$G$6)),"")) | J26: =IF(AND(ISNUMBER(D26),ISNUMBER(E26),D26>E26),1,0) -> 0 | K26: =IF(AND(ISNUMBER(D26),ISNUMBER(E26),D26=E26),1,0) -> 0 | L26: =IF(AND(ISNUMBER(D26),ISNUMBER(E26),D26<E26),1,0) -> 0 | M26: =IF(AND(ISNUMBER(D26),ISNUMBER(E26),D26<E26),1,0) -> 0 | N26: =IF(AND(ISNUMBER(D26),ISNUMBER(E26),D26=E26),1,0) -> 0 | O26: =IF(AND(ISNUMBER(D26),ISNUMBER(E26),D26>E26),1,0) -> 0
A27: =IF(OR(Calculos!$B$7=0,23>Calculos!$B$7),"",INT((23-1)/Calculos!$B$6)+1) -> 5 | B27: =IF(A27="","",Inicio!$E$5+(A27-1)*Inicio!$B$6) -> 46110 | C27: =IF(A27="","",INDEX(Calculos!$B$11:$B$28,IF(A27>Calculos!$B$4,IF(MOD(IF(A27<=Calculos!$B$4,A27,A27-Calculos!$B$4)+MOD(23-1,Calculos!$B$6)+1,2)=0,INDEX(Calculos!$B$36:$S$52,IF(A27<=Calculos!$B$4,A27,A27-Calculos!$B$4),MOD(23-1,Calculos!$B$6)+1),INDEX(Calculos!$B$36:$S$52,IF(A27<=Calculos!$B$4,A27,A27-Calculos!$B$4),Calculos!$B$2+1-MOD(23-1,Calculos!$B$6)+1)),IF(MOD(IF(A27<=Calculos!$B$4,A27,A27-Calculos!$B$4)+MOD(23-1,Calculos!$B$6)+1,2)=0,INDEX(Calculos!$B$36:$S$52,IF(A27<=Calculos!$B$4,A27,A27-Calculos!$B$4),Calculos!$B$2+1-MOD(23-1,Calculos!$B$6)+1),INDEX(Calculos!$B$36:$S$52,IF(A27<=Calculos!$B$4,A27,A27-Calculos!$B$4),MOD(23-1,Calculos!$B$6)+1))))) | F27: =IF(A27="","",INDEX(Calculos!$B$11:$B$28,IF(A27>Calculos!$B$4,IF(MOD(IF(A27<=Calculos!$B$4,A27,A27-Calculos!$B$4)+MOD(23-1,Calculos!$B$6)+1,2)=0,INDEX(Calculos!$B$36:$S$52,IF(A27<=Calculos!$B$4,A27,A27-Calculos!$B$4),Calculos!$B$2+1-MOD(23-1,Calculos!$B$6)+1),INDEX(Calculos!$B$36:$S$52,IF(A27<=Calculos!$B$4,A27,A27-Calculos!$B$4),MOD(23-1,Calculos!$B$6)+1)),IF(MOD(IF(A27<=Calculos!$B$4,A27,A27-Calculos!$B$4)+MOD(23-1,Calculos!$B$6)+1,2)=0,INDEX(Calculos!$B$36:$S$52,IF(A27<=Calculos!$B$4,A27,A27-Calculos!$B$4),MOD(23-1,Calculos!$B$6)+1),INDEX(Calculos!$B$36:$S$52,IF(A27<=Calculos!$B$4,A27,A27-Calculos!$B$4),Calculos!$B$2+1-MOD(23-1,Calculos!$B$6)+1))))) | G27: =IF(A27="","",IF(AND(ISNUMBER(D27),ISNUMBER(E27)),"Jugado","Pendiente")) -> Pendiente | H27: =IF(OR(C27="",F27=""),"",IF(AND(ISNUMBER(D27),ISNUMBER(E27)),IF(D27>E27,Inicio!$E$6,IF(D27=E27,Inicio!$F$6,Inicio!$G$6)),"")) | I27: =IF(OR(C27="",F27=""),"",IF(AND(ISNUMBER(D27),ISNUMBER(E27)),IF(D27<E27,Inicio!$E$6,IF(D27=E27,Inicio!$F$6,Inicio!$G$6)),"")) | J27: =IF(AND(ISNUMBER(D27),ISNUMBER(E27),D27>E27),1,0) -> 0 | K27: =IF(AND(ISNUMBER(D27),ISNUMBER(E27),D27=E27),1,0) -> 0 | L27: =IF(AND(ISNUMBER(D27),ISNUMBER(E27),D27<E27),1,0) -> 0 | M27: =IF(AND(ISNUMBER(D27),ISNUMBER(E27),D27<E27),1,0) -> 0 | N27: =IF(AND(ISNUMBER(D27),ISNUMBER(E27),D27=E27),1,0) -> 0 | O27: =IF(AND(ISNUMBER(D27),ISNUMBER(E27),D27>E27),1,0) -> 0
A28: =IF(OR(Calculos!$B$7=0,24>Calculos!$B$7),"",INT((24-1)/Calculos!$B$6)+1) -> 5 | B28: =IF(A28="","",Inicio!$E$5+(A28-1)*Inicio!$B$6) -> 46110 | C28: =IF(A28="","",INDEX(Calculos!$B$11:$B$28,IF(A28>Calculos!$B$4,IF(MOD(IF(A28<=Calculos!$B$4,A28,A28-Calculos!$B$4)+MOD(24-1,Calculos!$B$6)+1,2)=0,INDEX(Calculos!$B$36:$S$52,IF(A28<=Calculos!$B$4,A28,A28-Calculos!$B$4),MOD(24-1,Calculos!$B$6)+1),INDEX(Calculos!$B$36:$S$52,IF(A28<=Calculos!$B$4,A28,A28-Calculos!$B$4),Calculos!$B$2+1-MOD(24-1,Calculos!$B$6)+1)),IF(MOD(IF(A28<=Calculos!$B$4,A28,A28-Calculos!$B$4)+MOD(24-1,Calculos!$B$6)+1,2)=0,INDEX(Calculos!$B$36:$S$52,IF(A28<=Calculos!$B$4,A28,A28-Calculos!$B$4),Calculos!$B$2+1-MOD(24-1,Calculos!$B$6)+1),INDEX(Calculos!$B$36:$S$52,IF(A28<=Calculos!$B$4,A28,A28-Calculos!$B$4),MOD(24-1,Calculos!$B$6)+1))))) | F28: =IF(A28="","",INDEX(Calculos!$B$11:$B$28,IF(A28>Calculos!$B$4,IF(MOD(IF(A28<=Calculos!$B$4,A28,A28-Calculos!$B$4)+MOD(24-1,Calculos!$B$6)+1,2)=0,INDEX(Calculos!$B$36:$S$52,IF(A28<=Calculos!$B$4,A28,A28-Calculos!$B$4),Calculos!$B$2+1-MOD(24-1,Calculos!$B$6)+1),INDEX(Calculos!$B$36:$S$52,IF(A28<=Calculos!$B$4,A28,A28-Calculos!$B$4),MOD(24-1,Calculos!$B$6)+1)),IF(MOD(IF(A28<=Calculos!$B$4,A28,A28-Calculos!$B$4)+MOD(24-1,Calculos!$B$6)+1,2)=0,INDEX(Calculos!$B$36:$S$52,IF(A28<=Calculos!$B$4,A28,A28-Calculos!$B$4),MOD(24-1,Calculos!$B$6)+1),INDEX(Calculos!$B$36:$S$52,IF(A28<=Calculos!$B$4,A28,A28-Calculos!$B$4),Calculos!$B$2+1-MOD(24-1,Calculos!$B$6)+1))))) | G28: =IF(A28="","",IF(AND(ISNUMBER(D28),ISNUMBER(E28)),"Jugado","Pendiente")) -> Pendiente | H28: =IF(OR(C28="",F28=""),"",IF(AND(ISNUMBER(D28),ISNUMBER(E28)),IF(D28>E28,Inicio!$E$6,IF(D28=E28,Inicio!$F$6,Inicio!$G$6)),"")) | I28: =IF(OR(C28="",F28=""),"",IF(AND(ISNUMBER(D28),ISNUMBER(E28)),IF(D28<E28,Inicio!$E$6,IF(D28=E28,Inicio!$F$6,Inicio!$G$6)),"")) | J28: =IF(AND(ISNUMBER(D28),ISNUMBER(E28),D28>E28),1,0) -> 0 | K28: =IF(AND(ISNUMBER(D28),ISNUMBER(E28),D28=E28),1,0) -> 0 | L28: =IF(AND(ISNUMBER(D28),ISNUMBER(E28),D28<E28),1,0) -> 0 | M28: =IF(AND(ISNUMBER(D28),ISNUMBER(E28),D28<E28),1,0) -> 0 | N28: =IF(AND(ISNUMBER(D28),ISNUMBER(E28),D28=E28),1,0) -> 0 | O28: =IF(AND(ISNUMBER(D28),ISNUMBER(E28),D28>E28),1,0) -> 0
A29: =IF(OR(Calculos!$B$7=0,25>Calculos!$B$7),"",INT((25-1)/Calculos!$B$6)+1) -> 5 | B29: =IF(A29="","",Inicio!$E$5+(A29-1)*Inicio!$B$6) -> 46110 | C29: =IF(A29="","",INDEX(Calculos!$B$11:$B$28,IF(A29>Calculos!$B$4,IF(MOD(IF(A29<=Calculos!$B$4,A29,A29-Calculos!$B$4)+MOD(25-1,Calculos!$B$6)+1,2)=0,INDEX(Calculos!$B$36:$S$52,IF(A29<=Calculos!$B$4,A29,A29-Calculos!$B$4),MOD(25-1,Calculos!$B$6)+1),INDEX(Calculos!$B$36:$S$52,IF(A29<=Calculos!$B$4,A29,A29-Calculos!$B$4),Calculos!$B$2+1-MOD(25-1,Calculos!$B$6)+1)),IF(MOD(IF(A29<=Calculos!$B$4,A29,A29-Calculos!$B$4)+MOD(25-1,Calculos!$B$6)+1,2)=0,INDEX(Calculos!$B$36:$S$52,IF(A29<=Calculos!$B$4,A29,A29-Calculos!$B$4),Calculos!$B$2+1-MOD(25-1,Calculos!$B$6)+1),INDEX(Calculos!$B$36:$S$52,IF(A29<=Calculos!$B$4,A29,A29-Calculos!$B$4),MOD(25-1,Calculos!$B$6)+1))))) -> #VALUE! | F29: =IF(A29="","",INDEX(Calculos!$B$11:$B$28,IF(A29>Calculos!$B$4,IF(MOD(IF(A29<=Calculos!$B$4,A29,A29-Calculos!$B$4)+MOD(25-1,Calculos!$B$6)+1,2)=0,INDEX(Calculos!$B$36:$S$52,IF(A29<=Calculos!$B$4,A29,A29-Calculos!$B$4),Calculos!$B$2+1-MOD(25-1,Calculos!$B$6)+1),INDEX(Calculos!$B$36:$S$52,IF(A29<=Calculos!$B$4,A29,A29-Calculos!$B$4),MOD(25-1,Calculos!$B$6)+1)),IF(MOD(IF(A29<=Calculos!$B$4,A29,A29-Calculos!$B$4)+MOD(25-1,Calculos!$B$6)+1,2)=0,INDEX(Calculos!$B$36:$S$52,IF(A29<=Calculos!$B$4,A29,A29-Calculos!$B$4),MOD(25-1,Calculos!$B$6)+1),INDEX(Calculos!$B$36:$S$52,IF(A29<=Calculos!$B$4,A29,A29-Calculos!$B$4),Calculos!$B$2+1-MOD(25-1,Calculos!$B$6)+1))))) -> #VALUE! | G29: =IF(A29="","",IF(AND(ISNUMBER(D29),ISNUMBER(E29)),"Jugado","Pendiente")) -> Pendiente | H29: =IF(OR(C29="",F29=""),"",IF(AND(ISNUMBER(D29),ISNUMBER(E29)),IF(D29>E29,Inicio!$E$6,IF(D29=E29,Inicio!$F$6,Inicio!$G$6)),"")) -> #VALUE! | I29: =IF(OR(C29="",F29=""),"",IF(AND(ISNUMBER(D29),ISNUMBER(E29)),IF(D29<E29,Inicio!$E$6,IF(D29=E29,Inicio!$F$6,Inicio!$G$6)),"")) -> #VALUE! | J29: =IF(AND(ISNUMBER(D29),ISNUMBER(E29),D29>E29),1,0) -> 0 | K29: =IF(AND(ISNUMBER(D29),ISNUMBER(E29),D29=E29),1,0) -> 0 | L29: =IF(AND(ISNUMBER(D29),ISNUMBER(E29),D29<E29),1,0) -> 0 | M29: =IF(AND(ISNUMBER(D29),ISNUMBER(E29),D29<E29),1,0) -> 0 | N29: =IF(AND(ISNUMBER(D29),ISNUMBER(E29),D29=E29),1,0) -> 0 | O29: =IF(AND(ISNUMBER(D29),ISNUMBER(E29),D29>E29),1,0) -> 0
A30: =IF(OR(Calculos!$B$7=0,26>Calculos!$B$7),"",INT((26-1)/Calculos!$B$6)+1) -> 6 | B30: =IF(A30="","",Inicio!$E$5+(A30-1)*Inicio!$B$6) -> 46117 | C30: =IF(A30="","",INDEX(Calculos!$B$11:$B$28,IF(A30>Calculos!$B$4,IF(MOD(IF(A30<=Calculos!$B$4,A30,A30-Calculos!$B$4)+MOD(26-1,Calculos!$B$6)+1,2)=0,INDEX(Calculos!$B$36:$S$52,IF(A30<=Calculos!$B$4,A30,A30-Calculos!$B$4),MOD(26-1,Calculos!$B$6)+1),INDEX(Calculos!$B$36:$S$52,IF(A30<=Calculos!$B$4,A30,A30-Calculos!$B$4),Calculos!$B$2+1-MOD(26-1,Calculos!$B$6)+1)),IF(MOD(IF(A30<=Calculos!$B$4,A30,A30-Calculos!$B$4)+MOD(26-1,Calculos!$B$6)+1,2)=0,INDEX(Calculos!$B$36:$S$52,IF(A30<=Calculos!$B$4,A30,A30-Calculos!$B$4),Calculos!$B$2+1-MOD(26-1,Calculos!$B$6)+1),INDEX(Calculos!$B$36:$S$52,IF(A30<=Calculos!$B$4,A30,A30-Calculos!$B$4),MOD(26-1,Calculos!$B$6)+1))))) -> #VALUE! | F30: =IF(A30="","",INDEX(Calculos!$B$11:$B$28,IF(A30>Calculos!$B$4,IF(MOD(IF(A30<=Calculos!$B$4,A30,A30-Calculos!$B$4)+MOD(26-1,Calculos!$B$6)+1,2)=0,INDEX(Calculos!$B$36:$S$52,IF(A30<=Calculos!$B$4,A30,A30-Calculos!$B$4),Calculos!$B$2+1-MOD(26-1,Calculos!$B$6)+1),INDEX(Calculos!$B$36:$S$52,IF(A30<=Calculos!$B$4,A30,A30-Calculos!$B$4),MOD(26-1,Calculos!$B$6)+1)),IF(MOD(IF(A30<=Calculos!$B$4,A30,A30-Calculos!$B$4)+MOD(26-1,Calculos!$B$6)+1,2)=0,INDEX(Calculos!$B$36:$S$52,IF(A30<=Calculos!$B$4,A30,A30-Calculos!$B$4),MOD(26-1,Calculos!$B$6)+1),INDEX(Calculos!$B$36:$S$52,IF(A30<=Calculos!$B$4,A30,A30-Calculos!$B$4),Calculos!$B$2+1-MOD(26-1,Calculos!$B$6)+1))))) -> #VALUE! | G30: =IF(A30="","",IF(AND(ISNUMBER(D30),ISNUMBER(E30)),"Jugado","Pendiente")) -> Pendiente | H30: =IF(OR(C30="",F30=""),"",IF(AND(ISNUMBER(D30),ISNUMBER(E30)),IF(D30>E30,Inicio!$E$6,IF(D30=E30,Inicio!$F$6,Inicio!$G$6)),"")) -> #VALUE! | I30: =IF(OR(C30="",F30=""),"",IF(AND(ISNUMBER(D30),ISNUMBER(E30)),IF(D30<E30,Inicio!$E$6,IF(D30=E30,Inicio!$F$6,Inicio!$G$6)),"")) -> #VALUE! | J30: =IF(AND(ISNUMBER(D30),ISNUMBER(E30),D30>E30),1,0) -> 0 | K30: =IF(AND(ISNUMBER(D30),ISNUMBER(E30),D30=E30),1,0) -> 0 | L30: =IF(AND(ISNUMBER(D30),ISNUMBER(E30),D30<E30),1,0) -> 0 | M30: =IF(AND(ISNUMBER(D30),ISNUMBER(E30),D30<E30),1,0) -> 0 | N30: =IF(AND(ISNUMBER(D30),ISNUMBER(E30),D30=E30),1,0) -> 0 | O30: =IF(AND(ISNUMBER(D30),ISNUMBER(E30),D30>E30),1,0) -> 0
A31: =IF(OR(Calculos!$B$7=0,27>Calculos!$B$7),"",INT((27-1)/Calculos!$B$6)+1) -> 6 | B31: =IF(A31="","",Inicio!$E$5+(A31-1)*Inicio!$B$6) -> 46117 | C31: =IF(A31="","",INDEX(Calculos!$B$11:$B$28,IF(A31>Calculos!$B$4,IF(MOD(IF(A31<=Calculos!$B$4,A31,A31-Calculos!$B$4)+MOD(27-1,Calculos!$B$6)+1,2)=0,INDEX(Calculos!$B$36:$S$52,IF(A31<=Calculos!$B$4,A31,A31-Calculos!$B$4),MOD(27-1,Calculos!$B$6)+1),INDEX(Calculos!$B$36:$S$52,IF(A31<=Calculos!$B$4,A31,A31-Calculos!$B$4),Calculos!$B$2+1-MOD(27-1,Calculos!$B$6)+1)),IF(MOD(IF(A31<=Calculos!$B$4,A31,A31-Calculos!$B$4)+MOD(27-1,Calculos!$B$6)+1,2)=0,INDEX(Calculos!$B$36:$S$52,IF(A31<=Calculos!$B$4,A31,A31-Calculos!$B$4),Calculos!$B$2+1-MOD(27-1,Calculos!$B$6)+1),INDEX(Calculos!$B$36:$S$52,IF(A31<=Calculos!$B$4,A31,A31-Calculos!$B$4),MOD(27-1,Calculos!$B$6)+1))))) -> #VALUE! | F31: =IF(A31="","",INDEX(Calculos!$B$11:$B$28,IF(A31>Calculos!$B$4,IF(MOD(IF(A31<=Calculos!$B$4,A31,A31-Calculos!$B$4)+MOD(27-1,Calculos!$B$6)+1,2)=0,INDEX(Calculos!$B$36:$S$52,IF(A31<=Calculos!$B$4,A31,A31-Calculos!$B$4),Calculos!$B$2+1-MOD(27-1,Calculos!$B$6)+1),INDEX(Calculos!$B$36:$S$52,IF(A31<=Calculos!$B$4,A31,A31-Calculos!$B$4),MOD(27-1,Calculos!$B$6)+1)),IF(MOD(IF(A31<=Calculos!$B$4,A31,A31-Calculos!$B$4)+MOD(27-1,Calculos!$B$6)+1,2)=0,INDEX(Calculos!$B$36:$S$52,IF(A31<=Calculos!$B$4,A31,A31-Calculos!$B$4),MOD(27-1,Calculos!$B$6)+1),INDEX(Calculos!$B$36:$S$52,IF(A31<=Calculos!$B$4,A31,A31-Calculos!$B$4),Calculos!$B$2+1-MOD(27-1,Calculos!$B$6)+1))))) -> #VALUE! | G31: =IF(A31="","",IF(AND(ISNUMBER(D31),ISNUMBER(E31)),"Jugado","Pendiente")) -> Pendiente | H31: =IF(OR(C31="",F31=""),"",IF(AND(ISNUMBER(D31),ISNUMBER(E31)),IF(D31>E31,Inicio!$E$6,IF(D31=E31,Inicio!$F$6,Inicio!$G$6)),"")) -> #VALUE! | I31: =IF(OR(C31="",F31=""),"",IF(AND(ISNUMBER(D31),ISNUMBER(E31)),IF(D31<E31,Inicio!$E$6,IF(D31=E31,Inicio!$F$6,Inicio!$G$6)),"")) -> #VALUE! | J31: =IF(AND(ISNUMBER(D31),ISNUMBER(E31),D31>E31),1,0) -> 0 | K31: =IF(AND(ISNUMBER(D31),ISNUMBER(E31),D31=E31),1,0) -> 0 | L31: =IF(AND(ISNUMBER(D31),ISNUMBER(E31),D31<E31),1,0) -> 0 | M31: =IF(AND(ISNUMBER(D31),ISNUMBER(E31),D31<E31),1,0) -> 0 | N31: =IF(AND(ISNUMBER(D31),ISNUMBER(E31),D31=E31),1,0) -> 0 | O31: =IF(AND(ISNUMBER(D31),ISNUMBER(E31),D31>E31),1,0) -> 0
A32: =IF(OR(Calculos!$B$7=0,28>Calculos!$B$7),"",INT((28-1)/Calculos!$B$6)+1) -> 6 | B32: =IF(A32="","",Inicio!$E$5+(A32-1)*Inicio!$B$6) -> 46117 | C32: =IF(A32="","",INDEX(Calculos!$B$11:$B$28,IF(A32>Calculos!$B$4,IF(MOD(IF(A32<=Calculos!$B$4,A32,A32-Calculos!$B$4)+MOD(28-1,Calculos!$B$6)+1,2)=0,INDEX(Calculos!$B$36:$S$52,IF(A32<=Calculos!$B$4,A32,A32-Calculos!$B$4),MOD(28-1,Calculos!$B$6)+1),INDEX(Calculos!$B$36:$S$52,IF(A32<=Calculos!$B$4,A32,A32-Calculos!$B$4),Calculos!$B$2+1-MOD(28-1,Calculos!$B$6)+1)),IF(MOD(IF(A32<=Calculos!$B$4,A32,A32-Calculos!$B$4)+MOD(28-1,Calculos!$B$6)+1,2)=0,INDEX(Calculos!$B$36:$S$52,IF(A32<=Calculos!$B$4,A32,A32-Calculos!$B$4),Calculos!$B$2+1-MOD(28-1,Calculos!$B$6)+1),INDEX(Calculos!$B$36:$S$52,IF(A32<=Calculos!$B$4,A32,A32-Calculos!$B$4),MOD(28-1,Calculos!$B$6)+1))))) -> #VALUE! | F32: =IF(A32="","",INDEX(Calculos!$B$11:$B$28,IF(A32>Calculos!$B$4,IF(MOD(IF(A32<=Calculos!$B$4,A32,A32-Calculos!$B$4)+MOD(28-1,Calculos!$B$6)+1,2)=0,INDEX(Calculos!$B$36:$S$52,IF(A32<=Calculos!$B$4,A32,A32-Calculos!$B$4),Calculos!$B$2+1-MOD(28-1,Calculos!$B$6)+1),INDEX(Calculos!$B$36:$S$52,IF(A32<=Calculos!$B$4,A32,A32-Calculos!$B$4),MOD(28-1,Calculos!$B$6)+1)),IF(MOD(IF(A32<=Calculos!$B$4,A32,A32-Calculos!$B$4)+MOD(28-1,Calculos!$B$6)+1,2)=0,INDEX(Calculos!$B$36:$S$52,IF(A32<=Calculos!$B$4,A32,A32-Calculos!$B$4),MOD(28-1,Calculos!$B$6)+1),INDEX(Calculos!$B$36:$S$52,IF(A32<=Calculos!$B$4,A32,A32-Calculos!$B$4),Calculos!$B$2+1-MOD(28-1,Calculos!$B$6)+1))))) -> #VALUE! | G32: =IF(A32="","",IF(AND(ISNUMBER(D32),ISNUMBER(E32)),"Jugado","Pendiente")) -> Pendiente | H32: =IF(OR(C32="",F32=""),"",IF(AND(ISNUMBER(D32),ISNUMBER(E32)),IF(D32>E32,Inicio!$E$6,IF(D32=E32,Inicio!$F$6,Inicio!$G$6)),"")) -> #VALUE! | I32: =IF(OR(C32="",F32=""),"",IF(AND(ISNUMBER(D32),ISNUMBER(E32)),IF(D32<E32,Inicio!$E$6,IF(D32=E32,Inicio!$F$6,Inicio!$G$6)),"")) -> #VALUE! | J32: =IF(AND(ISNUMBER(D32),ISNUMBER(E32),D32>E32),1,0) -> 0 | K32: =IF(AND(ISNUMBER(D32),ISNUMBER(E32),D32=E32),1,0) -> 0 | L32: =IF(AND(ISNUMBER(D32),ISNUMBER(E32),D32<E32),1,0) -> 0 | M32: =IF(AND(ISNUMBER(D32),ISNUMBER(E32),D32<E32),1,0) -> 0 | N32: =IF(AND(ISNUMBER(D32),ISNUMBER(E32),D32=E32),1,0) -> 0 | O32: =IF(AND(ISNUMBER(D32),ISNUMBER(E32),D32>E32),1,0) -> 0
A33: =IF(OR(Calculos!$B$7=0,29>Calculos!$B$7),"",INT((29-1)/Calculos!$B$6)+1) -> 6 | B33: =IF(A33="","",Inicio!$E$5+(A33-1)*Inicio!$B$6) -> 46117 | C33: =IF(A33="","",INDEX(Calculos!$B$11:$B$28,IF(A33>Calculos!$B$4,IF(MOD(IF(A33<=Calculos!$B$4,A33,A33-Calculos!$B$4)+MOD(29-1,Calculos!$B$6)+1,2)=0,INDEX(Calculos!$B$36:$S$52,IF(A33<=Calculos!$B$4,A33,A33-Calculos!$B$4),MOD(29-1,Calculos!$B$6)+1),INDEX(Calculos!$B$36:$S$52,IF(A33<=Calculos!$B$4,A33,A33-Calculos!$B$4),Calculos!$B$2+1-MOD(29-1,Calculos!$B$6)+1)),IF(MOD(IF(A33<=Calculos!$B$4,A33,A33-Calculos!$B$4)+MOD(29-1,Calculos!$B$6)+1,2)=0,INDEX(Calculos!$B$36:$S$52,IF(A33<=Calculos!$B$4,A33,A33-Calculos!$B$4),Calculos!$B$2+1-MOD(29-1,Calculos!$B$6)+1),INDEX(Calculos!$B$36:$S$52,IF(A33<=Calculos!$B$4,A33,A33-Calculos!$B$4),MOD(29-1,Calculos!$B$6)+1))))) -> #VALUE! | F33: =IF(A33="","",INDEX(Calculos!$B$11:$B$28,IF(A33>Calculos!$B$4,IF(MOD(IF(A33<=Calculos!$B$4,A33,A33-Calculos!$B$4)+MOD(29-1,Calculos!$B$6)+1,2)=0,INDEX(Calculos!$B$36:$S$52,IF(A33<=Calculos!$B$4,A33,A33-Calculos!$B$4),Calculos!$B$2+1-MOD(29-1,Calculos!$B$6)+1),INDEX(Calculos!$B$36:$S$52,IF(A33<=Calculos!$B$4,A33,A33-Calculos!$B$4),MOD(29-1,Calculos!$B$6)+1)),IF(MOD(IF(A33<=Calculos!$B$4,A33,A33-Calculos!$B$4)+MOD(29-1,Calculos!$B$6)+1,2)=0,INDEX(Calculos!$B$36:$S$52,IF(A33<=Calculos!$B$4,A33,A33-Calculos!$B$4),MOD(29-1,Calculos!$B$6)+1),INDEX(Calculos!$B$36:$S$52,IF(A33<=Calculos!$B$4,A33,A33-Calculos!$B$4),Calculos!$B$2+1-MOD(29-1,Calculos!$B$6)+1))))) -> #VALUE! | G33: =IF(A33="","",IF(AND(ISNUMBER(D33),ISNUMBER(E33)),"Jugado","Pendiente")) -> Pendiente | H33: =IF(OR(C33="",F33=""),"",IF(AND(ISNUMBER(D33),ISNUMBER(E33)),IF(D33>E33,Inicio!$E$6,IF(D33=E33,Inicio!$F$6,Inicio!$G$6)),"")) -> #VALUE! | I33: =IF(OR(C33="",F33=""),"",IF(AND(ISNUMBER(D33),ISNUMBER(E33)),IF(D33<E33,Inicio!$E$6,IF(D33=E33,Inicio!$F$6,Inicio!$G$6)),"")) -> #VALUE! | J33: =IF(AND(ISNUMBER(D33),ISNUMBER(E33),D33>E33),1,0) -> 0 | K33: =IF(AND(ISNUMBER(D33),ISNUMBER(E33),D33=E33),1,0) -> 0 | L33: =IF(AND(ISNUMBER(D33),ISNUMBER(E33),D33<E33),1,0) -> 0 | M33: =IF(AND(ISNUMBER(D33),ISNUMBER(E33),D33<E33),1,0) -> 0 | N33: =IF(AND(ISNUMBER(D33),ISNUMBER(E33),D33=E33),1,0) -> 0 | O33: =IF(AND(ISNUMBER(D33),ISNUMBER(E33),D33>E33),1,0) -> 0
A34: =IF(OR(Calculos!$B$7=0,30>Calculos!$B$7),"",INT((30-1)/Calculos!$B$6)+1) -> 6 | B34: =IF(A34="","",Inicio!$E$5+(A34-1)*Inicio!$B$6) -> 46117 | C34: =IF(A34="","",INDEX(Calculos!$B$11:$B$28,IF(A34>Calculos!$B$4,IF(MOD(IF(A34<=Calculos!$B$4,A34,A34-Calculos!$B$4)+MOD(30-1,Calculos!$B$6)+1,2)=0,INDEX(Calculos!$B$36:$S$52,IF(A34<=Calculos!$B$4,A34,A34-Calculos!$B$4),MOD(30-1,Calculos!$B$6)+1),INDEX(Calculos!$B$36:$S$52,IF(A34<=Calculos!$B$4,A34,A34-Calculos!$B$4),Calculos!$B$2+1-MOD(30-1,Calculos!$B$6)+1)),IF(MOD(IF(A34<=Calculos!$B$4,A34,A34-Calculos!$B$4)+MOD(30-1,Calculos!$B$6)+1,2)=0,INDEX(Calculos!$B$36:$S$52,IF(A34<=Calculos!$B$4,A34,A34-Calculos!$B$4),Calculos!$B$2+1-MOD(30-1,Calculos!$B$6)+1),INDEX(Calculos!$B$36:$S$52,IF(A34<=Calculos!$B$4,A34,A34-Calculos!$B$4),MOD(30-1,Calculos!$B$6)+1))))) -> #VALUE! | F34: =IF(A34="","",INDEX(Calculos!$B$11:$B$28,IF(A34>Calculos!$B$4,IF(MOD(IF(A34<=Calculos!$B$4,A34,A34-Calculos!$B$4)+MOD(30-1,Calculos!$B$6)+1,2)=0,INDEX(Calculos!$B$36:$S$52,IF(A34<=Calculos!$B$4,A34,A34-Calculos!$B$4),Calculos!$B$2+1-MOD(30-1,Calculos!$B$6)+1),INDEX(Calculos!$B$36:$S$52,IF(A34<=Calculos!$B$4,A34,A34-Calculos!$B$4),MOD(30-1,Calculos!$B$6)+1)),IF(MOD(IF(A34<=Calculos!$B$4,A34,A34-Calculos!$B$4)+MOD(30-1,Calculos!$B$6)+1,2)=0,INDEX(Calculos!$B$36:$S$52,IF(A34<=Calculos!$B$4,A34,A34-Calculos!$B$4),MOD(30-1,Calculos!$B$6)+1),INDEX(Calculos!$B$36:$S$52,IF(A34<=Calculos!$B$4,A34,A34-Calculos!$B$4),Calculos!$B$2+1-MOD(30-1,Calculos!$B$6)+1))))) -> #VALUE! | G34: =IF(A34="","",IF(AND(ISNUMBER(D34),ISNUMBER(E34)),"Jugado","Pendiente")) -> Pendiente | H34: =IF(OR(C34="",F34=""),"",IF(AND(ISNUMBER(D34),ISNUMBER(E34)),IF(D34>E34,Inicio!$E$6,IF(D34=E34,Inicio!$F$6,Inicio!$G$6)),"")) -> #VALUE! | I34: =IF(OR(C34="",F34=""),"",IF(AND(ISNUMBER(D34),ISNUMBER(E34)),IF(D34<E34,Inicio!$E$6,IF(D34=E34,Inicio!$F$6,Inicio!$G$6)),"")) -> #VALUE! | J34: =IF(AND(ISNUMBER(D34),ISNUMBER(E34),D34>E34),1,0) -> 0 | K34: =IF(AND(ISNUMBER(D34),ISNUMBER(E34),D34=E34),1,0) -> 0 | L34: =IF(AND(ISNUMBER(D34),ISNUMBER(E34),D34<E34),1,0) -> 0 | M34: =IF(AND(ISNUMBER(D34),ISNUMBER(E34),D34<E34),1,0) -> 0 | N34: =IF(AND(ISNUMBER(D34),ISNUMBER(E34),D34=E34),1,0) -> 0 | O34: =IF(AND(ISNUMBER(D34),ISNUMBER(E34),D34>E34),1,0) -> 0
A35: =IF(OR(Calculos!$B$7=0,31>Calculos!$B$7),"",INT((31-1)/Calculos!$B$6)+1) -> 7 | B35: =IF(A35="","",Inicio!$E$5+(A35-1)*Inicio!$B$6) -> 46124 | C35: =IF(A35="","",INDEX(Calculos!$B$11:$B$28,IF(A35>Calculos!$B$4,IF(MOD(IF(A35<=Calculos!$B$4,A35,A35-Calculos!$B$4)+MOD(31-1,Calculos!$B$6)+1,2)=0,INDEX(Calculos!$B$36:$S$52,IF(A35<=Calculos!$B$4,A35,A35-Calculos!$B$4),MOD(31-1,Calculos!$B$6)+1),INDEX(Calculos!$B$36:$S$52,IF(A35<=Calculos!$B$4,A35,A35-Calculos!$B$4),Calculos!$B$2+1-MOD(31-1,Calculos!$B$6)+1)),IF(MOD(IF(A35<=Calculos!$B$4,A35,A35-Calculos!$B$4)+MOD(31-1,Calculos!$B$6)+1,2)=0,INDEX(Calculos!$B$36:$S$52,IF(A35<=Calculos!$B$4,A35,A35-Calculos!$B$4),Calculos!$B$2+1-MOD(31-1,Calculos!$B$6)+1),INDEX(Calculos!$B$36:$S$52,IF(A35<=Calculos!$B$4,A35,A35-Calculos!$B$4),MOD(31-1,Calculos!$B$6)+1))))) -> #VALUE! | F35: =IF(A35="","",INDEX(Calculos!$B$11:$B$28,IF(A35>Calculos!$B$4,IF(MOD(IF(A35<=Calculos!$B$4,A35,A35-Calculos!$B$4)+MOD(31-1,Calculos!$B$6)+1,2)=0,INDEX(Calculos!$B$36:$S$52,IF(A35<=Calculos!$B$4,A35,A35-Calculos!$B$4),Calculos!$B$2+1-MOD(31-1,Calculos!$B$6)+1),INDEX(Calculos!$B$36:$S$52,IF(A35<=Calculos!$B$4,A35,A35-Calculos!$B$4),MOD(31-1,Calculos!$B$6)+1)),IF(MOD(IF(A35<=Calculos!$B$4,A35,A35-Calculos!$B$4)+MOD(31-1,Calculos!$B$6)+1,2)=0,INDEX(Calculos!$B$36:$S$52,IF(A35<=Calculos!$B$4,A35,A35-Calculos!$B$4),MOD(31-1,Calculos!$B$6)+1),INDEX(Calculos!$B$36:$S$52,IF(A35<=Calculos!$B$4,A35,A35-Calculos!$B$4),Calculos!$B$2+1-MOD(31-1,Calculos!$B$6)+1))))) -> #VALUE! | G35: =IF(A35="","",IF(AND(ISNUMBER(D35),ISNUMBER(E35)),"Jugado","Pendiente")) -> Pendiente | H35: =IF(OR(C35="",F35=""),"",IF(AND(ISNUMBER(D35),ISNUMBER(E35)),IF(D35>E35,Inicio!$E$6,IF(D35=E35,Inicio!$F$6,Inicio!$G$6)),"")) -> #VALUE! | I35: =IF(OR(C35="",F35=""),"",IF(AND(ISNUMBER(D35),ISNUMBER(E35)),IF(D35<E35,Inicio!$E$6,IF(D35=E35,Inicio!$F$6,Inicio!$G$6)),"")) -> #VALUE! | J35: =IF(AND(ISNUMBER(D35),ISNUMBER(E35),D35>E35),1,0) -> 0 | K35: =IF(AND(ISNUMBER(D35),ISNUMBER(E35),D35=E35),1,0) -> 0 | L35: =IF(AND(ISNUMBER(D35),ISNUMBER(E35),D35<E35),1,0) -> 0 | M35: =IF(AND(ISNUMBER(D35),ISNUMBER(E35),D35<E35),1,0) -> 0 | N35: =IF(AND(ISNUMBER(D35),ISNUMBER(E35),D35=E35),1,0) -> 0 | O35: =IF(AND(ISNUMBER(D35),ISNUMBER(E35),D35>E35),1,0) -> 0
A36: =IF(OR(Calculos!$B$7=0,32>Calculos!$B$7),"",INT((32-1)/Calculos!$B$6)+1) -> 7 | B36: =IF(A36="","",Inicio!$E$5+(A36-1)*Inicio!$B$6) -> 46124 | C36: =IF(A36="","",INDEX(Calculos!$B$11:$B$28,IF(A36>Calculos!$B$4,IF(MOD(IF(A36<=Calculos!$B$4,A36,A36-Calculos!$B$4)+MOD(32-1,Calculos!$B$6)+1,2)=0,INDEX(Calculos!$B$36:$S$52,IF(A36<=Calculos!$B$4,A36,A36-Calculos!$B$4),MOD(32-1,Calculos!$B$6)+1),INDEX(Calculos!$B$36:$S$52,IF(A36<=Calculos!$B$4,A36,A36-Calculos!$B$4),Calculos!$B$2+1-MOD(32-1,Calculos!$B$6)+1)),IF(MOD(IF(A36<=Calculos!$B$4,A36,A36-Calculos!$B$4)+MOD(32-1,Calculos!$B$6)+1,2)=0,INDEX(Calculos!$B$36:$S$52,IF(A36<=Calculos!$B$4,A36,A36-Calculos!$B$4),Calculos!$B$2+1-MOD(32-1,Calculos!$B$6)+1),INDEX(Calculos!$B$36:$S$52,IF(A36<=Calculos!$B$4,A36,A36-Calculos!$B$4),MOD(32-1,Calculos!$B$6)+1))))) -> #VALUE! | F36: =IF(A36="","",INDEX(Calculos!$B$11:$B$28,IF(A36>Calculos!$B$4,IF(MOD(IF(A36<=Calculos!$B$4,A36,A36-Calculos!$B$4)+MOD(32-1,Calculos!$B$6)+1,2)=0,INDEX(Calculos!$B$36:$S$52,IF(A36<=Calculos!$B$4,A36,A36-Calculos!$B$4),Calculos!$B$2+1-MOD(32-1,Calculos!$B$6)+1),INDEX(Calculos!$B$36:$S$52,IF(A36<=Calculos!$B$4,A36,A36-Calculos!$B$4),MOD(32-1,Calculos!$B$6)+1)),IF(MOD(IF(A36<=Calculos!$B$4,A36,A36-Calculos!$B$4)+MOD(32-1,Calculos!$B$6)+1,2)=0,INDEX(Calculos!$B$36:$S$52,IF(A36<=Calculos!$B$4,A36,A36-Calculos!$B$4),MOD(32-1,Calculos!$B$6)+1),INDEX(Calculos!$B$36:$S$52,IF(A36<=Calculos!$B$4,A36,A36-Calculos!$B$4),Calculos!$B$2+1-MOD(32-1,Calculos!$B$6)+1))))) -> #VALUE! | G36: =IF(A36="","",IF(AND(ISNUMBER(D36),ISNUMBER(E36)),"Jugado","Pendiente")) -> Pendiente | H36: =IF(OR(C36="",F36=""),"",IF(AND(ISNUMBER(D36),ISNUMBER(E36)),IF(D36>E36,Inicio!$E$6,IF(D36=E36,Inicio!$F$6,Inicio!$G$6)),"")) -> #VALUE! | I36: =IF(OR(C36="",F36=""),"",IF(AND(ISNUMBER(D36),ISNUMBER(E36)),IF(D36<E36,Inicio!$E$6,IF(D36=E36,Inicio!$F$6,Inicio!$G$6)),"")) -> #VALUE! | J36: =IF(AND(ISNUMBER(D36),ISNUMBER(E36),D36>E36),1,0) -> 0 | K36: =IF(AND(ISNUMBER(D36),ISNUMBER(E36),D36=E36),1,0) -> 0 | L36: =IF(AND(ISNUMBER(D36),ISNUMBER(E36),D36<E36),1,0) -> 0 | M36: =IF(AND(ISNUMBER(D36),ISNUMBER(E36),D36<E36),1,0) -> 0 | N36: =IF(AND(ISNUMBER(D36),ISNUMBER(E36),D36=E36),1,0) -> 0 | O36: =IF(AND(ISNUMBER(D36),ISNUMBER(E36),D36>E36),1,0) -> 0
A37: =IF(OR(Calculos!$B$7=0,33>Calculos!$B$7),"",INT((33-1)/Calculos!$B$6)+1) -> 7 | B37: =IF(A37="","",Inicio!$E$5+(A37-1)*Inicio!$B$6) -> 46124 | C37: =IF(A37="","",INDEX(Calculos!$B$11:$B$28,IF(A37>Calculos!$B$4,IF(MOD(IF(A37<=Calculos!$B$4,A37,A37-Calculos!$B$4)+MOD(33-1,Calculos!$B$6)+1,2)=0,INDEX(Calculos!$B$36:$S$52,IF(A37<=Calculos!$B$4,A37,A37-Calculos!$B$4),MOD(33-1,Calculos!$B$6)+1),INDEX(Calculos!$B$36:$S$52,IF(A37<=Calculos!$B$4,A37,A37-Calculos!$B$4),Calculos!$B$2+1-MOD(33-1,Calculos!$B$6)+1)),IF(MOD(IF(A37<=Calculos!$B$4,A37,A37-Calculos!$B$4)+MOD(33-1,Calculos!$B$6)+1,2)=0,INDEX(Calculos!$B$36:$S$52,IF(A37<=Calculos!$B$4,A37,A37-Calculos!$B$4),Calculos!$B$2+1-MOD(33-1,Calculos!$B$6)+1),INDEX(Calculos!$B$36:$S$52,IF(A37<=Calculos!$B$4,A37,A37-Calculos!$B$4),MOD(33-1,Calculos!$B$6)+1))))) -> #VALUE! | F37: =IF(A37="","",INDEX(Calculos!$B$11:$B$28,IF(A37>Calculos!$B$4,IF(MOD(IF(A37<=Calculos!$B$4,A37,A37-Calculos!$B$4)+MOD(33-1,Calculos!$B$6)+1,2)=0,INDEX(Calculos!$B$36:$S$52,IF(A37<=Calculos!$B$4,A37,A37-Calculos!$B$4),Calculos!$B$2+1-MOD(33-1,Calculos!$B$6)+1),INDEX(Calculos!$B$36:$S$52,IF(A37<=Calculos!$B$4,A37,A37-Calculos!$B$4),MOD(33-1,Calculos!$B$6)+1)),IF(MOD(IF(A37<=Calculos!$B$4,A37,A37-Calculos!$B$4)+MOD(33-1,Calculos!$B$6)+1,2)=0,INDEX(Calculos!$B$36:$S$52,IF(A37<=Calculos!$B$4,A37,A37-Calculos!$B$4),MOD(33-1,Calculos!$B$6)+1),INDEX(Calculos!$B$36:$S$52,IF(A37<=Calculos!$B$4,A37,A37-Calculos!$B$4),Calculos!$B$2+1-MOD(33-1,Calculos!$B$6)+1))))) -> #VALUE! | G37: =IF(A37="","",IF(AND(ISNUMBER(D37),ISNUMBER(E37)),"Jugado","Pendiente")) -> Pendiente | H37: =IF(OR(C37="",F37=""),"",IF(AND(ISNUMBER(D37),ISNUMBER(E37)),IF(D37>E37,Inicio!$E$6,IF(D37=E37,Inicio!$F$6,Inicio!$G$6)),"")) -> #VALUE! | I37: =IF(OR(C37="",F37=""),"",IF(AND(ISNUMBER(D37),ISNUMBER(E37)),IF(D37<E37,Inicio!$E$6,IF(D37=E37,Inicio!$F$6,Inicio!$G$6)),"")) -> #VALUE! | J37: =IF(AND(ISNUMBER(D37),ISNUMBER(E37),D37>E37),1,0) -> 0 | K37: =IF(AND(ISNUMBER(D37),ISNUMBER(E37),D37=E37),1,0) -> 0 | L37: =IF(AND(ISNUMBER(D37),ISNUMBER(E37),D37<E37),1,0) -> 0 | M37: =IF(AND(ISNUMBER(D37),ISNUMBER(E37),D37<E37),1,0) -> 0 | N37: =IF(AND(ISNUMBER(D37),ISNUMBER(E37),D37=E37),1,0) -> 0 | O37: =IF(AND(ISNUMBER(D37),ISNUMBER(E37),D37>E37),1,0) -> 0
A38: =IF(OR(Calculos!$B$7=0,34>Calculos!$B$7),"",INT((34-1)/Calculos!$B$6)+1) -> 7 | B38: =IF(A38="","",Inicio!$E$5+(A38-1)*Inicio!$B$6) -> 46124 | C38: =IF(A38="","",INDEX(Calculos!$B$11:$B$28,IF(A38>Calculos!$B$4,IF(MOD(IF(A38<=Calculos!$B$4,A38,A38-Calculos!$B$4)+MOD(34-1,Calculos!$B$6)+1,2)=0,INDEX(Calculos!$B$36:$S$52,IF(A38<=Calculos!$B$4,A38,A38-Calculos!$B$4),MOD(34-1,Calculos!$B$6)+1),INDEX(Calculos!$B$36:$S$52,IF(A38<=Calculos!$B$4,A38,A38-Calculos!$B$4),Calculos!$B$2+1-MOD(34-1,Calculos!$B$6)+1)),IF(MOD(IF(A38<=Calculos!$B$4,A38,A38-Calculos!$B$4)+MOD(34-1,Calculos!$B$6)+1,2)=0,INDEX(Calculos!$B$36:$S$52,IF(A38<=Calculos!$B$4,A38,A38-Calculos!$B$4),Calculos!$B$2+1-MOD(34-1,Calculos!$B$6)+1),INDEX(Calculos!$B$36:$S$52,IF(A38<=Calculos!$B$4,A38,A38-Calculos!$B$4),MOD(34-1,Calculos!$B$6)+1))))) -> #VALUE! | F38: =IF(A38="","",INDEX(Calculos!$B$11:$B$28,IF(A38>Calculos!$B$4,IF(MOD(IF(A38<=Calculos!$B$4,A38,A38-Calculos!$B$4)+MOD(34-1,Calculos!$B$6)+1,2)=0,INDEX(Calculos!$B$36:$S$52,IF(A38<=Calculos!$B$4,A38,A38-Calculos!$B$4),Calculos!$B$2+1-MOD(34-1,Calculos!$B$6)+1),INDEX(Calculos!$B$36:$S$52,IF(A38<=Calculos!$B$4,A38,A38-Calculos!$B$4),MOD(34-1,Calculos!$B$6)+1)),IF(MOD(IF(A38<=Calculos!$B$4,A38,A38-Calculos!$B$4)+MOD(34-1,Calculos!$B$6)+1,2)=0,INDEX(Calculos!$B$36:$S$52,IF(A38<=Calculos!$B$4,A38,A38-Calculos!$B$4),MOD(34-1,Calculos!$B$6)+1),INDEX(Calculos!$B$36:$S$52,IF(A38<=Calculos!$B$4,A38,A38-Calculos!$B$4),Calculos!$B$2+1-MOD(34-1,Calculos!$B$6)+1))))) -> #VALUE! | G38: =IF(A38="","",IF(AND(ISNUMBER(D38),ISNUMBER(E38)),"Jugado","Pendiente")) -> Pendiente | H38: =IF(OR(C38="",F38=""),"",IF(AND(ISNUMBER(D38),ISNUMBER(E38)),IF(D38>E38,Inicio!$E$6,IF(D38=E38,Inicio!$F$6,Inicio!$G$6)),"")) -> #VALUE! | I38: =IF(OR(C38="",F38=""),"",IF(AND(ISNUMBER(D38),ISNUMBER(E38)),IF(D38<E38,Inicio!$E$6,IF(D38=E38,Inicio!$F$6,Inicio!$G$6)),"")) -> #VALUE! | J38: =IF(AND(ISNUMBER(D38),ISNUMBER(E38),D38>E38),1,0) -> 0 | K38: =IF(AND(ISNUMBER(D38),ISNUMBER(E38),D38=E38),1,0) -> 0 | L38: =IF(AND(ISNUMBER(D38),ISNUMBER(E38),D38<E38),1,0) -> 0 | M38: =IF(AND(ISNUMBER(D38),ISNUMBER(E38),D38<E38),1,0) -> 0 | N38: =IF(AND(ISNUMBER(D38),ISNUMBER(E38),D38=E38),1,0) -> 0 | O38: =IF(AND(ISNUMBER(D38),ISNUMBER(E38),D38>E38),1,0) -> 0
A39: =IF(OR(Calculos!$B$7=0,35>Calculos!$B$7),"",INT((35-1)/Calculos!$B$6)+1) -> 7 | B39: =IF(A39="","",Inicio!$E$5+(A39-1)*Inicio!$B$6) -> 46124 | C39: =IF(A39="","",INDEX(Calculos!$B$11:$B$28,IF(A39>Calculos!$B$4,IF(MOD(IF(A39<=Calculos!$B$4,A39,A39-Calculos!$B$4)+MOD(35-1,Calculos!$B$6)+1,2)=0,INDEX(Calculos!$B$36:$S$52,IF(A39<=Calculos!$B$4,A39,A39-Calculos!$B$4),MOD(35-1,Calculos!$B$6)+1),INDEX(Calculos!$B$36:$S$52,IF(A39<=Calculos!$B$4,A39,A39-Calculos!$B$4),Calculos!$B$2+1-MOD(35-1,Calculos!$B$6)+1)),IF(MOD(IF(A39<=Calculos!$B$4,A39,A39-Calculos!$B$4)+MOD(35-1,Calculos!$B$6)+1,2)=0,INDEX(Calculos!$B$36:$S$52,IF(A39<=Calculos!$B$4,A39,A39-Calculos!$B$4),Calculos!$B$2+1-MOD(35-1,Calculos!$B$6)+1),INDEX(Calculos!$B$36:$S$52,IF(A39<=Calculos!$B$4,A39,A39-Calculos!$B$4),MOD(35-1,Calculos!$B$6)+1))))) -> #VALUE! | F39: =IF(A39="","",INDEX(Calculos!$B$11:$B$28,IF(A39>Calculos!$B$4,IF(MOD(IF(A39<=Calculos!$B$4,A39,A39-Calculos!$B$4)+MOD(35-1,Calculos!$B$6)+1,2)=0,INDEX(Calculos!$B$36:$S$52,IF(A39<=Calculos!$B$4,A39,A39-Calculos!$B$4),Calculos!$B$2+1-MOD(35-1,Calculos!$B$6)+1),INDEX(Calculos!$B$36:$S$52,IF(A39<=Calculos!$B$4,A39,A39-Calculos!$B$4),MOD(35-1,Calculos!$B$6)+1)),IF(MOD(IF(A39<=Calculos!$B$4,A39,A39-Calculos!$B$4)+MOD(35-1,Calculos!$B$6)+1,2)=0,INDEX(Calculos!$B$36:$S$52,IF(A39<=Calculos!$B$4,A39,A39-Calculos!$B$4),MOD(35-1,Calculos!$B$6)+1),INDEX(Calculos!$B$36:$S$52,IF(A39<=Calculos!$B$4,A39,A39-Calculos!$B$4),Calculos!$B$2+1-MOD(35-1,Calculos!$B$6)+1))))) -> #VALUE! | G39: =IF(A39="","",IF(AND(ISNUMBER(D39),ISNUMBER(E39)),"Jugado","Pendiente")) -> Pendiente | H39: =IF(OR(C39="",F39=""),"",IF(AND(ISNUMBER(D39),ISNUMBER(E39)),IF(D39>E39,Inicio!$E$6,IF(D39=E39,Inicio!$F$6,Inicio!$G$6)),"")) -> #VALUE! | I39: =IF(OR(C39="",F39=""),"",IF(AND(ISNUMBER(D39),ISNUMBER(E39)),IF(D39<E39,Inicio!$E$6,IF(D39=E39,Inicio!$F$6,Inicio!$G$6)),"")) -> #VALUE! | J39: =IF(AND(ISNUMBER(D39),ISNUMBER(E39),D39>E39),1,0) -> 0 | K39: =IF(AND(ISNUMBER(D39),ISNUMBER(E39),D39=E39),1,0) -> 0 | L39: =IF(AND(ISNUMBER(D39),ISNUMBER(E39),D39<E39),1,0) -> 0 | M39: =IF(AND(ISNUMBER(D39),ISNUMBER(E39),D39<E39),1,0) -> 0 | N39: =IF(AND(ISNUMBER(D39),ISNUMBER(E39),D39=E39),1,0) -> 0 | O39: =IF(AND(ISNUMBER(D39),ISNUMBER(E39),D39>E39),1,0) -> 0
A40: =IF(OR(Calculos!$B$7=0,36>Calculos!$B$7),"",INT((36-1)/Calculos!$B$6)+1) -> 8 | B40: =IF(A40="","",Inicio!$E$5+(A40-1)*Inicio!$B$6) -> 46131 | C40: =IF(A40="","",INDEX(Calculos!$B$11:$B$28,IF(A40>Calculos!$B$4,IF(MOD(IF(A40<=Calculos!$B$4,A40,A40-Calculos!$B$4)+MOD(36-1,Calculos!$B$6)+1,2)=0,INDEX(Calculos!$B$36:$S$52,IF(A40<=Calculos!$B$4,A40,A40-Calculos!$B$4),MOD(36-1,Calculos!$B$6)+1),INDEX(Calculos!$B$36:$S$52,IF(A40<=Calculos!$B$4,A40,A40-Calculos!$B$4),Calculos!$B$2+1-MOD(36-1,Calculos!$B$6)+1)),IF(MOD(IF(A40<=Calculos!$B$4,A40,A40-Calculos!$B$4)+MOD(36-1,Calculos!$B$6)+1,2)=0,INDEX(Calculos!$B$36:$S$52,IF(A40<=Calculos!$B$4,A40,A40-Calculos!$B$4),Calculos!$B$2+1-MOD(36-1,Calculos!$B$6)+1),INDEX(Calculos!$B$36:$S$52,IF(A40<=Calculos!$B$4,A40,A40-Calculos!$B$4),MOD(36-1,Calculos!$B$6)+1))))) -> #VALUE! | F40: =IF(A40="","",INDEX(Calculos!$B$11:$B$28,IF(A40>Calculos!$B$4,IF(MOD(IF(A40<=Calculos!$B$4,A40,A40-Calculos!$B$4)+MOD(36-1,Calculos!$B$6)+1,2)=0,INDEX(Calculos!$B$36:$S$52,IF(A40<=Calculos!$B$4,A40,A40-Calculos!$B$4),Calculos!$B$2+1-MOD(36-1,Calculos!$B$6)+1),INDEX(Calculos!$B$36:$S$52,IF(A40<=Calculos!$B$4,A40,A40-Calculos!$B$4),MOD(36-1,Calculos!$B$6)+1)),IF(MOD(IF(A40<=Calculos!$B$4,A40,A40-Calculos!$B$4)+MOD(36-1,Calculos!$B$6)+1,2)=0,INDEX(Calculos!$B$36:$S$52,IF(A40<=Calculos!$B$4,A40,A40-Calculos!$B$4),MOD(36-1,Calculos!$B$6)+1),INDEX(Calculos!$B$36:$S$52,IF(A40<=Calculos!$B$4,A40,A40-Calculos!$B$4),Calculos!$B$2+1-MOD(36-1,Calculos!$B$6)+1))))) -> #VALUE! | G40: =IF(A40="","",IF(AND(ISNUMBER(D40),ISNUMBER(E40)),"Jugado","Pendiente")) -> Pendiente | H40: =IF(OR(C40="",F40=""),"",IF(AND(ISNUMBER(D40),ISNUMBER(E40)),IF(D40>E40,Inicio!$E$6,IF(D40=E40,Inicio!$F$6,Inicio!$G$6)),"")) -> #VALUE! | I40: =IF(OR(C40="",F40=""),"",IF(AND(ISNUMBER(D40),ISNUMBER(E40)),IF(D40<E40,Inicio!$E$6,IF(D40=E40,Inicio!$F$6,Inicio!$G$6)),"")) -> #VALUE! | J40: =IF(AND(ISNUMBER(D40),ISNUMBER(E40),D40>E40),1,0) -> 0 | K40: =IF(AND(ISNUMBER(D40),ISNUMBER(E40),D40=E40),1,0) -> 0 | L40: =IF(AND(ISNUMBER(D40),ISNUMBER(E40),D40<E40),1,0) -> 0 | M40: =IF(AND(ISNUMBER(D40),ISNUMBER(E40),D40<E40),1,0) -> 0 | N40: =IF(AND(ISNUMBER(D40),ISNUMBER(E40),D40=E40),1,0) -> 0 | O40: =IF(AND(ISNUMBER(D40),ISNUMBER(E40),D40>E40),1,0) -> 0
A41: =IF(OR(Calculos!$B$7=0,37>Calculos!$B$7),"",INT((37-1)/Calculos!$B$6)+1) -> 8 | B41: =IF(A41="","",Inicio!$E$5+(A41-1)*Inicio!$B$6) -> 46131 | C41: =IF(A41="","",INDEX(Calculos!$B$11:$B$28,IF(A41>Calculos!$B$4,IF(MOD(IF(A41<=Calculos!$B$4,A41,A41-Calculos!$B$4)+MOD(37-1,Calculos!$B$6)+1,2)=0,INDEX(Calculos!$B$36:$S$52,IF(A41<=Calculos!$B$4,A41,A41-Calculos!$B$4),MOD(37-1,Calculos!$B$6)+1),INDEX(Calculos!$B$36:$S$52,IF(A41<=Calculos!$B$4,A41,A41-Calculos!$B$4),Calculos!$B$2+1-MOD(37-1,Calculos!$B$6)+1)),IF(MOD(IF(A41<=Calculos!$B$4,A41,A41-Calculos!$B$4)+MOD(37-1,Calculos!$B$6)+1,2)=0,INDEX(Calculos!$B$36:$S$52,IF(A41<=Calculos!$B$4,A41,A41-Calculos!$B$4),Calculos!$B$2+1-MOD(37-1,Calculos!$B$6)+1),INDEX(Calculos!$B$36:$S$52,IF(A41<=Calculos!$B$4,A41,A41-Calculos!$B$4),MOD(37-1,Calculos!$B$6)+1))))) -> #VALUE! | F41: =IF(A41="","",INDEX(Calculos!$B$11:$B$28,IF(A41>Calculos!$B$4,IF(MOD(IF(A41<=Calculos!$B$4,A41,A41-Calculos!$B$4)+MOD(37-1,Calculos!$B$6)+1,2)=0,INDEX(Calculos!$B$36:$S$52,IF(A41<=Calculos!$B$4,A41,A41-Calculos!$B$4),Calculos!$B$2+1-MOD(37-1,Calculos!$B$6)+1),INDEX(Calculos!$B$36:$S$52,IF(A41<=Calculos!$B$4,A41,A41-Calculos!$B$4),MOD(37-1,Calculos!$B$6)+1)),IF(MOD(IF(A41<=Calculos!$B$4,A41,A41-Calculos!$B$4)+MOD(37-1,Calculos!$B$6)+1,2)=0,INDEX(Calculos!$B$36:$S$52,IF(A41<=Calculos!$B$4,A41,A41-Calculos!$B$4),MOD(37-1,Calculos!$B$6)+1),INDEX(Calculos!$B$36:$S$52,IF(A41<=Calculos!$B$4,A41,A41-Calculos!$B$4),Calculos!$B$2+1-MOD(37-1,Calculos!$B$6)+1))))) -> #VALUE! | G41: =IF(A41="","",IF(AND(ISNUMBER(D41),ISNUMBER(E41)),"Jugado","Pendiente")) -> Pendiente | H41: =IF(OR(C41="",F41=""),"",IF(AND(ISNUMBER(D41),ISNUMBER(E41)),IF(D41>E41,Inicio!$E$6,IF(D41=E41,Inicio!$F$6,Inicio!$G$6)),"")) -> #VALUE! | I41: =IF(OR(C41="",F41=""),"",IF(AND(ISNUMBER(D41),ISNUMBER(E41)),IF(D41<E41,Inicio!$E$6,IF(D41=E41,Inicio!$F$6,Inicio!$G$6)),"")) -> #VALUE! | J41: =IF(AND(ISNUMBER(D41),ISNUMBER(E41),D41>E41),1,0) -> 0 | K41: =IF(AND(ISNUMBER(D41),ISNUMBER(E41),D41=E41),1,0) -> 0 | L41: =IF(AND(ISNUMBER(D41),ISNUMBER(E41),D41<E41),1,0) -> 0 | M41: =IF(AND(ISNUMBER(D41),ISNUMBER(E41),D41<E41),1,0) -> 0 | N41: =IF(AND(ISNUMBER(D41),ISNUMBER(E41),D41=E41),1,0) -> 0 | O41: =IF(AND(ISNUMBER(D41),ISNUMBER(E41),D41>E41),1,0) -> 0
A42: =IF(OR(Calculos!$B$7=0,38>Calculos!$B$7),"",INT((38-1)/Calculos!$B$6)+1) -> 8 | B42: =IF(A42="","",Inicio!$E$5+(A42-1)*Inicio!$B$6) -> 46131 | C42: =IF(A42="","",INDEX(Calculos!$B$11:$B$28,IF(A42>Calculos!$B$4,IF(MOD(IF(A42<=Calculos!$B$4,A42,A42-Calculos!$B$4)+MOD(38-1,Calculos!$B$6)+1,2)=0,INDEX(Calculos!$B$36:$S$52,IF(A42<=Calculos!$B$4,A42,A42-Calculos!$B$4),MOD(38-1,Calculos!$B$6)+1),INDEX(Calculos!$B$36:$S$52,IF(A42<=Calculos!$B$4,A42,A42-Calculos!$B$4),Calculos!$B$2+1-MOD(38-1,Calculos!$B$6)+1)),IF(MOD(IF(A42<=Calculos!$B$4,A42,A42-Calculos!$B$4)+MOD(38-1,Calculos!$B$6)+1,2)=0,INDEX(Calculos!$B$36:$S$52,IF(A42<=Calculos!$B$4,A42,A42-Calculos!$B$4),Calculos!$B$2+1-MOD(38-1,Calculos!$B$6)+1),INDEX(Calculos!$B$36:$S$52,IF(A42<=Calculos!$B$4,A42,A42-Calculos!$B$4),MOD(38-1,Calculos!$B$6)+1))))) -> #VALUE! | F42: =IF(A42="","",INDEX(Calculos!$B$11:$B$28,IF(A42>Calculos!$B$4,IF(MOD(IF(A42<=Calculos!$B$4,A42,A42-Calculos!$B$4)+MOD(38-1,Calculos!$B$6)+1,2)=0,INDEX(Calculos!$B$36:$S$52,IF(A42<=Calculos!$B$4,A42,A42-Calculos!$B$4),Calculos!$B$2+1-MOD(38-1,Calculos!$B$6)+1),INDEX(Calculos!$B$36:$S$52,IF(A42<=Calculos!$B$4,A42,A42-Calculos!$B$4),MOD(38-1,Calculos!$B$6)+1)),IF(MOD(IF(A42<=Calculos!$B$4,A42,A42-Calculos!$B$4)+MOD(38-1,Calculos!$B$6)+1,2)=0,INDEX(Calculos!$B$36:$S$52,IF(A42<=Calculos!$B$4,A42,A42-Calculos!$B$4),MOD(38-1,Calculos!$B$6)+1),INDEX(Calculos!$B$36:$S$52,IF(A42<=Calculos!$B$4,A42,A42-Calculos!$B$4),Calculos!$B$2+1-MOD(38-1,Calculos!$B$6)+1))))) -> #VALUE! | G42: =IF(A42="","",IF(AND(ISNUMBER(D42),ISNUMBER(E42)),"Jugado","Pendiente")) -> Pendiente | H42: =IF(OR(C42="",F42=""),"",IF(AND(ISNUMBER(D42),ISNUMBER(E42)),IF(D42>E42,Inicio!$E$6,IF(D42=E42,Inicio!$F$6,Inicio!$G$6)),"")) -> #VALUE! | I42: =IF(OR(C42="",F42=""),"",IF(AND(ISNUMBER(D42),ISNUMBER(E42)),IF(D42<E42,Inicio!$E$6,IF(D42=E42,Inicio!$F$6,Inicio!$G$6)),"")) -> #VALUE! | J42: =IF(AND(ISNUMBER(D42),ISNUMBER(E42),D42>E42),1,0) -> 0 | K42: =IF(AND(ISNUMBER(D42),ISNUMBER(E42),D42=E42),1,0) -> 0 | L42: =IF(AND(ISNUMBER(D42),ISNUMBER(E42),D42<E42),1,0) -> 0 | M42: =IF(AND(ISNUMBER(D42),ISNUMBER(E42),D42<E42),1,0) -> 0 | N42: =IF(AND(ISNUMBER(D42),ISNUMBER(E42),D42=E42),1,0) -> 0 | O42: =IF(AND(ISNUMBER(D42),ISNUMBER(E42),D42>E42),1,0) -> 0
A43: =IF(OR(Calculos!$B$7=0,39>Calculos!$B$7),"",INT((39-1)/Calculos!$B$6)+1) -> 8 | B43: =IF(A43="","",Inicio!$E$5+(A43-1)*Inicio!$B$6) -> 46131 | C43: =IF(A43="","",INDEX(Calculos!$B$11:$B$28,IF(A43>Calculos!$B$4,IF(MOD(IF(A43<=Calculos!$B$4,A43,A43-Calculos!$B$4)+MOD(39-1,Calculos!$B$6)+1,2)=0,INDEX(Calculos!$B$36:$S$52,IF(A43<=Calculos!$B$4,A43,A43-Calculos!$B$4),MOD(39-1,Calculos!$B$6)+1),INDEX(Calculos!$B$36:$S$52,IF(A43<=Calculos!$B$4,A43,A43-Calculos!$B$4),Calculos!$B$2+1-MOD(39-1,Calculos!$B$6)+1)),IF(MOD(IF(A43<=Calculos!$B$4,A43,A43-Calculos!$B$4)+MOD(39-1,Calculos!$B$6)+1,2)=0,INDEX(Calculos!$B$36:$S$52,IF(A43<=Calculos!$B$4,A43,A43-Calculos!$B$4),Calculos!$B$2+1-MOD(39-1,Calculos!$B$6)+1),INDEX(Calculos!$B$36:$S$52,IF(A43<=Calculos!$B$4,A43,A43-Calculos!$B$4),MOD(39-1,Calculos!$B$6)+1))))) -> #VALUE! | F43: =IF(A43="","",INDEX(Calculos!$B$11:$B$28,IF(A43>Calculos!$B$4,IF(MOD(IF(A43<=Calculos!$B$4,A43,A43-Calculos!$B$4)+MOD(39-1,Calculos!$B$6)+1,2)=0,INDEX(Calculos!$B$36:$S$52,IF(A43<=Calculos!$B$4,A43,A43-Calculos!$B$4),Calculos!$B$2+1-MOD(39-1,Calculos!$B$6)+1),INDEX(Calculos!$B$36:$S$52,IF(A43<=Calculos!$B$4,A43,A43-Calculos!$B$4),MOD(39-1,Calculos!$B$6)+1)),IF(MOD(IF(A43<=Calculos!$B$4,A43,A43-Calculos!$B$4)+MOD(39-1,Calculos!$B$6)+1,2)=0,INDEX(Calculos!$B$36:$S$52,IF(A43<=Calculos!$B$4,A43,A43-Calculos!$B$4),MOD(39-1,Calculos!$B$6)+1),INDEX(Calculos!$B$36:$S$52,IF(A43<=Calculos!$B$4,A43,A43-Calculos!$B$4),Calculos!$B$2+1-MOD(39-1,Calculos!$B$6)+1))))) -> #VALUE! | G43: =IF(A43="","",IF(AND(ISNUMBER(D43),ISNUMBER(E43)),"Jugado","Pendiente")) -> Pendiente | H43: =IF(OR(C43="",F43=""),"",IF(AND(ISNUMBER(D43),ISNUMBER(E43)),IF(D43>E43,Inicio!$E$6,IF(D43=E43,Inicio!$F$6,Inicio!$G$6)),"")) -> #VALUE! | I43: =IF(OR(C43="",F43=""),"",IF(AND(ISNUMBER(D43),ISNUMBER(E43)),IF(D43<E43,Inicio!$E$6,IF(D43=E43,Inicio!$F$6,Inicio!$G$6)),"")) -> #VALUE! | J43: =IF(AND(ISNUMBER(D43),ISNUMBER(E43),D43>E43),1,0) -> 0 | K43: =IF(AND(ISNUMBER(D43),ISNUMBER(E43),D43=E43),1,0) -> 0 | L43: =IF(AND(ISNUMBER(D43),ISNUMBER(E43),D43<E43),1,0) -> 0 | M43: =IF(AND(ISNUMBER(D43),ISNUMBER(E43),D43<E43),1,0) -> 0 | N43: =IF(AND(ISNUMBER(D43),ISNUMBER(E43),D43=E43),1,0) -> 0 | O43: =IF(AND(ISNUMBER(D43),ISNUMBER(E43),D43>E43),1,0) -> 0
A44: =IF(OR(Calculos!$B$7=0,40>Calculos!$B$7),"",INT((40-1)/Calculos!$B$6)+1) -> 8 | B44: =IF(A44="","",Inicio!$E$5+(A44-1)*Inicio!$B$6) -> 46131 | C44: =IF(A44="","",INDEX(Calculos!$B$11:$B$28,IF(A44>Calculos!$B$4,IF(MOD(IF(A44<=Calculos!$B$4,A44,A44-Calculos!$B$4)+MOD(40-1,Calculos!$B$6)+1,2)=0,INDEX(Calculos!$B$36:$S$52,IF(A44<=Calculos!$B$4,A44,A44-Calculos!$B$4),MOD(40-1,Calculos!$B$6)+1),INDEX(Calculos!$B$36:$S$52,IF(A44<=Calculos!$B$4,A44,A44-Calculos!$B$4),Calculos!$B$2+1-MOD(40-1,Calculos!$B$6)+1)),IF(MOD(IF(A44<=Calculos!$B$4,A44,A44-Calculos!$B$4)+MOD(40-1,Calculos!$B$6)+1,2)=0,INDEX(Calculos!$B$36:$S$52,IF(A44<=Calculos!$B$4,A44,A44-Calculos!$B$4),Calculos!$B$2+1-MOD(40-1,Calculos!$B$6)+1),INDEX(Calculos!$B$36:$S$52,IF(A44<=Calculos!$B$4,A44,A44-Calculos!$B$4),MOD(40-1,Calculos!$B$6)+1))))) -> #VALUE! | F44: =IF(A44="","",INDEX(Calculos!$B$11:$B$28,IF(A44>Calculos!$B$4,IF(MOD(IF(A44<=Calculos!$B$4,A44,A44-Calculos!$B$4)+MOD(40-1,Calculos!$B$6)+1,2)=0,INDEX(Calculos!$B$36:$S$52,IF(A44<=Calculos!$B$4,A44,A44-Calculos!$B$4),Calculos!$B$2+1-MOD(40-1,Calculos!$B$6)+1),INDEX(Calculos!$B$36:$S$52,IF(A44<=Calculos!$B$4,A44,A44-Calculos!$B$4),MOD(40-1,Calculos!$B$6)+1)),IF(MOD(IF(A44<=Calculos!$B$4,A44,A44-Calculos!$B$4)+MOD(40-1,Calculos!$B$6)+1,2)=0,INDEX(Calculos!$B$36:$S$52,IF(A44<=Calculos!$B$4,A44,A44-Calculos!$B$4),MOD(40-1,Calculos!$B$6)+1),INDEX(Calculos!$B$36:$S$52,IF(A44<=Calculos!$B$4,A44,A44-Calculos!$B$4),Calculos!$B$2+1-MOD(40-1,Calculos!$B$6)+1))))) -> #VALUE! | G44: =IF(A44="","",IF(AND(ISNUMBER(D44),ISNUMBER(E44)),"Jugado","Pendiente")) -> Pendiente | H44: =IF(OR(C44="",F44=""),"",IF(AND(ISNUMBER(D44),ISNUMBER(E44)),IF(D44>E44,Inicio!$E$6,IF(D44=E44,Inicio!$F$6,Inicio!$G$6)),"")) -> #VALUE! | I44: =IF(OR(C44="",F44=""),"",IF(AND(ISNUMBER(D44),ISNUMBER(E44)),IF(D44<E44,Inicio!$E$6,IF(D44=E44,Inicio!$F$6,Inicio!$G$6)),"")) -> #VALUE! | J44: =IF(AND(ISNUMBER(D44),ISNUMBER(E44),D44>E44),1,0) -> 0 | K44: =IF(AND(ISNUMBER(D44),ISNUMBER(E44),D44=E44),1,0) -> 0 | L44: =IF(AND(ISNUMBER(D44),ISNUMBER(E44),D44<E44),1,0) -> 0 | M44: =IF(AND(ISNUMBER(D44),ISNUMBER(E44),D44<E44),1,0) -> 0 | N44: =IF(AND(ISNUMBER(D44),ISNUMBER(E44),D44=E44),1,0) -> 0 | O44: =IF(AND(ISNUMBER(D44),ISNUMBER(E44),D44>E44),1,0) -> 0
A45: =IF(OR(Calculos!$B$7=0,41>Calculos!$B$7),"",INT((41-1)/Calculos!$B$6)+1) -> 9 | B45: =IF(A45="","",Inicio!$E$5+(A45-1)*Inicio!$B$6) -> 46138 | C45: =IF(A45="","",INDEX(Calculos!$B$11:$B$28,IF(A45>Calculos!$B$4,IF(MOD(IF(A45<=Calculos!$B$4,A45,A45-Calculos!$B$4)+MOD(41-1,Calculos!$B$6)+1,2)=0,INDEX(Calculos!$B$36:$S$52,IF(A45<=Calculos!$B$4,A45,A45-Calculos!$B$4),MOD(41-1,Calculos!$B$6)+1),INDEX(Calculos!$B$36:$S$52,IF(A45<=Calculos!$B$4,A45,A45-Calculos!$B$4),Calculos!$B$2+1-MOD(41-1,Calculos!$B$6)+1)),IF(MOD(IF(A45<=Calculos!$B$4,A45,A45-Calculos!$B$4)+MOD(41-1,Calculos!$B$6)+1,2)=0,INDEX(Calculos!$B$36:$S$52,IF(A45<=Calculos!$B$4,A45,A45-Calculos!$B$4),Calculos!$B$2+1-MOD(41-1,Calculos!$B$6)+1),INDEX(Calculos!$B$36:$S$52,IF(A45<=Calculos!$B$4,A45,A45-Calculos!$B$4),MOD(41-1,Calculos!$B$6)+1))))) -> #VALUE! | F45: =IF(A45="","",INDEX(Calculos!$B$11:$B$28,IF(A45>Calculos!$B$4,IF(MOD(IF(A45<=Calculos!$B$4,A45,A45-Calculos!$B$4)+MOD(41-1,Calculos!$B$6)+1,2)=0,INDEX(Calculos!$B$36:$S$52,IF(A45<=Calculos!$B$4,A45,A45-Calculos!$B$4),Calculos!$B$2+1-MOD(41-1,Calculos!$B$6)+1),INDEX(Calculos!$B$36:$S$52,IF(A45<=Calculos!$B$4,A45,A45-Calculos!$B$4),MOD(41-1,Calculos!$B$6)+1)),IF(MOD(IF(A45<=Calculos!$B$4,A45,A45-Calculos!$B$4)+MOD(41-1,Calculos!$B$6)+1,2)=0,INDEX(Calculos!$B$36:$S$52,IF(A45<=Calculos!$B$4,A45,A45-Calculos!$B$4),MOD(41-1,Calculos!$B$6)+1),INDEX(Calculos!$B$36:$S$52,IF(A45<=Calculos!$B$4,A45,A45-Calculos!$B$4),Calculos!$B$2+1-MOD(41-1,Calculos!$B$6)+1))))) -> #VALUE! | G45: =IF(A45="","",IF(AND(ISNUMBER(D45),ISNUMBER(E45)),"Jugado","Pendiente")) -> Pendiente | H45: =IF(OR(C45="",F45=""),"",IF(AND(ISNUMBER(D45),ISNUMBER(E45)),IF(D45>E45,Inicio!$E$6,IF(D45=E45,Inicio!$F$6,Inicio!$G$6)),"")) -> #VALUE! | I45: =IF(OR(C45="",F45=""),"",IF(AND(ISNUMBER(D45),ISNUMBER(E45)),IF(D45<E45,Inicio!$E$6,IF(D45=E45,Inicio!$F$6,Inicio!$G$6)),"")) -> #VALUE! | J45: =IF(AND(ISNUMBER(D45),ISNUMBER(E45),D45>E45),1,0) -> 0 | K45: =IF(AND(ISNUMBER(D45),ISNUMBER(E45),D45=E45),1,0) -> 0 | L45: =IF(AND(ISNUMBER(D45),ISNUMBER(E45),D45<E45),1,0) -> 0 | M45: =IF(AND(ISNUMBER(D45),ISNUMBER(E45),D45<E45),1,0) -> 0 | N45: =IF(AND(ISNUMBER(D45),ISNUMBER(E45),D45=E45),1,0) -> 0 | O45: =IF(AND(ISNUMBER(D45),ISNUMBER(E45),D45>E45),1,0) -> 0
A46: =IF(OR(Calculos!$B$7=0,42>Calculos!$B$7),"",INT((42-1)/Calculos!$B$6)+1) -> 9 | B46: =IF(A46="","",Inicio!$E$5+(A46-1)*Inicio!$B$6) -> 46138 | C46: =IF(A46="","",INDEX(Calculos!$B$11:$B$28,IF(A46>Calculos!$B$4,IF(MOD(IF(A46<=Calculos!$B$4,A46,A46-Calculos!$B$4)+MOD(42-1,Calculos!$B$6)+1,2)=0,INDEX(Calculos!$B$36:$S$52,IF(A46<=Calculos!$B$4,A46,A46-Calculos!$B$4),MOD(42-1,Calculos!$B$6)+1),INDEX(Calculos!$B$36:$S$52,IF(A46<=Calculos!$B$4,A46,A46-Calculos!$B$4),Calculos!$B$2+1-MOD(42-1,Calculos!$B$6)+1)),IF(MOD(IF(A46<=Calculos!$B$4,A46,A46-Calculos!$B$4)+MOD(42-1,Calculos!$B$6)+1,2)=0,INDEX(Calculos!$B$36:$S$52,IF(A46<=Calculos!$B$4,A46,A46-Calculos!$B$4),Calculos!$B$2+1-MOD(42-1,Calculos!$B$6)+1),INDEX(Calculos!$B$36:$S$52,IF(A46<=Calculos!$B$4,A46,A46-Calculos!$B$4),MOD(42-1,Calculos!$B$6)+1))))) -> #VALUE! | F46: =IF(A46="","",INDEX(Calculos!$B$11:$B$28,IF(A46>Calculos!$B$4,IF(MOD(IF(A46<=Calculos!$B$4,A46,A46-Calculos!$B$4)+MOD(42-1,Calculos!$B$6)+1,2)=0,INDEX(Calculos!$B$36:$S$52,IF(A46<=Calculos!$B$4,A46,A46-Calculos!$B$4),Calculos!$B$2+1-MOD(42-1,Calculos!$B$6)+1),INDEX(Calculos!$B$36:$S$52,IF(A46<=Calculos!$B$4,A46,A46-Calculos!$B$4),MOD(42-1,Calculos!$B$6)+1)),IF(MOD(IF(A46<=Calculos!$B$4,A46,A46-Calculos!$B$4)+MOD(42-1,Calculos!$B$6)+1,2)=0,INDEX(Calculos!$B$36:$S$52,IF(A46<=Calculos!$B$4,A46,A46-Calculos!$B$4),MOD(42-1,Calculos!$B$6)+1),INDEX(Calculos!$B$36:$S$52,IF(A46<=Calculos!$B$4,A46,A46-Calculos!$B$4),Calculos!$B$2+1-MOD(42-1,Calculos!$B$6)+1))))) -> #VALUE! | G46: =IF(A46="","",IF(AND(ISNUMBER(D46),ISNUMBER(E46)),"Jugado","Pendiente")) -> Pendiente | H46: =IF(OR(C46="",F46=""),"",IF(AND(ISNUMBER(D46),ISNUMBER(E46)),IF(D46>E46,Inicio!$E$6,IF(D46=E46,Inicio!$F$6,Inicio!$G$6)),"")) -> #VALUE! | I46: =IF(OR(C46="",F46=""),"",IF(AND(ISNUMBER(D46),ISNUMBER(E46)),IF(D46<E46,Inicio!$E$6,IF(D46=E46,Inicio!$F$6,Inicio!$G$6)),"")) -> #VALUE! | J46: =IF(AND(ISNUMBER(D46),ISNUMBER(E46),D46>E46),1,0) -> 0 | K46: =IF(AND(ISNUMBER(D46),ISNUMBER(E46),D46=E46),1,0) -> 0 | L46: =IF(AND(ISNUMBER(D46),ISNUMBER(E46),D46<E46),1,0) -> 0 | M46: =IF(AND(ISNUMBER(D46),ISNUMBER(E46),D46<E46),1,0) -> 0 | N46: =IF(AND(ISNUMBER(D46),ISNUMBER(E46),D46=E46),1,0) -> 0 | O46: =IF(AND(ISNUMBER(D46),ISNUMBER(E46),D46>E46),1,0) -> 0
A47: =IF(OR(Calculos!$B$7=0,43>Calculos!$B$7),"",INT((43-1)/Calculos!$B$6)+1) -> 9 | B47: =IF(A47="","",Inicio!$E$5+(A47-1)*Inicio!$B$6) -> 46138 | C47: =IF(A47="","",INDEX(Calculos!$B$11:$B$28,IF(A47>Calculos!$B$4,IF(MOD(IF(A47<=Calculos!$B$4,A47,A47-Calculos!$B$4)+MOD(43-1,Calculos!$B$6)+1,2)=0,INDEX(Calculos!$B$36:$S$52,IF(A47<=Calculos!$B$4,A47,A47-Calculos!$B$4),MOD(43-1,Calculos!$B$6)+1),INDEX(Calculos!$B$36:$S$52,IF(A47<=Calculos!$B$4,A47,A47-Calculos!$B$4),Calculos!$B$2+1-MOD(43-1,Calculos!$B$6)+1)),IF(MOD(IF(A47<=Calculos!$B$4,A47,A47-Calculos!$B$4)+MOD(43-1,Calculos!$B$6)+1,2)=0,INDEX(Calculos!$B$36:$S$52,IF(A47<=Calculos!$B$4,A47,A47-Calculos!$B$4),Calculos!$B$2+1-MOD(43-1,Calculos!$B$6)+1),INDEX(Calculos!$B$36:$S$52,IF(A47<=Calculos!$B$4,A47,A47-Calculos!$B$4),MOD(43-1,Calculos!$B$6)+1))))) -> #VALUE! | F47: =IF(A47="","",INDEX(Calculos!$B$11:$B$28,IF(A47>Calculos!$B$4,IF(MOD(IF(A47<=Calculos!$B$4,A47,A47-Calculos!$B$4)+MOD(43-1,Calculos!$B$6)+1,2)=0,INDEX(Calculos!$B$36:$S$52,IF(A47<=Calculos!$B$4,A47,A47-Calculos!$B$4),Calculos!$B$2+1-MOD(43-1,Calculos!$B$6)+1),INDEX(Calculos!$B$36:$S$52,IF(A47<=Calculos!$B$4,A47,A47-Calculos!$B$4),MOD(43-1,Calculos!$B$6)+1)),IF(MOD(IF(A47<=Calculos!$B$4,A47,A47-Calculos!$B$4)+MOD(43-1,Calculos!$B$6)+1,2)=0,INDEX(Calculos!$B$36:$S$52,IF(A47<=Calculos!$B$4,A47,A47-Calculos!$B$4),MOD(43-1,Calculos!$B$6)+1),INDEX(Calculos!$B$36:$S$52,IF(A47<=Calculos!$B$4,A47,A47-Calculos!$B$4),Calculos!$B$2+1-MOD(43-1,Calculos!$B$6)+1))))) -> #VALUE! | G47: =IF(A47="","",IF(AND(ISNUMBER(D47),ISNUMBER(E47)),"Jugado","Pendiente")) -> Pendiente | H47: =IF(OR(C47="",F47=""),"",IF(AND(ISNUMBER(D47),ISNUMBER(E47)),IF(D47>E47,Inicio!$E$6,IF(D47=E47,Inicio!$F$6,Inicio!$G$6)),"")) -> #VALUE! | I47: =IF(OR(C47="",F47=""),"",IF(AND(ISNUMBER(D47),ISNUMBER(E47)),IF(D47<E47,Inicio!$E$6,IF(D47=E47,Inicio!$F$6,Inicio!$G$6)),"")) -> #VALUE! | J47: =IF(AND(ISNUMBER(D47),ISNUMBER(E47),D47>E47),1,0) -> 0 | K47: =IF(AND(ISNUMBER(D47),ISNUMBER(E47),D47=E47),1,0) -> 0 | L47: =IF(AND(ISNUMBER(D47),ISNUMBER(E47),D47<E47),1,0) -> 0 | M47: =IF(AND(ISNUMBER(D47),ISNUMBER(E47),D47<E47),1,0) -> 0 | N47: =IF(AND(ISNUMBER(D47),ISNUMBER(E47),D47=E47),1,0) -> 0 | O47: =IF(AND(ISNUMBER(D47),ISNUMBER(E47),D47>E47),1,0) -> 0
A48: =IF(OR(Calculos!$B$7=0,44>Calculos!$B$7),"",INT((44-1)/Calculos!$B$6)+1) -> 9 | B48: =IF(A48="","",Inicio!$E$5+(A48-1)*Inicio!$B$6) -> 46138 | C48: =IF(A48="","",INDEX(Calculos!$B$11:$B$28,IF(A48>Calculos!$B$4,IF(MOD(IF(A48<=Calculos!$B$4,A48,A48-Calculos!$B$4)+MOD(44-1,Calculos!$B$6)+1,2)=0,INDEX(Calculos!$B$36:$S$52,IF(A48<=Calculos!$B$4,A48,A48-Calculos!$B$4),MOD(44-1,Calculos!$B$6)+1),INDEX(Calculos!$B$36:$S$52,IF(A48<=Calculos!$B$4,A48,A48-Calculos!$B$4),Calculos!$B$2+1-MOD(44-1,Calculos!$B$6)+1)),IF(MOD(IF(A48<=Calculos!$B$4,A48,A48-Calculos!$B$4)+MOD(44-1,Calculos!$B$6)+1,2)=0,INDEX(Calculos!$B$36:$S$52,IF(A48<=Calculos!$B$4,A48,A48-Calculos!$B$4),Calculos!$B$2+1-MOD(44-1,Calculos!$B$6)+1),INDEX(Calculos!$B$36:$S$52,IF(A48<=Calculos!$B$4,A48,A48-Calculos!$B$4),MOD(44-1,Calculos!$B$6)+1))))) -> #VALUE! | F48: =IF(A48="","",INDEX(Calculos!$B$11:$B$28,IF(A48>Calculos!$B$4,IF(MOD(IF(A48<=Calculos!$B$4,A48,A48-Calculos!$B$4)+MOD(44-1,Calculos!$B$6)+1,2)=0,INDEX(Calculos!$B$36:$S$52,IF(A48<=Calculos!$B$4,A48,A48-Calculos!$B$4),Calculos!$B$2+1-MOD(44-1,Calculos!$B$6)+1),INDEX(Calculos!$B$36:$S$52,IF(A48<=Calculos!$B$4,A48,A48-Calculos!$B$4),MOD(44-1,Calculos!$B$6)+1)),IF(MOD(IF(A48<=Calculos!$B$4,A48,A48-Calculos!$B$4)+MOD(44-1,Calculos!$B$6)+1,2)=0,INDEX(Calculos!$B$36:$S$52,IF(A48<=Calculos!$B$4,A48,A48-Calculos!$B$4),MOD(44-1,Calculos!$B$6)+1),INDEX(Calculos!$B$36:$S$52,IF(A48<=Calculos!$B$4,A48,A48-Calculos!$B$4),Calculos!$B$2+1-MOD(44-1,Calculos!$B$6)+1))))) -> #VALUE! | G48: =IF(A48="","",IF(AND(ISNUMBER(D48),ISNUMBER(E48)),"Jugado","Pendiente")) -> Pendiente | H48: =IF(OR(C48="",F48=""),"",IF(AND(ISNUMBER(D48),ISNUMBER(E48)),IF(D48>E48,Inicio!$E$6,IF(D48=E48,Inicio!$F$6,Inicio!$G$6)),"")) -> #VALUE! | I48: =IF(OR(C48="",F48=""),"",IF(AND(ISNUMBER(D48),ISNUMBER(E48)),IF(D48<E48,Inicio!$E$6,IF(D48=E48,Inicio!$F$6,Inicio!$G$6)),"")) -> #VALUE! | J48: =IF(AND(ISNUMBER(D48),ISNUMBER(E48),D48>E48),1,0) -> 0 | K48: =IF(AND(ISNUMBER(D48),ISNUMBER(E48),D48=E48),1,0) -> 0 | L48: =IF(AND(ISNUMBER(D48),ISNUMBER(E48),D48<E48),1,0) -> 0 | M48: =IF(AND(ISNUMBER(D48),ISNUMBER(E48),D48<E48),1,0) -> 0 | N48: =IF(AND(ISNUMBER(D48),ISNUMBER(E48),D48=E48),1,0) -> 0 | O48: =IF(AND(ISNUMBER(D48),ISNUMBER(E48),D48>E48),1,0) -> 0
A49: =IF(OR(Calculos!$B$7=0,45>Calculos!$B$7),"",INT((45-1)/Calculos!$B$6)+1) -> 9 | B49: =IF(A49="","",Inicio!$E$5+(A49-1)*Inicio!$B$6) -> 46138 | C49: =IF(A49="","",INDEX(Calculos!$B$11:$B$28,IF(A49>Calculos!$B$4,IF(MOD(IF(A49<=Calculos!$B$4,A49,A49-Calculos!$B$4)+MOD(45-1,Calculos!$B$6)+1,2)=0,INDEX(Calculos!$B$36:$S$52,IF(A49<=Calculos!$B$4,A49,A49-Calculos!$B$4),MOD(45-1,Calculos!$B$6)+1),INDEX(Calculos!$B$36:$S$52,IF(A49<=Calculos!$B$4,A49,A49-Calculos!$B$4),Calculos!$B$2+1-MOD(45-1,Calculos!$B$6)+1)),IF(MOD(IF(A49<=Calculos!$B$4,A49,A49-Calculos!$B$4)+MOD(45-1,Calculos!$B$6)+1,2)=0,INDEX(Calculos!$B$36:$S$52,IF(A49<=Calculos!$B$4,A49,A49-Calculos!$B$4),Calculos!$B$2+1-MOD(45-1,Calculos!$B$6)+1),INDEX(Calculos!$B$36:$S$52,IF(A49<=Calculos!$B$4,A49,A49-Calculos!$B$4),MOD(45-1,Calculos!$B$6)+1))))) -> #VALUE! | F49: =IF(A49="","",INDEX(Calculos!$B$11:$B$28,IF(A49>Calculos!$B$4,IF(MOD(IF(A49<=Calculos!$B$4,A49,A49-Calculos!$B$4)+MOD(45-1,Calculos!$B$6)+1,2)=0,INDEX(Calculos!$B$36:$S$52,IF(A49<=Calculos!$B$4,A49,A49-Calculos!$B$4),Calculos!$B$2+1-MOD(45-1,Calculos!$B$6)+1),INDEX(Calculos!$B$36:$S$52,IF(A49<=Calculos!$B$4,A49,A49-Calculos!$B$4),MOD(45-1,Calculos!$B$6)+1)),IF(MOD(IF(A49<=Calculos!$B$4,A49,A49-Calculos!$B$4)+MOD(45-1,Calculos!$B$6)+1,2)=0,INDEX(Calculos!$B$36:$S$52,IF(A49<=Calculos!$B$4,A49,A49-Calculos!$B$4),MOD(45-1,Calculos!$B$6)+1),INDEX(Calculos!$B$36:$S$52,IF(A49<=Calculos!$B$4,A49,A49-Calculos!$B$4),Calculos!$B$2+1-MOD(45-1,Calculos!$B$6)+1))))) -> #VALUE! | G49: =IF(A49="","",IF(AND(ISNUMBER(D49),ISNUMBER(E49)),"Jugado","Pendiente")) -> Pendiente | H49: =IF(OR(C49="",F49=""),"",IF(AND(ISNUMBER(D49),ISNUMBER(E49)),IF(D49>E49,Inicio!$E$6,IF(D49=E49,Inicio!$F$6,Inicio!$G$6)),"")) -> #VALUE! | I49: =IF(OR(C49="",F49=""),"",IF(AND(ISNUMBER(D49),ISNUMBER(E49)),IF(D49<E49,Inicio!$E$6,IF(D49=E49,Inicio!$F$6,Inicio!$G$6)),"")) -> #VALUE! | J49: =IF(AND(ISNUMBER(D49),ISNUMBER(E49),D49>E49),1,0) -> 0 | K49: =IF(AND(ISNUMBER(D49),ISNUMBER(E49),D49=E49),1,0) -> 0 | L49: =IF(AND(ISNUMBER(D49),ISNUMBER(E49),D49<E49),1,0) -> 0 | M49: =IF(AND(ISNUMBER(D49),ISNUMBER(E49),D49<E49),1,0) -> 0 | N49: =IF(AND(ISNUMBER(D49),ISNUMBER(E49),D49=E49),1,0) -> 0 | O49: =IF(AND(ISNUMBER(D49),ISNUMBER(E49),D49>E49),1,0) -> 0
A50: =IF(OR(Calculos!$B$7=0,46>Calculos!$B$7),"",INT((46-1)/Calculos!$B$6)+1) -> 10 | B50: =IF(A50="","",Inicio!$E$5+(A50-1)*Inicio!$B$6) -> 46145 | C50: =IF(A50="","",INDEX(Calculos!$B$11:$B$28,IF(A50>Calculos!$B$4,IF(MOD(IF(A50<=Calculos!$B$4,A50,A50-Calculos!$B$4)+MOD(46-1,Calculos!$B$6)+1,2)=0,INDEX(Calculos!$B$36:$S$52,IF(A50<=Calculos!$B$4,A50,A50-Calculos!$B$4),MOD(46-1,Calculos!$B$6)+1),INDEX(Calculos!$B$36:$S$52,IF(A50<=Calculos!$B$4,A50,A50-Calculos!$B$4),Calculos!$B$2+1-MOD(46-1,Calculos!$B$6)+1)),IF(MOD(IF(A50<=Calculos!$B$4,A50,A50-Calculos!$B$4)+MOD(46-1,Calculos!$B$6)+1,2)=0,INDEX(Calculos!$B$36:$S$52,IF(A50<=Calculos!$B$4,A50,A50-Calculos!$B$4),Calculos!$B$2+1-MOD(46-1,Calculos!$B$6)+1),INDEX(Calculos!$B$36:$S$52,IF(A50<=Calculos!$B$4,A50,A50-Calculos!$B$4),MOD(46-1,Calculos!$B$6)+1))))) -> #VALUE! | F50: =IF(A50="","",INDEX(Calculos!$B$11:$B$28,IF(A50>Calculos!$B$4,IF(MOD(IF(A50<=Calculos!$B$4,A50,A50-Calculos!$B$4)+MOD(46-1,Calculos!$B$6)+1,2)=0,INDEX(Calculos!$B$36:$S$52,IF(A50<=Calculos!$B$4,A50,A50-Calculos!$B$4),Calculos!$B$2+1-MOD(46-1,Calculos!$B$6)+1),INDEX(Calculos!$B$36:$S$52,IF(A50<=Calculos!$B$4,A50,A50-Calculos!$B$4),MOD(46-1,Calculos!$B$6)+1)),IF(MOD(IF(A50<=Calculos!$B$4,A50,A50-Calculos!$B$4)+MOD(46-1,Calculos!$B$6)+1,2)=0,INDEX(Calculos!$B$36:$S$52,IF(A50<=Calculos!$B$4,A50,A50-Calculos!$B$4),MOD(46-1,Calculos!$B$6)+1),INDEX(Calculos!$B$36:$S$52,IF(A50<=Calculos!$B$4,A50,A50-Calculos!$B$4),Calculos!$B$2+1-MOD(46-1,Calculos!$B$6)+1))))) -> #VALUE! | G50: =IF(A50="","",IF(AND(ISNUMBER(D50),ISNUMBER(E50)),"Jugado","Pendiente")) -> Pendiente | H50: =IF(OR(C50="",F50=""),"",IF(AND(ISNUMBER(D50),ISNUMBER(E50)),IF(D50>E50,Inicio!$E$6,IF(D50=E50,Inicio!$F$6,Inicio!$G$6)),"")) -> #VALUE! | I50: =IF(OR(C50="",F50=""),"",IF(AND(ISNUMBER(D50),ISNUMBER(E50)),IF(D50<E50,Inicio!$E$6,IF(D50=E50,Inicio!$F$6,Inicio!$G$6)),"")) -> #VALUE! | J50: =IF(AND(ISNUMBER(D50),ISNUMBER(E50),D50>E50),1,0) -> 0 | K50: =IF(AND(ISNUMBER(D50),ISNUMBER(E50),D50=E50),1,0) -> 0 | L50: =IF(AND(ISNUMBER(D50),ISNUMBER(E50),D50<E50),1,0) -> 0 | M50: =IF(AND(ISNUMBER(D50),ISNUMBER(E50),D50<E50),1,0) -> 0 | N50: =IF(AND(ISNUMBER(D50),ISNUMBER(E50),D50=E50),1,0) -> 0 | O50: =IF(AND(ISNUMBER(D50),ISNUMBER(E50),D50>E50),1,0) -> 0
A51: =IF(OR(Calculos!$B$7=0,47>Calculos!$B$7),"",INT((47-1)/Calculos!$B$6)+1) -> 10 | B51: =IF(A51="","",Inicio!$E$5+(A51-1)*Inicio!$B$6) -> 46145 | C51: =IF(A51="","",INDEX(Calculos!$B$11:$B$28,IF(A51>Calculos!$B$4,IF(MOD(IF(A51<=Calculos!$B$4,A51,A51-Calculos!$B$4)+MOD(47-1,Calculos!$B$6)+1,2)=0,INDEX(Calculos!$B$36:$S$52,IF(A51<=Calculos!$B$4,A51,A51-Calculos!$B$4),MOD(47-1,Calculos!$B$6)+1),INDEX(Calculos!$B$36:$S$52,IF(A51<=Calculos!$B$4,A51,A51-Calculos!$B$4),Calculos!$B$2+1-MOD(47-1,Calculos!$B$6)+1)),IF(MOD(IF(A51<=Calculos!$B$4,A51,A51-Calculos!$B$4)+MOD(47-1,Calculos!$B$6)+1,2)=0,INDEX(Calculos!$B$36:$S$52,IF(A51<=Calculos!$B$4,A51,A51-Calculos!$B$4),Calculos!$B$2+1-MOD(47-1,Calculos!$B$6)+1),INDEX(Calculos!$B$36:$S$52,IF(A51<=Calculos!$B$4,A51,A51-Calculos!$B$4),MOD(47-1,Calculos!$B$6)+1))))) -> #VALUE! | F51: =IF(A51="","",INDEX(Calculos!$B$11:$B$28,IF(A51>Calculos!$B$4,IF(MOD(IF(A51<=Calculos!$B$4,A51,A51-Calculos!$B$4)+MOD(47-1,Calculos!$B$6)+1,2)=0,INDEX(Calculos!$B$36:$S$52,IF(A51<=Calculos!$B$4,A51,A51-Calculos!$B$4),Calculos!$B$2+1-MOD(47-1,Calculos!$B$6)+1),INDEX(Calculos!$B$36:$S$52,IF(A51<=Calculos!$B$4,A51,A51-Calculos!$B$4),MOD(47-1,Calculos!$B$6)+1)),IF(MOD(IF(A51<=Calculos!$B$4,A51,A51-Calculos!$B$4)+MOD(47-1,Calculos!$B$6)+1,2)=0,INDEX(Calculos!$B$36:$S$52,IF(A51<=Calculos!$B$4,A51,A51-Calculos!$B$4),MOD(47-1,Calculos!$B$6)+1),INDEX(Calculos!$B$36:$S$52,IF(A51<=Calculos!$B$4,A51,A51-Calculos!$B$4),Calculos!$B$2+1-MOD(47-1,Calculos!$B$6)+1))))) -> #VALUE! | G51: =IF(A51="","",IF(AND(ISNUMBER(D51),ISNUMBER(E51)),"Jugado","Pendiente")) -> Pendiente | H51: =IF(OR(C51="",F51=""),"",IF(AND(ISNUMBER(D51),ISNUMBER(E51)),IF(D51>E51,Inicio!$E$6,IF(D51=E51,Inicio!$F$6,Inicio!$G$6)),"")) -> #VALUE! | I51: =IF(OR(C51="",F51=""),"",IF(AND(ISNUMBER(D51),ISNUMBER(E51)),IF(D51<E51,Inicio!$E$6,IF(D51=E51,Inicio!$F$6,Inicio!$G$6)),"")) -> #VALUE! | J51: =IF(AND(ISNUMBER(D51),ISNUMBER(E51),D51>E51),1,0) -> 0 | K51: =IF(AND(ISNUMBER(D51),ISNUMBER(E51),D51=E51),1,0) -> 0 | L51: =IF(AND(ISNUMBER(D51),ISNUMBER(E51),D51<E51),1,0) -> 0 | M51: =IF(AND(ISNUMBER(D51),ISNUMBER(E51),D51<E51),1,0) -> 0 | N51: =IF(AND(ISNUMBER(D51),ISNUMBER(E51),D51=E51),1,0) -> 0 | O51: =IF(AND(ISNUMBER(D51),ISNUMBER(E51),D51>E51),1,0) -> 0
A52: =IF(OR(Calculos!$B$7=0,48>Calculos!$B$7),"",INT((48-1)/Calculos!$B$6)+1) -> 10 | B52: =IF(A52="","",Inicio!$E$5+(A52-1)*Inicio!$B$6) -> 46145 | C52: =IF(A52="","",INDEX(Calculos!$B$11:$B$28,IF(A52>Calculos!$B$4,IF(MOD(IF(A52<=Calculos!$B$4,A52,A52-Calculos!$B$4)+MOD(48-1,Calculos!$B$6)+1,2)=0,INDEX(Calculos!$B$36:$S$52,IF(A52<=Calculos!$B$4,A52,A52-Calculos!$B$4),MOD(48-1,Calculos!$B$6)+1),INDEX(Calculos!$B$36:$S$52,IF(A52<=Calculos!$B$4,A52,A52-Calculos!$B$4),Calculos!$B$2+1-MOD(48-1,Calculos!$B$6)+1)),IF(MOD(IF(A52<=Calculos!$B$4,A52,A52-Calculos!$B$4)+MOD(48-1,Calculos!$B$6)+1,2)=0,INDEX(Calculos!$B$36:$S$52,IF(A52<=Calculos!$B$4,A52,A52-Calculos!$B$4),Calculos!$B$2+1-MOD(48-1,Calculos!$B$6)+1),INDEX(Calculos!$B$36:$S$52,IF(A52<=Calculos!$B$4,A52,A52-Calculos!$B$4),MOD(48-1,Calculos!$B$6)+1))))) -> #VALUE! | F52: =IF(A52="","",INDEX(Calculos!$B$11:$B$28,IF(A52>Calculos!$B$4,IF(MOD(IF(A52<=Calculos!$B$4,A52,A52-Calculos!$B$4)+MOD(48-1,Calculos!$B$6)+1,2)=0,INDEX(Calculos!$B$36:$S$52,IF(A52<=Calculos!$B$4,A52,A52-Calculos!$B$4),Calculos!$B$2+1-MOD(48-1,Calculos!$B$6)+1),INDEX(Calculos!$B$36:$S$52,IF(A52<=Calculos!$B$4,A52,A52-Calculos!$B$4),MOD(48-1,Calculos!$B$6)+1)),IF(MOD(IF(A52<=Calculos!$B$4,A52,A52-Calculos!$B$4)+MOD(48-1,Calculos!$B$6)+1,2)=0,INDEX(Calculos!$B$36:$S$52,IF(A52<=Calculos!$B$4,A52,A52-Calculos!$B$4),MOD(48-1,Calculos!$B$6)+1),INDEX(Calculos!$B$36:$S$52,IF(A52<=Calculos!$B$4,A52,A52-Calculos!$B$4),Calculos!$B$2+1-MOD(48-1,Calculos!$B$6)+1))))) -> #VALUE! | G52: =IF(A52="","",IF(AND(ISNUMBER(D52),ISNUMBER(E52)),"Jugado","Pendiente")) -> Pendiente | H52: =IF(OR(C52="",F52=""),"",IF(AND(ISNUMBER(D52),ISNUMBER(E52)),IF(D52>E52,Inicio!$E$6,IF(D52=E52,Inicio!$F$6,Inicio!$G$6)),"")) -> #VALUE! | I52: =IF(OR(C52="",F52=""),"",IF(AND(ISNUMBER(D52),ISNUMBER(E52)),IF(D52<E52,Inicio!$E$6,IF(D52=E52,Inicio!$F$6,Inicio!$G$6)),"")) -> #VALUE! | J52: =IF(AND(ISNUMBER(D52),ISNUMBER(E52),D52>E52),1,0) -> 0 | K52: =IF(AND(ISNUMBER(D52),ISNUMBER(E52),D52=E52),1,0) -> 0 | L52: =IF(AND(ISNUMBER(D52),ISNUMBER(E52),D52<E52),1,0) -> 0 | M52: =IF(AND(ISNUMBER(D52),ISNUMBER(E52),D52<E52),1,0) -> 0 | N52: =IF(AND(ISNUMBER(D52),ISNUMBER(E52),D52=E52),1,0) -> 0 | O52: =IF(AND(ISNUMBER(D52),ISNUMBER(E52),D52>E52),1,0) -> 0
A53: =IF(OR(Calculos!$B$7=0,49>Calculos!$B$7),"",INT((49-1)/Calculos!$B$6)+1) -> 10 | B53: =IF(A53="","",Inicio!$E$5+(A53-1)*Inicio!$B$6) -> 46145 | C53: =IF(A53="","",INDEX(Calculos!$B$11:$B$28,IF(A53>Calculos!$B$4,IF(MOD(IF(A53<=Calculos!$B$4,A53,A53-Calculos!$B$4)+MOD(49-1,Calculos!$B$6)+1,2)=0,INDEX(Calculos!$B$36:$S$52,IF(A53<=Calculos!$B$4,A53,A53-Calculos!$B$4),MOD(49-1,Calculos!$B$6)+1),INDEX(Calculos!$B$36:$S$52,IF(A53<=Calculos!$B$4,A53,A53-Calculos!$B$4),Calculos!$B$2+1-MOD(49-1,Calculos!$B$6)+1)),IF(MOD(IF(A53<=Calculos!$B$4,A53,A53-Calculos!$B$4)+MOD(49-1,Calculos!$B$6)+1,2)=0,INDEX(Calculos!$B$36:$S$52,IF(A53<=Calculos!$B$4,A53,A53-Calculos!$B$4),Calculos!$B$2+1-MOD(49-1,Calculos!$B$6)+1),INDEX(Calculos!$B$36:$S$52,IF(A53<=Calculos!$B$4,A53,A53-Calculos!$B$4),MOD(49-1,Calculos!$B$6)+1))))) -> #VALUE! | F53: =IF(A53="","",INDEX(Calculos!$B$11:$B$28,IF(A53>Calculos!$B$4,IF(MOD(IF(A53<=Calculos!$B$4,A53,A53-Calculos!$B$4)+MOD(49-1,Calculos!$B$6)+1,2)=0,INDEX(Calculos!$B$36:$S$52,IF(A53<=Calculos!$B$4,A53,A53-Calculos!$B$4),Calculos!$B$2+1-MOD(49-1,Calculos!$B$6)+1),INDEX(Calculos!$B$36:$S$52,IF(A53<=Calculos!$B$4,A53,A53-Calculos!$B$4),MOD(49-1,Calculos!$B$6)+1)),IF(MOD(IF(A53<=Calculos!$B$4,A53,A53-Calculos!$B$4)+MOD(49-1,Calculos!$B$6)+1,2)=0,INDEX(Calculos!$B$36:$S$52,IF(A53<=Calculos!$B$4,A53,A53-Calculos!$B$4),MOD(49-1,Calculos!$B$6)+1),INDEX(Calculos!$B$36:$S$52,IF(A53<=Calculos!$B$4,A53,A53-Calculos!$B$4),Calculos!$B$2+1-MOD(49-1,Calculos!$B$6)+1))))) -> #VALUE! | G53: =IF(A53="","",IF(AND(ISNUMBER(D53),ISNUMBER(E53)),"Jugado","Pendiente")) -> Pendiente | H53: =IF(OR(C53="",F53=""),"",IF(AND(ISNUMBER(D53),ISNUMBER(E53)),IF(D53>E53,Inicio!$E$6,IF(D53=E53,Inicio!$F$6,Inicio!$G$6)),"")) -> #VALUE! | I53: =IF(OR(C53="",F53=""),"",IF(AND(ISNUMBER(D53),ISNUMBER(E53)),IF(D53<E53,Inicio!$E$6,IF(D53=E53,Inicio!$F$6,Inicio!$G$6)),"")) -> #VALUE! | J53: =IF(AND(ISNUMBER(D53),ISNUMBER(E53),D53>E53),1,0) -> 0 | K53: =IF(AND(ISNUMBER(D53),ISNUMBER(E53),D53=E53),1,0) -> 0 | L53: =IF(AND(ISNUMBER(D53),ISNUMBER(E53),D53<E53),1,0) -> 0 | M53: =IF(AND(ISNUMBER(D53),ISNUMBER(E53),D53<E53),1,0) -> 0 | N53: =IF(AND(ISNUMBER(D53),ISNUMBER(E53),D53=E53),1,0) -> 0 | O53: =IF(AND(ISNUMBER(D53),ISNUMBER(E53),D53>E53),1,0) -> 0
A54: =IF(OR(Calculos!$B$7=0,50>Calculos!$B$7),"",INT((50-1)/Calculos!$B$6)+1) -> 10 | B54: =IF(A54="","",Inicio!$E$5+(A54-1)*Inicio!$B$6) -> 46145 | C54: =IF(A54="","",INDEX(Calculos!$B$11:$B$28,IF(A54>Calculos!$B$4,IF(MOD(IF(A54<=Calculos!$B$4,A54,A54-Calculos!$B$4)+MOD(50-1,Calculos!$B$6)+1,2)=0,INDEX(Calculos!$B$36:$S$52,IF(A54<=Calculos!$B$4,A54,A54-Calculos!$B$4),MOD(50-1,Calculos!$B$6)+1),INDEX(Calculos!$B$36:$S$52,IF(A54<=Calculos!$B$4,A54,A54-Calculos!$B$4),Calculos!$B$2+1-MOD(50-1,Calculos!$B$6)+1)),IF(MOD(IF(A54<=Calculos!$B$4,A54,A54-Calculos!$B$4)+MOD(50-1,Calculos!$B$6)+1,2)=0,INDEX(Calculos!$B$36:$S$52,IF(A54<=Calculos!$B$4,A54,A54-Calculos!$B$4),Calculos!$B$2+1-MOD(50-1,Calculos!$B$6)+1),INDEX(Calculos!$B$36:$S$52,IF(A54<=Calculos!$B$4,A54,A54-Calculos!$B$4),MOD(50-1,Calculos!$B$6)+1))))) -> #VALUE! | F54: =IF(A54="","",INDEX(Calculos!$B$11:$B$28,IF(A54>Calculos!$B$4,IF(MOD(IF(A54<=Calculos!$B$4,A54,A54-Calculos!$B$4)+MOD(50-1,Calculos!$B$6)+1,2)=0,INDEX(Calculos!$B$36:$S$52,IF(A54<=Calculos!$B$4,A54,A54-Calculos!$B$4),Calculos!$B$2+1-MOD(50-1,Calculos!$B$6)+1),INDEX(Calculos!$B$36:$S$52,IF(A54<=Calculos!$B$4,A54,A54-Calculos!$B$4),MOD(50-1,Calculos!$B$6)+1)),IF(MOD(IF(A54<=Calculos!$B$4,A54,A54-Calculos!$B$4)+MOD(50-1,Calculos!$B$6)+1,2)=0,INDEX(Calculos!$B$36:$S$52,IF(A54<=Calculos!$B$4,A54,A54-Calculos!$B$4),MOD(50-1,Calculos!$B$6)+1),INDEX(Calculos!$B$36:$S$52,IF(A54<=Calculos!$B$4,A54,A54-Calculos!$B$4),Calculos!$B$2+1-MOD(50-1,Calculos!$B$6)+1))))) -> #VALUE! | G54: =IF(A54="","",IF(AND(ISNUMBER(D54),ISNUMBER(E54)),"Jugado","Pendiente")) -> Pendiente | H54: =IF(OR(C54="",F54=""),"",IF(AND(ISNUMBER(D54),ISNUMBER(E54)),IF(D54>E54,Inicio!$E$6,IF(D54=E54,Inicio!$F$6,Inicio!$G$6)),"")) -> #VALUE! | I54: =IF(OR(C54="",F54=""),"",IF(AND(ISNUMBER(D54),ISNUMBER(E54)),IF(D54<E54,Inicio!$E$6,IF(D54=E54,Inicio!$F$6,Inicio!$G$6)),"")) -> #VALUE! | J54: =IF(AND(ISNUMBER(D54),ISNUMBER(E54),D54>E54),1,0) -> 0 | K54: =IF(AND(ISNUMBER(D54),ISNUMBER(E54),D54=E54),1,0) -> 0 | L54: =IF(AND(ISNUMBER(D54),ISNUMBER(E54),D54<E54),1,0) -> 0 | M54: =IF(AND(ISNUMBER(D54),ISNUMBER(E54),D54<E54),1,0) -> 0 | N54: =IF(AND(ISNUMBER(D54),ISNUMBER(E54),D54=E54),1,0) -> 0 | O54: =IF(AND(ISNUMBER(D54),ISNUMBER(E54),D54>E54),1,0) -> 0
A55: =IF(OR(Calculos!$B$7=0,51>Calculos!$B$7),"",INT((51-1)/Calculos!$B$6)+1) -> 11 | B55: =IF(A55="","",Inicio!$E$5+(A55-1)*Inicio!$B$6) -> 46152 | C55: =IF(A55="","",INDEX(Calculos!$B$11:$B$28,IF(A55>Calculos!$B$4,IF(MOD(IF(A55<=Calculos!$B$4,A55,A55-Calculos!$B$4)+MOD(51-1,Calculos!$B$6)+1,2)=0,INDEX(Calculos!$B$36:$S$52,IF(A55<=Calculos!$B$4,A55,A55-Calculos!$B$4),MOD(51-1,Calculos!$B$6)+1),INDEX(Calculos!$B$36:$S$52,IF(A55<=Calculos!$B$4,A55,A55-Calculos!$B$4),Calculos!$B$2+1-MOD(51-1,Calculos!$B$6)+1)),IF(MOD(IF(A55<=Calculos!$B$4,A55,A55-Calculos!$B$4)+MOD(51-1,Calculos!$B$6)+1,2)=0,INDEX(Calculos!$B$36:$S$52,IF(A55<=Calculos!$B$4,A55,A55-Calculos!$B$4),Calculos!$B$2+1-MOD(51-1,Calculos!$B$6)+1),INDEX(Calculos!$B$36:$S$52,IF(A55<=Calculos!$B$4,A55,A55-Calculos!$B$4),MOD(51-1,Calculos!$B$6)+1))))) -> #VALUE! | F55: =IF(A55="","",INDEX(Calculos!$B$11:$B$28,IF(A55>Calculos!$B$4,IF(MOD(IF(A55<=Calculos!$B$4,A55,A55-Calculos!$B$4)+MOD(51-1,Calculos!$B$6)+1,2)=0,INDEX(Calculos!$B$36:$S$52,IF(A55<=Calculos!$B$4,A55,A55-Calculos!$B$4),Calculos!$B$2+1-MOD(51-1,Calculos!$B$6)+1),INDEX(Calculos!$B$36:$S$52,IF(A55<=Calculos!$B$4,A55,A55-Calculos!$B$4),MOD(51-1,Calculos!$B$6)+1)),IF(MOD(IF(A55<=Calculos!$B$4,A55,A55-Calculos!$B$4)+MOD(51-1,Calculos!$B$6)+1,2)=0,INDEX(Calculos!$B$36:$S$52,IF(A55<=Calculos!$B$4,A55,A55-Calculos!$B$4),MOD(51-1,Calculos!$B$6)+1),INDEX(Calculos!$B$36:$S$52,IF(A55<=Calculos!$B$4,A55,A55-Calculos!$B$4),Calculos!$B$2+1-MOD(51-1,Calculos!$B$6)+1))))) -> #VALUE! | G55: =IF(A55="","",IF(AND(ISNUMBER(D55),ISNUMBER(E55)),"Jugado","Pendiente")) -> Pendiente | H55: =IF(OR(C55="",F55=""),"",IF(AND(ISNUMBER(D55),ISNUMBER(E55)),IF(D55>E55,Inicio!$E$6,IF(D55=E55,Inicio!$F$6,Inicio!$G$6)),"")) -> #VALUE! | I55: =IF(OR(C55="",F55=""),"",IF(AND(ISNUMBER(D55),ISNUMBER(E55)),IF(D55<E55,Inicio!$E$6,IF(D55=E55,Inicio!$F$6,Inicio!$G$6)),"")) -> #VALUE! | J55: =IF(AND(ISNUMBER(D55),ISNUMBER(E55),D55>E55),1,0) -> 0 | K55: =IF(AND(ISNUMBER(D55),ISNUMBER(E55),D55=E55),1,0) -> 0 | L55: =IF(AND(ISNUMBER(D55),ISNUMBER(E55),D55<E55),1,0) -> 0 | M55: =IF(AND(ISNUMBER(D55),ISNUMBER(E55),D55<E55),1,0) -> 0 | N55: =IF(AND(ISNUMBER(D55),ISNUMBER(E55),D55=E55),1,0) -> 0 | O55: =IF(AND(ISNUMBER(D55),ISNUMBER(E55),D55>E55),1,0) -> 0
A56: =IF(OR(Calculos!$B$7=0,52>Calculos!$B$7),"",INT((52-1)/Calculos!$B$6)+1) -> 11 | B56: =IF(A56="","",Inicio!$E$5+(A56-1)*Inicio!$B$6) -> 46152 | C56: =IF(A56="","",INDEX(Calculos!$B$11:$B$28,IF(A56>Calculos!$B$4,IF(MOD(IF(A56<=Calculos!$B$4,A56,A56-Calculos!$B$4)+MOD(52-1,Calculos!$B$6)+1,2)=0,INDEX(Calculos!$B$36:$S$52,IF(A56<=Calculos!$B$4,A56,A56-Calculos!$B$4),MOD(52-1,Calculos!$B$6)+1),INDEX(Calculos!$B$36:$S$52,IF(A56<=Calculos!$B$4,A56,A56-Calculos!$B$4),Calculos!$B$2+1-MOD(52-1,Calculos!$B$6)+1)),IF(MOD(IF(A56<=Calculos!$B$4,A56,A56-Calculos!$B$4)+MOD(52-1,Calculos!$B$6)+1,2)=0,INDEX(Calculos!$B$36:$S$52,IF(A56<=Calculos!$B$4,A56,A56-Calculos!$B$4),Calculos!$B$2+1-MOD(52-1,Calculos!$B$6)+1),INDEX(Calculos!$B$36:$S$52,IF(A56<=Calculos!$B$4,A56,A56-Calculos!$B$4),MOD(52-1,Calculos!$B$6)+1))))) -> #VALUE! | F56: =IF(A56="","",INDEX(Calculos!$B$11:$B$28,IF(A56>Calculos!$B$4,IF(MOD(IF(A56<=Calculos!$B$4,A56,A56-Calculos!$B$4)+MOD(52-1,Calculos!$B$6)+1,2)=0,INDEX(Calculos!$B$36:$S$52,IF(A56<=Calculos!$B$4,A56,A56-Calculos!$B$4),Calculos!$B$2+1-MOD(52-1,Calculos!$B$6)+1),INDEX(Calculos!$B$36:$S$52,IF(A56<=Calculos!$B$4,A56,A56-Calculos!$B$4),MOD(52-1,Calculos!$B$6)+1)),IF(MOD(IF(A56<=Calculos!$B$4,A56,A56-Calculos!$B$4)+MOD(52-1,Calculos!$B$6)+1,2)=0,INDEX(Calculos!$B$36:$S$52,IF(A56<=Calculos!$B$4,A56,A56-Calculos!$B$4),MOD(52-1,Calculos!$B$6)+1),INDEX(Calculos!$B$36:$S$52,IF(A56<=Calculos!$B$4,A56,A56-Calculos!$B$4),Calculos!$B$2+1-MOD(52-1,Calculos!$B$6)+1))))) -> #VALUE! | G56: =IF(A56="","",IF(AND(ISNUMBER(D56),ISNUMBER(E56)),"Jugado","Pendiente")) -> Pendiente | H56: =IF(OR(C56="",F56=""),"",IF(AND(ISNUMBER(D56),ISNUMBER(E56)),IF(D56>E56,Inicio!$E$6,IF(D56=E56,Inicio!$F$6,Inicio!$G$6)),"")) -> #VALUE! | I56: =IF(OR(C56="",F56=""),"",IF(AND(ISNUMBER(D56),ISNUMBER(E56)),IF(D56<E56,Inicio!$E$6,IF(D56=E56,Inicio!$F$6,Inicio!$G$6)),"")) -> #VALUE! | J56: =IF(AND(ISNUMBER(D56),ISNUMBER(E56),D56>E56),1,0) -> 0 | K56: =IF(AND(ISNUMBER(D56),ISNUMBER(E56),D56=E56),1,0) -> 0 | L56: =IF(AND(ISNUMBER(D56),ISNUMBER(E56),D56<E56),1,0) -> 0 | M56: =IF(AND(ISNUMBER(D56),ISNUMBER(E56),D56<E56),1,0) -> 0 | N56: =IF(AND(ISNUMBER(D56),ISNUMBER(E56),D56=E56),1,0) -> 0 | O56: =IF(AND(ISNUMBER(D56),ISNUMBER(E56),D56>E56),1,0) -> 0
A57: =IF(OR(Calculos!$B$7=0,53>Calculos!$B$7),"",INT((53-1)/Calculos!$B$6)+1) -> 11 | B57: =IF(A57="","",Inicio!$E$5+(A57-1)*Inicio!$B$6) -> 46152 | C57: =IF(A57="","",INDEX(Calculos!$B$11:$B$28,IF(A57>Calculos!$B$4,IF(MOD(IF(A57<=Calculos!$B$4,A57,A57-Calculos!$B$4)+MOD(53-1,Calculos!$B$6)+1,2)=0,INDEX(Calculos!$B$36:$S$52,IF(A57<=Calculos!$B$4,A57,A57-Calculos!$B$4),MOD(53-1,Calculos!$B$6)+1),INDEX(Calculos!$B$36:$S$52,IF(A57<=Calculos!$B$4,A57,A57-Calculos!$B$4),Calculos!$B$2+1-MOD(53-1,Calculos!$B$6)+1)),IF(MOD(IF(A57<=Calculos!$B$4,A57,A57-Calculos!$B$4)+MOD(53-1,Calculos!$B$6)+1,2)=0,INDEX(Calculos!$B$36:$S$52,IF(A57<=Calculos!$B$4,A57,A57-Calculos!$B$4),Calculos!$B$2+1-MOD(53-1,Calculos!$B$6)+1),INDEX(Calculos!$B$36:$S$52,IF(A57<=Calculos!$B$4,A57,A57-Calculos!$B$4),MOD(53-1,Calculos!$B$6)+1))))) -> #VALUE! | F57: =IF(A57="","",INDEX(Calculos!$B$11:$B$28,IF(A57>Calculos!$B$4,IF(MOD(IF(A57<=Calculos!$B$4,A57,A57-Calculos!$B$4)+MOD(53-1,Calculos!$B$6)+1,2)=0,INDEX(Calculos!$B$36:$S$52,IF(A57<=Calculos!$B$4,A57,A57-Calculos!$B$4),Calculos!$B$2+1-MOD(53-1,Calculos!$B$6)+1),INDEX(Calculos!$B$36:$S$52,IF(A57<=Calculos!$B$4,A57,A57-Calculos!$B$4),MOD(53-1,Calculos!$B$6)+1)),IF(MOD(IF(A57<=Calculos!$B$4,A57,A57-Calculos!$B$4)+MOD(53-1,Calculos!$B$6)+1,2)=0,INDEX(Calculos!$B$36:$S$52,IF(A57<=Calculos!$B$4,A57,A57-Calculos!$B$4),MOD(53-1,Calculos!$B$6)+1),INDEX(Calculos!$B$36:$S$52,IF(A57<=Calculos!$B$4,A57,A57-Calculos!$B$4),Calculos!$B$2+1-MOD(53-1,Calculos!$B$6)+1))))) -> #VALUE! | G57: =IF(A57="","",IF(AND(ISNUMBER(D57),ISNUMBER(E57)),"Jugado","Pendiente")) -> Pendiente | H57: =IF(OR(C57="",F57=""),"",IF(AND(ISNUMBER(D57),ISNUMBER(E57)),IF(D57>E57,Inicio!$E$6,IF(D57=E57,Inicio!$F$6,Inicio!$G$6)),"")) -> #VALUE! | I57: =IF(OR(C57="",F57=""),"",IF(AND(ISNUMBER(D57),ISNUMBER(E57)),IF(D57<E57,Inicio!$E$6,IF(D57=E57,Inicio!$F$6,Inicio!$G$6)),"")) -> #VALUE! | J57: =IF(AND(ISNUMBER(D57),ISNUMBER(E57),D57>E57),1,0) -> 0 | K57: =IF(AND(ISNUMBER(D57),ISNUMBER(E57),D57=E57),1,0) -> 0 | L57: =IF(AND(ISNUMBER(D57),ISNUMBER(E57),D57<E57),1,0) -> 0 | M57: =IF(AND(ISNUMBER(D57),ISNUMBER(E57),D57<E57),1,0) -> 0 | N57: =IF(AND(ISNUMBER(D57),ISNUMBER(E57),D57=E57),1,0) -> 0 | O57: =IF(AND(ISNUMBER(D57),ISNUMBER(E57),D57>E57),1,0) -> 0
A58: =IF(OR(Calculos!$B$7=0,54>Calculos!$B$7),"",INT((54-1)/Calculos!$B$6)+1) -> 11 | B58: =IF(A58="","",Inicio!$E$5+(A58-1)*Inicio!$B$6) -> 46152 | C58: =IF(A58="","",INDEX(Calculos!$B$11:$B$28,IF(A58>Calculos!$B$4,IF(MOD(IF(A58<=Calculos!$B$4,A58,A58-Calculos!$B$4)+MOD(54-1,Calculos!$B$6)+1,2)=0,INDEX(Calculos!$B$36:$S$52,IF(A58<=Calculos!$B$4,A58,A58-Calculos!$B$4),MOD(54-1,Calculos!$B$6)+1),INDEX(Calculos!$B$36:$S$52,IF(A58<=Calculos!$B$4,A58,A58-Calculos!$B$4),Calculos!$B$2+1-MOD(54-1,Calculos!$B$6)+1)),IF(MOD(IF(A58<=Calculos!$B$4,A58,A58-Calculos!$B$4)+MOD(54-1,Calculos!$B$6)+1,2)=0,INDEX(Calculos!$B$36:$S$52,IF(A58<=Calculos!$B$4,A58,A58-Calculos!$B$4),Calculos!$B$2+1-MOD(54-1,Calculos!$B$6)+1),INDEX(Calculos!$B$36:$S$52,IF(A58<=Calculos!$B$4,A58,A58-Calculos!$B$4),MOD(54-1,Calculos!$B$6)+1))))) -> #VALUE! | F58: =IF(A58="","",INDEX(Calculos!$B$11:$B$28,IF(A58>Calculos!$B$4,IF(MOD(IF(A58<=Calculos!$B$4,A58,A58-Calculos!$B$4)+MOD(54-1,Calculos!$B$6)+1,2)=0,INDEX(Calculos!$B$36:$S$52,IF(A58<=Calculos!$B$4,A58,A58-Calculos!$B$4),Calculos!$B$2+1-MOD(54-1,Calculos!$B$6)+1),INDEX(Calculos!$B$36:$S$52,IF(A58<=Calculos!$B$4,A58,A58-Calculos!$B$4),MOD(54-1,Calculos!$B$6)+1)),IF(MOD(IF(A58<=Calculos!$B$4,A58,A58-Calculos!$B$4)+MOD(54-1,Calculos!$B$6)+1,2)=0,INDEX(Calculos!$B$36:$S$52,IF(A58<=Calculos!$B$4,A58,A58-Calculos!$B$4),MOD(54-1,Calculos!$B$6)+1),INDEX(Calculos!$B$36:$S$52,IF(A58<=Calculos!$B$4,A58,A58-Calculos!$B$4),Calculos!$B$2+1-MOD(54-1,Calculos!$B$6)+1))))) -> #VALUE! | G58: =IF(A58="","",IF(AND(ISNUMBER(D58),ISNUMBER(E58)),"Jugado","Pendiente")) -> Pendiente | H58: =IF(OR(C58="",F58=""),"",IF(AND(ISNUMBER(D58),ISNUMBER(E58)),IF(D58>E58,Inicio!$E$6,IF(D58=E58,Inicio!$F$6,Inicio!$G$6)),"")) -> #VALUE! | I58: =IF(OR(C58="",F58=""),"",IF(AND(ISNUMBER(D58),ISNUMBER(E58)),IF(D58<E58,Inicio!$E$6,IF(D58=E58,Inicio!$F$6,Inicio!$G$6)),"")) -> #VALUE! | J58: =IF(AND(ISNUMBER(D58),ISNUMBER(E58),D58>E58),1,0) -> 0 | K58: =IF(AND(ISNUMBER(D58),ISNUMBER(E58),D58=E58),1,0) -> 0 | L58: =IF(AND(ISNUMBER(D58),ISNUMBER(E58),D58<E58),1,0) -> 0 | M58: =IF(AND(ISNUMBER(D58),ISNUMBER(E58),D58<E58),1,0) -> 0 | N58: =IF(AND(ISNUMBER(D58),ISNUMBER(E58),D58=E58),1,0) -> 0 | O58: =IF(AND(ISNUMBER(D58),ISNUMBER(E58),D58>E58),1,0) -> 0
A59: =IF(OR(Calculos!$B$7=0,55>Calculos!$B$7),"",INT((55-1)/Calculos!$B$6)+1) -> 11 | B59: =IF(A59="","",Inicio!$E$5+(A59-1)*Inicio!$B$6) -> 46152 | C59: =IF(A59="","",INDEX(Calculos!$B$11:$B$28,IF(A59>Calculos!$B$4,IF(MOD(IF(A59<=Calculos!$B$4,A59,A59-Calculos!$B$4)+MOD(55-1,Calculos!$B$6)+1,2)=0,INDEX(Calculos!$B$36:$S$52,IF(A59<=Calculos!$B$4,A59,A59-Calculos!$B$4),MOD(55-1,Calculos!$B$6)+1),INDEX(Calculos!$B$36:$S$52,IF(A59<=Calculos!$B$4,A59,A59-Calculos!$B$4),Calculos!$B$2+1-MOD(55-1,Calculos!$B$6)+1)),IF(MOD(IF(A59<=Calculos!$B$4,A59,A59-Calculos!$B$4)+MOD(55-1,Calculos!$B$6)+1,2)=0,INDEX(Calculos!$B$36:$S$52,IF(A59<=Calculos!$B$4,A59,A59-Calculos!$B$4),Calculos!$B$2+1-MOD(55-1,Calculos!$B$6)+1),INDEX(Calculos!$B$36:$S$52,IF(A59<=Calculos!$B$4,A59,A59-Calculos!$B$4),MOD(55-1,Calculos!$B$6)+1))))) -> #VALUE! | F59: =IF(A59="","",INDEX(Calculos!$B$11:$B$28,IF(A59>Calculos!$B$4,IF(MOD(IF(A59<=Calculos!$B$4,A59,A59-Calculos!$B$4)+MOD(55-1,Calculos!$B$6)+1,2)=0,INDEX(Calculos!$B$36:$S$52,IF(A59<=Calculos!$B$4,A59,A59-Calculos!$B$4),Calculos!$B$2+1-MOD(55-1,Calculos!$B$6)+1),INDEX(Calculos!$B$36:$S$52,IF(A59<=Calculos!$B$4,A59,A59-Calculos!$B$4),MOD(55-1,Calculos!$B$6)+1)),IF(MOD(IF(A59<=Calculos!$B$4,A59,A59-Calculos!$B$4)+MOD(55-1,Calculos!$B$6)+1,2)=0,INDEX(Calculos!$B$36:$S$52,IF(A59<=Calculos!$B$4,A59,A59-Calculos!$B$4),MOD(55-1,Calculos!$B$6)+1),INDEX(Calculos!$B$36:$S$52,IF(A59<=Calculos!$B$4,A59,A59-Calculos!$B$4),Calculos!$B$2+1-MOD(55-1,Calculos!$B$6)+1))))) -> #VALUE! | G59: =IF(A59="","",IF(AND(ISNUMBER(D59),ISNUMBER(E59)),"Jugado","Pendiente")) -> Pendiente | H59: =IF(OR(C59="",F59=""),"",IF(AND(ISNUMBER(D59),ISNUMBER(E59)),IF(D59>E59,Inicio!$E$6,IF(D59=E59,Inicio!$F$6,Inicio!$G$6)),"")) -> #VALUE! | I59: =IF(OR(C59="",F59=""),"",IF(AND(ISNUMBER(D59),ISNUMBER(E59)),IF(D59<E59,Inicio!$E$6,IF(D59=E59,Inicio!$F$6,Inicio!$G$6)),"")) -> #VALUE! | J59: =IF(AND(ISNUMBER(D59),ISNUMBER(E59),D59>E59),1,0) -> 0 | K59: =IF(AND(ISNUMBER(D59),ISNUMBER(E59),D59=E59),1,0) -> 0 | L59: =IF(AND(ISNUMBER(D59),ISNUMBER(E59),D59<E59),1,0) -> 0 | M59: =IF(AND(ISNUMBER(D59),ISNUMBER(E59),D59<E59),1,0) -> 0 | N59: =IF(AND(ISNUMBER(D59),ISNUMBER(E59),D59=E59),1,0) -> 0 | O59: =IF(AND(ISNUMBER(D59),ISNUMBER(E59),D59>E59),1,0) -> 0
A60: =IF(OR(Calculos!$B$7=0,56>Calculos!$B$7),"",INT((56-1)/Calculos!$B$6)+1) -> 12 | B60: =IF(A60="","",Inicio!$E$5+(A60-1)*Inicio!$B$6) -> 46159 | C60: =IF(A60="","",INDEX(Calculos!$B$11:$B$28,IF(A60>Calculos!$B$4,IF(MOD(IF(A60<=Calculos!$B$4,A60,A60-Calculos!$B$4)+MOD(56-1,Calculos!$B$6)+1,2)=0,INDEX(Calculos!$B$36:$S$52,IF(A60<=Calculos!$B$4,A60,A60-Calculos!$B$4),MOD(56-1,Calculos!$B$6)+1),INDEX(Calculos!$B$36:$S$52,IF(A60<=Calculos!$B$4,A60,A60-Calculos!$B$4),Calculos!$B$2+1-MOD(56-1,Calculos!$B$6)+1)),IF(MOD(IF(A60<=Calculos!$B$4,A60,A60-Calculos!$B$4)+MOD(56-1,Calculos!$B$6)+1,2)=0,INDEX(Calculos!$B$36:$S$52,IF(A60<=Calculos!$B$4,A60,A60-Calculos!$B$4),Calculos!$B$2+1-MOD(56-1,Calculos!$B$6)+1),INDEX(Calculos!$B$36:$S$52,IF(A60<=Calculos!$B$4,A60,A60-Calculos!$B$4),MOD(56-1,Calculos!$B$6)+1))))) -> #VALUE! | F60: =IF(A60="","",INDEX(Calculos!$B$11:$B$28,IF(A60>Calculos!$B$4,IF(MOD(IF(A60<=Calculos!$B$4,A60,A60-Calculos!$B$4)+MOD(56-1,Calculos!$B$6)+1,2)=0,INDEX(Calculos!$B$36:$S$52,IF(A60<=Calculos!$B$4,A60,A60-Calculos!$B$4),Calculos!$B$2+1-MOD(56-1,Calculos!$B$6)+1),INDEX(Calculos!$B$36:$S$52,IF(A60<=Calculos!$B$4,A60,A60-Calculos!$B$4),MOD(56-1,Calculos!$B$6)+1)),IF(MOD(IF(A60<=Calculos!$B$4,A60,A60-Calculos!$B$4)+MOD(56-1,Calculos!$B$6)+1,2)=0,INDEX(Calculos!$B$36:$S$52,IF(A60<=Calculos!$B$4,A60,A60-Calculos!$B$4),MOD(56-1,Calculos!$B$6)+1),INDEX(Calculos!$B$36:$S$52,IF(A60<=Calculos!$B$4,A60,A60-Calculos!$B$4),Calculos!$B$2+1-MOD(56-1,Calculos!$B$6)+1))))) -> #VALUE! | G60: =IF(A60="","",IF(AND(ISNUMBER(D60),ISNUMBER(E60)),"Jugado","Pendiente")) -> Pendiente | H60: =IF(OR(C60="",F60=""),"",IF(AND(ISNUMBER(D60),ISNUMBER(E60)),IF(D60>E60,Inicio!$E$6,IF(D60=E60,Inicio!$F$6,Inicio!$G$6)),"")) -> #VALUE! | I60: =IF(OR(C60="",F60=""),"",IF(AND(ISNUMBER(D60),ISNUMBER(E60)),IF(D60<E60,Inicio!$E$6,IF(D60=E60,Inicio!$F$6,Inicio!$G$6)),"")) -> #VALUE! | J60: =IF(AND(ISNUMBER(D60),ISNUMBER(E60),D60>E60),1,0) -> 0 | K60: =IF(AND(ISNUMBER(D60),ISNUMBER(E60),D60=E60),1,0) -> 0 | L60: =IF(AND(ISNUMBER(D60),ISNUMBER(E60),D60<E60),1,0) -> 0 | M60: =IF(AND(ISNUMBER(D60),ISNUMBER(E60),D60<E60),1,0) -> 0 | N60: =IF(AND(ISNUMBER(D60),ISNUMBER(E60),D60=E60),1,0) -> 0 | O60: =IF(AND(ISNUMBER(D60),ISNUMBER(E60),D60>E60),1,0) -> 0
A61: =IF(OR(Calculos!$B$7=0,57>Calculos!$B$7),"",INT((57-1)/Calculos!$B$6)+1) -> 12 | B61: =IF(A61="","",Inicio!$E$5+(A61-1)*Inicio!$B$6) -> 46159 | C61: =IF(A61="","",INDEX(Calculos!$B$11:$B$28,IF(A61>Calculos!$B$4,IF(MOD(IF(A61<=Calculos!$B$4,A61,A61-Calculos!$B$4)+MOD(57-1,Calculos!$B$6)+1,2)=0,INDEX(Calculos!$B$36:$S$52,IF(A61<=Calculos!$B$4,A61,A61-Calculos!$B$4),MOD(57-1,Calculos!$B$6)+1),INDEX(Calculos!$B$36:$S$52,IF(A61<=Calculos!$B$4,A61,A61-Calculos!$B$4),Calculos!$B$2+1-MOD(57-1,Calculos!$B$6)+1)),IF(MOD(IF(A61<=Calculos!$B$4,A61,A61-Calculos!$B$4)+MOD(57-1,Calculos!$B$6)+1,2)=0,INDEX(Calculos!$B$36:$S$52,IF(A61<=Calculos!$B$4,A61,A61-Calculos!$B$4),Calculos!$B$2+1-MOD(57-1,Calculos!$B$6)+1),INDEX(Calculos!$B$36:$S$52,IF(A61<=Calculos!$B$4,A61,A61-Calculos!$B$4),MOD(57-1,Calculos!$B$6)+1))))) -> #VALUE! | F61: =IF(A61="","",INDEX(Calculos!$B$11:$B$28,IF(A61>Calculos!$B$4,IF(MOD(IF(A61<=Calculos!$B$4,A61,A61-Calculos!$B$4)+MOD(57-1,Calculos!$B$6)+1,2)=0,INDEX(Calculos!$B$36:$S$52,IF(A61<=Calculos!$B$4,A61,A61-Calculos!$B$4),Calculos!$B$2+1-MOD(57-1,Calculos!$B$6)+1),INDEX(Calculos!$B$36:$S$52,IF(A61<=Calculos!$B$4,A61,A61-Calculos!$B$4),MOD(57-1,Calculos!$B$6)+1)),IF(MOD(IF(A61<=Calculos!$B$4,A61,A61-Calculos!$B$4)+MOD(57-1,Calculos!$B$6)+1,2)=0,INDEX(Calculos!$B$36:$S$52,IF(A61<=Calculos!$B$4,A61,A61-Calculos!$B$4),MOD(57-1,Calculos!$B$6)+1),INDEX(Calculos!$B$36:$S$52,IF(A61<=Calculos!$B$4,A61,A61-Calculos!$B$4),Calculos!$B$2+1-MOD(57-1,Calculos!$B$6)+1))))) -> #VALUE! | G61: =IF(A61="","",IF(AND(ISNUMBER(D61),ISNUMBER(E61)),"Jugado","Pendiente")) -> Pendiente | H61: =IF(OR(C61="",F61=""),"",IF(AND(ISNUMBER(D61),ISNUMBER(E61)),IF(D61>E61,Inicio!$E$6,IF(D61=E61,Inicio!$F$6,Inicio!$G$6)),"")) -> #VALUE! | I61: =IF(OR(C61="",F61=""),"",IF(AND(ISNUMBER(D61),ISNUMBER(E61)),IF(D61<E61,Inicio!$E$6,IF(D61=E61,Inicio!$F$6,Inicio!$G$6)),"")) -> #VALUE! | J61: =IF(AND(ISNUMBER(D61),ISNUMBER(E61),D61>E61),1,0) -> 0 | K61: =IF(AND(ISNUMBER(D61),ISNUMBER(E61),D61=E61),1,0) -> 0 | L61: =IF(AND(ISNUMBER(D61),ISNUMBER(E61),D61<E61),1,0) -> 0 | M61: =IF(AND(ISNUMBER(D61),ISNUMBER(E61),D61<E61),1,0) -> 0 | N61: =IF(AND(ISNUMBER(D61),ISNUMBER(E61),D61=E61),1,0) -> 0 | O61: =IF(AND(ISNUMBER(D61),ISNUMBER(E61),D61>E61),1,0) -> 0
A62: =IF(OR(Calculos!$B$7=0,58>Calculos!$B$7),"",INT((58-1)/Calculos!$B$6)+1) -> 12 | B62: =IF(A62="","",Inicio!$E$5+(A62-1)*Inicio!$B$6) -> 46159 | C62: =IF(A62="","",INDEX(Calculos!$B$11:$B$28,IF(A62>Calculos!$B$4,IF(MOD(IF(A62<=Calculos!$B$4,A62,A62-Calculos!$B$4)+MOD(58-1,Calculos!$B$6)+1,2)=0,INDEX(Calculos!$B$36:$S$52,IF(A62<=Calculos!$B$4,A62,A62-Calculos!$B$4),MOD(58-1,Calculos!$B$6)+1),INDEX(Calculos!$B$36:$S$52,IF(A62<=Calculos!$B$4,A62,A62-Calculos!$B$4),Calculos!$B$2+1-MOD(58-1,Calculos!$B$6)+1)),IF(MOD(IF(A62<=Calculos!$B$4,A62,A62-Calculos!$B$4)+MOD(58-1,Calculos!$B$6)+1,2)=0,INDEX(Calculos!$B$36:$S$52,IF(A62<=Calculos!$B$4,A62,A62-Calculos!$B$4),Calculos!$B$2+1-MOD(58-1,Calculos!$B$6)+1),INDEX(Calculos!$B$36:$S$52,IF(A62<=Calculos!$B$4,A62,A62-Calculos!$B$4),MOD(58-1,Calculos!$B$6)+1))))) -> #VALUE! | F62: =IF(A62="","",INDEX(Calculos!$B$11:$B$28,IF(A62>Calculos!$B$4,IF(MOD(IF(A62<=Calculos!$B$4,A62,A62-Calculos!$B$4)+MOD(58-1,Calculos!$B$6)+1,2)=0,INDEX(Calculos!$B$36:$S$52,IF(A62<=Calculos!$B$4,A62,A62-Calculos!$B$4),Calculos!$B$2+1-MOD(58-1,Calculos!$B$6)+1),INDEX(Calculos!$B$36:$S$52,IF(A62<=Calculos!$B$4,A62,A62-Calculos!$B$4),MOD(58-1,Calculos!$B$6)+1)),IF(MOD(IF(A62<=Calculos!$B$4,A62,A62-Calculos!$B$4)+MOD(58-1,Calculos!$B$6)+1,2)=0,INDEX(Calculos!$B$36:$S$52,IF(A62<=Calculos!$B$4,A62,A62-Calculos!$B$4),MOD(58-1,Calculos!$B$6)+1),INDEX(Calculos!$B$36:$S$52,IF(A62<=Calculos!$B$4,A62,A62-Calculos!$B$4),Calculos!$B$2+1-MOD(58-1,Calculos!$B$6)+1))))) -> #VALUE! | G62: =IF(A62="","",IF(AND(ISNUMBER(D62),ISNUMBER(E62)),"Jugado","Pendiente")) -> Pendiente | H62: =IF(OR(C62="",F62=""),"",IF(AND(ISNUMBER(D62),ISNUMBER(E62)),IF(D62>E62,Inicio!$E$6,IF(D62=E62,Inicio!$F$6,Inicio!$G$6)),"")) -> #VALUE! | I62: =IF(OR(C62="",F62=""),"",IF(AND(ISNUMBER(D62),ISNUMBER(E62)),IF(D62<E62,Inicio!$E$6,IF(D62=E62,Inicio!$F$6,Inicio!$G$6)),"")) -> #VALUE! | J62: =IF(AND(ISNUMBER(D62),ISNUMBER(E62),D62>E62),1,0) -> 0 | K62: =IF(AND(ISNUMBER(D62),ISNUMBER(E62),D62=E62),1,0) -> 0 | L62: =IF(AND(ISNUMBER(D62),ISNUMBER(E62),D62<E62),1,0) -> 0 | M62: =IF(AND(ISNUMBER(D62),ISNUMBER(E62),D62<E62),1,0) -> 0 | N62: =IF(AND(ISNUMBER(D62),ISNUMBER(E62),D62=E62),1,0) -> 0 | O62: =IF(AND(ISNUMBER(D62),ISNUMBER(E62),D62>E62),1,0) -> 0
A63: =IF(OR(Calculos!$B$7=0,59>Calculos!$B$7),"",INT((59-1)/Calculos!$B$6)+1) -> 12 | B63: =IF(A63="","",Inicio!$E$5+(A63-1)*Inicio!$B$6) -> 46159 | C63: =IF(A63="","",INDEX(Calculos!$B$11:$B$28,IF(A63>Calculos!$B$4,IF(MOD(IF(A63<=Calculos!$B$4,A63,A63-Calculos!$B$4)+MOD(59-1,Calculos!$B$6)+1,2)=0,INDEX(Calculos!$B$36:$S$52,IF(A63<=Calculos!$B$4,A63,A63-Calculos!$B$4),MOD(59-1,Calculos!$B$6)+1),INDEX(Calculos!$B$36:$S$52,IF(A63<=Calculos!$B$4,A63,A63-Calculos!$B$4),Calculos!$B$2+1-MOD(59-1,Calculos!$B$6)+1)),IF(MOD(IF(A63<=Calculos!$B$4,A63,A63-Calculos!$B$4)+MOD(59-1,Calculos!$B$6)+1,2)=0,INDEX(Calculos!$B$36:$S$52,IF(A63<=Calculos!$B$4,A63,A63-Calculos!$B$4),Calculos!$B$2+1-MOD(59-1,Calculos!$B$6)+1),INDEX(Calculos!$B$36:$S$52,IF(A63<=Calculos!$B$4,A63,A63-Calculos!$B$4),MOD(59-1,Calculos!$B$6)+1))))) -> #VALUE! | F63: =IF(A63="","",INDEX(Calculos!$B$11:$B$28,IF(A63>Calculos!$B$4,IF(MOD(IF(A63<=Calculos!$B$4,A63,A63-Calculos!$B$4)+MOD(59-1,Calculos!$B$6)+1,2)=0,INDEX(Calculos!$B$36:$S$52,IF(A63<=Calculos!$B$4,A63,A63-Calculos!$B$4),Calculos!$B$2+1-MOD(59-1,Calculos!$B$6)+1),INDEX(Calculos!$B$36:$S$52,IF(A63<=Calculos!$B$4,A63,A63-Calculos!$B$4),MOD(59-1,Calculos!$B$6)+1)),IF(MOD(IF(A63<=Calculos!$B$4,A63,A63-Calculos!$B$4)+MOD(59-1,Calculos!$B$6)+1,2)=0,INDEX(Calculos!$B$36:$S$52,IF(A63<=Calculos!$B$4,A63,A63-Calculos!$B$4),MOD(59-1,Calculos!$B$6)+1),INDEX(Calculos!$B$36:$S$52,IF(A63<=Calculos!$B$4,A63,A63-Calculos!$B$4),Calculos!$B$2+1-MOD(59-1,Calculos!$B$6)+1))))) -> #VALUE! | G63: =IF(A63="","",IF(AND(ISNUMBER(D63),ISNUMBER(E63)),"Jugado","Pendiente")) -> Pendiente | H63: =IF(OR(C63="",F63=""),"",IF(AND(ISNUMBER(D63),ISNUMBER(E63)),IF(D63>E63,Inicio!$E$6,IF(D63=E63,Inicio!$F$6,Inicio!$G$6)),"")) -> #VALUE! | I63: =IF(OR(C63="",F63=""),"",IF(AND(ISNUMBER(D63),ISNUMBER(E63)),IF(D63<E63,Inicio!$E$6,IF(D63=E63,Inicio!$F$6,Inicio!$G$6)),"")) -> #VALUE! | J63: =IF(AND(ISNUMBER(D63),ISNUMBER(E63),D63>E63),1,0) -> 0 | K63: =IF(AND(ISNUMBER(D63),ISNUMBER(E63),D63=E63),1,0) -> 0 | L63: =IF(AND(ISNUMBER(D63),ISNUMBER(E63),D63<E63),1,0) -> 0 | M63: =IF(AND(ISNUMBER(D63),ISNUMBER(E63),D63<E63),1,0) -> 0 | N63: =IF(AND(ISNUMBER(D63),ISNUMBER(E63),D63=E63),1,0) -> 0 | O63: =IF(AND(ISNUMBER(D63),ISNUMBER(E63),D63>E63),1,0) -> 0
A64: =IF(OR(Calculos!$B$7=0,60>Calculos!$B$7),"",INT((60-1)/Calculos!$B$6)+1) -> 12 | B64: =IF(A64="","",Inicio!$E$5+(A64-1)*Inicio!$B$6) -> 46159 | C64: =IF(A64="","",INDEX(Calculos!$B$11:$B$28,IF(A64>Calculos!$B$4,IF(MOD(IF(A64<=Calculos!$B$4,A64,A64-Calculos!$B$4)+MOD(60-1,Calculos!$B$6)+1,2)=0,INDEX(Calculos!$B$36:$S$52,IF(A64<=Calculos!$B$4,A64,A64-Calculos!$B$4),MOD(60-1,Calculos!$B$6)+1),INDEX(Calculos!$B$36:$S$52,IF(A64<=Calculos!$B$4,A64,A64-Calculos!$B$4),Calculos!$B$2+1-MOD(60-1,Calculos!$B$6)+1)),IF(MOD(IF(A64<=Calculos!$B$4,A64,A64-Calculos!$B$4)+MOD(60-1,Calculos!$B$6)+1,2)=0,INDEX(Calculos!$B$36:$S$52,IF(A64<=Calculos!$B$4,A64,A64-Calculos!$B$4),Calculos!$B$2+1-MOD(60-1,Calculos!$B$6)+1),INDEX(Calculos!$B$36:$S$52,IF(A64<=Calculos!$B$4,A64,A64-Calculos!$B$4),MOD(60-1,Calculos!$B$6)+1))))) -> #VALUE! | F64: =IF(A64="","",INDEX(Calculos!$B$11:$B$28,IF(A64>Calculos!$B$4,IF(MOD(IF(A64<=Calculos!$B$4,A64,A64-Calculos!$B$4)+MOD(60-1,Calculos!$B$6)+1,2)=0,INDEX(Calculos!$B$36:$S$52,IF(A64<=Calculos!$B$4,A64,A64-Calculos!$B$4),Calculos!$B$2+1-MOD(60-1,Calculos!$B$6)+1),INDEX(Calculos!$B$36:$S$52,IF(A64<=Calculos!$B$4,A64,A64-Calculos!$B$4),MOD(60-1,Calculos!$B$6)+1)),IF(MOD(IF(A64<=Calculos!$B$4,A64,A64-Calculos!$B$4)+MOD(60-1,Calculos!$B$6)+1,2)=0,INDEX(Calculos!$B$36:$S$52,IF(A64<=Calculos!$B$4,A64,A64-Calculos!$B$4),MOD(60-1,Calculos!$B$6)+1),INDEX(Calculos!$B$36:$S$52,IF(A64<=Calculos!$B$4,A64,A64-Calculos!$B$4),Calculos!$B$2+1-MOD(60-1,Calculos!$B$6)+1))))) -> #VALUE! | G64: =IF(A64="","",IF(AND(ISNUMBER(D64),ISNUMBER(E64)),"Jugado","Pendiente")) -> Pendiente | H64: =IF(OR(C64="",F64=""),"",IF(AND(ISNUMBER(D64),ISNUMBER(E64)),IF(D64>E64,Inicio!$E$6,IF(D64=E64,Inicio!$F$6,Inicio!$G$6)),"")) -> #VALUE! | I64: =IF(OR(C64="",F64=""),"",IF(AND(ISNUMBER(D64),ISNUMBER(E64)),IF(D64<E64,Inicio!$E$6,IF(D64=E64,Inicio!$F$6,Inicio!$G$6)),"")) -> #VALUE! | J64: =IF(AND(ISNUMBER(D64),ISNUMBER(E64),D64>E64),1,0) -> 0 | K64: =IF(AND(ISNUMBER(D64),ISNUMBER(E64),D64=E64),1,0) -> 0 | L64: =IF(AND(ISNUMBER(D64),ISNUMBER(E64),D64<E64),1,0) -> 0 | M64: =IF(AND(ISNUMBER(D64),ISNUMBER(E64),D64<E64),1,0) -> 0 | N64: =IF(AND(ISNUMBER(D64),ISNUMBER(E64),D64=E64),1,0) -> 0 | O64: =IF(AND(ISNUMBER(D64),ISNUMBER(E64),D64>E64),1,0) -> 0
A65: =IF(OR(Calculos!$B$7=0,61>Calculos!$B$7),"",INT((61-1)/Calculos!$B$6)+1) -> 13 | B65: =IF(A65="","",Inicio!$E$5+(A65-1)*Inicio!$B$6) -> 46166 | C65: =IF(A65="","",INDEX(Calculos!$B$11:$B$28,IF(A65>Calculos!$B$4,IF(MOD(IF(A65<=Calculos!$B$4,A65,A65-Calculos!$B$4)+MOD(61-1,Calculos!$B$6)+1,2)=0,INDEX(Calculos!$B$36:$S$52,IF(A65<=Calculos!$B$4,A65,A65-Calculos!$B$4),MOD(61-1,Calculos!$B$6)+1),INDEX(Calculos!$B$36:$S$52,IF(A65<=Calculos!$B$4,A65,A65-Calculos!$B$4),Calculos!$B$2+1-MOD(61-1,Calculos!$B$6)+1)),IF(MOD(IF(A65<=Calculos!$B$4,A65,A65-Calculos!$B$4)+MOD(61-1,Calculos!$B$6)+1,2)=0,INDEX(Calculos!$B$36:$S$52,IF(A65<=Calculos!$B$4,A65,A65-Calculos!$B$4),Calculos!$B$2+1-MOD(61-1,Calculos!$B$6)+1),INDEX(Calculos!$B$36:$S$52,IF(A65<=Calculos!$B$4,A65,A65-Calculos!$B$4),MOD(61-1,Calculos!$B$6)+1))))) -> #VALUE! | F65: =IF(A65="","",INDEX(Calculos!$B$11:$B$28,IF(A65>Calculos!$B$4,IF(MOD(IF(A65<=Calculos!$B$4,A65,A65-Calculos!$B$4)+MOD(61-1,Calculos!$B$6)+1,2)=0,INDEX(Calculos!$B$36:$S$52,IF(A65<=Calculos!$B$4,A65,A65-Calculos!$B$4),Calculos!$B$2+1-MOD(61-1,Calculos!$B$6)+1),INDEX(Calculos!$B$36:$S$52,IF(A65<=Calculos!$B$4,A65,A65-Calculos!$B$4),MOD(61-1,Calculos!$B$6)+1)),IF(MOD(IF(A65<=Calculos!$B$4,A65,A65-Calculos!$B$4)+MOD(61-1,Calculos!$B$6)+1,2)=0,INDEX(Calculos!$B$36:$S$52,IF(A65<=Calculos!$B$4,A65,A65-Calculos!$B$4),MOD(61-1,Calculos!$B$6)+1),INDEX(Calculos!$B$36:$S$52,IF(A65<=Calculos!$B$4,A65,A65-Calculos!$B$4),Calculos!$B$2+1-MOD(61-1,Calculos!$B$6)+1))))) -> #VALUE! | G65: =IF(A65="","",IF(AND(ISNUMBER(D65),ISNUMBER(E65)),"Jugado","Pendiente")) -> Pendiente | H65: =IF(OR(C65="",F65=""),"",IF(AND(ISNUMBER(D65),ISNUMBER(E65)),IF(D65>E65,Inicio!$E$6,IF(D65=E65,Inicio!$F$6,Inicio!$G$6)),"")) -> #VALUE! | I65: =IF(OR(C65="",F65=""),"",IF(AND(ISNUMBER(D65),ISNUMBER(E65)),IF(D65<E65,Inicio!$E$6,IF(D65=E65,Inicio!$F$6,Inicio!$G$6)),"")) -> #VALUE! | J65: =IF(AND(ISNUMBER(D65),ISNUMBER(E65),D65>E65),1,0) -> 0 | K65: =IF(AND(ISNUMBER(D65),ISNUMBER(E65),D65=E65),1,0) -> 0 | L65: =IF(AND(ISNUMBER(D65),ISNUMBER(E65),D65<E65),1,0) -> 0 | M65: =IF(AND(ISNUMBER(D65),ISNUMBER(E65),D65<E65),1,0) -> 0 | N65: =IF(AND(ISNUMBER(D65),ISNUMBER(E65),D65=E65),1,0) -> 0 | O65: =IF(AND(ISNUMBER(D65),ISNUMBER(E65),D65>E65),1,0) -> 0
A66: =IF(OR(Calculos!$B$7=0,62>Calculos!$B$7),"",INT((62-1)/Calculos!$B$6)+1) -> 13 | B66: =IF(A66="","",Inicio!$E$5+(A66-1)*Inicio!$B$6) -> 46166 | C66: =IF(A66="","",INDEX(Calculos!$B$11:$B$28,IF(A66>Calculos!$B$4,IF(MOD(IF(A66<=Calculos!$B$4,A66,A66-Calculos!$B$4)+MOD(62-1,Calculos!$B$6)+1,2)=0,INDEX(Calculos!$B$36:$S$52,IF(A66<=Calculos!$B$4,A66,A66-Calculos!$B$4),MOD(62-1,Calculos!$B$6)+1),INDEX(Calculos!$B$36:$S$52,IF(A66<=Calculos!$B$4,A66,A66-Calculos!$B$4),Calculos!$B$2+1-MOD(62-1,Calculos!$B$6)+1)),IF(MOD(IF(A66<=Calculos!$B$4,A66,A66-Calculos!$B$4)+MOD(62-1,Calculos!$B$6)+1,2)=0,INDEX(Calculos!$B$36:$S$52,IF(A66<=Calculos!$B$4,A66,A66-Calculos!$B$4),Calculos!$B$2+1-MOD(62-1,Calculos!$B$6)+1),INDEX(Calculos!$B$36:$S$52,IF(A66<=Calculos!$B$4,A66,A66-Calculos!$B$4),MOD(62-1,Calculos!$B$6)+1))))) -> #VALUE! | F66: =IF(A66="","",INDEX(Calculos!$B$11:$B$28,IF(A66>Calculos!$B$4,IF(MOD(IF(A66<=Calculos!$B$4,A66,A66-Calculos!$B$4)+MOD(62-1,Calculos!$B$6)+1,2)=0,INDEX(Calculos!$B$36:$S$52,IF(A66<=Calculos!$B$4,A66,A66-Calculos!$B$4),Calculos!$B$2+1-MOD(62-1,Calculos!$B$6)+1),INDEX(Calculos!$B$36:$S$52,IF(A66<=Calculos!$B$4,A66,A66-Calculos!$B$4),MOD(62-1,Calculos!$B$6)+1)),IF(MOD(IF(A66<=Calculos!$B$4,A66,A66-Calculos!$B$4)+MOD(62-1,Calculos!$B$6)+1,2)=0,INDEX(Calculos!$B$36:$S$52,IF(A66<=Calculos!$B$4,A66,A66-Calculos!$B$4),MOD(62-1,Calculos!$B$6)+1),INDEX(Calculos!$B$36:$S$52,IF(A66<=Calculos!$B$4,A66,A66-Calculos!$B$4),Calculos!$B$2+1-MOD(62-1,Calculos!$B$6)+1))))) -> #VALUE! | G66: =IF(A66="","",IF(AND(ISNUMBER(D66),ISNUMBER(E66)),"Jugado","Pendiente")) -> Pendiente | H66: =IF(OR(C66="",F66=""),"",IF(AND(ISNUMBER(D66),ISNUMBER(E66)),IF(D66>E66,Inicio!$E$6,IF(D66=E66,Inicio!$F$6,Inicio!$G$6)),"")) -> #VALUE! | I66: =IF(OR(C66="",F66=""),"",IF(AND(ISNUMBER(D66),ISNUMBER(E66)),IF(D66<E66,Inicio!$E$6,IF(D66=E66,Inicio!$F$6,Inicio!$G$6)),"")) -> #VALUE! | J66: =IF(AND(ISNUMBER(D66),ISNUMBER(E66),D66>E66),1,0) -> 0 | K66: =IF(AND(ISNUMBER(D66),ISNUMBER(E66),D66=E66),1,0) -> 0 | L66: =IF(AND(ISNUMBER(D66),ISNUMBER(E66),D66<E66),1,0) -> 0 | M66: =IF(AND(ISNUMBER(D66),ISNUMBER(E66),D66<E66),1,0) -> 0 | N66: =IF(AND(ISNUMBER(D66),ISNUMBER(E66),D66=E66),1,0) -> 0 | O66: =IF(AND(ISNUMBER(D66),ISNUMBER(E66),D66>E66),1,0) -> 0
A67: =IF(OR(Calculos!$B$7=0,63>Calculos!$B$7),"",INT((63-1)/Calculos!$B$6)+1) -> 13 | B67: =IF(A67="","",Inicio!$E$5+(A67-1)*Inicio!$B$6) -> 46166 | C67: =IF(A67="","",INDEX(Calculos!$B$11:$B$28,IF(A67>Calculos!$B$4,IF(MOD(IF(A67<=Calculos!$B$4,A67,A67-Calculos!$B$4)+MOD(63-1,Calculos!$B$6)+1,2)=0,INDEX(Calculos!$B$36:$S$52,IF(A67<=Calculos!$B$4,A67,A67-Calculos!$B$4),MOD(63-1,Calculos!$B$6)+1),INDEX(Calculos!$B$36:$S$52,IF(A67<=Calculos!$B$4,A67,A67-Calculos!$B$4),Calculos!$B$2+1-MOD(63-1,Calculos!$B$6)+1)),IF(MOD(IF(A67<=Calculos!$B$4,A67,A67-Calculos!$B$4)+MOD(63-1,Calculos!$B$6)+1,2)=0,INDEX(Calculos!$B$36:$S$52,IF(A67<=Calculos!$B$4,A67,A67-Calculos!$B$4),Calculos!$B$2+1-MOD(63-1,Calculos!$B$6)+1),INDEX(Calculos!$B$36:$S$52,IF(A67<=Calculos!$B$4,A67,A67-Calculos!$B$4),MOD(63-1,Calculos!$B$6)+1))))) -> #VALUE! | F67: =IF(A67="","",INDEX(Calculos!$B$11:$B$28,IF(A67>Calculos!$B$4,IF(MOD(IF(A67<=Calculos!$B$4,A67,A67-Calculos!$B$4)+MOD(63-1,Calculos!$B$6)+1,2)=0,INDEX(Calculos!$B$36:$S$52,IF(A67<=Calculos!$B$4,A67,A67-Calculos!$B$4),Calculos!$B$2+1-MOD(63-1,Calculos!$B$6)+1),INDEX(Calculos!$B$36:$S$52,IF(A67<=Calculos!$B$4,A67,A67-Calculos!$B$4),MOD(63-1,Calculos!$B$6)+1)),IF(MOD(IF(A67<=Calculos!$B$4,A67,A67-Calculos!$B$4)+MOD(63-1,Calculos!$B$6)+1,2)=0,INDEX(Calculos!$B$36:$S$52,IF(A67<=Calculos!$B$4,A67,A67-Calculos!$B$4),MOD(63-1,Calculos!$B$6)+1),INDEX(Calculos!$B$36:$S$52,IF(A67<=Calculos!$B$4,A67,A67-Calculos!$B$4),Calculos!$B$2+1-MOD(63-1,Calculos!$B$6)+1))))) -> #VALUE! | G67: =IF(A67="","",IF(AND(ISNUMBER(D67),ISNUMBER(E67)),"Jugado","Pendiente")) -> Pendiente | H67: =IF(OR(C67="",F67=""),"",IF(AND(ISNUMBER(D67),ISNUMBER(E67)),IF(D67>E67,Inicio!$E$6,IF(D67=E67,Inicio!$F$6,Inicio!$G$6)),"")) -> #VALUE! | I67: =IF(OR(C67="",F67=""),"",IF(AND(ISNUMBER(D67),ISNUMBER(E67)),IF(D67<E67,Inicio!$E$6,IF(D67=E67,Inicio!$F$6,Inicio!$G$6)),"")) -> #VALUE! | J67: =IF(AND(ISNUMBER(D67),ISNUMBER(E67),D67>E67),1,0) -> 0 | K67: =IF(AND(ISNUMBER(D67),ISNUMBER(E67),D67=E67),1,0) -> 0 | L67: =IF(AND(ISNUMBER(D67),ISNUMBER(E67),D67<E67),1,0) -> 0 | M67: =IF(AND(ISNUMBER(D67),ISNUMBER(E67),D67<E67),1,0) -> 0 | N67: =IF(AND(ISNUMBER(D67),ISNUMBER(E67),D67=E67),1,0) -> 0 | O67: =IF(AND(ISNUMBER(D67),ISNUMBER(E67),D67>E67),1,0) -> 0
A68: =IF(OR(Calculos!$B$7=0,64>Calculos!$B$7),"",INT((64-1)/Calculos!$B$6)+1) -> 13 | B68: =IF(A68="","",Inicio!$E$5+(A68-1)*Inicio!$B$6) -> 46166 | C68: =IF(A68="","",INDEX(Calculos!$B$11:$B$28,IF(A68>Calculos!$B$4,IF(MOD(IF(A68<=Calculos!$B$4,A68,A68-Calculos!$B$4)+MOD(64-1,Calculos!$B$6)+1,2)=0,INDEX(Calculos!$B$36:$S$52,IF(A68<=Calculos!$B$4,A68,A68-Calculos!$B$4),MOD(64-1,Calculos!$B$6)+1),INDEX(Calculos!$B$36:$S$52,IF(A68<=Calculos!$B$4,A68,A68-Calculos!$B$4),Calculos!$B$2+1-MOD(64-1,Calculos!$B$6)+1)),IF(MOD(IF(A68<=Calculos!$B$4,A68,A68-Calculos!$B$4)+MOD(64-1,Calculos!$B$6)+1,2)=0,INDEX(Calculos!$B$36:$S$52,IF(A68<=Calculos!$B$4,A68,A68-Calculos!$B$4),Calculos!$B$2+1-MOD(64-1,Calculos!$B$6)+1),INDEX(Calculos!$B$36:$S$52,IF(A68<=Calculos!$B$4,A68,A68-Calculos!$B$4),MOD(64-1,Calculos!$B$6)+1))))) -> #VALUE! | F68: =IF(A68="","",INDEX(Calculos!$B$11:$B$28,IF(A68>Calculos!$B$4,IF(MOD(IF(A68<=Calculos!$B$4,A68,A68-Calculos!$B$4)+MOD(64-1,Calculos!$B$6)+1,2)=0,INDEX(Calculos!$B$36:$S$52,IF(A68<=Calculos!$B$4,A68,A68-Calculos!$B$4),Calculos!$B$2+1-MOD(64-1,Calculos!$B$6)+1),INDEX(Calculos!$B$36:$S$52,IF(A68<=Calculos!$B$4,A68,A68-Calculos!$B$4),MOD(64-1,Calculos!$B$6)+1)),IF(MOD(IF(A68<=Calculos!$B$4,A68,A68-Calculos!$B$4)+MOD(64-1,Calculos!$B$6)+1,2)=0,INDEX(Calculos!$B$36:$S$52,IF(A68<=Calculos!$B$4,A68,A68-Calculos!$B$4),MOD(64-1,Calculos!$B$6)+1),INDEX(Calculos!$B$36:$S$52,IF(A68<=Calculos!$B$4,A68,A68-Calculos!$B$4),Calculos!$B$2+1-MOD(64-1,Calculos!$B$6)+1))))) -> #VALUE! | G68: =IF(A68="","",IF(AND(ISNUMBER(D68),ISNUMBER(E68)),"Jugado","Pendiente")) -> Pendiente | H68: =IF(OR(C68="",F68=""),"",IF(AND(ISNUMBER(D68),ISNUMBER(E68)),IF(D68>E68,Inicio!$E$6,IF(D68=E68,Inicio!$F$6,Inicio!$G$6)),"")) -> #VALUE! | I68: =IF(OR(C68="",F68=""),"",IF(AND(ISNUMBER(D68),ISNUMBER(E68)),IF(D68<E68,Inicio!$E$6,IF(D68=E68,Inicio!$F$6,Inicio!$G$6)),"")) -> #VALUE! | J68: =IF(AND(ISNUMBER(D68),ISNUMBER(E68),D68>E68),1,0) -> 0 | K68: =IF(AND(ISNUMBER(D68),ISNUMBER(E68),D68=E68),1,0) -> 0 | L68: =IF(AND(ISNUMBER(D68),ISNUMBER(E68),D68<E68),1,0) -> 0 | M68: =IF(AND(ISNUMBER(D68),ISNUMBER(E68),D68<E68),1,0) -> 0 | N68: =IF(AND(ISNUMBER(D68),ISNUMBER(E68),D68=E68),1,0) -> 0 | O68: =IF(AND(ISNUMBER(D68),ISNUMBER(E68),D68>E68),1,0) -> 0
A69: =IF(OR(Calculos!$B$7=0,65>Calculos!$B$7),"",INT((65-1)/Calculos!$B$6)+1) -> 13 | B69: =IF(A69="","",Inicio!$E$5+(A69-1)*Inicio!$B$6) -> 46166 | C69: =IF(A69="","",INDEX(Calculos!$B$11:$B$28,IF(A69>Calculos!$B$4,IF(MOD(IF(A69<=Calculos!$B$4,A69,A69-Calculos!$B$4)+MOD(65-1,Calculos!$B$6)+1,2)=0,INDEX(Calculos!$B$36:$S$52,IF(A69<=Calculos!$B$4,A69,A69-Calculos!$B$4),MOD(65-1,Calculos!$B$6)+1),INDEX(Calculos!$B$36:$S$52,IF(A69<=Calculos!$B$4,A69,A69-Calculos!$B$4),Calculos!$B$2+1-MOD(65-1,Calculos!$B$6)+1)),IF(MOD(IF(A69<=Calculos!$B$4,A69,A69-Calculos!$B$4)+MOD(65-1,Calculos!$B$6)+1,2)=0,INDEX(Calculos!$B$36:$S$52,IF(A69<=Calculos!$B$4,A69,A69-Calculos!$B$4),Calculos!$B$2+1-MOD(65-1,Calculos!$B$6)+1),INDEX(Calculos!$B$36:$S$52,IF(A69<=Calculos!$B$4,A69,A69-Calculos!$B$4),MOD(65-1,Calculos!$B$6)+1))))) -> #VALUE! | F69: =IF(A69="","",INDEX(Calculos!$B$11:$B$28,IF(A69>Calculos!$B$4,IF(MOD(IF(A69<=Calculos!$B$4,A69,A69-Calculos!$B$4)+MOD(65-1,Calculos!$B$6)+1,2)=0,INDEX(Calculos!$B$36:$S$52,IF(A69<=Calculos!$B$4,A69,A69-Calculos!$B$4),Calculos!$B$2+1-MOD(65-1,Calculos!$B$6)+1),INDEX(Calculos!$B$36:$S$52,IF(A69<=Calculos!$B$4,A69,A69-Calculos!$B$4),MOD(65-1,Calculos!$B$6)+1)),IF(MOD(IF(A69<=Calculos!$B$4,A69,A69-Calculos!$B$4)+MOD(65-1,Calculos!$B$6)+1,2)=0,INDEX(Calculos!$B$36:$S$52,IF(A69<=Calculos!$B$4,A69,A69-Calculos!$B$4),MOD(65-1,Calculos!$B$6)+1),INDEX(Calculos!$B$36:$S$52,IF(A69<=Calculos!$B$4,A69,A69-Calculos!$B$4),Calculos!$B$2+1-MOD(65-1,Calculos!$B$6)+1))))) -> #VALUE! | G69: =IF(A69="","",IF(AND(ISNUMBER(D69),ISNUMBER(E69)),"Jugado","Pendiente")) -> Pendiente | H69: =IF(OR(C69="",F69=""),"",IF(AND(ISNUMBER(D69),ISNUMBER(E69)),IF(D69>E69,Inicio!$E$6,IF(D69=E69,Inicio!$F$6,Inicio!$G$6)),"")) -> #VALUE! | I69: =IF(OR(C69="",F69=""),"",IF(AND(ISNUMBER(D69),ISNUMBER(E69)),IF(D69<E69,Inicio!$E$6,IF(D69=E69,Inicio!$F$6,Inicio!$G$6)),"")) -> #VALUE! | J69: =IF(AND(ISNUMBER(D69),ISNUMBER(E69),D69>E69),1,0) -> 0 | K69: =IF(AND(ISNUMBER(D69),ISNUMBER(E69),D69=E69),1,0) -> 0 | L69: =IF(AND(ISNUMBER(D69),ISNUMBER(E69),D69<E69),1,0) -> 0 | M69: =IF(AND(ISNUMBER(D69),ISNUMBER(E69),D69<E69),1,0) -> 0 | N69: =IF(AND(ISNUMBER(D69),ISNUMBER(E69),D69=E69),1,0) -> 0 | O69: =IF(AND(ISNUMBER(D69),ISNUMBER(E69),D69>E69),1,0) -> 0
A70: =IF(OR(Calculos!$B$7=0,66>Calculos!$B$7),"",INT((66-1)/Calculos!$B$6)+1) -> 14 | B70: =IF(A70="","",Inicio!$E$5+(A70-1)*Inicio!$B$6) -> 46173 | C70: =IF(A70="","",INDEX(Calculos!$B$11:$B$28,IF(A70>Calculos!$B$4,IF(MOD(IF(A70<=Calculos!$B$4,A70,A70-Calculos!$B$4)+MOD(66-1,Calculos!$B$6)+1,2)=0,INDEX(Calculos!$B$36:$S$52,IF(A70<=Calculos!$B$4,A70,A70-Calculos!$B$4),MOD(66-1,Calculos!$B$6)+1),INDEX(Calculos!$B$36:$S$52,IF(A70<=Calculos!$B$4,A70,A70-Calculos!$B$4),Calculos!$B$2+1-MOD(66-1,Calculos!$B$6)+1)),IF(MOD(IF(A70<=Calculos!$B$4,A70,A70-Calculos!$B$4)+MOD(66-1,Calculos!$B$6)+1,2)=0,INDEX(Calculos!$B$36:$S$52,IF(A70<=Calculos!$B$4,A70,A70-Calculos!$B$4),Calculos!$B$2+1-MOD(66-1,Calculos!$B$6)+1),INDEX(Calculos!$B$36:$S$52,IF(A70<=Calculos!$B$4,A70,A70-Calculos!$B$4),MOD(66-1,Calculos!$B$6)+1))))) -> #VALUE! | F70: =IF(A70="","",INDEX(Calculos!$B$11:$B$28,IF(A70>Calculos!$B$4,IF(MOD(IF(A70<=Calculos!$B$4,A70,A70-Calculos!$B$4)+MOD(66-1,Calculos!$B$6)+1,2)=0,INDEX(Calculos!$B$36:$S$52,IF(A70<=Calculos!$B$4,A70,A70-Calculos!$B$4),Calculos!$B$2+1-MOD(66-1,Calculos!$B$6)+1),INDEX(Calculos!$B$36:$S$52,IF(A70<=Calculos!$B$4,A70,A70-Calculos!$B$4),MOD(66-1,Calculos!$B$6)+1)),IF(MOD(IF(A70<=Calculos!$B$4,A70,A70-Calculos!$B$4)+MOD(66-1,Calculos!$B$6)+1,2)=0,INDEX(Calculos!$B$36:$S$52,IF(A70<=Calculos!$B$4,A70,A70-Calculos!$B$4),MOD(66-1,Calculos!$B$6)+1),INDEX(Calculos!$B$36:$S$52,IF(A70<=Calculos!$B$4,A70,A70-Calculos!$B$4),Calculos!$B$2+1-MOD(66-1,Calculos!$B$6)+1))))) -> #VALUE! | G70: =IF(A70="","",IF(AND(ISNUMBER(D70),ISNUMBER(E70)),"Jugado","Pendiente")) -> Pendiente | H70: =IF(OR(C70="",F70=""),"",IF(AND(ISNUMBER(D70),ISNUMBER(E70)),IF(D70>E70,Inicio!$E$6,IF(D70=E70,Inicio!$F$6,Inicio!$G$6)),"")) -> #VALUE! | I70: =IF(OR(C70="",F70=""),"",IF(AND(ISNUMBER(D70),ISNUMBER(E70)),IF(D70<E70,Inicio!$E$6,IF(D70=E70,Inicio!$F$6,Inicio!$G$6)),"")) -> #VALUE! | J70: =IF(AND(ISNUMBER(D70),ISNUMBER(E70),D70>E70),1,0) -> 0 | K70: =IF(AND(ISNUMBER(D70),ISNUMBER(E70),D70=E70),1,0) -> 0 | L70: =IF(AND(ISNUMBER(D70),ISNUMBER(E70),D70<E70),1,0) -> 0 | M70: =IF(AND(ISNUMBER(D70),ISNUMBER(E70),D70<E70),1,0) -> 0 | N70: =IF(AND(ISNUMBER(D70),ISNUMBER(E70),D70=E70),1,0) -> 0 | O70: =IF(AND(ISNUMBER(D70),ISNUMBER(E70),D70>E70),1,0) -> 0
A71: =IF(OR(Calculos!$B$7=0,67>Calculos!$B$7),"",INT((67-1)/Calculos!$B$6)+1) -> 14 | B71: =IF(A71="","",Inicio!$E$5+(A71-1)*Inicio!$B$6) -> 46173 | C71: =IF(A71="","",INDEX(Calculos!$B$11:$B$28,IF(A71>Calculos!$B$4,IF(MOD(IF(A71<=Calculos!$B$4,A71,A71-Calculos!$B$4)+MOD(67-1,Calculos!$B$6)+1,2)=0,INDEX(Calculos!$B$36:$S$52,IF(A71<=Calculos!$B$4,A71,A71-Calculos!$B$4),MOD(67-1,Calculos!$B$6)+1),INDEX(Calculos!$B$36:$S$52,IF(A71<=Calculos!$B$4,A71,A71-Calculos!$B$4),Calculos!$B$2+1-MOD(67-1,Calculos!$B$6)+1)),IF(MOD(IF(A71<=Calculos!$B$4,A71,A71-Calculos!$B$4)+MOD(67-1,Calculos!$B$6)+1,2)=0,INDEX(Calculos!$B$36:$S$52,IF(A71<=Calculos!$B$4,A71,A71-Calculos!$B$4),Calculos!$B$2+1-MOD(67-1,Calculos!$B$6)+1),INDEX(Calculos!$B$36:$S$52,IF(A71<=Calculos!$B$4,A71,A71-Calculos!$B$4),MOD(67-1,Calculos!$B$6)+1))))) -> #VALUE! | F71: =IF(A71="","",INDEX(Calculos!$B$11:$B$28,IF(A71>Calculos!$B$4,IF(MOD(IF(A71<=Calculos!$B$4,A71,A71-Calculos!$B$4)+MOD(67-1,Calculos!$B$6)+1,2)=0,INDEX(Calculos!$B$36:$S$52,IF(A71<=Calculos!$B$4,A71,A71-Calculos!$B$4),Calculos!$B$2+1-MOD(67-1,Calculos!$B$6)+1),INDEX(Calculos!$B$36:$S$52,IF(A71<=Calculos!$B$4,A71,A71-Calculos!$B$4),MOD(67-1,Calculos!$B$6)+1)),IF(MOD(IF(A71<=Calculos!$B$4,A71,A71-Calculos!$B$4)+MOD(67-1,Calculos!$B$6)+1,2)=0,INDEX(Calculos!$B$36:$S$52,IF(A71<=Calculos!$B$4,A71,A71-Calculos!$B$4),MOD(67-1,Calculos!$B$6)+1),INDEX(Calculos!$B$36:$S$52,IF(A71<=Calculos!$B$4,A71,A71-Calculos!$B$4),Calculos!$B$2+1-MOD(67-1,Calculos!$B$6)+1))))) -> #VALUE! | G71: =IF(A71="","",IF(AND(ISNUMBER(D71),ISNUMBER(E71)),"Jugado","Pendiente")) -> Pendiente | H71: =IF(OR(C71="",F71=""),"",IF(AND(ISNUMBER(D71),ISNUMBER(E71)),IF(D71>E71,Inicio!$E$6,IF(D71=E71,Inicio!$F$6,Inicio!$G$6)),"")) -> #VALUE! | I71: =IF(OR(C71="",F71=""),"",IF(AND(ISNUMBER(D71),ISNUMBER(E71)),IF(D71<E71,Inicio!$E$6,IF(D71=E71,Inicio!$F$6,Inicio!$G$6)),"")) -> #VALUE! | J71: =IF(AND(ISNUMBER(D71),ISNUMBER(E71),D71>E71),1,0) -> 0 | K71: =IF(AND(ISNUMBER(D71),ISNUMBER(E71),D71=E71),1,0) -> 0 | L71: =IF(AND(ISNUMBER(D71),ISNUMBER(E71),D71<E71),1,0) -> 0 | M71: =IF(AND(ISNUMBER(D71),ISNUMBER(E71),D71<E71),1,0) -> 0 | N71: =IF(AND(ISNUMBER(D71),ISNUMBER(E71),D71=E71),1,0) -> 0 | O71: =IF(AND(ISNUMBER(D71),ISNUMBER(E71),D71>E71),1,0) -> 0
A72: =IF(OR(Calculos!$B$7=0,68>Calculos!$B$7),"",INT((68-1)/Calculos!$B$6)+1) -> 14 | B72: =IF(A72="","",Inicio!$E$5+(A72-1)*Inicio!$B$6) -> 46173 | C72: =IF(A72="","",INDEX(Calculos!$B$11:$B$28,IF(A72>Calculos!$B$4,IF(MOD(IF(A72<=Calculos!$B$4,A72,A72-Calculos!$B$4)+MOD(68-1,Calculos!$B$6)+1,2)=0,INDEX(Calculos!$B$36:$S$52,IF(A72<=Calculos!$B$4,A72,A72-Calculos!$B$4),MOD(68-1,Calculos!$B$6)+1),INDEX(Calculos!$B$36:$S$52,IF(A72<=Calculos!$B$4,A72,A72-Calculos!$B$4),Calculos!$B$2+1-MOD(68-1,Calculos!$B$6)+1)),IF(MOD(IF(A72<=Calculos!$B$4,A72,A72-Calculos!$B$4)+MOD(68-1,Calculos!$B$6)+1,2)=0,INDEX(Calculos!$B$36:$S$52,IF(A72<=Calculos!$B$4,A72,A72-Calculos!$B$4),Calculos!$B$2+1-MOD(68-1,Calculos!$B$6)+1),INDEX(Calculos!$B$36:$S$52,IF(A72<=Calculos!$B$4,A72,A72-Calculos!$B$4),MOD(68-1,Calculos!$B$6)+1))))) -> #VALUE! | F72: =IF(A72="","",INDEX(Calculos!$B$11:$B$28,IF(A72>Calculos!$B$4,IF(MOD(IF(A72<=Calculos!$B$4,A72,A72-Calculos!$B$4)+MOD(68-1,Calculos!$B$6)+1,2)=0,INDEX(Calculos!$B$36:$S$52,IF(A72<=Calculos!$B$4,A72,A72-Calculos!$B$4),Calculos!$B$2+1-MOD(68-1,Calculos!$B$6)+1),INDEX(Calculos!$B$36:$S$52,IF(A72<=Calculos!$B$4,A72,A72-Calculos!$B$4),MOD(68-1,Calculos!$B$6)+1)),IF(MOD(IF(A72<=Calculos!$B$4,A72,A72-Calculos!$B$4)+MOD(68-1,Calculos!$B$6)+1,2)=0,INDEX(Calculos!$B$36:$S$52,IF(A72<=Calculos!$B$4,A72,A72-Calculos!$B$4),MOD(68-1,Calculos!$B$6)+1),INDEX(Calculos!$B$36:$S$52,IF(A72<=Calculos!$B$4,A72,A72-Calculos!$B$4),Calculos!$B$2+1-MOD(68-1,Calculos!$B$6)+1))))) -> #VALUE! | G72: =IF(A72="","",IF(AND(ISNUMBER(D72),ISNUMBER(E72)),"Jugado","Pendiente")) -> Pendiente | H72: =IF(OR(C72="",F72=""),"",IF(AND(ISNUMBER(D72),ISNUMBER(E72)),IF(D72>E72,Inicio!$E$6,IF(D72=E72,Inicio!$F$6,Inicio!$G$6)),"")) -> #VALUE! | I72: =IF(OR(C72="",F72=""),"",IF(AND(ISNUMBER(D72),ISNUMBER(E72)),IF(D72<E72,Inicio!$E$6,IF(D72=E72,Inicio!$F$6,Inicio!$G$6)),"")) -> #VALUE! | J72: =IF(AND(ISNUMBER(D72),ISNUMBER(E72),D72>E72),1,0) -> 0 | K72: =IF(AND(ISNUMBER(D72),ISNUMBER(E72),D72=E72),1,0) -> 0 | L72: =IF(AND(ISNUMBER(D72),ISNUMBER(E72),D72<E72),1,0) -> 0 | M72: =IF(AND(ISNUMBER(D72),ISNUMBER(E72),D72<E72),1,0) -> 0 | N72: =IF(AND(ISNUMBER(D72),ISNUMBER(E72),D72=E72),1,0) -> 0 | O72: =IF(AND(ISNUMBER(D72),ISNUMBER(E72),D72>E72),1,0) -> 0
A73: =IF(OR(Calculos!$B$7=0,69>Calculos!$B$7),"",INT((69-1)/Calculos!$B$6)+1) -> 14 | B73: =IF(A73="","",Inicio!$E$5+(A73-1)*Inicio!$B$6) -> 46173 | C73: =IF(A73="","",INDEX(Calculos!$B$11:$B$28,IF(A73>Calculos!$B$4,IF(MOD(IF(A73<=Calculos!$B$4,A73,A73-Calculos!$B$4)+MOD(69-1,Calculos!$B$6)+1,2)=0,INDEX(Calculos!$B$36:$S$52,IF(A73<=Calculos!$B$4,A73,A73-Calculos!$B$4),MOD(69-1,Calculos!$B$6)+1),INDEX(Calculos!$B$36:$S$52,IF(A73<=Calculos!$B$4,A73,A73-Calculos!$B$4),Calculos!$B$2+1-MOD(69-1,Calculos!$B$6)+1)),IF(MOD(IF(A73<=Calculos!$B$4,A73,A73-Calculos!$B$4)+MOD(69-1,Calculos!$B$6)+1,2)=0,INDEX(Calculos!$B$36:$S$52,IF(A73<=Calculos!$B$4,A73,A73-Calculos!$B$4),Calculos!$B$2+1-MOD(69-1,Calculos!$B$6)+1),INDEX(Calculos!$B$36:$S$52,IF(A73<=Calculos!$B$4,A73,A73-Calculos!$B$4),MOD(69-1,Calculos!$B$6)+1))))) -> #VALUE! | F73: =IF(A73="","",INDEX(Calculos!$B$11:$B$28,IF(A73>Calculos!$B$4,IF(MOD(IF(A73<=Calculos!$B$4,A73,A73-Calculos!$B$4)+MOD(69-1,Calculos!$B$6)+1,2)=0,INDEX(Calculos!$B$36:$S$52,IF(A73<=Calculos!$B$4,A73,A73-Calculos!$B$4),Calculos!$B$2+1-MOD(69-1,Calculos!$B$6)+1),INDEX(Calculos!$B$36:$S$52,IF(A73<=Calculos!$B$4,A73,A73-Calculos!$B$4),MOD(69-1,Calculos!$B$6)+1)),IF(MOD(IF(A73<=Calculos!$B$4,A73,A73-Calculos!$B$4)+MOD(69-1,Calculos!$B$6)+1,2)=0,INDEX(Calculos!$B$36:$S$52,IF(A73<=Calculos!$B$4,A73,A73-Calculos!$B$4),MOD(69-1,Calculos!$B$6)+1),INDEX(Calculos!$B$36:$S$52,IF(A73<=Calculos!$B$4,A73,A73-Calculos!$B$4),Calculos!$B$2+1-MOD(69-1,Calculos!$B$6)+1))))) -> #VALUE! | G73: =IF(A73="","",IF(AND(ISNUMBER(D73),ISNUMBER(E73)),"Jugado","Pendiente")) -> Pendiente | H73: =IF(OR(C73="",F73=""),"",IF(AND(ISNUMBER(D73),ISNUMBER(E73)),IF(D73>E73,Inicio!$E$6,IF(D73=E73,Inicio!$F$6,Inicio!$G$6)),"")) -> #VALUE! | I73: =IF(OR(C73="",F73=""),"",IF(AND(ISNUMBER(D73),ISNUMBER(E73)),IF(D73<E73,Inicio!$E$6,IF(D73=E73,Inicio!$F$6,Inicio!$G$6)),"")) -> #VALUE! | J73: =IF(AND(ISNUMBER(D73),ISNUMBER(E73),D73>E73),1,0) -> 0 | K73: =IF(AND(ISNUMBER(D73),ISNUMBER(E73),D73=E73),1,0) -> 0 | L73: =IF(AND(ISNUMBER(D73),ISNUMBER(E73),D73<E73),1,0) -> 0 | M73: =IF(AND(ISNUMBER(D73),ISNUMBER(E73),D73<E73),1,0) -> 0 | N73: =IF(AND(ISNUMBER(D73),ISNUMBER(E73),D73=E73),1,0) -> 0 | O73: =IF(AND(ISNUMBER(D73),ISNUMBER(E73),D73>E73),1,0) -> 0
A74: =IF(OR(Calculos!$B$7=0,70>Calculos!$B$7),"",INT((70-1)/Calculos!$B$6)+1) -> 14 | B74: =IF(A74="","",Inicio!$E$5+(A74-1)*Inicio!$B$6) -> 46173 | C74: =IF(A74="","",INDEX(Calculos!$B$11:$B$28,IF(A74>Calculos!$B$4,IF(MOD(IF(A74<=Calculos!$B$4,A74,A74-Calculos!$B$4)+MOD(70-1,Calculos!$B$6)+1,2)=0,INDEX(Calculos!$B$36:$S$52,IF(A74<=Calculos!$B$4,A74,A74-Calculos!$B$4),MOD(70-1,Calculos!$B$6)+1),INDEX(Calculos!$B$36:$S$52,IF(A74<=Calculos!$B$4,A74,A74-Calculos!$B$4),Calculos!$B$2+1-MOD(70-1,Calculos!$B$6)+1)),IF(MOD(IF(A74<=Calculos!$B$4,A74,A74-Calculos!$B$4)+MOD(70-1,Calculos!$B$6)+1,2)=0,INDEX(Calculos!$B$36:$S$52,IF(A74<=Calculos!$B$4,A74,A74-Calculos!$B$4),Calculos!$B$2+1-MOD(70-1,Calculos!$B$6)+1),INDEX(Calculos!$B$36:$S$52,IF(A74<=Calculos!$B$4,A74,A74-Calculos!$B$4),MOD(70-1,Calculos!$B$6)+1))))) -> #VALUE! | F74: =IF(A74="","",INDEX(Calculos!$B$11:$B$28,IF(A74>Calculos!$B$4,IF(MOD(IF(A74<=Calculos!$B$4,A74,A74-Calculos!$B$4)+MOD(70-1,Calculos!$B$6)+1,2)=0,INDEX(Calculos!$B$36:$S$52,IF(A74<=Calculos!$B$4,A74,A74-Calculos!$B$4),Calculos!$B$2+1-MOD(70-1,Calculos!$B$6)+1),INDEX(Calculos!$B$36:$S$52,IF(A74<=Calculos!$B$4,A74,A74-Calculos!$B$4),MOD(70-1,Calculos!$B$6)+1)),IF(MOD(IF(A74<=Calculos!$B$4,A74,A74-Calculos!$B$4)+MOD(70-1,Calculos!$B$6)+1,2)=0,INDEX(Calculos!$B$36:$S$52,IF(A74<=Calculos!$B$4,A74,A74-Calculos!$B$4),MOD(70-1,Calculos!$B$6)+1),INDEX(Calculos!$B$36:$S$52,IF(A74<=Calculos!$B$4,A74,A74-Calculos!$B$4),Calculos!$B$2+1-MOD(70-1,Calculos!$B$6)+1))))) -> #VALUE! | G74: =IF(A74="","",IF(AND(ISNUMBER(D74),ISNUMBER(E74)),"Jugado","Pendiente")) -> Pendiente | H74: =IF(OR(C74="",F74=""),"",IF(AND(ISNUMBER(D74),ISNUMBER(E74)),IF(D74>E74,Inicio!$E$6,IF(D74=E74,Inicio!$F$6,Inicio!$G$6)),"")) -> #VALUE! | I74: =IF(OR(C74="",F74=""),"",IF(AND(ISNUMBER(D74),ISNUMBER(E74)),IF(D74<E74,Inicio!$E$6,IF(D74=E74,Inicio!$F$6,Inicio!$G$6)),"")) -> #VALUE! | J74: =IF(AND(ISNUMBER(D74),ISNUMBER(E74),D74>E74),1,0) -> 0 | K74: =IF(AND(ISNUMBER(D74),ISNUMBER(E74),D74=E74),1,0) -> 0 | L74: =IF(AND(ISNUMBER(D74),ISNUMBER(E74),D74<E74),1,0) -> 0 | M74: =IF(AND(ISNUMBER(D74),ISNUMBER(E74),D74<E74),1,0) -> 0 | N74: =IF(AND(ISNUMBER(D74),ISNUMBER(E74),D74=E74),1,0) -> 0 | O74: =IF(AND(ISNUMBER(D74),ISNUMBER(E74),D74>E74),1,0) -> 0
A75: =IF(OR(Calculos!$B$7=0,71>Calculos!$B$7),"",INT((71-1)/Calculos!$B$6)+1) -> 15 | B75: =IF(A75="","",Inicio!$E$5+(A75-1)*Inicio!$B$6) -> 46180 | C75: =IF(A75="","",INDEX(Calculos!$B$11:$B$28,IF(A75>Calculos!$B$4,IF(MOD(IF(A75<=Calculos!$B$4,A75,A75-Calculos!$B$4)+MOD(71-1,Calculos!$B$6)+1,2)=0,INDEX(Calculos!$B$36:$S$52,IF(A75<=Calculos!$B$4,A75,A75-Calculos!$B$4),MOD(71-1,Calculos!$B$6)+1),INDEX(Calculos!$B$36:$S$52,IF(A75<=Calculos!$B$4,A75,A75-Calculos!$B$4),Calculos!$B$2+1-MOD(71-1,Calculos!$B$6)+1)),IF(MOD(IF(A75<=Calculos!$B$4,A75,A75-Calculos!$B$4)+MOD(71-1,Calculos!$B$6)+1,2)=0,INDEX(Calculos!$B$36:$S$52,IF(A75<=Calculos!$B$4,A75,A75-Calculos!$B$4),Calculos!$B$2+1-MOD(71-1,Calculos!$B$6)+1),INDEX(Calculos!$B$36:$S$52,IF(A75<=Calculos!$B$4,A75,A75-Calculos!$B$4),MOD(71-1,Calculos!$B$6)+1))))) -> #VALUE! | F75: =IF(A75="","",INDEX(Calculos!$B$11:$B$28,IF(A75>Calculos!$B$4,IF(MOD(IF(A75<=Calculos!$B$4,A75,A75-Calculos!$B$4)+MOD(71-1,Calculos!$B$6)+1,2)=0,INDEX(Calculos!$B$36:$S$52,IF(A75<=Calculos!$B$4,A75,A75-Calculos!$B$4),Calculos!$B$2+1-MOD(71-1,Calculos!$B$6)+1),INDEX(Calculos!$B$36:$S$52,IF(A75<=Calculos!$B$4,A75,A75-Calculos!$B$4),MOD(71-1,Calculos!$B$6)+1)),IF(MOD(IF(A75<=Calculos!$B$4,A75,A75-Calculos!$B$4)+MOD(71-1,Calculos!$B$6)+1,2)=0,INDEX(Calculos!$B$36:$S$52,IF(A75<=Calculos!$B$4,A75,A75-Calculos!$B$4),MOD(71-1,Calculos!$B$6)+1),INDEX(Calculos!$B$36:$S$52,IF(A75<=Calculos!$B$4,A75,A75-Calculos!$B$4),Calculos!$B$2+1-MOD(71-1,Calculos!$B$6)+1))))) -> #VALUE! | G75: =IF(A75="","",IF(AND(ISNUMBER(D75),ISNUMBER(E75)),"Jugado","Pendiente")) -> Pendiente | H75: =IF(OR(C75="",F75=""),"",IF(AND(ISNUMBER(D75),ISNUMBER(E75)),IF(D75>E75,Inicio!$E$6,IF(D75=E75,Inicio!$F$6,Inicio!$G$6)),"")) -> #VALUE! | I75: =IF(OR(C75="",F75=""),"",IF(AND(ISNUMBER(D75),ISNUMBER(E75)),IF(D75<E75,Inicio!$E$6,IF(D75=E75,Inicio!$F$6,Inicio!$G$6)),"")) -> #VALUE! | J75: =IF(AND(ISNUMBER(D75),ISNUMBER(E75),D75>E75),1,0) -> 0 | K75: =IF(AND(ISNUMBER(D75),ISNUMBER(E75),D75=E75),1,0) -> 0 | L75: =IF(AND(ISNUMBER(D75),ISNUMBER(E75),D75<E75),1,0) -> 0 | M75: =IF(AND(ISNUMBER(D75),ISNUMBER(E75),D75<E75),1,0) -> 0 | N75: =IF(AND(ISNUMBER(D75),ISNUMBER(E75),D75=E75),1,0) -> 0 | O75: =IF(AND(ISNUMBER(D75),ISNUMBER(E75),D75>E75),1,0) -> 0
A76: =IF(OR(Calculos!$B$7=0,72>Calculos!$B$7),"",INT((72-1)/Calculos!$B$6)+1) -> 15 | B76: =IF(A76="","",Inicio!$E$5+(A76-1)*Inicio!$B$6) -> 46180 | C76: =IF(A76="","",INDEX(Calculos!$B$11:$B$28,IF(A76>Calculos!$B$4,IF(MOD(IF(A76<=Calculos!$B$4,A76,A76-Calculos!$B$4)+MOD(72-1,Calculos!$B$6)+1,2)=0,INDEX(Calculos!$B$36:$S$52,IF(A76<=Calculos!$B$4,A76,A76-Calculos!$B$4),MOD(72-1,Calculos!$B$6)+1),INDEX(Calculos!$B$36:$S$52,IF(A76<=Calculos!$B$4,A76,A76-Calculos!$B$4),Calculos!$B$2+1-MOD(72-1,Calculos!$B$6)+1)),IF(MOD(IF(A76<=Calculos!$B$4,A76,A76-Calculos!$B$4)+MOD(72-1,Calculos!$B$6)+1,2)=0,INDEX(Calculos!$B$36:$S$52,IF(A76<=Calculos!$B$4,A76,A76-Calculos!$B$4),Calculos!$B$2+1-MOD(72-1,Calculos!$B$6)+1),INDEX(Calculos!$B$36:$S$52,IF(A76<=Calculos!$B$4,A76,A76-Calculos!$B$4),MOD(72-1,Calculos!$B$6)+1))))) -> #VALUE! | F76: =IF(A76="","",INDEX(Calculos!$B$11:$B$28,IF(A76>Calculos!$B$4,IF(MOD(IF(A76<=Calculos!$B$4,A76,A76-Calculos!$B$4)+MOD(72-1,Calculos!$B$6)+1,2)=0,INDEX(Calculos!$B$36:$S$52,IF(A76<=Calculos!$B$4,A76,A76-Calculos!$B$4),Calculos!$B$2+1-MOD(72-1,Calculos!$B$6)+1),INDEX(Calculos!$B$36:$S$52,IF(A76<=Calculos!$B$4,A76,A76-Calculos!$B$4),MOD(72-1,Calculos!$B$6)+1)),IF(MOD(IF(A76<=Calculos!$B$4,A76,A76-Calculos!$B$4)+MOD(72-1,Calculos!$B$6)+1,2)=0,INDEX(Calculos!$B$36:$S$52,IF(A76<=Calculos!$B$4,A76,A76-Calculos!$B$4),MOD(72-1,Calculos!$B$6)+1),INDEX(Calculos!$B$36:$S$52,IF(A76<=Calculos!$B$4,A76,A76-Calculos!$B$4),Calculos!$B$2+1-MOD(72-1,Calculos!$B$6)+1))))) -> #VALUE! | G76: =IF(A76="","",IF(AND(ISNUMBER(D76),ISNUMBER(E76)),"Jugado","Pendiente")) -> Pendiente | H76: =IF(OR(C76="",F76=""),"",IF(AND(ISNUMBER(D76),ISNUMBER(E76)),IF(D76>E76,Inicio!$E$6,IF(D76=E76,Inicio!$F$6,Inicio!$G$6)),"")) -> #VALUE! | I76: =IF(OR(C76="",F76=""),"",IF(AND(ISNUMBER(D76),ISNUMBER(E76)),IF(D76<E76,Inicio!$E$6,IF(D76=E76,Inicio!$F$6,Inicio!$G$6)),"")) -> #VALUE! | J76: =IF(AND(ISNUMBER(D76),ISNUMBER(E76),D76>E76),1,0) -> 0 | K76: =IF(AND(ISNUMBER(D76),ISNUMBER(E76),D76=E76),1,0) -> 0 | L76: =IF(AND(ISNUMBER(D76),ISNUMBER(E76),D76<E76),1,0) -> 0 | M76: =IF(AND(ISNUMBER(D76),ISNUMBER(E76),D76<E76),1,0) -> 0 | N76: =IF(AND(ISNUMBER(D76),ISNUMBER(E76),D76=E76),1,0) -> 0 | O76: =IF(AND(ISNUMBER(D76),ISNUMBER(E76),D76>E76),1,0) -> 0
A77: =IF(OR(Calculos!$B$7=0,73>Calculos!$B$7),"",INT((73-1)/Calculos!$B$6)+1) -> 15 | B77: =IF(A77="","",Inicio!$E$5+(A77-1)*Inicio!$B$6) -> 46180 | C77: =IF(A77="","",INDEX(Calculos!$B$11:$B$28,IF(A77>Calculos!$B$4,IF(MOD(IF(A77<=Calculos!$B$4,A77,A77-Calculos!$B$4)+MOD(73-1,Calculos!$B$6)+1,2)=0,INDEX(Calculos!$B$36:$S$52,IF(A77<=Calculos!$B$4,A77,A77-Calculos!$B$4),MOD(73-1,Calculos!$B$6)+1),INDEX(Calculos!$B$36:$S$52,IF(A77<=Calculos!$B$4,A77,A77-Calculos!$B$4),Calculos!$B$2+1-MOD(73-1,Calculos!$B$6)+1)),IF(MOD(IF(A77<=Calculos!$B$4,A77,A77-Calculos!$B$4)+MOD(73-1,Calculos!$B$6)+1,2)=0,INDEX(Calculos!$B$36:$S$52,IF(A77<=Calculos!$B$4,A77,A77-Calculos!$B$4),Calculos!$B$2+1-MOD(73-1,Calculos!$B$6)+1),INDEX(Calculos!$B$36:$S$52,IF(A77<=Calculos!$B$4,A77,A77-Calculos!$B$4),MOD(73-1,Calculos!$B$6)+1))))) -> #VALUE! | F77: =IF(A77="","",INDEX(Calculos!$B$11:$B$28,IF(A77>Calculos!$B$4,IF(MOD(IF(A77<=Calculos!$B$4,A77,A77-Calculos!$B$4)+MOD(73-1,Calculos!$B$6)+1,2)=0,INDEX(Calculos!$B$36:$S$52,IF(A77<=Calculos!$B$4,A77,A77-Calculos!$B$4),Calculos!$B$2+1-MOD(73-1,Calculos!$B$6)+1),INDEX(Calculos!$B$36:$S$52,IF(A77<=Calculos!$B$4,A77,A77-Calculos!$B$4),MOD(73-1,Calculos!$B$6)+1)),IF(MOD(IF(A77<=Calculos!$B$4,A77,A77-Calculos!$B$4)+MOD(73-1,Calculos!$B$6)+1,2)=0,INDEX(Calculos!$B$36:$S$52,IF(A77<=Calculos!$B$4,A77,A77-Calculos!$B$4),MOD(73-1,Calculos!$B$6)+1),INDEX(Calculos!$B$36:$S$52,IF(A77<=Calculos!$B$4,A77,A77-Calculos!$B$4),Calculos!$B$2+1-MOD(73-1,Calculos!$B$6)+1))))) -> #VALUE! | G77: =IF(A77="","",IF(AND(ISNUMBER(D77),ISNUMBER(E77)),"Jugado","Pendiente")) -> Pendiente | H77: =IF(OR(C77="",F77=""),"",IF(AND(ISNUMBER(D77),ISNUMBER(E77)),IF(D77>E77,Inicio!$E$6,IF(D77=E77,Inicio!$F$6,Inicio!$G$6)),"")) -> #VALUE! | I77: =IF(OR(C77="",F77=""),"",IF(AND(ISNUMBER(D77),ISNUMBER(E77)),IF(D77<E77,Inicio!$E$6,IF(D77=E77,Inicio!$F$6,Inicio!$G$6)),"")) -> #VALUE! | J77: =IF(AND(ISNUMBER(D77),ISNUMBER(E77),D77>E77),1,0) -> 0 | K77: =IF(AND(ISNUMBER(D77),ISNUMBER(E77),D77=E77),1,0) -> 0 | L77: =IF(AND(ISNUMBER(D77),ISNUMBER(E77),D77<E77),1,0) -> 0 | M77: =IF(AND(ISNUMBER(D77),ISNUMBER(E77),D77<E77),1,0) -> 0 | N77: =IF(AND(ISNUMBER(D77),ISNUMBER(E77),D77=E77),1,0) -> 0 | O77: =IF(AND(ISNUMBER(D77),ISNUMBER(E77),D77>E77),1,0) -> 0
A78: =IF(OR(Calculos!$B$7=0,74>Calculos!$B$7),"",INT((74-1)/Calculos!$B$6)+1) -> 15 | B78: =IF(A78="","",Inicio!$E$5+(A78-1)*Inicio!$B$6) -> 46180 | C78: =IF(A78="","",INDEX(Calculos!$B$11:$B$28,IF(A78>Calculos!$B$4,IF(MOD(IF(A78<=Calculos!$B$4,A78,A78-Calculos!$B$4)+MOD(74-1,Calculos!$B$6)+1,2)=0,INDEX(Calculos!$B$36:$S$52,IF(A78<=Calculos!$B$4,A78,A78-Calculos!$B$4),MOD(74-1,Calculos!$B$6)+1),INDEX(Calculos!$B$36:$S$52,IF(A78<=Calculos!$B$4,A78,A78-Calculos!$B$4),Calculos!$B$2+1-MOD(74-1,Calculos!$B$6)+1)),IF(MOD(IF(A78<=Calculos!$B$4,A78,A78-Calculos!$B$4)+MOD(74-1,Calculos!$B$6)+1,2)=0,INDEX(Calculos!$B$36:$S$52,IF(A78<=Calculos!$B$4,A78,A78-Calculos!$B$4),Calculos!$B$2+1-MOD(74-1,Calculos!$B$6)+1),INDEX(Calculos!$B$36:$S$52,IF(A78<=Calculos!$B$4,A78,A78-Calculos!$B$4),MOD(74-1,Calculos!$B$6)+1))))) -> #VALUE! | F78: =IF(A78="","",INDEX(Calculos!$B$11:$B$28,IF(A78>Calculos!$B$4,IF(MOD(IF(A78<=Calculos!$B$4,A78,A78-Calculos!$B$4)+MOD(74-1,Calculos!$B$6)+1,2)=0,INDEX(Calculos!$B$36:$S$52,IF(A78<=Calculos!$B$4,A78,A78-Calculos!$B$4),Calculos!$B$2+1-MOD(74-1,Calculos!$B$6)+1),INDEX(Calculos!$B$36:$S$52,IF(A78<=Calculos!$B$4,A78,A78-Calculos!$B$4),MOD(74-1,Calculos!$B$6)+1)),IF(MOD(IF(A78<=Calculos!$B$4,A78,A78-Calculos!$B$4)+MOD(74-1,Calculos!$B$6)+1,2)=0,INDEX(Calculos!$B$36:$S$52,IF(A78<=Calculos!$B$4,A78,A78-Calculos!$B$4),MOD(74-1,Calculos!$B$6)+1),INDEX(Calculos!$B$36:$S$52,IF(A78<=Calculos!$B$4,A78,A78-Calculos!$B$4),Calculos!$B$2+1-MOD(74-1,Calculos!$B$6)+1))))) -> #VALUE! | G78: =IF(A78="","",IF(AND(ISNUMBER(D78),ISNUMBER(E78)),"Jugado","Pendiente")) -> Pendiente | H78: =IF(OR(C78="",F78=""),"",IF(AND(ISNUMBER(D78),ISNUMBER(E78)),IF(D78>E78,Inicio!$E$6,IF(D78=E78,Inicio!$F$6,Inicio!$G$6)),"")) -> #VALUE! | I78: =IF(OR(C78="",F78=""),"",IF(AND(ISNUMBER(D78),ISNUMBER(E78)),IF(D78<E78,Inicio!$E$6,IF(D78=E78,Inicio!$F$6,Inicio!$G$6)),"")) -> #VALUE! | J78: =IF(AND(ISNUMBER(D78),ISNUMBER(E78),D78>E78),1,0) -> 0 | K78: =IF(AND(ISNUMBER(D78),ISNUMBER(E78),D78=E78),1,0) -> 0 | L78: =IF(AND(ISNUMBER(D78),ISNUMBER(E78),D78<E78),1,0) -> 0 | M78: =IF(AND(ISNUMBER(D78),ISNUMBER(E78),D78<E78),1,0) -> 0 | N78: =IF(AND(ISNUMBER(D78),ISNUMBER(E78),D78=E78),1,0) -> 0 | O78: =IF(AND(ISNUMBER(D78),ISNUMBER(E78),D78>E78),1,0) -> 0
A79: =IF(OR(Calculos!$B$7=0,75>Calculos!$B$7),"",INT((75-1)/Calculos!$B$6)+1) -> 15 | B79: =IF(A79="","",Inicio!$E$5+(A79-1)*Inicio!$B$6) -> 46180 | C79: =IF(A79="","",INDEX(Calculos!$B$11:$B$28,IF(A79>Calculos!$B$4,IF(MOD(IF(A79<=Calculos!$B$4,A79,A79-Calculos!$B$4)+MOD(75-1,Calculos!$B$6)+1,2)=0,INDEX(Calculos!$B$36:$S$52,IF(A79<=Calculos!$B$4,A79,A79-Calculos!$B$4),MOD(75-1,Calculos!$B$6)+1),INDEX(Calculos!$B$36:$S$52,IF(A79<=Calculos!$B$4,A79,A79-Calculos!$B$4),Calculos!$B$2+1-MOD(75-1,Calculos!$B$6)+1)),IF(MOD(IF(A79<=Calculos!$B$4,A79,A79-Calculos!$B$4)+MOD(75-1,Calculos!$B$6)+1,2)=0,INDEX(Calculos!$B$36:$S$52,IF(A79<=Calculos!$B$4,A79,A79-Calculos!$B$4),Calculos!$B$2+1-MOD(75-1,Calculos!$B$6)+1),INDEX(Calculos!$B$36:$S$52,IF(A79<=Calculos!$B$4,A79,A79-Calculos!$B$4),MOD(75-1,Calculos!$B$6)+1))))) -> #VALUE! | F79: =IF(A79="","",INDEX(Calculos!$B$11:$B$28,IF(A79>Calculos!$B$4,IF(MOD(IF(A79<=Calculos!$B$4,A79,A79-Calculos!$B$4)+MOD(75-1,Calculos!$B$6)+1,2)=0,INDEX(Calculos!$B$36:$S$52,IF(A79<=Calculos!$B$4,A79,A79-Calculos!$B$4),Calculos!$B$2+1-MOD(75-1,Calculos!$B$6)+1),INDEX(Calculos!$B$36:$S$52,IF(A79<=Calculos!$B$4,A79,A79-Calculos!$B$4),MOD(75-1,Calculos!$B$6)+1)),IF(MOD(IF(A79<=Calculos!$B$4,A79,A79-Calculos!$B$4)+MOD(75-1,Calculos!$B$6)+1,2)=0,INDEX(Calculos!$B$36:$S$52,IF(A79<=Calculos!$B$4,A79,A79-Calculos!$B$4),MOD(75-1,Calculos!$B$6)+1),INDEX(Calculos!$B$36:$S$52,IF(A79<=Calculos!$B$4,A79,A79-Calculos!$B$4),Calculos!$B$2+1-MOD(75-1,Calculos!$B$6)+1))))) -> #VALUE! | G79: =IF(A79="","",IF(AND(ISNUMBER(D79),ISNUMBER(E79)),"Jugado","Pendiente")) -> Pendiente | H79: =IF(OR(C79="",F79=""),"",IF(AND(ISNUMBER(D79),ISNUMBER(E79)),IF(D79>E79,Inicio!$E$6,IF(D79=E79,Inicio!$F$6,Inicio!$G$6)),"")) -> #VALUE! | I79: =IF(OR(C79="",F79=""),"",IF(AND(ISNUMBER(D79),ISNUMBER(E79)),IF(D79<E79,Inicio!$E$6,IF(D79=E79,Inicio!$F$6,Inicio!$G$6)),"")) -> #VALUE! | J79: =IF(AND(ISNUMBER(D79),ISNUMBER(E79),D79>E79),1,0) -> 0 | K79: =IF(AND(ISNUMBER(D79),ISNUMBER(E79),D79=E79),1,0) -> 0 | L79: =IF(AND(ISNUMBER(D79),ISNUMBER(E79),D79<E79),1,0) -> 0 | M79: =IF(AND(ISNUMBER(D79),ISNUMBER(E79),D79<E79),1,0) -> 0 | N79: =IF(AND(ISNUMBER(D79),ISNUMBER(E79),D79=E79),1,0) -> 0 | O79: =IF(AND(ISNUMBER(D79),ISNUMBER(E79),D79>E79),1,0) -> 0
A80: =IF(OR(Calculos!$B$7=0,76>Calculos!$B$7),"",INT((76-1)/Calculos!$B$6)+1) -> 16 | B80: =IF(A80="","",Inicio!$E$5+(A80-1)*Inicio!$B$6) -> 46187 | C80: =IF(A80="","",INDEX(Calculos!$B$11:$B$28,IF(A80>Calculos!$B$4,IF(MOD(IF(A80<=Calculos!$B$4,A80,A80-Calculos!$B$4)+MOD(76-1,Calculos!$B$6)+1,2)=0,INDEX(Calculos!$B$36:$S$52,IF(A80<=Calculos!$B$4,A80,A80-Calculos!$B$4),MOD(76-1,Calculos!$B$6)+1),INDEX(Calculos!$B$36:$S$52,IF(A80<=Calculos!$B$4,A80,A80-Calculos!$B$4),Calculos!$B$2+1-MOD(76-1,Calculos!$B$6)+1)),IF(MOD(IF(A80<=Calculos!$B$4,A80,A80-Calculos!$B$4)+MOD(76-1,Calculos!$B$6)+1,2)=0,INDEX(Calculos!$B$36:$S$52,IF(A80<=Calculos!$B$4,A80,A80-Calculos!$B$4),Calculos!$B$2+1-MOD(76-1,Calculos!$B$6)+1),INDEX(Calculos!$B$36:$S$52,IF(A80<=Calculos!$B$4,A80,A80-Calculos!$B$4),MOD(76-1,Calculos!$B$6)+1))))) -> #VALUE! | F80: =IF(A80="","",INDEX(Calculos!$B$11:$B$28,IF(A80>Calculos!$B$4,IF(MOD(IF(A80<=Calculos!$B$4,A80,A80-Calculos!$B$4)+MOD(76-1,Calculos!$B$6)+1,2)=0,INDEX(Calculos!$B$36:$S$52,IF(A80<=Calculos!$B$4,A80,A80-Calculos!$B$4),Calculos!$B$2+1-MOD(76-1,Calculos!$B$6)+1),INDEX(Calculos!$B$36:$S$52,IF(A80<=Calculos!$B$4,A80,A80-Calculos!$B$4),MOD(76-1,Calculos!$B$6)+1)),IF(MOD(IF(A80<=Calculos!$B$4,A80,A80-Calculos!$B$4)+MOD(76-1,Calculos!$B$6)+1,2)=0,INDEX(Calculos!$B$36:$S$52,IF(A80<=Calculos!$B$4,A80,A80-Calculos!$B$4),MOD(76-1,Calculos!$B$6)+1),INDEX(Calculos!$B$36:$S$52,IF(A80<=Calculos!$B$4,A80,A80-Calculos!$B$4),Calculos!$B$2+1-MOD(76-1,Calculos!$B$6)+1))))) -> #VALUE! | G80: =IF(A80="","",IF(AND(ISNUMBER(D80),ISNUMBER(E80)),"Jugado","Pendiente")) -> Pendiente | H80: =IF(OR(C80="",F80=""),"",IF(AND(ISNUMBER(D80),ISNUMBER(E80)),IF(D80>E80,Inicio!$E$6,IF(D80=E80,Inicio!$F$6,Inicio!$G$6)),"")) -> #VALUE! | I80: =IF(OR(C80="",F80=""),"",IF(AND(ISNUMBER(D80),ISNUMBER(E80)),IF(D80<E80,Inicio!$E$6,IF(D80=E80,Inicio!$F$6,Inicio!$G$6)),"")) -> #VALUE! | J80: =IF(AND(ISNUMBER(D80),ISNUMBER(E80),D80>E80),1,0) -> 0 | K80: =IF(AND(ISNUMBER(D80),ISNUMBER(E80),D80=E80),1,0) -> 0 | L80: =IF(AND(ISNUMBER(D80),ISNUMBER(E80),D80<E80),1,0) -> 0 | M80: =IF(AND(ISNUMBER(D80),ISNUMBER(E80),D80<E80),1,0) -> 0 | N80: =IF(AND(ISNUMBER(D80),ISNUMBER(E80),D80=E80),1,0) -> 0 | O80: =IF(AND(ISNUMBER(D80),ISNUMBER(E80),D80>E80),1,0) -> 0
A81: =IF(OR(Calculos!$B$7=0,77>Calculos!$B$7),"",INT((77-1)/Calculos!$B$6)+1) -> 16 | B81: =IF(A81="","",Inicio!$E$5+(A81-1)*Inicio!$B$6) -> 46187 | C81: =IF(A81="","",INDEX(Calculos!$B$11:$B$28,IF(A81>Calculos!$B$4,IF(MOD(IF(A81<=Calculos!$B$4,A81,A81-Calculos!$B$4)+MOD(77-1,Calculos!$B$6)+1,2)=0,INDEX(Calculos!$B$36:$S$52,IF(A81<=Calculos!$B$4,A81,A81-Calculos!$B$4),MOD(77-1,Calculos!$B$6)+1),INDEX(Calculos!$B$36:$S$52,IF(A81<=Calculos!$B$4,A81,A81-Calculos!$B$4),Calculos!$B$2+1-MOD(77-1,Calculos!$B$6)+1)),IF(MOD(IF(A81<=Calculos!$B$4,A81,A81-Calculos!$B$4)+MOD(77-1,Calculos!$B$6)+1,2)=0,INDEX(Calculos!$B$36:$S$52,IF(A81<=Calculos!$B$4,A81,A81-Calculos!$B$4),Calculos!$B$2+1-MOD(77-1,Calculos!$B$6)+1),INDEX(Calculos!$B$36:$S$52,IF(A81<=Calculos!$B$4,A81,A81-Calculos!$B$4),MOD(77-1,Calculos!$B$6)+1))))) -> #VALUE! | F81: =IF(A81="","",INDEX(Calculos!$B$11:$B$28,IF(A81>Calculos!$B$4,IF(MOD(IF(A81<=Calculos!$B$4,A81,A81-Calculos!$B$4)+MOD(77-1,Calculos!$B$6)+1,2)=0,INDEX(Calculos!$B$36:$S$52,IF(A81<=Calculos!$B$4,A81,A81-Calculos!$B$4),Calculos!$B$2+1-MOD(77-1,Calculos!$B$6)+1),INDEX(Calculos!$B$36:$S$52,IF(A81<=Calculos!$B$4,A81,A81-Calculos!$B$4),MOD(77-1,Calculos!$B$6)+1)),IF(MOD(IF(A81<=Calculos!$B$4,A81,A81-Calculos!$B$4)+MOD(77-1,Calculos!$B$6)+1,2)=0,INDEX(Calculos!$B$36:$S$52,IF(A81<=Calculos!$B$4,A81,A81-Calculos!$B$4),MOD(77-1,Calculos!$B$6)+1),INDEX(Calculos!$B$36:$S$52,IF(A81<=Calculos!$B$4,A81,A81-Calculos!$B$4),Calculos!$B$2+1-MOD(77-1,Calculos!$B$6)+1))))) -> #VALUE! | G81: =IF(A81="","",IF(AND(ISNUMBER(D81),ISNUMBER(E81)),"Jugado","Pendiente")) -> Pendiente | H81: =IF(OR(C81="",F81=""),"",IF(AND(ISNUMBER(D81),ISNUMBER(E81)),IF(D81>E81,Inicio!$E$6,IF(D81=E81,Inicio!$F$6,Inicio!$G$6)),"")) -> #VALUE! | I81: =IF(OR(C81="",F81=""),"",IF(AND(ISNUMBER(D81),ISNUMBER(E81)),IF(D81<E81,Inicio!$E$6,IF(D81=E81,Inicio!$F$6,Inicio!$G$6)),"")) -> #VALUE! | J81: =IF(AND(ISNUMBER(D81),ISNUMBER(E81),D81>E81),1,0) -> 0 | K81: =IF(AND(ISNUMBER(D81),ISNUMBER(E81),D81=E81),1,0) -> 0 | L81: =IF(AND(ISNUMBER(D81),ISNUMBER(E81),D81<E81),1,0) -> 0 | M81: =IF(AND(ISNUMBER(D81),ISNUMBER(E81),D81<E81),1,0) -> 0 | N81: =IF(AND(ISNUMBER(D81),ISNUMBER(E81),D81=E81),1,0) -> 0 | O81: =IF(AND(ISNUMBER(D81),ISNUMBER(E81),D81>E81),1,0) -> 0
A82: =IF(OR(Calculos!$B$7=0,78>Calculos!$B$7),"",INT((78-1)/Calculos!$B$6)+1) -> 16 | B82: =IF(A82="","",Inicio!$E$5+(A82-1)*Inicio!$B$6) -> 46187 | C82: =IF(A82="","",INDEX(Calculos!$B$11:$B$28,IF(A82>Calculos!$B$4,IF(MOD(IF(A82<=Calculos!$B$4,A82,A82-Calculos!$B$4)+MOD(78-1,Calculos!$B$6)+1,2)=0,INDEX(Calculos!$B$36:$S$52,IF(A82<=Calculos!$B$4,A82,A82-Calculos!$B$4),MOD(78-1,Calculos!$B$6)+1),INDEX(Calculos!$B$36:$S$52,IF(A82<=Calculos!$B$4,A82,A82-Calculos!$B$4),Calculos!$B$2+1-MOD(78-1,Calculos!$B$6)+1)),IF(MOD(IF(A82<=Calculos!$B$4,A82,A82-Calculos!$B$4)+MOD(78-1,Calculos!$B$6)+1,2)=0,INDEX(Calculos!$B$36:$S$52,IF(A82<=Calculos!$B$4,A82,A82-Calculos!$B$4),Calculos!$B$2+1-MOD(78-1,Calculos!$B$6)+1),INDEX(Calculos!$B$36:$S$52,IF(A82<=Calculos!$B$4,A82,A82-Calculos!$B$4),MOD(78-1,Calculos!$B$6)+1))))) -> #VALUE! | F82: =IF(A82="","",INDEX(Calculos!$B$11:$B$28,IF(A82>Calculos!$B$4,IF(MOD(IF(A82<=Calculos!$B$4,A82,A82-Calculos!$B$4)+MOD(78-1,Calculos!$B$6)+1,2)=0,INDEX(Calculos!$B$36:$S$52,IF(A82<=Calculos!$B$4,A82,A82-Calculos!$B$4),Calculos!$B$2+1-MOD(78-1,Calculos!$B$6)+1),INDEX(Calculos!$B$36:$S$52,IF(A82<=Calculos!$B$4,A82,A82-Calculos!$B$4),MOD(78-1,Calculos!$B$6)+1)),IF(MOD(IF(A82<=Calculos!$B$4,A82,A82-Calculos!$B$4)+MOD(78-1,Calculos!$B$6)+1,2)=0,INDEX(Calculos!$B$36:$S$52,IF(A82<=Calculos!$B$4,A82,A82-Calculos!$B$4),MOD(78-1,Calculos!$B$6)+1),INDEX(Calculos!$B$36:$S$52,IF(A82<=Calculos!$B$4,A82,A82-Calculos!$B$4),Calculos!$B$2+1-MOD(78-1,Calculos!$B$6)+1))))) -> #VALUE! | G82: =IF(A82="","",IF(AND(ISNUMBER(D82),ISNUMBER(E82)),"Jugado","Pendiente")) -> Pendiente | H82: =IF(OR(C82="",F82=""),"",IF(AND(ISNUMBER(D82),ISNUMBER(E82)),IF(D82>E82,Inicio!$E$6,IF(D82=E82,Inicio!$F$6,Inicio!$G$6)),"")) -> #VALUE! | I82: =IF(OR(C82="",F82=""),"",IF(AND(ISNUMBER(D82),ISNUMBER(E82)),IF(D82<E82,Inicio!$E$6,IF(D82=E82,Inicio!$F$6,Inicio!$G$6)),"")) -> #VALUE! | J82: =IF(AND(ISNUMBER(D82),ISNUMBER(E82),D82>E82),1,0) -> 0 | K82: =IF(AND(ISNUMBER(D82),ISNUMBER(E82),D82=E82),1,0) -> 0 | L82: =IF(AND(ISNUMBER(D82),ISNUMBER(E82),D82<E82),1,0) -> 0 | M82: =IF(AND(ISNUMBER(D82),ISNUMBER(E82),D82<E82),1,0) -> 0 | N82: =IF(AND(ISNUMBER(D82),ISNUMBER(E82),D82=E82),1,0) -> 0 | O82: =IF(AND(ISNUMBER(D82),ISNUMBER(E82),D82>E82),1,0) -> 0
A83: =IF(OR(Calculos!$B$7=0,79>Calculos!$B$7),"",INT((79-1)/Calculos!$B$6)+1) -> 16 | B83: =IF(A83="","",Inicio!$E$5+(A83-1)*Inicio!$B$6) -> 46187 | C83: =IF(A83="","",INDEX(Calculos!$B$11:$B$28,IF(A83>Calculos!$B$4,IF(MOD(IF(A83<=Calculos!$B$4,A83,A83-Calculos!$B$4)+MOD(79-1,Calculos!$B$6)+1,2)=0,INDEX(Calculos!$B$36:$S$52,IF(A83<=Calculos!$B$4,A83,A83-Calculos!$B$4),MOD(79-1,Calculos!$B$6)+1),INDEX(Calculos!$B$36:$S$52,IF(A83<=Calculos!$B$4,A83,A83-Calculos!$B$4),Calculos!$B$2+1-MOD(79-1,Calculos!$B$6)+1)),IF(MOD(IF(A83<=Calculos!$B$4,A83,A83-Calculos!$B$4)+MOD(79-1,Calculos!$B$6)+1,2)=0,INDEX(Calculos!$B$36:$S$52,IF(A83<=Calculos!$B$4,A83,A83-Calculos!$B$4),Calculos!$B$2+1-MOD(79-1,Calculos!$B$6)+1),INDEX(Calculos!$B$36:$S$52,IF(A83<=Calculos!$B$4,A83,A83-Calculos!$B$4),MOD(79-1,Calculos!$B$6)+1))))) -> #VALUE! | F83: =IF(A83="","",INDEX(Calculos!$B$11:$B$28,IF(A83>Calculos!$B$4,IF(MOD(IF(A83<=Calculos!$B$4,A83,A83-Calculos!$B$4)+MOD(79-1,Calculos!$B$6)+1,2)=0,INDEX(Calculos!$B$36:$S$52,IF(A83<=Calculos!$B$4,A83,A83-Calculos!$B$4),Calculos!$B$2+1-MOD(79-1,Calculos!$B$6)+1),INDEX(Calculos!$B$36:$S$52,IF(A83<=Calculos!$B$4,A83,A83-Calculos!$B$4),MOD(79-1,Calculos!$B$6)+1)),IF(MOD(IF(A83<=Calculos!$B$4,A83,A83-Calculos!$B$4)+MOD(79-1,Calculos!$B$6)+1,2)=0,INDEX(Calculos!$B$36:$S$52,IF(A83<=Calculos!$B$4,A83,A83-Calculos!$B$4),MOD(79-1,Calculos!$B$6)+1),INDEX(Calculos!$B$36:$S$52,IF(A83<=Calculos!$B$4,A83,A83-Calculos!$B$4),Calculos!$B$2+1-MOD(79-1,Calculos!$B$6)+1))))) -> #VALUE! | G83: =IF(A83="","",IF(AND(ISNUMBER(D83),ISNUMBER(E83)),"Jugado","Pendiente")) -> Pendiente | H83: =IF(OR(C83="",F83=""),"",IF(AND(ISNUMBER(D83),ISNUMBER(E83)),IF(D83>E83,Inicio!$E$6,IF(D83=E83,Inicio!$F$6,Inicio!$G$6)),"")) -> #VALUE! | I83: =IF(OR(C83="",F83=""),"",IF(AND(ISNUMBER(D83),ISNUMBER(E83)),IF(D83<E83,Inicio!$E$6,IF(D83=E83,Inicio!$F$6,Inicio!$G$6)),"")) -> #VALUE! | J83: =IF(AND(ISNUMBER(D83),ISNUMBER(E83),D83>E83),1,0) -> 0 | K83: =IF(AND(ISNUMBER(D83),ISNUMBER(E83),D83=E83),1,0) -> 0 | L83: =IF(AND(ISNUMBER(D83),ISNUMBER(E83),D83<E83),1,0) -> 0 | M83: =IF(AND(ISNUMBER(D83),ISNUMBER(E83),D83<E83),1,0) -> 0 | N83: =IF(AND(ISNUMBER(D83),ISNUMBER(E83),D83=E83),1,0) -> 0 | O83: =IF(AND(ISNUMBER(D83),ISNUMBER(E83),D83>E83),1,0) -> 0
A84: =IF(OR(Calculos!$B$7=0,80>Calculos!$B$7),"",INT((80-1)/Calculos!$B$6)+1) -> 16 | B84: =IF(A84="","",Inicio!$E$5+(A84-1)*Inicio!$B$6) -> 46187 | C84: =IF(A84="","",INDEX(Calculos!$B$11:$B$28,IF(A84>Calculos!$B$4,IF(MOD(IF(A84<=Calculos!$B$4,A84,A84-Calculos!$B$4)+MOD(80-1,Calculos!$B$6)+1,2)=0,INDEX(Calculos!$B$36:$S$52,IF(A84<=Calculos!$B$4,A84,A84-Calculos!$B$4),MOD(80-1,Calculos!$B$6)+1),INDEX(Calculos!$B$36:$S$52,IF(A84<=Calculos!$B$4,A84,A84-Calculos!$B$4),Calculos!$B$2+1-MOD(80-1,Calculos!$B$6)+1)),IF(MOD(IF(A84<=Calculos!$B$4,A84,A84-Calculos!$B$4)+MOD(80-1,Calculos!$B$6)+1,2)=0,INDEX(Calculos!$B$36:$S$52,IF(A84<=Calculos!$B$4,A84,A84-Calculos!$B$4),Calculos!$B$2+1-MOD(80-1,Calculos!$B$6)+1),INDEX(Calculos!$B$36:$S$52,IF(A84<=Calculos!$B$4,A84,A84-Calculos!$B$4),MOD(80-1,Calculos!$B$6)+1))))) -> #VALUE! | F84: =IF(A84="","",INDEX(Calculos!$B$11:$B$28,IF(A84>Calculos!$B$4,IF(MOD(IF(A84<=Calculos!$B$4,A84,A84-Calculos!$B$4)+MOD(80-1,Calculos!$B$6)+1,2)=0,INDEX(Calculos!$B$36:$S$52,IF(A84<=Calculos!$B$4,A84,A84-Calculos!$B$4),Calculos!$B$2+1-MOD(80-1,Calculos!$B$6)+1),INDEX(Calculos!$B$36:$S$52,IF(A84<=Calculos!$B$4,A84,A84-Calculos!$B$4),MOD(80-1,Calculos!$B$6)+1)),IF(MOD(IF(A84<=Calculos!$B$4,A84,A84-Calculos!$B$4)+MOD(80-1,Calculos!$B$6)+1,2)=0,INDEX(Calculos!$B$36:$S$52,IF(A84<=Calculos!$B$4,A84,A84-Calculos!$B$4),MOD(80-1,Calculos!$B$6)+1),INDEX(Calculos!$B$36:$S$52,IF(A84<=Calculos!$B$4,A84,A84-Calculos!$B$4),Calculos!$B$2+1-MOD(80-1,Calculos!$B$6)+1))))) -> #VALUE! | G84: =IF(A84="","",IF(AND(ISNUMBER(D84),ISNUMBER(E84)),"Jugado","Pendiente")) -> Pendiente | H84: =IF(OR(C84="",F84=""),"",IF(AND(ISNUMBER(D84),ISNUMBER(E84)),IF(D84>E84,Inicio!$E$6,IF(D84=E84,Inicio!$F$6,Inicio!$G$6)),"")) -> #VALUE! | I84: =IF(OR(C84="",F84=""),"",IF(AND(ISNUMBER(D84),ISNUMBER(E84)),IF(D84<E84,Inicio!$E$6,IF(D84=E84,Inicio!$F$6,Inicio!$G$6)),"")) -> #VALUE! | J84: =IF(AND(ISNUMBER(D84),ISNUMBER(E84),D84>E84),1,0) -> 0 | K84: =IF(AND(ISNUMBER(D84),ISNUMBER(E84),D84=E84),1,0) -> 0 | L84: =IF(AND(ISNUMBER(D84),ISNUMBER(E84),D84<E84),1,0) -> 0 | M84: =IF(AND(ISNUMBER(D84),ISNUMBER(E84),D84<E84),1,0) -> 0 | N84: =IF(AND(ISNUMBER(D84),ISNUMBER(E84),D84=E84),1,0) -> 0 | O84: =IF(AND(ISNUMBER(D84),ISNUMBER(E84),D84>E84),1,0) -> 0
A85: =IF(OR(Calculos!$B$7=0,81>Calculos!$B$7),"",INT((81-1)/Calculos!$B$6)+1) -> 17 | B85: =IF(A85="","",Inicio!$E$5+(A85-1)*Inicio!$B$6) -> 46194 | C85: =IF(A85="","",INDEX(Calculos!$B$11:$B$28,IF(A85>Calculos!$B$4,IF(MOD(IF(A85<=Calculos!$B$4,A85,A85-Calculos!$B$4)+MOD(81-1,Calculos!$B$6)+1,2)=0,INDEX(Calculos!$B$36:$S$52,IF(A85<=Calculos!$B$4,A85,A85-Calculos!$B$4),MOD(81-1,Calculos!$B$6)+1),INDEX(Calculos!$B$36:$S$52,IF(A85<=Calculos!$B$4,A85,A85-Calculos!$B$4),Calculos!$B$2+1-MOD(81-1,Calculos!$B$6)+1)),IF(MOD(IF(A85<=Calculos!$B$4,A85,A85-Calculos!$B$4)+MOD(81-1,Calculos!$B$6)+1,2)=0,INDEX(Calculos!$B$36:$S$52,IF(A85<=Calculos!$B$4,A85,A85-Calculos!$B$4),Calculos!$B$2+1-MOD(81-1,Calculos!$B$6)+1),INDEX(Calculos!$B$36:$S$52,IF(A85<=Calculos!$B$4,A85,A85-Calculos!$B$4),MOD(81-1,Calculos!$B$6)+1))))) -> #VALUE! | F85: =IF(A85="","",INDEX(Calculos!$B$11:$B$28,IF(A85>Calculos!$B$4,IF(MOD(IF(A85<=Calculos!$B$4,A85,A85-Calculos!$B$4)+MOD(81-1,Calculos!$B$6)+1,2)=0,INDEX(Calculos!$B$36:$S$52,IF(A85<=Calculos!$B$4,A85,A85-Calculos!$B$4),Calculos!$B$2+1-MOD(81-1,Calculos!$B$6)+1),INDEX(Calculos!$B$36:$S$52,IF(A85<=Calculos!$B$4,A85,A85-Calculos!$B$4),MOD(81-1,Calculos!$B$6)+1)),IF(MOD(IF(A85<=Calculos!$B$4,A85,A85-Calculos!$B$4)+MOD(81-1,Calculos!$B$6)+1,2)=0,INDEX(Calculos!$B$36:$S$52,IF(A85<=Calculos!$B$4,A85,A85-Calculos!$B$4),MOD(81-1,Calculos!$B$6)+1),INDEX(Calculos!$B$36:$S$52,IF(A85<=Calculos!$B$4,A85,A85-Calculos!$B$4),Calculos!$B$2+1-MOD(81-1,Calculos!$B$6)+1))))) -> #VALUE! | G85: =IF(A85="","",IF(AND(ISNUMBER(D85),ISNUMBER(E85)),"Jugado","Pendiente")) -> Pendiente | H85: =IF(OR(C85="",F85=""),"",IF(AND(ISNUMBER(D85),ISNUMBER(E85)),IF(D85>E85,Inicio!$E$6,IF(D85=E85,Inicio!$F$6,Inicio!$G$6)),"")) -> #VALUE! | I85: =IF(OR(C85="",F85=""),"",IF(AND(ISNUMBER(D85),ISNUMBER(E85)),IF(D85<E85,Inicio!$E$6,IF(D85=E85,Inicio!$F$6,Inicio!$G$6)),"")) -> #VALUE! | J85: =IF(AND(ISNUMBER(D85),ISNUMBER(E85),D85>E85),1,0) -> 0 | K85: =IF(AND(ISNUMBER(D85),ISNUMBER(E85),D85=E85),1,0) -> 0 | L85: =IF(AND(ISNUMBER(D85),ISNUMBER(E85),D85<E85),1,0) -> 0 | M85: =IF(AND(ISNUMBER(D85),ISNUMBER(E85),D85<E85),1,0) -> 0 | N85: =IF(AND(ISNUMBER(D85),ISNUMBER(E85),D85=E85),1,0) -> 0 | O85: =IF(AND(ISNUMBER(D85),ISNUMBER(E85),D85>E85),1,0) -> 0
A86: =IF(OR(Calculos!$B$7=0,82>Calculos!$B$7),"",INT((82-1)/Calculos!$B$6)+1) -> 17 | B86: =IF(A86="","",Inicio!$E$5+(A86-1)*Inicio!$B$6) -> 46194 | C86: =IF(A86="","",INDEX(Calculos!$B$11:$B$28,IF(A86>Calculos!$B$4,IF(MOD(IF(A86<=Calculos!$B$4,A86,A86-Calculos!$B$4)+MOD(82-1,Calculos!$B$6)+1,2)=0,INDEX(Calculos!$B$36:$S$52,IF(A86<=Calculos!$B$4,A86,A86-Calculos!$B$4),MOD(82-1,Calculos!$B$6)+1),INDEX(Calculos!$B$36:$S$52,IF(A86<=Calculos!$B$4,A86,A86-Calculos!$B$4),Calculos!$B$2+1-MOD(82-1,Calculos!$B$6)+1)),IF(MOD(IF(A86<=Calculos!$B$4,A86,A86-Calculos!$B$4)+MOD(82-1,Calculos!$B$6)+1,2)=0,INDEX(Calculos!$B$36:$S$52,IF(A86<=Calculos!$B$4,A86,A86-Calculos!$B$4),Calculos!$B$2+1-MOD(82-1,Calculos!$B$6)+1),INDEX(Calculos!$B$36:$S$52,IF(A86<=Calculos!$B$4,A86,A86-Calculos!$B$4),MOD(82-1,Calculos!$B$6)+1))))) -> #VALUE! | F86: =IF(A86="","",INDEX(Calculos!$B$11:$B$28,IF(A86>Calculos!$B$4,IF(MOD(IF(A86<=Calculos!$B$4,A86,A86-Calculos!$B$4)+MOD(82-1,Calculos!$B$6)+1,2)=0,INDEX(Calculos!$B$36:$S$52,IF(A86<=Calculos!$B$4,A86,A86-Calculos!$B$4),Calculos!$B$2+1-MOD(82-1,Calculos!$B$6)+1),INDEX(Calculos!$B$36:$S$52,IF(A86<=Calculos!$B$4,A86,A86-Calculos!$B$4),MOD(82-1,Calculos!$B$6)+1)),IF(MOD(IF(A86<=Calculos!$B$4,A86,A86-Calculos!$B$4)+MOD(82-1,Calculos!$B$6)+1,2)=0,INDEX(Calculos!$B$36:$S$52,IF(A86<=Calculos!$B$4,A86,A86-Calculos!$B$4),MOD(82-1,Calculos!$B$6)+1),INDEX(Calculos!$B$36:$S$52,IF(A86<=Calculos!$B$4,A86,A86-Calculos!$B$4),Calculos!$B$2+1-MOD(82-1,Calculos!$B$6)+1))))) -> #VALUE! | G86: =IF(A86="","",IF(AND(ISNUMBER(D86),ISNUMBER(E86)),"Jugado","Pendiente")) -> Pendiente | H86: =IF(OR(C86="",F86=""),"",IF(AND(ISNUMBER(D86),ISNUMBER(E86)),IF(D86>E86,Inicio!$E$6,IF(D86=E86,Inicio!$F$6,Inicio!$G$6)),"")) -> #VALUE! | I86: =IF(OR(C86="",F86=""),"",IF(AND(ISNUMBER(D86),ISNUMBER(E86)),IF(D86<E86,Inicio!$E$6,IF(D86=E86,Inicio!$F$6,Inicio!$G$6)),"")) -> #VALUE! | J86: =IF(AND(ISNUMBER(D86),ISNUMBER(E86),D86>E86),1,0) -> 0 | K86: =IF(AND(ISNUMBER(D86),ISNUMBER(E86),D86=E86),1,0) -> 0 | L86: =IF(AND(ISNUMBER(D86),ISNUMBER(E86),D86<E86),1,0) -> 0 | M86: =IF(AND(ISNUMBER(D86),ISNUMBER(E86),D86<E86),1,0) -> 0 | N86: =IF(AND(ISNUMBER(D86),ISNUMBER(E86),D86=E86),1,0) -> 0 | O86: =IF(AND(ISNUMBER(D86),ISNUMBER(E86),D86>E86),1,0) -> 0
A87: =IF(OR(Calculos!$B$7=0,83>Calculos!$B$7),"",INT((83-1)/Calculos!$B$6)+1) -> 17 | B87: =IF(A87="","",Inicio!$E$5+(A87-1)*Inicio!$B$6) -> 46194 | C87: =IF(A87="","",INDEX(Calculos!$B$11:$B$28,IF(A87>Calculos!$B$4,IF(MOD(IF(A87<=Calculos!$B$4,A87,A87-Calculos!$B$4)+MOD(83-1,Calculos!$B$6)+1,2)=0,INDEX(Calculos!$B$36:$S$52,IF(A87<=Calculos!$B$4,A87,A87-Calculos!$B$4),MOD(83-1,Calculos!$B$6)+1),INDEX(Calculos!$B$36:$S$52,IF(A87<=Calculos!$B$4,A87,A87-Calculos!$B$4),Calculos!$B$2+1-MOD(83-1,Calculos!$B$6)+1)),IF(MOD(IF(A87<=Calculos!$B$4,A87,A87-Calculos!$B$4)+MOD(83-1,Calculos!$B$6)+1,2)=0,INDEX(Calculos!$B$36:$S$52,IF(A87<=Calculos!$B$4,A87,A87-Calculos!$B$4),Calculos!$B$2+1-MOD(83-1,Calculos!$B$6)+1),INDEX(Calculos!$B$36:$S$52,IF(A87<=Calculos!$B$4,A87,A87-Calculos!$B$4),MOD(83-1,Calculos!$B$6)+1))))) -> #VALUE! | F87: =IF(A87="","",INDEX(Calculos!$B$11:$B$28,IF(A87>Calculos!$B$4,IF(MOD(IF(A87<=Calculos!$B$4,A87,A87-Calculos!$B$4)+MOD(83-1,Calculos!$B$6)+1,2)=0,INDEX(Calculos!$B$36:$S$52,IF(A87<=Calculos!$B$4,A87,A87-Calculos!$B$4),Calculos!$B$2+1-MOD(83-1,Calculos!$B$6)+1),INDEX(Calculos!$B$36:$S$52,IF(A87<=Calculos!$B$4,A87,A87-Calculos!$B$4),MOD(83-1,Calculos!$B$6)+1)),IF(MOD(IF(A87<=Calculos!$B$4,A87,A87-Calculos!$B$4)+MOD(83-1,Calculos!$B$6)+1,2)=0,INDEX(Calculos!$B$36:$S$52,IF(A87<=Calculos!$B$4,A87,A87-Calculos!$B$4),MOD(83-1,Calculos!$B$6)+1),INDEX(Calculos!$B$36:$S$52,IF(A87<=Calculos!$B$4,A87,A87-Calculos!$B$4),Calculos!$B$2+1-MOD(83-1,Calculos!$B$6)+1))))) -> #VALUE! | G87: =IF(A87="","",IF(AND(ISNUMBER(D87),ISNUMBER(E87)),"Jugado","Pendiente")) -> Pendiente | H87: =IF(OR(C87="",F87=""),"",IF(AND(ISNUMBER(D87),ISNUMBER(E87)),IF(D87>E87,Inicio!$E$6,IF(D87=E87,Inicio!$F$6,Inicio!$G$6)),"")) -> #VALUE! | I87: =IF(OR(C87="",F87=""),"",IF(AND(ISNUMBER(D87),ISNUMBER(E87)),IF(D87<E87,Inicio!$E$6,IF(D87=E87,Inicio!$F$6,Inicio!$G$6)),"")) -> #VALUE! | J87: =IF(AND(ISNUMBER(D87),ISNUMBER(E87),D87>E87),1,0) -> 0 | K87: =IF(AND(ISNUMBER(D87),ISNUMBER(E87),D87=E87),1,0) -> 0 | L87: =IF(AND(ISNUMBER(D87),ISNUMBER(E87),D87<E87),1,0) -> 0 | M87: =IF(AND(ISNUMBER(D87),ISNUMBER(E87),D87<E87),1,0) -> 0 | N87: =IF(AND(ISNUMBER(D87),ISNUMBER(E87),D87=E87),1,0) -> 0 | O87: =IF(AND(ISNUMBER(D87),ISNUMBER(E87),D87>E87),1,0) -> 0
A88: =IF(OR(Calculos!$B$7=0,84>Calculos!$B$7),"",INT((84-1)/Calculos!$B$6)+1) -> 17 | B88: =IF(A88="","",Inicio!$E$5+(A88-1)*Inicio!$B$6) -> 46194 | C88: =IF(A88="","",INDEX(Calculos!$B$11:$B$28,IF(A88>Calculos!$B$4,IF(MOD(IF(A88<=Calculos!$B$4,A88,A88-Calculos!$B$4)+MOD(84-1,Calculos!$B$6)+1,2)=0,INDEX(Calculos!$B$36:$S$52,IF(A88<=Calculos!$B$4,A88,A88-Calculos!$B$4),MOD(84-1,Calculos!$B$6)+1),INDEX(Calculos!$B$36:$S$52,IF(A88<=Calculos!$B$4,A88,A88-Calculos!$B$4),Calculos!$B$2+1-MOD(84-1,Calculos!$B$6)+1)),IF(MOD(IF(A88<=Calculos!$B$4,A88,A88-Calculos!$B$4)+MOD(84-1,Calculos!$B$6)+1,2)=0,INDEX(Calculos!$B$36:$S$52,IF(A88<=Calculos!$B$4,A88,A88-Calculos!$B$4),Calculos!$B$2+1-MOD(84-1,Calculos!$B$6)+1),INDEX(Calculos!$B$36:$S$52,IF(A88<=Calculos!$B$4,A88,A88-Calculos!$B$4),MOD(84-1,Calculos!$B$6)+1))))) -> #VALUE! | F88: =IF(A88="","",INDEX(Calculos!$B$11:$B$28,IF(A88>Calculos!$B$4,IF(MOD(IF(A88<=Calculos!$B$4,A88,A88-Calculos!$B$4)+MOD(84-1,Calculos!$B$6)+1,2)=0,INDEX(Calculos!$B$36:$S$52,IF(A88<=Calculos!$B$4,A88,A88-Calculos!$B$4),Calculos!$B$2+1-MOD(84-1,Calculos!$B$6)+1),INDEX(Calculos!$B$36:$S$52,IF(A88<=Calculos!$B$4,A88,A88-Calculos!$B$4),MOD(84-1,Calculos!$B$6)+1)),IF(MOD(IF(A88<=Calculos!$B$4,A88,A88-Calculos!$B$4)+MOD(84-1,Calculos!$B$6)+1,2)=0,INDEX(Calculos!$B$36:$S$52,IF(A88<=Calculos!$B$4,A88,A88-Calculos!$B$4),MOD(84-1,Calculos!$B$6)+1),INDEX(Calculos!$B$36:$S$52,IF(A88<=Calculos!$B$4,A88,A88-Calculos!$B$4),Calculos!$B$2+1-MOD(84-1,Calculos!$B$6)+1))))) -> #VALUE! | G88: =IF(A88="","",IF(AND(ISNUMBER(D88),ISNUMBER(E88)),"Jugado","Pendiente")) -> Pendiente | H88: =IF(OR(C88="",F88=""),"",IF(AND(ISNUMBER(D88),ISNUMBER(E88)),IF(D88>E88,Inicio!$E$6,IF(D88=E88,Inicio!$F$6,Inicio!$G$6)),"")) -> #VALUE! | I88: =IF(OR(C88="",F88=""),"",IF(AND(ISNUMBER(D88),ISNUMBER(E88)),IF(D88<E88,Inicio!$E$6,IF(D88=E88,Inicio!$F$6,Inicio!$G$6)),"")) -> #VALUE! | J88: =IF(AND(ISNUMBER(D88),ISNUMBER(E88),D88>E88),1,0) -> 0 | K88: =IF(AND(ISNUMBER(D88),ISNUMBER(E88),D88=E88),1,0) -> 0 | L88: =IF(AND(ISNUMBER(D88),ISNUMBER(E88),D88<E88),1,0) -> 0 | M88: =IF(AND(ISNUMBER(D88),ISNUMBER(E88),D88<E88),1,0) -> 0 | N88: =IF(AND(ISNUMBER(D88),ISNUMBER(E88),D88=E88),1,0) -> 0 | O88: =IF(AND(ISNUMBER(D88),ISNUMBER(E88),D88>E88),1,0) -> 0
A89: =IF(OR(Calculos!$B$7=0,85>Calculos!$B$7),"",INT((85-1)/Calculos!$B$6)+1) -> 17 | B89: =IF(A89="","",Inicio!$E$5+(A89-1)*Inicio!$B$6) -> 46194 | C89: =IF(A89="","",INDEX(Calculos!$B$11:$B$28,IF(A89>Calculos!$B$4,IF(MOD(IF(A89<=Calculos!$B$4,A89,A89-Calculos!$B$4)+MOD(85-1,Calculos!$B$6)+1,2)=0,INDEX(Calculos!$B$36:$S$52,IF(A89<=Calculos!$B$4,A89,A89-Calculos!$B$4),MOD(85-1,Calculos!$B$6)+1),INDEX(Calculos!$B$36:$S$52,IF(A89<=Calculos!$B$4,A89,A89-Calculos!$B$4),Calculos!$B$2+1-MOD(85-1,Calculos!$B$6)+1)),IF(MOD(IF(A89<=Calculos!$B$4,A89,A89-Calculos!$B$4)+MOD(85-1,Calculos!$B$6)+1,2)=0,INDEX(Calculos!$B$36:$S$52,IF(A89<=Calculos!$B$4,A89,A89-Calculos!$B$4),Calculos!$B$2+1-MOD(85-1,Calculos!$B$6)+1),INDEX(Calculos!$B$36:$S$52,IF(A89<=Calculos!$B$4,A89,A89-Calculos!$B$4),MOD(85-1,Calculos!$B$6)+1))))) -> #VALUE! | F89: =IF(A89="","",INDEX(Calculos!$B$11:$B$28,IF(A89>Calculos!$B$4,IF(MOD(IF(A89<=Calculos!$B$4,A89,A89-Calculos!$B$4)+MOD(85-1,Calculos!$B$6)+1,2)=0,INDEX(Calculos!$B$36:$S$52,IF(A89<=Calculos!$B$4,A89,A89-Calculos!$B$4),Calculos!$B$2+1-MOD(85-1,Calculos!$B$6)+1),INDEX(Calculos!$B$36:$S$52,IF(A89<=Calculos!$B$4,A89,A89-Calculos!$B$4),MOD(85-1,Calculos!$B$6)+1)),IF(MOD(IF(A89<=Calculos!$B$4,A89,A89-Calculos!$B$4)+MOD(85-1,Calculos!$B$6)+1,2)=0,INDEX(Calculos!$B$36:$S$52,IF(A89<=Calculos!$B$4,A89,A89-Calculos!$B$4),MOD(85-1,Calculos!$B$6)+1),INDEX(Calculos!$B$36:$S$52,IF(A89<=Calculos!$B$4,A89,A89-Calculos!$B$4),Calculos!$B$2+1-MOD(85-1,Calculos!$B$6)+1))))) -> #VALUE! | G89: =IF(A89="","",IF(AND(ISNUMBER(D89),ISNUMBER(E89)),"Jugado","Pendiente")) -> Pendiente | H89: =IF(OR(C89="",F89=""),"",IF(AND(ISNUMBER(D89),ISNUMBER(E89)),IF(D89>E89,Inicio!$E$6,IF(D89=E89,Inicio!$F$6,Inicio!$G$6)),"")) -> #VALUE! | I89: =IF(OR(C89="",F89=""),"",IF(AND(ISNUMBER(D89),ISNUMBER(E89)),IF(D89<E89,Inicio!$E$6,IF(D89=E89,Inicio!$F$6,Inicio!$G$6)),"")) -> #VALUE! | J89: =IF(AND(ISNUMBER(D89),ISNUMBER(E89),D89>E89),1,0) -> 0 | K89: =IF(AND(ISNUMBER(D89),ISNUMBER(E89),D89=E89),1,0) -> 0 | L89: =IF(AND(ISNUMBER(D89),ISNUMBER(E89),D89<E89),1,0) -> 0 | M89: =IF(AND(ISNUMBER(D89),ISNUMBER(E89),D89<E89),1,0) -> 0 | N89: =IF(AND(ISNUMBER(D89),ISNUMBER(E89),D89=E89),1,0) -> 0 | O89: =IF(AND(ISNUMBER(D89),ISNUMBER(E89),D89>E89),1,0) -> 0
A90: =IF(OR(Calculos!$B$7=0,86>Calculos!$B$7),"",INT((86-1)/Calculos!$B$6)+1) -> 18 | B90: =IF(A90="","",Inicio!$E$5+(A90-1)*Inicio!$B$6) -> 46201 | C90: =IF(A90="","",INDEX(Calculos!$B$11:$B$28,IF(A90>Calculos!$B$4,IF(MOD(IF(A90<=Calculos!$B$4,A90,A90-Calculos!$B$4)+MOD(86-1,Calculos!$B$6)+1,2)=0,INDEX(Calculos!$B$36:$S$52,IF(A90<=Calculos!$B$4,A90,A90-Calculos!$B$4),MOD(86-1,Calculos!$B$6)+1),INDEX(Calculos!$B$36:$S$52,IF(A90<=Calculos!$B$4,A90,A90-Calculos!$B$4),Calculos!$B$2+1-MOD(86-1,Calculos!$B$6)+1)),IF(MOD(IF(A90<=Calculos!$B$4,A90,A90-Calculos!$B$4)+MOD(86-1,Calculos!$B$6)+1,2)=0,INDEX(Calculos!$B$36:$S$52,IF(A90<=Calculos!$B$4,A90,A90-Calculos!$B$4),Calculos!$B$2+1-MOD(86-1,Calculos!$B$6)+1),INDEX(Calculos!$B$36:$S$52,IF(A90<=Calculos!$B$4,A90,A90-Calculos!$B$4),MOD(86-1,Calculos!$B$6)+1))))) -> #VALUE! | F90: =IF(A90="","",INDEX(Calculos!$B$11:$B$28,IF(A90>Calculos!$B$4,IF(MOD(IF(A90<=Calculos!$B$4,A90,A90-Calculos!$B$4)+MOD(86-1,Calculos!$B$6)+1,2)=0,INDEX(Calculos!$B$36:$S$52,IF(A90<=Calculos!$B$4,A90,A90-Calculos!$B$4),Calculos!$B$2+1-MOD(86-1,Calculos!$B$6)+1),INDEX(Calculos!$B$36:$S$52,IF(A90<=Calculos!$B$4,A90,A90-Calculos!$B$4),MOD(86-1,Calculos!$B$6)+1)),IF(MOD(IF(A90<=Calculos!$B$4,A90,A90-Calculos!$B$4)+MOD(86-1,Calculos!$B$6)+1,2)=0,INDEX(Calculos!$B$36:$S$52,IF(A90<=Calculos!$B$4,A90,A90-Calculos!$B$4),MOD(86-1,Calculos!$B$6)+1),INDEX(Calculos!$B$36:$S$52,IF(A90<=Calculos!$B$4,A90,A90-Calculos!$B$4),Calculos!$B$2+1-MOD(86-1,Calculos!$B$6)+1))))) -> #VALUE! | G90: =IF(A90="","",IF(AND(ISNUMBER(D90),ISNUMBER(E90)),"Jugado","Pendiente")) -> Pendiente | H90: =IF(OR(C90="",F90=""),"",IF(AND(ISNUMBER(D90),ISNUMBER(E90)),IF(D90>E90,Inicio!$E$6,IF(D90=E90,Inicio!$F$6,Inicio!$G$6)),"")) -> #VALUE! | I90: =IF(OR(C90="",F90=""),"",IF(AND(ISNUMBER(D90),ISNUMBER(E90)),IF(D90<E90,Inicio!$E$6,IF(D90=E90,Inicio!$F$6,Inicio!$G$6)),"")) -> #VALUE! | J90: =IF(AND(ISNUMBER(D90),ISNUMBER(E90),D90>E90),1,0) -> 0 | K90: =IF(AND(ISNUMBER(D90),ISNUMBER(E90),D90=E90),1,0) -> 0 | L90: =IF(AND(ISNUMBER(D90),ISNUMBER(E90),D90<E90),1,0) -> 0 | M90: =IF(AND(ISNUMBER(D90),ISNUMBER(E90),D90<E90),1,0) -> 0 | N90: =IF(AND(ISNUMBER(D90),ISNUMBER(E90),D90=E90),1,0) -> 0 | O90: =IF(AND(ISNUMBER(D90),ISNUMBER(E90),D90>E90),1,0) -> 0
A91: =IF(OR(Calculos!$B$7=0,87>Calculos!$B$7),"",INT((87-1)/Calculos!$B$6)+1) -> 18 | B91: =IF(A91="","",Inicio!$E$5+(A91-1)*Inicio!$B$6) -> 46201 | C91: =IF(A91="","",INDEX(Calculos!$B$11:$B$28,IF(A91>Calculos!$B$4,IF(MOD(IF(A91<=Calculos!$B$4,A91,A91-Calculos!$B$4)+MOD(87-1,Calculos!$B$6)+1,2)=0,INDEX(Calculos!$B$36:$S$52,IF(A91<=Calculos!$B$4,A91,A91-Calculos!$B$4),MOD(87-1,Calculos!$B$6)+1),INDEX(Calculos!$B$36:$S$52,IF(A91<=Calculos!$B$4,A91,A91-Calculos!$B$4),Calculos!$B$2+1-MOD(87-1,Calculos!$B$6)+1)),IF(MOD(IF(A91<=Calculos!$B$4,A91,A91-Calculos!$B$4)+MOD(87-1,Calculos!$B$6)+1,2)=0,INDEX(Calculos!$B$36:$S$52,IF(A91<=Calculos!$B$4,A91,A91-Calculos!$B$4),Calculos!$B$2+1-MOD(87-1,Calculos!$B$6)+1),INDEX(Calculos!$B$36:$S$52,IF(A91<=Calculos!$B$4,A91,A91-Calculos!$B$4),MOD(87-1,Calculos!$B$6)+1))))) -> #VALUE! | F91: =IF(A91="","",INDEX(Calculos!$B$11:$B$28,IF(A91>Calculos!$B$4,IF(MOD(IF(A91<=Calculos!$B$4,A91,A91-Calculos!$B$4)+MOD(87-1,Calculos!$B$6)+1,2)=0,INDEX(Calculos!$B$36:$S$52,IF(A91<=Calculos!$B$4,A91,A91-Calculos!$B$4),Calculos!$B$2+1-MOD(87-1,Calculos!$B$6)+1),INDEX(Calculos!$B$36:$S$52,IF(A91<=Calculos!$B$4,A91,A91-Calculos!$B$4),MOD(87-1,Calculos!$B$6)+1)),IF(MOD(IF(A91<=Calculos!$B$4,A91,A91-Calculos!$B$4)+MOD(87-1,Calculos!$B$6)+1,2)=0,INDEX(Calculos!$B$36:$S$52,IF(A91<=Calculos!$B$4,A91,A91-Calculos!$B$4),MOD(87-1,Calculos!$B$6)+1),INDEX(Calculos!$B$36:$S$52,IF(A91<=Calculos!$B$4,A91,A91-Calculos!$B$4),Calculos!$B$2+1-MOD(87-1,Calculos!$B$6)+1))))) -> #VALUE! | G91: =IF(A91="","",IF(AND(ISNUMBER(D91),ISNUMBER(E91)),"Jugado","Pendiente")) -> Pendiente | H91: =IF(OR(C91="",F91=""),"",IF(AND(ISNUMBER(D91),ISNUMBER(E91)),IF(D91>E91,Inicio!$E$6,IF(D91=E91,Inicio!$F$6,Inicio!$G$6)),"")) -> #VALUE! | I91: =IF(OR(C91="",F91=""),"",IF(AND(ISNUMBER(D91),ISNUMBER(E91)),IF(D91<E91,Inicio!$E$6,IF(D91=E91,Inicio!$F$6,Inicio!$G$6)),"")) -> #VALUE! | J91: =IF(AND(ISNUMBER(D91),ISNUMBER(E91),D91>E91),1,0) -> 0 | K91: =IF(AND(ISNUMBER(D91),ISNUMBER(E91),D91=E91),1,0) -> 0 | L91: =IF(AND(ISNUMBER(D91),ISNUMBER(E91),D91<E91),1,0) -> 0 | M91: =IF(AND(ISNUMBER(D91),ISNUMBER(E91),D91<E91),1,0) -> 0 | N91: =IF(AND(ISNUMBER(D91),ISNUMBER(E91),D91=E91),1,0) -> 0 | O91: =IF(AND(ISNUMBER(D91),ISNUMBER(E91),D91>E91),1,0) -> 0
A92: =IF(OR(Calculos!$B$7=0,88>Calculos!$B$7),"",INT((88-1)/Calculos!$B$6)+1) -> 18 | B92: =IF(A92="","",Inicio!$E$5+(A92-1)*Inicio!$B$6) -> 46201 | C92: =IF(A92="","",INDEX(Calculos!$B$11:$B$28,IF(A92>Calculos!$B$4,IF(MOD(IF(A92<=Calculos!$B$4,A92,A92-Calculos!$B$4)+MOD(88-1,Calculos!$B$6)+1,2)=0,INDEX(Calculos!$B$36:$S$52,IF(A92<=Calculos!$B$4,A92,A92-Calculos!$B$4),MOD(88-1,Calculos!$B$6)+1),INDEX(Calculos!$B$36:$S$52,IF(A92<=Calculos!$B$4,A92,A92-Calculos!$B$4),Calculos!$B$2+1-MOD(88-1,Calculos!$B$6)+1)),IF(MOD(IF(A92<=Calculos!$B$4,A92,A92-Calculos!$B$4)+MOD(88-1,Calculos!$B$6)+1,2)=0,INDEX(Calculos!$B$36:$S$52,IF(A92<=Calculos!$B$4,A92,A92-Calculos!$B$4),Calculos!$B$2+1-MOD(88-1,Calculos!$B$6)+1),INDEX(Calculos!$B$36:$S$52,IF(A92<=Calculos!$B$4,A92,A92-Calculos!$B$4),MOD(88-1,Calculos!$B$6)+1))))) -> #VALUE! | F92: =IF(A92="","",INDEX(Calculos!$B$11:$B$28,IF(A92>Calculos!$B$4,IF(MOD(IF(A92<=Calculos!$B$4,A92,A92-Calculos!$B$4)+MOD(88-1,Calculos!$B$6)+1,2)=0,INDEX(Calculos!$B$36:$S$52,IF(A92<=Calculos!$B$4,A92,A92-Calculos!$B$4),Calculos!$B$2+1-MOD(88-1,Calculos!$B$6)+1),INDEX(Calculos!$B$36:$S$52,IF(A92<=Calculos!$B$4,A92,A92-Calculos!$B$4),MOD(88-1,Calculos!$B$6)+1)),IF(MOD(IF(A92<=Calculos!$B$4,A92,A92-Calculos!$B$4)+MOD(88-1,Calculos!$B$6)+1,2)=0,INDEX(Calculos!$B$36:$S$52,IF(A92<=Calculos!$B$4,A92,A92-Calculos!$B$4),MOD(88-1,Calculos!$B$6)+1),INDEX(Calculos!$B$36:$S$52,IF(A92<=Calculos!$B$4,A92,A92-Calculos!$B$4),Calculos!$B$2+1-MOD(88-1,Calculos!$B$6)+1))))) -> #VALUE! | G92: =IF(A92="","",IF(AND(ISNUMBER(D92),ISNUMBER(E92)),"Jugado","Pendiente")) -> Pendiente | H92: =IF(OR(C92="",F92=""),"",IF(AND(ISNUMBER(D92),ISNUMBER(E92)),IF(D92>E92,Inicio!$E$6,IF(D92=E92,Inicio!$F$6,Inicio!$G$6)),"")) -> #VALUE! | I92: =IF(OR(C92="",F92=""),"",IF(AND(ISNUMBER(D92),ISNUMBER(E92)),IF(D92<E92,Inicio!$E$6,IF(D92=E92,Inicio!$F$6,Inicio!$G$6)),"")) -> #VALUE! | J92: =IF(AND(ISNUMBER(D92),ISNUMBER(E92),D92>E92),1,0) -> 0 | K92: =IF(AND(ISNUMBER(D92),ISNUMBER(E92),D92=E92),1,0) -> 0 | L92: =IF(AND(ISNUMBER(D92),ISNUMBER(E92),D92<E92),1,0) -> 0 | M92: =IF(AND(ISNUMBER(D92),ISNUMBER(E92),D92<E92),1,0) -> 0 | N92: =IF(AND(ISNUMBER(D92),ISNUMBER(E92),D92=E92),1,0) -> 0 | O92: =IF(AND(ISNUMBER(D92),ISNUMBER(E92),D92>E92),1,0) -> 0
