Workbook
Name Filtro_Equipos: Listas!$C$2:$C$7
Name Filtro_Personas: Listas!$A$2:$A$6
Name Lista_Equipos: Listas!$C$3:$C$7
Name Lista_Estados: Listas!$I$2:$I$6
Name Lista_Personas: Listas!$A$3:$A$6
Name Lista_Prioridad: Listas!$K$2:$K$4
Name Lista_Proyectos: Listas!$E$2:$E$7
Name Lista_Tipos: Listas!$G$2:$G$8

Sheet Dashboard
A1: Dashboard de Productividad (se actualiza con el Registro)
A2: Cambia filtros (fechas/persona/equipo) para ver KPIs y gráficos. Los puntos sirven para medir 'valor entregado' (no solo horas).
A4: Filtros
A5: Fecha inicio | B5: 46052 | C5: Fecha fin | D5: 46065 | E5: Persona | F5: Todas | G5: Equipo | H5: Todos
A6: Fechas: | B6: =">="&$B$5 -> >=46052 | D6: ="<="&$D$5 -> <=46065 | E6: Criterios: | F6: =IF($F$5="Todas","*",$F$5) -> * | H6: =IF($H$5="Todos","*",$H$5) -> *
A8: KPIs (rango filtrado)
A9: Horas totales | B9: =SUMIFS(Registro!$P$7:$P$206,Registro!$B$7:$B$206,$B$6,Registro!$B$7:$B$206,$D$6,Registro!$D$7:$D$206,$F$6,Registro!$E$7:$E$206,$H$6) -> 36.916667 | C9: Tareas completadas | D9: =COUNTIFS(Registro!$B$7:$B$206,$B$6,Registro!$B$7:$B$206,$D$6,Registro!$D$7:$D$206,$F$6,Registro!$E$7:$E$206,$H$6,Registro!$Q$7:$Q$206,"Hecho") -> 14
A10: Horas productivas | B10: =SUMIFS(Registro!$P$7:$P$206,Registro!$B$7:$B$206,$B$6,Registro!$B$7:$B$206,$D$6,Registro!$D$7:$D$206,$F$6,Registro!$E$7:$E$206,$H$6,Registro!$V$7:$V$206,1) -> 29.416667 | C10: % a tiempo | D10: =IFERROR(COUNTIFS(Registro!$B$7:$B$206,$B$6,Registro!$B$7:$B$206,$D$6,Registro!$D$7:$D$206,$F$6,Registro!$E$7:$E$206,$H$6,Registro!$Q$7:$Q$206,"Hecho",Registro!$S$7:$S$206,"Sí")/D9,"") -> 1
A11: % productivo | B11: =IFERROR($B$10/$B$9,"") -> 0.79683973 | C11: Eficiencia global | D11: =IFERROR(SUMIFS(Registro!$K$7:$K$206,Registro!$B$7:$B$206,$B$6,Registro!$B$7:$B$206,$D$6,Registro!$D$7:$D$206,$F$6,Registro!$E$7:$E$206,$H$6,Registro!$Q$7:$Q$206,"Hecho")/SUMIFS(Registro!$P$7:$P$206,Registro!$B$7:$B$206,$B$6,Registro!$B$7:$B$206,$D$6,Registro!$D$7:$D$206,$F$6,Registro!$E$7:$E$206,$H$6,Registro!$Q$7:$Q$206,"Hecho"),"") -> 1.0081301
A13: Puntos completados | B13: =SUMIFS(Registro!$J$7:$J$206,Registro!$B$7:$B$206,$B$6,Registro!$B$7:$B$206,$D$6,Registro!$D$7:$D$206,$F$6,Registro!$E$7:$E$206,$H$6,Registro!$Q$7:$Q$206,"Hecho") -> 82 | C13: Puntos por hora | D13: =IFERROR($B$13/SUMIFS(Registro!$P$7:$P$206,Registro!$B$7:$B$206,$B$6,Registro!$B$7:$B$206,$D$6,Registro!$D$7:$D$206,$F$6,Registro!$E$7:$E$206,$H$6,Registro!$Q$7:$Q$206,"Hecho"),"") -> 2.6666667
A15: Horas por tipo | E15: Estado de tareas (conteo)
A16: Tipo | B16: Horas | E16: Estado | F16: Tareas
A17: Profundo | B17: =SUMIFS(Registro!$P$7:$P$206,Registro!$B$7:$B$206,$B$6,Registro!$B$7:$B$206,$D$6,Registro!$D$7:$D$206,$F$6,Registro!$E$7:$E$206,$H$6,Registro!$H$7:$H$206,$A17) -> 19.75 | E17: Planificado | F17: =COUNTIFS(Registro!$B$7:$B$206,$B$6,Registro!$B$7:$B$206,$D$6,Registro!$D$7:$D$206,$F$6,Registro!$E$7:$E$206,$H$6,Registro!$Q$7:$Q$206,$E17) -> 0
A18: Ejecución | B18: =SUMIFS(Registro!$P$7:$P$206,Registro!$B$7:$B$206,$B$6,Registro!$B$7:$B$206,$D$6,Registro!$D$7:$D$206,$F$6,Registro!$E$7:$E$206,$H$6,Registro!$H$7:$H$206,$A18) -> 5.1666667 | E18: En curso | F18: =COUNTIFS(Registro!$B$7:$B$206,$B$6,Registro!$B$7:$B$206,$D$6,Registro!$D$7:$D$206,$F$6,Registro!$E$7:$E$206,$H$6,Registro!$Q$7:$Q$206,$E18) -> 2
A19: Reunión | B19: =SUMIFS(Registro!$P$7:$P$206,Registro!$B$7:$B$206,$B$6,Registro!$B$7:$B$206,$D$6,Registro!$D$7:$D$206,$F$6,Registro!$E$7:$E$206,$H$6,Registro!$H$7:$H$206,$A19) -> 2 | E19: Hecho | F19: =COUNTIFS(Registro!$B$7:$B$206,$B$6,Registro!$B$7:$B$206,$D$6,Registro!$D$7:$D$206,$F$6,Registro!$E$7:$E$206,$H$6,Registro!$Q$7:$Q$206,$E19) -> 14
A20: Admin | B20: =SUMIFS(Registro!$P$7:$P$206,Registro!$B$7:$B$206,$B$6,Registro!$B$7:$B$206,$D$6,Registro!$D$7:$D$206,$F$6,Registro!$E$7:$E$206,$H$6,Registro!$H$7:$H$206,$A20) -> 3.25 | E20: Bloqueado | F20: =COUNTIFS(Registro!$B$7:$B$206,$B$6,Registro!$B$7:$B$206,$D$6,Registro!$D$7:$D$206,$F$6,Registro!$E$7:$E$206,$H$6,Registro!$Q$7:$Q$206,$E20) -> 0
A21: Soporte | B21: =SUMIFS(Registro!$P$7:$P$206,Registro!$B$7:$B$206,$B$6,Registro!$B$7:$B$206,$D$6,Registro!$D$7:$D$206,$F$6,Registro!$E$7:$E$206,$H$6,Registro!$H$7:$H$206,$A21) -> 4.5 | E21: Cancelado | F21: =COUNTIFS(Registro!$B$7:$B$206,$B$6,Registro!$B$7:$B$206,$D$6,Registro!$D$7:$D$206,$F$6,Registro!$E$7:$E$206,$H$6,Registro!$Q$7:$Q$206,$E21) -> 0
A22: Aprendizaje | B22: =SUMIFS(Registro!$P$7:$P$206,Registro!$B$7:$B$206,$B$6,Registro!$B$7:$B$206,$D$6,Registro!$D$7:$D$206,$F$6,Registro!$E$7:$E$206,$H$6,Registro!$H$7:$H$206,$A22) -> 1.5
A23: Interrupciones | B23: =SUMIFS(Registro!$P$7:$P$206,Registro!$B$7:$B$206,$B$6,Registro!$B$7:$B$206,$D$6,Registro!$D$7:$D$206,$F$6,Registro!$E$7:$E$206,$H$6,Registro!$H$7:$H$206,$A23) -> 0.75
A24: Serie diaria (máx. 31 días) — puntos completados
A25: Fecha | B25: Puntos
A26: =IF($D$5<$B$5,"",IF(1<=($D$5-$B$5+1),$B$5+0,"")) -> 46052 | B26: =IF($A26="","",SUMIFS(Registro!$J$7:$J$206,Registro!$B$7:$B$206,$A26,Registro!$D$7:$D$206,$F$6,Registro!$E$7:$E$206,$H$6,Registro!$Q$7:$Q$206,"Hecho")) -> 0
A27: =IF($D$5<$B$5,"",IF(2<=($D$5-$B$5+1),$B$5+1,"")) -> 46053 | B27: =IF($A27="","",SUMIFS(Registro!$J$7:$J$206,Registro!$B$7:$B$206,$A27,Registro!$D$7:$D$206,$F$6,Registro!$E$7:$E$206,$H$6,Registro!$Q$7:$Q$206,"Hecho")) -> 0
A28: =IF($D$5<$B$5,"",IF(3<=($D$5-$B$5+1),$B$5+2,"")) -> 46054 | B28: =IF($A28="","",SUMIFS(Registro!$J$7:$J$206,Registro!$B$7:$B$206,$A28,Registro!$D$7:$D$206,$F$6,Registro!$E$7:$E$206,$H$6,Registro!$Q$7:$Q$206,"Hecho")) -> 0
A29: =IF($D$5<$B$5,"",IF(4<=($D$5-$B$5+1),$B$5+3,"")) -> 46055 | B29: =IF($A29="","",SUMIFS(Registro!$J$7:$J$206,Registro!$B$7:$B$206,$A29,Registro!$D$7:$D$206,$F$6,Registro!$E$7:$E$206,$H$6,Registro!$Q$7:$Q$206,"Hecho")) -> 0
A30: =IF($D$5<$B$5,"",IF(5<=($D$5-$B$5+1),$B$5+4,"")) -> 46056 | B30: =IF($A30="","",SUMIFS(Registro!$J$7:$J$206,Registro!$B$7:$B$206,$A30,Registro!$D$7:$D$206,$F$6,Registro!$E$7:$E$206,$H$6,Registro!$Q$7:$Q$206,"Hecho")) -> 1
A31: =IF($D$5<$B$5,"",IF(6<=($D$5-$B$5+1),$B$5+5,"")) -> 46057 | B31: =IF($A31="","",SUMIFS(Registro!$J$7:$J$206,Registro!$B$7:$B$206,$A31,Registro!$D$7:$D$206,$F$6,Registro!$E$7:$E$206,$H$6,Registro!$Q$7:$Q$206,"Hecho")) -> 15
A32: =IF($D$5<$B$5,"",IF(7<=($D$5-$B$5+1),$B$5+6,"")) -> 46058 | B32: =IF($A32="","",SUMIFS(Registro!$J$7:$J$206,Registro!$B$7:$B$206,$A32,Registro!$D$7:$D$206,$F$6,Registro!$E$7:$E$206,$H$6,Registro!$Q$7:$Q$206,"Hecho")) -> 5
A33: =IF($D$5<$B$5,"",IF(8<=($D$5-$B$5+1),$B$5+7,"")) -> 46059 | B33: =IF($A33="","",SUMIFS(Registro!$J$7:$J$206,Registro!$B$7:$B$206,$A33,Registro!$D$7:$D$206,$F$6,Registro!$E$7:$E$206,$H$6,Registro!$Q$7:$Q$206,"Hecho")) -> 8
A34: =IF($D$5<$B$5,"",IF(9<=($D$5-$B$5+1),$B$5+8,"")) -> 46060 | B34: =IF($A34="","",SUMIFS(Registro!$J$7:$J$206,Registro!$B$7:$B$206,$A34,Registro!$D$7:$D$206,$F$6,Registro!$E$7:$E$206,$H$6,Registro!$Q$7:$Q$206,"Hecho")) -> 8
A35: =IF($D$5<$B$5,"",IF(10<=($D$5-$B$5+1),$B$5+9,"")) -> 46061 | B35: =IF($A35="","",SUMIFS(Registro!$J$7:$J$206,Registro!$B$7:$B$206,$A35,Registro!$D$7:$D$206,$F$6,Registro!$E$7:$E$206,$H$6,Registro!$Q$7:$Q$206,"Hecho")) -> 2
A36: =IF($D$5<$B$5,"",IF(11<=($D$5-$B$5+1),$B$5+10,"")) -> 46062 | B36: =IF($A36="","",SUMIFS(Registro!$J$7:$J$206,Registro!$B$7:$B$206,$A36,Registro!$D$7:$D$206,$F$6,Registro!$E$7:$E$206,$H$6,Registro!$Q$7:$Q$206,"Hecho")) -> 14
A37: =IF($D$5<$B$5,"",IF(12<=($D$5-$B$5+1),$B$5+11,"")) -> 46063 | B37: =IF($A37="","",SUMIFS(Registro!$J$7:$J$206,Registro!$B$7:$B$206,$A37,Registro!$D$7:$D$206,$F$6,Registro!$E$7:$E$206,$H$6,Registro!$Q$7:$Q$206,"Hecho")) -> 5
A38: =IF($D$5<$B$5,"",IF(13<=($D$5-$B$5+1),$B$5+12,"")) -> 46064 | B38: =IF($A38="","",SUMIFS(Registro!$J$7:$J$206,Registro!$B$7:$B$206,$A38,Registro!$D$7:$D$206,$F$6,Registro!$E$7:$E$206,$H$6,Registro!$Q$7:$Q$206,"Hecho")) -> 16
A39: =IF($D$5<$B$5,"",IF(14<=($D$5-$B$5+1),$B$5+13,"")) -> 46065 | B39: =IF($A39="","",SUMIFS(Registro!$J$7:$J$206,Registro!$B$7:$B$206,$A39,Registro!$D$7:$D$206,$F$6,Registro!$E$7:$E$206,$H$6,Registro!$Q$7:$Q$206,"Hecho")) -> 8
A40: =IF($D$5<$B$5,"",IF(15<=($D$5-$B$5+1),$B$5+14,"")) | B40: =IF($A40="","",SUMIFS(Registro!$J$7:$J$206,Registro!$B$7:$B$206,$A40,Registro!$D$7:$D$206,$F$6,Registro!$E$7:$E$206,$H$6,Registro!$Q$7:$Q$206,"Hecho"))
A41: =IF($D$5<$B$5,"",IF(16<=($D$5-$B$5+1),$B$5+15,"")) | B41: =IF($A41="","",SUMIFS(Registro!$J$7:$J$206,Registro!$B$7:$B$206,$A41,Registro!$D$7:$D$206,$F$6,Registro!$E$7:$E$206,$H$6,Registro!$Q$7:$Q$206,"Hecho"))
A42: =IF($D$5<$B$5,"",IF(17<=($D$5-$B$5+1),$B$5+16,"")) | B42: =IF($A42="","",SUMIFS(Registro!$J$7:$J$206,Registro!$B$7:$B$206,$A42,Registro!$D$7:$D$206,$F$6,Registro!$E$7:$E$206,$H$6,Registro!$Q$7:$Q$206,"Hecho"))
A43: =IF($D$5<$B$5,"",IF(18<=($D$5-$B$5+1),$B$5+17,"")) | B43: =IF($A43="","",SUMIFS(Registro!$J$7:$J$206,Registro!$B$7:$B$206,$A43,Registro!$D$7:$D$206,$F$6,Registro!$E$7:$E$206,$H$6,Registro!$Q$7:$Q$206,"Hecho"))
A44: =IF($D$5<$B$5,"",IF(19<=($D$5-$B$5+1),$B$5+18,"")) | B44: =IF($A44="","",SUMIFS(Registro!$J$7:$J$206,Registro!$B$7:$B$206,$A44,Registro!$D$7:$D$206,$F$6,Registro!$E$7:$E$206,$H$6,Registro!$Q$7:$Q$206,"Hecho"))
...

Sheet Registro
A1: Plantilla de Productividad — Registro de trabajo
A2: Rellena filas en la tabla desde la fila 7. Solo edita celdas en columnas de entrada (azul claro). El Dashboard se actualiza automáticamente.
A6: ID | B6: Fecha | C6: Semana | D6: Persona | E6: Equipo | F6: Proyecto | G6: Actividad | H6: Tipo de trabajo | I6: Prioridad | J6: Puntos | K6: Estimado (h) | L6: Inicio | M6: Fin | N6: Pausa (min) | O6: Horas manual (h) | P6: Horas reales (h) | Q6: Estado | R6: Fecha límite | S6: A tiempo? | T6: Eficiencia | U6: Puntos/h | V6: Productivo | W6: Notas
A7: =IF($B7="","",ROW()-6) -> 1 | B7: 46065 | C7: =IF($B7="","",WEEKNUM($B7,2)) -> 7 | D7: Sergio | E7: Operaciones | F7: Atlas | G7: Revisión de incidencias críticas y plan de mitigación | H7: Soporte | I7: Alta | J7: 8 | K7: 2 | L7: 0.375 | M7: 0.46875 | N7: 15 | P7: =IF($B7="","",IF($O7<>"",$O7,IF(AND($L7<>"",$M7<>""),MAX(0,($M7-$L7)*24-$N7/60),""))) -> 2 | Q7: Hecho | R7: 46065 | S7: =IF($Q7<>"Hecho","",IF($R7="","",IF($B7<=$R7,"Sí","No"))) -> Sí | T7: =IF(OR($P7="", $P7=0, $K7=""),"", $K7/$P7) -> 1 | U7: =IF(OR($P7="", $P7=0, $J7=""),"", $J7/$P7) -> 4 | V7: =IF(OR($H7="", $P7=""),"",IF(OR($H7="Profundo",$H7="Ejecución",$H7="Soporte"),1,0)) -> 1 | W7: Se resolvieron 3 tickets y se documentó el workaround.
A8: =IF($B8="","",ROW()-6) -> 2 | B8: 46065 | C8: =IF($B8="","",WEEKNUM($B8,2)) -> 7 | D8: Sergio | E8: Operaciones | F8: Atlas | G8: Automatización de reporte semanal (PowerQuery + plantilla) | H8: Profundo | I8: Media | J8: 13 | K8: 3 | L8: 0.47916667 | M8: 0.625 | N8: 30 | P8: =IF($B8="","",IF($O8<>"",$O8,IF(AND($L8<>"",$M8<>""),MAX(0,($M8-$L8)*24-$N8/60),""))) -> 3 | Q8: En curso | R8: 46067 | S8: =IF($Q8<>"Hecho","",IF($R8="","",IF($B8<=$R8,"Sí","No"))) | T8: =IF(OR($P8="", $P8=0, $K8=""),"", $K8/$P8) -> 1 | U8: =IF(OR($P8="", $P8=0, $J8=""),"", $J8/$P8) -> 4.3333333 | V8: =IF(OR($H8="", $P8=""),"",IF(OR($H8="Profundo",$H8="Ejecución",$H8="Soporte"),1,0)) -> 1 | W8: Pendiente validar con Finanzas.
A9: =IF($B9="","",ROW()-6) -> 3 | B9: 46064 | C9: =IF($B9="","",WEEKNUM($B9,2)) -> 7 | D9: Nuria | E9: Producto | F9: Brújula | G9: Definición de criterios de aceptación para iteración 4 | H9: Profundo | I9: Alta | J9: 8 | K9: 2.5 | L9: 0.41666667 | M9: 0.53125 | N9: 15 | P9: =IF($B9="","",IF($O9<>"",$O9,IF(AND($L9<>"",$M9<>""),MAX(0,($M9-$L9)*24-$N9/60),""))) -> 2.5 | Q9: Hecho | R9: 46064 | S9: =IF($Q9<>"Hecho","",IF($R9="","",IF($B9<=$R9,"Sí","No"))) -> Sí | T9: =IF(OR($P9="", $P9=0, $K9=""),"", $K9/$P9) -> 1 | U9: =IF(OR($P9="", $P9=0, $J9=""),"", $J9/$P9) -> 3.2 | V9: =IF(OR($H9="", $P9=""),"",IF(OR($H9="Profundo",$H9="Ejecución",$H9="Soporte"),1,0)) -> 1 | W9: Alineado con Soporte y Comercial.
A10: =IF($B10="","",ROW()-6) -> 4 | B10: 46064 | C10: =IF($B10="","",WEEKNUM($B10,2)) -> 7 | D10: Mateo | E10: Comercial | F10: Delta | G10: Preparación de propuesta para cliente (estructura + pricing) | H10: Ejecución | I10: Alta | J10: 8 | K10: 3 | L10: 0.39583333 | M10: 0.54166667 | N10: 20 | P10: =IF($B10="","",IF($O10<>"",$O10,IF(AND($L10<>"",$M10<>""),MAX(0,($M10-$L10)*24-$N10/60),""))) -> 3.1666667 | Q10: Hecho | R10: 46065 | S10: =IF($Q10<>"Hecho","",IF($R10="","",IF($B10<=$R10,"Sí","No"))) -> Sí | T10: =IF(OR($P10="", $P10=0, $K10=""),"", $K10/$P10) -> 0.94736842 | U10: =IF(OR($P10="", $P10=0, $J10=""),"", $J10/$P10) -> 2.5263158 | V10: =IF(OR($H10="", $P10=""),"",IF(OR($H10="Profundo",$H10="Ejecución",$H10="Soporte"),1,0)) -> 1 | W10: Enviado borrador para revisión legal.
A11: =IF($B11="","",ROW()-6) -> 5 | B11: 46063 | C11: =IF($B11="","",WEEKNUM($B11,2)) -> 7 | D11: Lucía | E11: Finanzas | F11: Cobalto | G11: Conciliación de gastos de viaje y ajustes contables | H11: Admin | I11: Media | J11: 3 | K11: 2 | L11: 0.625 | M11: 0.70833333 | N11: 0 | P11: =IF($B11="","",IF($O11<>"",$O11,IF(AND($L11<>"",$M11<>""),MAX(0,($M11-$L11)*24-$N11/60),""))) -> 2 | Q11: Hecho | R11: 46063 | S11: =IF($Q11<>"Hecho","",IF($R11="","",IF($B11<=$R11,"Sí","No"))) -> Sí | T11: =IF(OR($P11="", $P11=0, $K11=""),"", $K11/$P11) -> 1 | U11: =IF(OR($P11="", $P11=0, $J11=""),"", $J11/$P11) -> 1.5 | V11: =IF(OR($H11="", $P11=""),"",IF(OR($H11="Profundo",$H11="Ejecución",$H11="Soporte"),1,0)) -> 0 | W11: Detectadas 2 facturas duplicadas.
A12: =IF($B12="","",ROW()-6) -> 6 | B12: 46063 | C12: =IF($B12="","",WEEKNUM($B12,2)) -> 7 | D12: Héctor | E12: Soporte | F12: Eclipse | G12: Sesión de formación interna: guías de resolución rápida | H12: Aprendizaje | I12: Baja | J12: 2 | K12: 1.5 | L12: 0.45833333 | M12: 0.52083333 | N12: 0 | P12: =IF($B12="","",IF($O12<>"",$O12,IF(AND($L12<>"",$M12<>""),MAX(0,($M12-$L12)*24-$N12/60),""))) -> 1.5 | Q12: Hecho | R12: 46068 | S12: =IF($Q12<>"Hecho","",IF($R12="","",IF($B12<=$R12,"Sí","No"))) -> Sí | T12: =IF(OR($P12="", $P12=0, $K12=""),"", $K12/$P12) -> 1 | U12: =IF(OR($P12="", $P12=0, $J12=""),"", $J12/$P12) -> 1.3333333 | V12: =IF(OR($H12="", $P12=""),"",IF(OR($H12="Profundo",$H12="Ejecución",$H12="Soporte"),1,0)) -> 0 | W12: Se grabó la sesión.
A13: =IF($B13="","",ROW()-6) -> 7 | B13: 46062 | C13: =IF($B13="","",WEEKNUM($B13,2)) -> 7 | D13: Sergio | E13: Operaciones | F13: Faro | G13: Mapeo de proceso 'pedido a cobro' y cuellos de botella | H13: Profundo | I13: Alta | J13: 13 | K13: 4 | L13: 0.375 | M13: 0.5625 | N13: 30 | P13: =IF($B13="","",IF($O13<>"",$O13,IF(AND($L13<>"",$M13<>""),MAX(0,($M13-$L13)*24-$N13/60),""))) -> 4 | Q13: Hecho | R13: 46062 | S13: =IF($Q13<>"Hecho","",IF($R13="","",IF($B13<=$R13,"Sí","No"))) -> Sí | T13: =IF(OR($P13="", $P13=0, $K13=""),"", $K13/$P13) -> 1 | U13: =IF(OR($P13="", $P13=0, $J13=""),"", $J13/$P13) -> 3.25 | V13: =IF(OR($H13="", $P13=""),"",IF(OR($H13="Profundo",$H13="Ejecución",$H13="Soporte"),1,0)) -> 1 | W13: Lista de 5 mejoras priorizadas.
A14: =IF($B14="","",ROW()-6) -> 8 | B14: 46062 | C14: =IF($B14="","",WEEKNUM($B14,2)) -> 7 | D14: Nuria | E14: Producto | F14: Brújula | G14: Reunión de sincronización inter-equipos | H14: Reunión | I14: Media | J14: 1 | K14: 1 | L14: 0.58333333 | M14: 0.625 | N14: 0 | P14: =IF($B14="","",IF($O14<>"",$O14,IF(AND($L14<>"",$M14<>""),MAX(0,($M14-$L14)*24-$N14/60),""))) -> 1 | Q14: Hecho | R14: 46062 | S14: =IF($Q14<>"Hecho","",IF($R14="","",IF($B14<=$R14,"Sí","No"))) -> Sí | T14: =IF(OR($P14="", $P14=0, $K14=""),"", $K14/$P14) -> 1 | U14: =IF(OR($P14="", $P14=0, $J14=""),"", $J14/$P14) -> 1 | V14: =IF(OR($H14="", $P14=""),"",IF(OR($H14="Profundo",$H14="Ejecución",$H14="Soporte"),1,0)) -> 0 | W14: Pendientes: definir owner de 2 decisiones.
A15: =IF($B15="","",ROW()-6) -> 9 | B15: 46061 | C15: =IF($B15="","",WEEKNUM($B15,2)) -> 6 | D15: Mateo | E15: Comercial | F15: Delta | G15: Seguimiento de leads y actualización de CRM | H15: Admin | I15: Media | J15: 2 | K15: 1.5 | O15: 1.25 | P15: =IF($B15="","",IF($O15<>"",$O15,IF(AND($L15<>"",$M15<>""),MAX(0,($M15-$L15)*24-$N15/60),""))) -> 1.25 | Q15: Hecho | R15: 46061 | S15: =IF($Q15<>"Hecho","",IF($R15="","",IF($B15<=$R15,"Sí","No"))) -> Sí | T15: =IF(OR($P15="", $P15=0, $K15=""),"", $K15/$P15) -> 1.2 | U15: =IF(OR($P15="", $P15=0, $J15=""),"", $J15/$P15) -> 1.6 | V15: =IF(OR($H15="", $P15=""),"",IF(OR($H15="Profundo",$H15="Ejecución",$H15="Soporte"),1,0)) -> 0 | W15: Limpieza de 18 registros.
A16: =IF($B16="","",ROW()-6) -> 10 | B16: 46060 | C16: =IF($B16="","",WEEKNUM($B16,2)) -> 6 | D16: Lucía | E16: Finanzas | F16: Cobalto | G16: Análisis de desviaciones vs presupuesto (enero) | H16: Profundo | I16: Alta | J16: 8 | K16: 3 | L16: 0.375 | M16: 0.5 | N16: 10 | P16: =IF($B16="","",IF($O16<>"",$O16,IF(AND($L16<>"",$M16<>""),MAX(0,($M16-$L16)*24-$N16/60),""))) -> 2.8333333 | Q16: Hecho | R16: 46060 | S16: =IF($Q16<>"Hecho","",IF($R16="","",IF($B16<=$R16,"Sí","No"))) -> Sí | T16: =IF(OR($P16="", $P16=0, $K16=""),"", $K16/$P16) -> 1.0588235 | U16: =IF(OR($P16="", $P16=0, $J16=""),"", $J16/$P16) -> 2.8235294 | V16: =IF(OR($H16="", $P16=""),"",IF(OR($H16="Profundo",$H16="Ejecución",$H16="Soporte"),1,0)) -> 1 | W16: Se propusieron 3 acciones correctivas.
A17: =IF($B17="","",ROW()-6) -> 11 | B17: 46059 | C17: =IF($B17="","",WEEKNUM($B17,2)) -> 6 | D17: Héctor | E17: Soporte | F17: Eclipse | G17: Atención de casos escalados y comunicación con cliente | H17: Soporte | I17: Alta | J17: 8 | K17: 2.5 | L17: 0.4375 | M17: 0.55208333 | N17: 15 | P17: =IF($B17="","",IF($O17<>"",$O17,IF(AND($L17<>"",$M17<>""),MAX(0,($M17-$L17)*24-$N17/60),""))) -> 2.5 | Q17: Hecho | R17: 46059 | S17: =IF($Q17<>"Hecho","",IF($R17="","",IF($B17<=$R17,"Sí","No"))) -> Sí | T17: =IF(OR($P17="", $P17=0, $K17=""),"", $K17/$P17) -> 1 | U17: =IF(OR($P17="", $P17=0, $J17=""),"", $J17/$P17) -> 3.2 | V17: =IF(OR($H17="", $P17=""),"",IF(OR($H17="Profundo",$H17="Ejecución",$H17="Soporte"),1,0)) -> 1 | W17: Cerrados 2 escalados.
A18: =IF($B18="","",ROW()-6) -> 12 | B18: 46058 | C18: =IF($B18="","",WEEKNUM($B18,2)) -> 6 | D18: Sergio | E18: Operaciones | F18: Atlas | G18: Revisión de métricas de SLA y ajustes de alertas | H18: Ejecución | I18: Media | J18: 5 | K18: 2 | L18: 0.66666667 | M18: 0.75 | N18: 0 | P18: =IF($B18="","",IF($O18<>"",$O18,IF(AND($L18<>"",$M18<>""),MAX(0,($M18-$L18)*24-$N18/60),""))) -> 2 | Q18: Hecho | R18: 46059 | S18: =IF($Q18<>"Hecho","",IF($R18="","",IF($B18<=$R18,"Sí","No"))) -> Sí | T18: =IF(OR($P18="", $P18=0, $K18=""),"", $K18/$P18) -> 1 | U18: =IF(OR($P18="", $P18=0, $J18=""),"", $J18/$P18) -> 2.5 | V18: =IF(OR($H18="", $P18=""),"",IF(OR($H18="Profundo",$H18="Ejecución",$H18="Soporte"),1,0)) -> 1 | W18: Bajó el ruido de alertas en 20%.
A19: =IF($B19="","",ROW()-6) -> 13 | B19: 46057 | C19: =IF($B19="","",WEEKNUM($B19,2)) -> 6 | D19: Nuria | E19: Producto | F19: Brújula | G19: Redacción de especificación funcional (módulo de avisos) | H19: Profundo | I19: Alta | J19: 13 | K19: 4 | L19: 0.375 | M19: 0.57291667 | N19: 30 | P19: =IF($B19="","",IF($O19<>"",$O19,IF(AND($L19<>"",$M19<>""),MAX(0,($M19-$L19)*24-$N19/60),""))) -> 4.25 | Q19: Hecho | R19: 46058 | S19: =IF($Q19<>"Hecho","",IF($R19="","",IF($B19<=$R19,"Sí","No"))) -> Sí | T19: =IF(OR($P19="", $P19=0, $K19=""),"", $K19/$P19) -> 0.94117647 | U19: =IF(OR($P19="", $P19=0, $J19=""),"", $J19/$P19) -> 3.0588235 | V19: =IF(OR($H19="", $P19=""),"",IF(OR($H19="Profundo",$H19="Ejecución",$H19="Soporte"),1,0)) -> 1 | W19: Incluye casos límite y no-funcionales.
A20: =IF($B20="","",ROW()-6) -> 14 | B20: 46057 | C20: =IF($B20="","",WEEKNUM($B20,2)) -> 6 | D20: Mateo | E20: Comercial | F20: Delta | G20: Llamada con prospecto + minuta y próximos pasos | H20: Reunión | I20: Media | J20: 2 | K20: 1 | L20: 0.70833333 | M20: 0.75 | N20: 0 | P20: =IF($B20="","",IF($O20<>"",$O20,IF(AND($L20<>"",$M20<>""),MAX(0,($M20-$L20)*24-$N20/60),""))) -> 1 | Q20: Hecho | R20: 46057 | S20: =IF($Q20<>"Hecho","",IF($R20="","",IF($B20<=$R20,"Sí","No"))) -> Sí | T20: =IF(OR($P20="", $P20=0, $K20=""),"", $K20/$P20) -> 1 | U20: =IF(OR($P20="", $P20=0, $J20=""),"", $J20/$P20) -> 2 | V20: =IF(OR($H20="", $P20=""),"",IF(OR($H20="Profundo",$H20="Ejecución",$H20="Soporte"),1,0)) -> 0 | W20: Reunión positiva; demo agendada.
A21: =IF($B21="","",ROW()-6) -> 15 | B21: 46056 | C21: =IF($B21="","",WEEKNUM($B21,2)) -> 6 | D21: Lucía | E21: Finanzas | F21: Faro | G21: Modelo simple de cashflow semanal | H21: Profundo | I21: Media | J21: 8 | K21: 3 | L21: 0.45833333 | M21: 0.60416667 | N21: 20 | P21: =IF($B21="","",IF($O21<>"",$O21,IF(AND($L21<>"",$M21<>""),MAX(0,($M21-$L21)*24-$N21/60),""))) -> 3.1666667 | Q21: En curso | R21: 46063 | S21: =IF($Q21<>"Hecho","",IF($R21="","",IF($B21<=$R21,"Sí","No"))) | T21: =IF(OR($P21="", $P21=0, $K21=""),"", $K21/$P21) -> 0.94736842 | U21: =IF(OR($P21="", $P21=0, $J21=""),"", $J21/$P21) -> 2.5263158 | V21: =IF(OR($H21="", $P21=""),"",IF(OR($H21="Profundo",$H21="Ejecución",$H21="Soporte"),1,0)) -> 1 | W21: Falta integrar escenario pesimista.
A22: =IF($B22="","",ROW()-6) -> 16 | B22: 46056 | C22: =IF($B22="","",WEEKNUM($B22,2)) -> 6 | D22: Héctor | E22: Soporte | F22: Eclipse | G22: Interrupciones por incidencias menores (ad-hoc) | H22: Interrupciones | I22: Baja | J22: 1 | K22: 1 | O22: 0.75 | P22: =IF($B22="","",IF($O22<>"",$O22,IF(AND($L22<>"",$M22<>""),MAX(0,($M22-$L22)*24-$N22/60),""))) -> 0.75 | Q22: Hecho | R22: 46056 | S22: =IF($Q22<>"Hecho","",IF($R22="","",IF($B22<=$R22,"Sí","No"))) -> Sí | T22: =IF(OR($P22="", $P22=0, $K22=""),"", $K22/$P22) -> 1.3333333 | U22: =IF(OR($P22="", $P22=0, $J22=""),"", $J22/$P22) -> 1.3333333 | V22: =IF(OR($H22="", $P22=""),"",IF(OR($H22="Profundo",$H22="Ejecución",$H22="Soporte"),1,0)) -> 0 | W22: Varias consultas repetidas; crear FAQ.
A23: =IF($B23="","",ROW()-6) | C23: =IF($B23="","",WEEKNUM($B23,2)) | P23: =IF($B23="","",IF($O23<>"",$O23,IF(AND($L23<>"",$M23<>""),MAX(0,($M23-$L23)*24-$N23/60),""))) | S23: =IF($Q23<>"Hecho","",IF($R23="","",IF($B23<=$R23,"Sí","No"))) | T23: =IF(OR($P23="", $P23=0, $K23=""),"", $K23/$P23) | U23: =IF(OR($P23="", $P23=0, $J23=""),"", $J23/$P23) | V23: =IF(OR($H23="", $P23=""),"",IF(OR($H23="Profundo",$H23="Ejecución",$H23="Soporte"),1,0))
A24: =IF($B24="","",ROW()-6) | C24: =IF($B24="","",WEEKNUM($B24,2)) | P24: =IF($B24="","",IF($O24<>"",$O24,IF(AND($L24<>"",$M24<>""),MAX(0,($M24-$L24)*24-$N24/60),""))) | S24: =IF($Q24<>"Hecho","",IF($R24="","",IF($B24<=$R24,"Sí","No"))) | T24: =IF(OR($P24="", $P24=0, $K24=""),"", $K24/$P24) | U24: =IF(OR($P24="", $P24=0, $J24=""),"", $J24/$P24) | V24: =IF(OR($H24="", $P24=""),"",IF(OR($H24="Profundo",$H24="Ejecución",$H24="Soporte"),1,0))
A25: =IF($B25="","",ROW()-6) | C25: =IF($B25="","",WEEKNUM($B25,2)) | P25: =IF($B25="","",IF($O25<>"",$O25,IF(AND($L25<>"",$M25<>""),MAX(0,($M25-$L25)*24-$N25/60),""))) | S25: =IF($Q25<>"Hecho","",IF($R25="","",IF($B25<=$R25,"Sí","No"))) | T25: =IF(OR($P25="", $P25=0, $K25=""),"", $K25/$P25) | U25: =IF(OR($P25="", $P25=0, $J25=""),"", $J25/$P25) | V25: =IF(OR($H25="", $P25=""),"",IF(OR($H25="Profundo",$H25="Ejecución",$H25="Soporte"),1,0))
A26: =IF($B26="","",ROW()-6) | C26: =IF($B26="","",WEEKNUM($B26,2)) | P26: =IF($B26="","",IF($O26<>"",$O26,IF(AND($L26<>"",$M26<>""),MAX(0,($M26-$L26)*24-$N26/60),""))) | S26: =IF($Q26<>"Hecho","",IF($R26="","",IF($B26<=$R26,"Sí","No"))) | T26: =IF(OR($P26="", $P26=0, $K26=""),"", $K26/$P26) | U26: =IF(OR($P26="", $P26=0, $J26=""),"", $J26/$P26) | V26: =IF(OR($H26="", $P26=""),"",IF(OR($H26="Profundo",$H26="Ejecución",$H26="Soporte"),1,0))
A27: =IF($B27="","",ROW()-6) | C27: =IF($B27="","",WEEKNUM($B27,2)) | P27: =IF($B27="","",IF($O27<>"",$O27,IF(AND($L27<>"",$M27<>""),MAX(0,($M27-$L27)*24-$N27/60),""))) | S27: =IF($Q27<>"Hecho","",IF($R27="","",IF($B27<=$R27,"Sí","No"))) | T27: =IF(OR($P27="", $P27=0, $K27=""),"", $K27/$P27) | U27: =IF(OR($P27="", $P27=0, $J27=""),"", $J27/$P27) | V27: =IF(OR($H27="", $P27=""),"",IF(OR($H27="Profundo",$H27="Ejecución",$H27="Soporte"),1,0))
A28: =IF($B28="","",ROW()-6) | C28: =IF($B28="","",WEEKNUM($B28,2)) | P28: =IF($B28="","",IF($O28<>"",$O28,IF(AND($L28<>"",$M28<>""),MAX(0,($M28-$L28)*24-$N28/60),""))) | S28: =IF($Q28<>"Hecho","",IF($R28="","",IF($B28<=$R28,"Sí","No"))) | T28: =IF(OR($P28="", $P28=0, $K28=""),"", $K28/$P28) | U28: =IF(OR($P28="", $P28=0, $J28=""),"", $J28/$P28) | V28: =IF(OR($H28="", $P28=""),"",IF(OR($H28="Profundo",$H28="Ejecución",$H28="Soporte"),1,0))
A29: =IF($B29="","",ROW()-6) | C29: =IF($B29="","",WEEKNUM($B29,2)) | P29: =IF($B29="","",IF($O29<>"",$O29,IF(AND($L29<>"",$M29<>""),MAX(0,($M29-$L29)*24-$N29/60),""))) | S29: =IF($Q29<>"Hecho","",IF($R29="","",IF($B29<=$R29,"Sí","No"))) | T29: =IF(OR($P29="", $P29=0, $K29=""),"", $K29/$P29) | U29: =IF(OR($P29="", $P29=0, $J29=""),"", $J29/$P29) | V29: =IF(OR($H29="", $P29=""),"",IF(OR($H29="Profundo",$H29="Ejecución",$H29="Soporte"),1,0))
A30: =IF($B30="","",ROW()-6) | C30: =IF($B30="","",WEEKNUM($B30,2)) | P30: =IF($B30="","",IF($O30<>"",$O30,IF(AND($L30<>"",$M30<>""),MAX(0,($M30-$L30)*24-$N30/60),""))) | S30: =IF($Q30<>"Hecho","",IF($R30="","",IF($B30<=$R30,"Sí","No"))) | T30: =IF(OR($P30="", $P30=0, $K30=""),"", $K30/$P30) | U30: =IF(OR($P30="", $P30=0, $J30=""),"", $J30/$P30) | V30: =IF(OR($H30="", $P30=""),"",IF(OR($H30="Profundo",$H30="Ejecución",$H30="Soporte"),1,0))
A31: =IF($B31="","",ROW()-6) | C31: =IF($B31="","",WEEKNUM($B31,2)) | P31: =IF($B31="","",IF($O31<>"",$O31,IF(AND($L31<>"",$M31<>""),MAX(0,($M31-$L31)*24-$N31/60),""))) | S31: =IF($Q31<>"Hecho","",IF($R31="","",IF($B31<=$R31,"Sí","No"))) | T31: =IF(OR($P31="", $P31=0, $K31=""),"", $K31/$P31) | U31: =IF(OR($P31="", $P31=0, $J31=""),"", $J31/$P31) | V31: =IF(OR($H31="", $P31=""),"",IF(OR($H31="Profundo",$H31="Ejecución",$H31="Soporte"),1,0))
A32: =IF($B32="","",ROW()-6) | C32: =IF($B32="","",WEEKNUM($B32,2)) | P32: =IF($B32="","",IF($O32<>"",$O32,IF(AND($L32<>"",$M32<>""),MAX(0,($M32-$L32)*24-$N32/60),""))) | S32: =IF($Q32<>"Hecho","",IF($R32="","",IF($B32<=$R32,"Sí","No"))) | T32: =IF(OR($P32="", $P32=0, $K32=""),"", $K32/$P32) | U32: =IF(OR($P32="", $P32=0, $J32=""),"", $J32/$P32) | V32: =IF(OR($H32="", $P32=""),"",IF(OR($H32="Profundo",$H32="Ejecución",$H32="Soporte"),1,0))
A33: =IF($B33="","",ROW()-6) | C33: =IF($B33="","",WEEKNUM($B33,2)) | P33: =IF($B33="","",IF($O33<>"",$O33,IF(AND($L33<>"",$M33<>""),MAX(0,($M33-$L33)*24-$N33/60),""))) | S33: =IF($Q33<>"Hecho","",IF($R33="","",IF($B33<=$R33,"Sí","No"))) | T33: =IF(OR($P33="", $P33=0, $K33=""),"", $K33/$P33) | U33: =IF(OR($P33="", $P33=0, $J33=""),"", $J33/$P33) | V33: =IF(OR($H33="", $P33=""),"",IF(OR($H33="Profundo",$H33="Ejecución",$H33="Soporte"),1,0))
A34: =IF($B34="","",ROW()-6) | C34: =IF($B34="","",WEEKNUM($B34,2)) | P34: =IF($B34="","",IF($O34<>"",$O34,IF(AND($L34<>"",$M34<>""),MAX(0,($M34-$L34)*24-$N34/60),""))) | S34: =IF($Q34<>"Hecho","",IF($R34="","",IF($B34<=$R34,"Sí","No"))) | T34: =IF(OR($P34="", $P34=0, $K34=""),"", $K34/$P34) | U34: =IF(OR($P34="", $P34=0, $J34=""),"", $J34/$P34) | V34: =IF(OR($H34="", $P34=""),"",IF(OR($H34="Profundo",$H34="Ejecución",$H34="Soporte"),1,0))
... A206: =IF($B206="","",ROW()-6) | C206: =IF($B206="","",WEEKNUM($B206,2)) | P206: =IF($B206="","",IF($O206<>"",$O206,IF(AND($L206<>"",$M206<>""),MAX(0,($M206-$L206)*24-$N206/60),""))) | S206: =IF($Q206<>"Hecho","",IF($R206="","",IF($B206<=$R206,"Sí","No"))) | T206: =IF(OR($P206="", $P206=0, $K206=""),"", $K206/$P206) | U206: =IF(OR($P206="", $P206=0, $J206=""),"", $J206/$P206) | V206: =IF(OR($H206="", $P206=""),"",IF(OR($H206="Profundo",$H206="Ejecución",$H206="Soporte"),1,0))

Sheet Listas
A1: Personas | C1: Equipos | E1: Proyectos | G1: Tipo de trabajo | I1: Estado | K1: Prioridad | M1: Ajustes
A2: Todas | C2: Todos | E2: Atlas | G2: Profundo | I2: Planificado | K2: Alta | M2: Meta horas/semana | N2: 35
A3: Sergio | C3: Operaciones | E3: Brújula | G3: Ejecución | I3: En curso | K3: Media | M3: Meta puntos/semana | N3: 80
A4: Nuria | C4: Producto | E4: Cobalto | G4: Reunión | I4: Hecho | K4: Baja | M4: Umbral eficiencia baja | N4: 0.8
A5: Mateo | C5: Comercial | E5: Delta | G5: Admin | I5: Bloqueado | M5: Umbral eficiencia alta | N5: 1.2
A6: Lucía | C6: Finanzas | E6: Eclipse | G6: Soporte | I6: Cancelado | M6: Ventana dashboard (días) | N6: 14
A7: Héctor | C7: Soporte | E7: Faro | G7: Aprendizaje
G8: Interrupciones
A10: Nota: estas listas alimentan los desplegables del resto del archivo.
