Workbook

Sheet Calculadora
A1: CALCULADORA DE NOTAS PARA OPOSICIONES
A2: Sistema completo para el cálculo de notas en procesos selectivos
A4: PASO 1: EXAMEN TIPO TEST - Introduce tus datos
A5: CONCEPTO | B5: VALOR | C5: DESCRIPCIÓN
A6: Total de preguntas | B6: 100 | C6: Número total de preguntas del examen | G6: PUNTUACIÓN FINAL
A7: Preguntas acertadas | B7: 75 | C7: Respuestas correctas | G7: =C48+C49 -> 8.41744
A8: Preguntas falladas | B8: 18 | C8: Respuestas incorrectas | G8: =IF(G7>=5,"✓ APTO","✗ NO APTO") -> ✓ APTO
A9: Preguntas en blanco | B9: 7 | C9: Preguntas no contestadas
A10: Penalización por error | B10: 0.33 | C10: Fracción que resta cada fallo (ej: 1/3 = 0.33)
A11: Preguntas anuladas | B11: 0 | C11: Preguntas invalidadas por tribunal
A13: NOTA DEL TEST (0-10)
A14: Puntuación bruta: | B14: =B7-(B8*B10) -> 69.06 | C14: (Aciertos - Fallos × Penalización)
A15: Nota sobre 10: | B15: =IF((B6-B11)>0,(B14/(B6-B11))*10,0) -> 6.906 | C15: (Ajustada por preguntas anuladas)
A17: PASO 2: FASE DE OPOSICIÓN - Calificaciones de las pruebas
A18: PRUEBA | B18: NOTA (0-10) | C18: PONDERACIÓN % | D18: NOTA PONDERADA
A19: 1. Test de conocimientos | B19: =B15 -> 6.906 | C19: 40 | D19: =(B19*C19)/100 -> 2.7624
A20: 2. Desarrollo por escrito | B20: 7.5 | C20: 30 | D20: =(B20*C20)/100 -> 2.25
A21: 3. Exposición oral | B21: 8.25 | C21: 20 | D21: =(B21*C21)/100 -> 1.65
A22: 4. Caso práctico | B22: 7 | C22: 10 | D22: =(B22*C22)/100 -> 0.7
A23: TOTAL FASE OPOSICIÓN | C23: =SUM(C19:C22) -> 100 | D23: =SUM(D19:D22) -> 7.3624
A25: PASO 3: FASE DE CONCURSO - Baremo de Méritos
A26: MÉRITO | B26: DETALLE | C26: CANTIDAD | D26: PUNTOS UNITARIOS | E26: TOTAL
A27: EXPERIENCIA LABORAL
A28: Servicios prestados | B28: Años trabajados en la misma categoría | C28: 4.5 | D28: 1 | E28: =C28*D28 -> 4.5
A29: Servicios en otras categorías | B29: Años en categoría distinta | C29: 2 | D29: 0.5 | E29: =C29*D29 -> 1
A30: FORMACIÓN ACADÉMICA
A31: Títulos oficiales | B31: Grados, Másters adicionales | C31: 1 | D31: 1.5 | E31: =C31*D31 -> 1.5
A32: Doctor | B32: Título de Doctor | C32: 0 | D32: 2 | E32: =C32*D32 -> 0
A33: FORMACIÓN COMPLEMENTARIA
A34: Cursos homologados | B34: Número de horas certificadas / 100 | C34: 3.5 | D34: 0.5 | E34: =C34*D34 -> 1.75
A35: Idiomas (B2 o superior) | B35: Por cada certificado oficial | C35: 2 | D35: 0.75 | E35: =C35*D35 -> 1.5
A36: Publicaciones | B36: Artículos en revistas especializadas | C36: 1 | D36: 0.4 | E36: =C36*D36 -> 0.4
A37: OTROS MÉRITOS
A38: Premios y reconocimientos | B38: Galardones profesionales | C38: 0 | D38: 0.5 | E38: =C38*D38 -> 0
A39: Colaboraciones | B39: Ponencias, docencia | C39: 3 | D39: 0.3 | E39: =C39*D39 -> 0.9
A40: TOTAL BAREMO DE MÉRITOS | E40: =E28+E29+E31+E32+E34+E35+E36+E38+E39 -> 11.55
A41: Puntos máximos permitidos: | C41: 10
A42: Baremo final (limitado): | E42: =MIN(E40,C41) -> 10
A44: NOTA FINAL DEL PROCESO SELECTIVO
A45: Ponderación Fase Oposición: | C45: 60
...

Sheet Comparador
A1: COMPARADOR DE ESCENARIOS
A2: Compara diferentes resultados de examen para estrategia de respuestas
A4: ESCENARIO | B4: ACIERTOS | C4: FALLOS | D4: BLANCO | E4: NOTA TEST | F4: NOTA FINAL | G4: RESULTADO
A5: Actual | B5: =Calculadora!B7 -> 75 | C5: =Calculadora!B8 -> 18 | D5: =Calculadora!B9 -> 7 | E5: =Calculadora!B15 -> 6.906 | F5: =((E5*0.4+Calculadora!$D$20*0.3+Calculadora!$D$21*0.2+Calculadora!$D$22*0.1)*Calculadora!$C$45/100)+(Calculadora!$E$42*Calculadora!$C$46/100) -> 6.30244 | G5: =IF(F5>=5,"✓ APTO","✗ NO APTO") -> ✓ APTO
A6: Optimista (+5 aciertos) | B6: 80 | C6: 13 | D6: 7 | E6: =((B6-(C6*Calculadora!$B$10))/(Calculadora!$B$6-Calculadora!$B$11))*10 -> 7.571 | F6: =((E6*0.4+Calculadora!$D$20*0.3+Calculadora!$D$21*0.2+Calculadora!$D$22*0.1)*Calculadora!$C$45/100)+(Calculadora!$E$42*Calculadora!$C$46/100) -> 6.46204 | G6: =IF(F6>=5,"✓ APTO","✗ NO APTO") -> ✓ APTO
A7: Conservador (-5 aciertos) | B7: 70 | C7: 23 | D7: 7 | E7: =((B7-(C7*Calculadora!$B$10))/(Calculadora!$B$6-Calculadora!$B$11))*10 -> 6.241 | F7: =((E7*0.4+Calculadora!$D$20*0.3+Calculadora!$D$21*0.2+Calculadora!$D$22*0.1)*Calculadora!$C$45/100)+(Calculadora!$E$42*Calculadora!$C$46/100) -> 6.14284 | G7: =IF(F7>=5,"✓ APTO","✗ NO APTO") -> ✓ APTO
A8: Arriesgado (0 blancos) | B8: 82 | C8: 18 | D8: 0 | E8: =((B8-(C8*Calculadora!$B$10))/(Calculadora!$B$6-Calculadora!$B$11))*10 -> 7.606 | F8: =((E8*0.4+Calculadora!$D$20*0.3+Calculadora!$D$21*0.2+Calculadora!$D$22*0.1)*Calculadora!$C$45/100)+(Calculadora!$E$42*Calculadora!$C$46/100) -> 6.47044 | G8: =IF(F8>=5,"✓ APTO","✗ NO APTO") -> ✓ APTO
A9: Seguro (más blancos) | B9: 68 | C9: 10 | D9: 22 | E9: =((B9-(C9*Calculadora!$B$10))/(Calculadora!$B$6-Calculadora!$B$11))*10 -> 6.47 | F9: =((E9*0.4+Calculadora!$D$20*0.3+Calculadora!$D$21*0.2+Calculadora!$D$22*0.1)*Calculadora!$C$45/100)+(Calculadora!$E$42*Calculadora!$C$46/100) -> 6.1978 | G9: =IF(F9>=5,"✓ APTO","✗ NO APTO") -> ✓ APTO

Sheet Instrucciones
A1: GUÍA DE USO DE LA CALCULADORA
B3: CÓMO USAR ESTA PLANTILLA
A5: 1. | B5: PESTAÑA "CALCULADORA" | C5: La principal hoja de trabajo
A7: PASO 1: | B7: Examen Tipo Test | C7: Introduce tus datos en las celdas azules:
B8: • Total de preguntas del examen
B9: • Tus respuestas acertadas, falladas y en blanco
B10: • Penalización por error (normalmente 0.25 o 0.33)
B11: • Preguntas anuladas por el tribunal
B12: La nota se calcula automáticamente.
A14: PASO 2: | B14: Fase de Oposición | C14: Introduce las notas de cada prueba:
B15: • El test se autocompleta del Paso 1
B16: • Añade notas de desarrollo escrito, oral, práctico
B17: • Ajusta las ponderaciones según tu convocatoria
A19: PASO 3: | B19: Baremo de Méritos | C19: Completa tus méritos:
B20: • Experiencia laboral (años trabajados)
B21: • Formación académica adicional
B22: • Cursos homologados, idiomas, publicaciones
B23: • El sistema limita automáticamente a 10 puntos
B25: NOTA FINAL | C25: Se calcula automáticamente ponderando:
B26: • 60% Fase de Oposición
B27: • 40% Fase de Concurso (baremo)
B28: Ajusta estos % según tu convocatoria específica
A30: 2. | B30: PESTAÑA "COMPARADOR" | C30: Compara diferentes estrategias
B32: • Evalúa escenarios: ¿qué pasa si contesto más/menos?
B33: • Útil para decidir si arriesgar o ir a lo seguro
B34: • Todos los escenarios usan tu mismo baremo de méritos
A36: 3. | B36: CONSEJOS IMPORTANTES
B38: ✓ Revisa siempre las bases de tu convocatoria
B39: ✓ Las ponderaciones pueden variar según organismo
B40: ✓ Algunos exámenes usan "nota transformada" (no incluida)
B41: ✓ Guarda una copia antes de modificar datos
B42: ✓ Las celdas en AZUL son las que debes editar
