Workbook

Sheet Evaluación_RA
A1: Plantilla de evaluación por Resultados de Aprendizaje
A2: Curso / Módulo | B2: Gestión de proyectos colaborativos | D2: Periodo | E2: Enero–Marzo 2026 | J2: Umbral logrado | K2: 85 | M2: Fecha | N2: 46049
A3: Docente / Responsable | B3: Ejemplo: Equipo de Formación | D3: Escala | E3: 0–100 | J3: Umbral en progreso | K3: 70
A5: 1) Resultados de aprendizaje (definen qué se evalúa)
A6: Código RA | B6: Descripción | C6: Peso en nota final | D6: Umbral logro (RA) | E6: Evidencias principales (resumen) | F6: Notas | J6: Resumen del grupo | M6: Promedios por RA
A7: RA1 | B7: Planifica un proyecto definiendo alcance, roles y entregables. | C7: 0.3 | D7: 0.75 | E7: Plan de proyecto + control de alcance | J7: Nº estudiantes | K7: =COUNTA($B$23:$B$32) -> 10 | M7: RA1 | N7: =IFERROR(AVERAGE($O$23:$O$32),"") -> 65.2
A8: RA2 | B8: Ejecuta el proyecto coordinando tareas, comunicación y seguimiento. | C8: 0.35 | D8: 0.75 | E8: Simulación de sprint + bitácora de seguimiento | J8: Promedio nota final | K8: =IFERROR(AVERAGE($R$23:$R$32),"") -> 66.215 | M8: RA2 | N8: =IFERROR(AVERAGE($P$23:$P$32),"") -> 63.3
A9: RA3 | B9: Evalúa el desempeño del proyecto proponiendo mejoras basadas en evidencia. | C9: 0.35 | D9: 0.8 | E9: Informe de riesgos + presentación de cierre | J9: % Logrado | K9: =IFERROR(COUNTIF($S$23:$S$32,"Logrado")/COUNTA($B$23:$B$32),"") -> 0 | M9: RA3 | N9: =IFERROR(AVERAGE($Q$23:$Q$32),"") -> 70
A11: 2) Actividades / evidencias (cómo se evalúa cada RA)
A12: ID Act | B12: RA | C12: Actividad | D12: Tipo | E12: Fecha | F12: Puntos máx | G12: Peso dentro del RA | I12: Chequeo pesos por RA | J12: RA1 | K12: RA2 | L12: RA3
A13: A1 | B13: RA1 | C13: Plan de proyecto (alcance, roles, entregables) | D13: Proyecto | E13: 46056 | F13: 20 | G13: 0.6 | J13: =SUM($G$13:$G$14) -> 1 | K13: =SUM($G$15:$G$16) -> 1 | L13: =SUM($G$17:$G$18) -> 1
A14: A2 | B14: RA1 | C14: Control de alcance (cambios y trazabilidad) | D14: Caso | E14: 46063 | F14: 15 | G14: 0.4
A15: A3 | B15: RA2 | C15: Simulación de sprint: planificación y seguimiento | D15: Simulación | E15: 46070 | F15: 25 | G15: 0.55
A16: A4 | B16: RA2 | C16: Bitácora de seguimiento (comunicación y bloqueos) | D16: Portafolio | E16: 46077 | F16: 15 | G16: 0.45
A17: A5 | B17: RA3 | C17: Informe de riesgos y acciones de mitigación | D17: Informe | E17: 46084 | F17: 15 | G17: 0.5
A18: A6 | B18: RA3 | C18: Presentación de cierre con lecciones aprendidas | D18: Presentación | E18: 46091 | F18: 10 | G18: 0.5
A20: 3) Registro de calificaciones (selecciona niveles; la nota se calcula sola)
A21: ID | B21: Estudiante | C21: A1 · Plan de proyecto (alcance, roles, entregables) | E21: A2 · Control de alcance (cambios y trazabilidad) | G21: A3 · Simulación de sprint: planificación y seguimiento | I21: A4 · Bitácora de seguimiento (comunicación y bloqueos) | K21: A5 · Informe de riesgos y acciones de mitigación | M21: A6 · Presentación de cierre con lecciones aprendidas | O21: RA1 (%) | P21: RA2 (%) | Q21: RA3 (%) | R21: Nota final | S21: Estado | T21: Notas
C22: Nivel | D22: Nota | E22: Nivel | F22: Nota | G22: Nivel | H22: Nota | I22: Nivel | J22: Nota | K22: Nivel | L22: Nota | M22: Nivel | N22: Nota
A23: S001 | B23: Alicia Rojas | C23: Básico | D23: =IF(C23="","",ROUND(VLOOKUP(C23,Listas!$A$3:$B$6,2,FALSE)*$F$13,2)) -> 12 | E23: Básico | F23: =IF(E23="","",ROUND(VLOOKUP(E23,Listas!$A$3:$B$6,2,FALSE)*$F$14,2)) -> 9 | G23: Competente | H23: =IF(G23="","",ROUND(VLOOKUP(G23,Listas!$A$3:$B$6,2,FALSE)*$F$15,2)) -> 20 | I23: Inicial | J23: =IF(I23="","",ROUND(VLOOKUP(I23,Listas!$A$3:$B$6,2,FALSE)*$F$16,2)) -> 6 | K23: Competente | L23: =IF(K23="","",ROUND(VLOOKUP(K23,Listas!$A$3:$B$6,2,FALSE)*$F$17,2)) -> 12 | M23: Básico | N23: =IF(M23="","",ROUND(VLOOKUP(M23,Listas!$A$3:$B$6,2,FALSE)*$F$18,2)) -> 6 | O23: =IF((IF(D23="",0,$G$13)+IF(F23="",0,$G$14))=0,"",ROUND(100*(IF(D23="",0,(D23/$F$13)*$G$13)+IF(F23="",0,(F23/$F$14)*$G$14))/(IF(D23="",0,$G$13)+IF(F23="",0,$G$14)),2)) -> 60 | P23: =IF((IF(H23="",0,$G$15)+IF(J23="",0,$G$16))=0,"",ROUND(100*(IF(H23="",0,(H23/$F$15)*$G$15)+IF(J23="",0,(J23/$F$16)*$G$16))/(IF(H23="",0,$G$15)+IF(J23="",0,$G$16)),2)) -> 62 | Q23: =IF((IF(L23="",0,$G$17)+IF(N23="",0,$G$18))=0,"",ROUND(100*(IF(L23="",0,(L23/$F$17)*$G$17)+IF(N23="",0,(N23/$F$18)*$G$18))/(IF(L23="",0,$G$17)+IF(N23="",0,$G$18)),2)) -> 70 | R23: =IF((IF(O23="",0,$C$7)+IF(P23="",0,$C$8)+IF(Q23="",0,$C$9))=0,"",ROUND((IF(O23="",0,O23*$C$7)+IF(P23="",0,P23*$C$8)+IF(Q23="",0,Q23*$C$9))/(IF(O23="",0,$C$7)+IF(P23="",0,$C$8)+IF(Q23="",0,$C$9)),2)) -> 64.2 | S23: =IF(R23="","",IF(R23>=$K$2,"Logrado",IF(R23>=$K$3,"En progreso","No logrado"))) -> No logrado | T23: Revisar evidencias: comentar mejoras concretas.
A24: S002 | B24: Bruno Medina | C24: Inicial | D24: =IF(C24="","",ROUND(VLOOKUP(C24,Listas!$A$3:$B$6,2,FALSE)*$F$13,2)) -> 8 | E24: Competente | F24: =IF(E24="","",ROUND(VLOOKUP(E24,Listas!$A$3:$B$6,2,FALSE)*$F$14,2)) -> 12 | G24: Inicial | H24: =IF(G24="","",ROUND(VLOOKUP(G24,Listas!$A$3:$B$6,2,FALSE)*$F$15,2)) -> 10 | I24: Básico | J24: =IF(I24="","",ROUND(VLOOKUP(I24,Listas!$A$3:$B$6,2,FALSE)*$F$16,2)) -> 9 | K24: Inicial | L24: =IF(K24="","",ROUND(VLOOKUP(K24,Listas!$A$3:$B$6,2,FALSE)*$F$17,2)) -> 6 | M24: Inicial | N24: =IF(M24="","",ROUND(VLOOKUP(M24,Listas!$A$3:$B$6,2,FALSE)*$F$18,2)) -> 4 | O24: =IF((IF(D24="",0,$G$13)+IF(F24="",0,$G$14))=0,"",ROUND(100*(IF(D24="",0,(D24/$F$13)*$G$13)+IF(F24="",0,(F24/$F$14)*$G$14))/(IF(D24="",0,$G$13)+IF(F24="",0,$G$14)),2)) -> 56 | P24: =IF((IF(H24="",0,$G$15)+IF(J24="",0,$G$16))=0,"",ROUND(100*(IF(H24="",0,(H24/$F$15)*$G$15)+IF(J24="",0,(J24/$F$16)*$G$16))/(IF(H24="",0,$G$15)+IF(J24="",0,$G$16)),2)) -> 49 | Q24: =IF((IF(L24="",0,$G$17)+IF(N24="",0,$G$18))=0,"",ROUND(100*(IF(L24="",0,(L24/$F$17)*$G$17)+IF(N24="",0,(N24/$F$18)*$G$18))/(IF(L24="",0,$G$17)+IF(N24="",0,$G$18)),2)) -> 40 | R24: =IF((IF(O24="",0,$C$7)+IF(P24="",0,$C$8)+IF(Q24="",0,$C$9))=0,"",ROUND((IF(O24="",0,O24*$C$7)+IF(P24="",0,P24*$C$8)+IF(Q24="",0,Q24*$C$9))/(IF(O24="",0,$C$7)+IF(P24="",0,$C$8)+IF(Q24="",0,$C$9)),2)) -> 47.95 | S24: =IF(R24="","",IF(R24>=$K$2,"Logrado",IF(R24>=$K$3,"En progreso","No logrado"))) -> No logrado
A25: S003 | B25: Carla Santos | C25: Básico | D25: =IF(C25="","",ROUND(VLOOKUP(C25,Listas!$A$3:$B$6,2,FALSE)*$F$13,2)) -> 12 | E25: Competente | F25: =IF(E25="","",ROUND(VLOOKUP(E25,Listas!$A$3:$B$6,2,FALSE)*$F$14,2)) -> 12 | G25: Inicial | H25: =IF(G25="","",ROUND(VLOOKUP(G25,Listas!$A$3:$B$6,2,FALSE)*$F$15,2)) -> 10 | I25: Básico | J25: =IF(I25="","",ROUND(VLOOKUP(I25,Listas!$A$3:$B$6,2,FALSE)*$F$16,2)) -> 9 | K25: Competente | L25: =IF(K25="","",ROUND(VLOOKUP(K25,Listas!$A$3:$B$6,2,FALSE)*$F$17,2)) -> 12 | M25: Avanzado | N25: =IF(M25="","",ROUND(VLOOKUP(M25,Listas!$A$3:$B$6,2,FALSE)*$F$18,2)) -> 10 | O25: =IF((IF(D25="",0,$G$13)+IF(F25="",0,$G$14))=0,"",ROUND(100*(IF(D25="",0,(D25/$F$13)*$G$13)+IF(F25="",0,(F25/$F$14)*$G$14))/(IF(D25="",0,$G$13)+IF(F25="",0,$G$14)),2)) -> 68 | P25: =IF((IF(H25="",0,$G$15)+IF(J25="",0,$G$16))=0,"",ROUND(100*(IF(H25="",0,(H25/$F$15)*$G$15)+IF(J25="",0,(J25/$F$16)*$G$16))/(IF(H25="",0,$G$15)+IF(J25="",0,$G$16)),2)) -> 49 | Q25: =IF((IF(L25="",0,$G$17)+IF(N25="",0,$G$18))=0,"",ROUND(100*(IF(L25="",0,(L25/$F$17)*$G$17)+IF(N25="",0,(N25/$F$18)*$G$18))/(IF(L25="",0,$G$17)+IF(N25="",0,$G$18)),2)) -> 90 | R25: =IF((IF(O25="",0,$C$7)+IF(P25="",0,$C$8)+IF(Q25="",0,$C$9))=0,"",ROUND((IF(O25="",0,O25*$C$7)+IF(P25="",0,P25*$C$8)+IF(Q25="",0,Q25*$C$9))/(IF(O25="",0,$C$7)+IF(P25="",0,$C$8)+IF(Q25="",0,$C$9)),2)) -> 69.05 | S25: =IF(R25="","",IF(R25>=$K$2,"Logrado",IF(R25>=$K$3,"En progreso","No logrado"))) -> No logrado
A26: S004 | B26: Diego Paredes | C26: Competente | D26: =IF(C26="","",ROUND(VLOOKUP(C26,Listas!$A$3:$B$6,2,FALSE)*$F$13,2)) -> 16 | E26: Básico | F26: =IF(E26="","",ROUND(VLOOKUP(E26,Listas!$A$3:$B$6,2,FALSE)*$F$14,2)) -> 9 | G26: Avanzado | H26: =IF(G26="","",ROUND(VLOOKUP(G26,Listas!$A$3:$B$6,2,FALSE)*$F$15,2)) -> 25 | I26: Inicial | J26: =IF(I26="","",ROUND(VLOOKUP(I26,Listas!$A$3:$B$6,2,FALSE)*$F$16,2)) -> 6 | K26: Avanzado | L26: =IF(K26="","",ROUND(VLOOKUP(K26,Listas!$A$3:$B$6,2,FALSE)*$F$17,2)) -> 15 | M26: Básico | N26: =IF(M26="","",ROUND(VLOOKUP(M26,Listas!$A$3:$B$6,2,FALSE)*$F$18,2)) -> 6 | O26: =IF((IF(D26="",0,$G$13)+IF(F26="",0,$G$14))=0,"",ROUND(100*(IF(D26="",0,(D26/$F$13)*$G$13)+IF(F26="",0,(F26/$F$14)*$G$14))/(IF(D26="",0,$G$13)+IF(F26="",0,$G$14)),2)) -> 72 | P26: =IF((IF(H26="",0,$G$15)+IF(J26="",0,$G$16))=0,"",ROUND(100*(IF(H26="",0,(H26/$F$15)*$G$15)+IF(J26="",0,(J26/$F$16)*$G$16))/(IF(H26="",0,$G$15)+IF(J26="",0,$G$16)),2)) -> 73 | Q26: =IF((IF(L26="",0,$G$17)+IF(N26="",0,$G$18))=0,"",ROUND(100*(IF(L26="",0,(L26/$F$17)*$G$17)+IF(N26="",0,(N26/$F$18)*$G$18))/(IF(L26="",0,$G$17)+IF(N26="",0,$G$18)),2)) -> 80 | R26: =IF((IF(O26="",0,$C$7)+IF(P26="",0,$C$8)+IF(Q26="",0,$C$9))=0,"",ROUND((IF(O26="",0,O26*$C$7)+IF(P26="",0,P26*$C$8)+IF(Q26="",0,Q26*$C$9))/(IF(O26="",0,$C$7)+IF(P26="",0,$C$8)+IF(Q26="",0,$C$9)),2)) -> 75.15 | S26: =IF(R26="","",IF(R26>=$K$2,"Logrado",IF(R26>=$K$3,"En progreso","No logrado"))) -> En progreso | T26: Revisar evidencias: comentar mejoras concretas.
A27: S005 | B27: Elena Vázquez | C27: Inicial | D27: =IF(C27="","",ROUND(VLOOKUP(C27,Listas!$A$3:$B$6,2,FALSE)*$F$13,2)) -> 8 | E27: Inicial | F27: =IF(E27="","",ROUND(VLOOKUP(E27,Listas!$A$3:$B$6,2,FALSE)*$F$14,2)) -> 6 | G27: Básico | H27: =IF(G27="","",ROUND(VLOOKUP(G27,Listas!$A$3:$B$6,2,FALSE)*$F$15,2)) -> 15 | I27: Competente | J27: =IF(I27="","",ROUND(VLOOKUP(I27,Listas!$A$3:$B$6,2,FALSE)*$F$16,2)) -> 12 | K27: Básico | L27: =IF(K27="","",ROUND(VLOOKUP(K27,Listas!$A$3:$B$6,2,FALSE)*$F$17,2)) -> 9 | M27: Competente | N27: =IF(M27="","",ROUND(VLOOKUP(M27,Listas!$A$3:$B$6,2,FALSE)*$F$18,2)) -> 8 | O27: =IF((IF(D27="",0,$G$13)+IF(F27="",0,$G$14))=0,"",ROUND(100*(IF(D27="",0,(D27/$F$13)*$G$13)+IF(F27="",0,(F27/$F$14)*$G$14))/(IF(D27="",0,$G$13)+IF(F27="",0,$G$14)),2)) -> 40 | P27: =IF((IF(H27="",0,$G$15)+IF(J27="",0,$G$16))=0,"",ROUND(100*(IF(H27="",0,(H27/$F$15)*$G$15)+IF(J27="",0,(J27/$F$16)*$G$16))/(IF(H27="",0,$G$15)+IF(J27="",0,$G$16)),2)) -> 69 | Q27: =IF((IF(L27="",0,$G$17)+IF(N27="",0,$G$18))=0,"",ROUND(100*(IF(L27="",0,(L27/$F$17)*$G$17)+IF(N27="",0,(N27/$F$18)*$G$18))/(IF(L27="",0,$G$17)+IF(N27="",0,$G$18)),2)) -> 70 | R27: =IF((IF(O27="",0,$C$7)+IF(P27="",0,$C$8)+IF(Q27="",0,$C$9))=0,"",ROUND((IF(O27="",0,O27*$C$7)+IF(P27="",0,P27*$C$8)+IF(Q27="",0,Q27*$C$9))/(IF(O27="",0,$C$7)+IF(P27="",0,$C$8)+IF(Q27="",0,$C$9)),2)) -> 60.65 | S27: =IF(R27="","",IF(R27>=$K$2,"Logrado",IF(R27>=$K$3,"En progreso","No logrado"))) -> No logrado
A28: S006 | B28: Fabián Torres | C28: Competente | D28: =IF(C28="","",ROUND(VLOOKUP(C28,Listas!$A$3:$B$6,2,FALSE)*$F$13,2)) -> 16 | E28: Básico | F28: =IF(E28="","",ROUND(VLOOKUP(E28,Listas!$A$3:$B$6,2,FALSE)*$F$14,2)) -> 9 | G28: Competente | H28: =IF(G28="","",ROUND(VLOOKUP(G28,Listas!$A$3:$B$6,2,FALSE)*$F$15,2)) -> 20 | I28: Inicial | J28: =IF(I28="","",ROUND(VLOOKUP(I28,Listas!$A$3:$B$6,2,FALSE)*$F$16,2)) -> 6 | K28: Inicial | L28: =IF(K28="","",ROUND(VLOOKUP(K28,Listas!$A$3:$B$6,2,FALSE)*$F$17,2)) -> 6 | M28: Básico | N28: =IF(M28="","",ROUND(VLOOKUP(M28,Listas!$A$3:$B$6,2,FALSE)*$F$18,2)) -> 6 | O28: =IF((IF(D28="",0,$G$13)+IF(F28="",0,$G$14))=0,"",ROUND(100*(IF(D28="",0,(D28/$F$13)*$G$13)+IF(F28="",0,(F28/$F$14)*$G$14))/(IF(D28="",0,$G$13)+IF(F28="",0,$G$14)),2)) -> 72 | P28: =IF((IF(H28="",0,$G$15)+IF(J28="",0,$G$16))=0,"",ROUND(100*(IF(H28="",0,(H28/$F$15)*$G$15)+IF(J28="",0,(J28/$F$16)*$G$16))/(IF(H28="",0,$G$15)+IF(J28="",0,$G$16)),2)) -> 62 | Q28: =IF((IF(L28="",0,$G$17)+IF(N28="",0,$G$18))=0,"",ROUND(100*(IF(L28="",0,(L28/$F$17)*$G$17)+IF(N28="",0,(N28/$F$18)*$G$18))/(IF(L28="",0,$G$17)+IF(N28="",0,$G$18)),2)) -> 50 | R28: =IF((IF(O28="",0,$C$7)+IF(P28="",0,$C$8)+IF(Q28="",0,$C$9))=0,"",ROUND((IF(O28="",0,O28*$C$7)+IF(P28="",0,P28*$C$8)+IF(Q28="",0,Q28*$C$9))/(IF(O28="",0,$C$7)+IF(P28="",0,$C$8)+IF(Q28="",0,$C$9)),2)) -> 60.8 | S28: =IF(R28="","",IF(R28>=$K$2,"Logrado",IF(R28>=$K$3,"En progreso","No logrado"))) -> No logrado | T28: Buen liderazgo en coordinación; mantener documentación.
A29: S007 | B29: Gabriela Núñez | C29: Competente | D29: =IF(C29="","",ROUND(VLOOKUP(C29,Listas!$A$3:$B$6,2,FALSE)*$F$13,2)) -> 16 | E29: Básico | F29: =IF(E29="","",ROUND(VLOOKUP(E29,Listas!$A$3:$B$6,2,FALSE)*$F$14,2)) -> 9 | G29: Básico | H29: =IF(G29="","",ROUND(VLOOKUP(G29,Listas!$A$3:$B$6,2,FALSE)*$F$15,2)) -> 15 | I29: Competente | J29: =IF(I29="","",ROUND(VLOOKUP(I29,Listas!$A$3:$B$6,2,FALSE)*$F$16,2)) -> 12 | K29: Básico | L29: =IF(K29="","",ROUND(VLOOKUP(K29,Listas!$A$3:$B$6,2,FALSE)*$F$17,2)) -> 9 | M29: Básico | N29: =IF(M29="","",ROUND(VLOOKUP(M29,Listas!$A$3:$B$6,2,FALSE)*$F$18,2)) -> 6 | O29: =IF((IF(D29="",0,$G$13)+IF(F29="",0,$G$14))=0,"",ROUND(100*(IF(D29="",0,(D29/$F$13)*$G$13)+IF(F29="",0,(F29/$F$14)*$G$14))/(IF(D29="",0,$G$13)+IF(F29="",0,$G$14)),2)) -> 72 | P29: =IF((IF(H29="",0,$G$15)+IF(J29="",0,$G$16))=0,"",ROUND(100*(IF(H29="",0,(H29/$F$15)*$G$15)+IF(J29="",0,(J29/$F$16)*$G$16))/(IF(H29="",0,$G$15)+IF(J29="",0,$G$16)),2)) -> 69 | Q29: =IF((IF(L29="",0,$G$17)+IF(N29="",0,$G$18))=0,"",ROUND(100*(IF(L29="",0,(L29/$F$17)*$G$17)+IF(N29="",0,(N29/$F$18)*$G$18))/(IF(L29="",0,$G$17)+IF(N29="",0,$G$18)),2)) -> 60 | R29: =IF((IF(O29="",0,$C$7)+IF(P29="",0,$C$8)+IF(Q29="",0,$C$9))=0,"",ROUND((IF(O29="",0,O29*$C$7)+IF(P29="",0,P29*$C$8)+IF(Q29="",0,Q29*$C$9))/(IF(O29="",0,$C$7)+IF(P29="",0,$C$8)+IF(Q29="",0,$C$9)),2)) -> 66.75 | S29: =IF(R29="","",IF(R29>=$K$2,"Logrado",IF(R29>=$K$3,"En progreso","No logrado"))) -> No logrado
A30: S008 | B30: Hugo Castillo | C30: Competente | D30: =IF(C30="","",ROUND(VLOOKUP(C30,Listas!$A$3:$B$6,2,FALSE)*$F$13,2)) -> 16 | E30: Competente | F30: =IF(E30="","",ROUND(VLOOKUP(E30,Listas!$A$3:$B$6,2,FALSE)*$F$14,2)) -> 12 | G30: Básico | H30: =IF(G30="","",ROUND(VLOOKUP(G30,Listas!$A$3:$B$6,2,FALSE)*$F$15,2)) -> 15 | I30: Competente | J30: =IF(I30="","",ROUND(VLOOKUP(I30,Listas!$A$3:$B$6,2,FALSE)*$F$16,2)) -> 12 | K30: Competente | L30: =IF(K30="","",ROUND(VLOOKUP(K30,Listas!$A$3:$B$6,2,FALSE)*$F$17,2)) -> 12 | M30: Avanzado | N30: =IF(M30="","",ROUND(VLOOKUP(M30,Listas!$A$3:$B$6,2,FALSE)*$F$18,2)) -> 10 | O30: =IF((IF(D30="",0,$G$13)+IF(F30="",0,$G$14))=0,"",ROUND(100*(IF(D30="",0,(D30/$F$13)*$G$13)+IF(F30="",0,(F30/$F$14)*$G$14))/(IF(D30="",0,$G$13)+IF(F30="",0,$G$14)),2)) -> 80 | P30: =IF((IF(H30="",0,$G$15)+IF(J30="",0,$G$16))=0,"",ROUND(100*(IF(H30="",0,(H30/$F$15)*$G$15)+IF(J30="",0,(J30/$F$16)*$G$16))/(IF(H30="",0,$G$15)+IF(J30="",0,$G$16)),2)) -> 69 | Q30: =IF((IF(L30="",0,$G$17)+IF(N30="",0,$G$18))=0,"",ROUND(100*(IF(L30="",0,(L30/$F$17)*$G$17)+IF(N30="",0,(N30/$F$18)*$G$18))/(IF(L30="",0,$G$17)+IF(N30="",0,$G$18)),2)) -> 90 | R30: =IF((IF(O30="",0,$C$7)+IF(P30="",0,$C$8)+IF(Q30="",0,$C$9))=0,"",ROUND((IF(O30="",0,O30*$C$7)+IF(P30="",0,P30*$C$8)+IF(Q30="",0,Q30*$C$9))/(IF(O30="",0,$C$7)+IF(P30="",0,$C$8)+IF(Q30="",0,$C$9)),2)) -> 79.65 | S30: =IF(R30="","",IF(R30>=$K$2,"Logrado",IF(R30>=$K$3,"En progreso","No logrado"))) -> En progreso | T30: Revisar evidencias: comentar mejoras concretas.
A31: S009 | B31: Irene Campos | C31: Competente | D31: =IF(C31="","",ROUND(VLOOKUP(C31,Listas!$A$3:$B$6,2,FALSE)*$F$13,2)) -> 16 | E31: Básico | F31: =IF(E31="","",ROUND(VLOOKUP(E31,Listas!$A$3:$B$6,2,FALSE)*$F$14,2)) -> 9 | G31: Avanzado | H31: =IF(G31="","",ROUND(VLOOKUP(G31,Listas!$A$3:$B$6,2,FALSE)*$F$15,2)) -> 25 | I31: Inicial | J31: =IF(I31="","",ROUND(VLOOKUP(I31,Listas!$A$3:$B$6,2,FALSE)*$F$16,2)) -> 6 | K31: Básico | L31: =IF(K31="","",ROUND(VLOOKUP(K31,Listas!$A$3:$B$6,2,FALSE)*$F$17,2)) -> 9 | M31: Competente | N31: =IF(M31="","",ROUND(VLOOKUP(M31,Listas!$A$3:$B$6,2,FALSE)*$F$18,2)) -> 8 | O31: =IF((IF(D31="",0,$G$13)+IF(F31="",0,$G$14))=0,"",ROUND(100*(IF(D31="",0,(D31/$F$13)*$G$13)+IF(F31="",0,(F31/$F$14)*$G$14))/(IF(D31="",0,$G$13)+IF(F31="",0,$G$14)),2)) -> 72 | P31: =IF((IF(H31="",0,$G$15)+IF(J31="",0,$G$16))=0,"",ROUND(100*(IF(H31="",0,(H31/$F$15)*$G$15)+IF(J31="",0,(J31/$F$16)*$G$16))/(IF(H31="",0,$G$15)+IF(J31="",0,$G$16)),2)) -> 73 | Q31: =IF((IF(L31="",0,$G$17)+IF(N31="",0,$G$18))=0,"",ROUND(100*(IF(L31="",0,(L31/$F$17)*$G$17)+IF(N31="",0,(N31/$F$18)*$G$18))/(IF(L31="",0,$G$17)+IF(N31="",0,$G$18)),2)) -> 70 | R31: =IF((IF(O31="",0,$C$7)+IF(P31="",0,$C$8)+IF(Q31="",0,$C$9))=0,"",ROUND((IF(O31="",0,O31*$C$7)+IF(P31="",0,P31*$C$8)+IF(Q31="",0,Q31*$C$9))/(IF(O31="",0,$C$7)+IF(P31="",0,$C$8)+IF(Q31="",0,$C$9)),2)) -> 71.65 | S31: =IF(R31="","",IF(R31>=$K$2,"Logrado",IF(R31>=$K$3,"En progreso","No logrado"))) -> En progreso
A32: S010 | B32: Javier Salas | C32: Básico | D32: =IF(C32="","",ROUND(VLOOKUP(C32,Listas!$A$3:$B$6,2,FALSE)*$F$13,2)) -> 12 | E32: Básico | F32: =IF(E32="","",ROUND(VLOOKUP(E32,Listas!$A$3:$B$6,2,FALSE)*$F$14,2)) -> 9 | G32: Inicial | H32: =IF(G32="","",ROUND(VLOOKUP(G32,Listas!$A$3:$B$6,2,FALSE)*$F$15,2)) -> 10 | I32: Competente | J32: =IF(I32="","",ROUND(VLOOKUP(I32,Listas!$A$3:$B$6,2,FALSE)*$F$16,2)) -> 12 | K32: Competente | L32: =IF(K32="","",ROUND(VLOOKUP(K32,Listas!$A$3:$B$6,2,FALSE)*$F$17,2)) -> 12 | M32: Competente | N32: =IF(M32="","",ROUND(VLOOKUP(M32,Listas!$A$3:$B$6,2,FALSE)*$F$18,2)) -> 8 | O32: =IF((IF(D32="",0,$G$13)+IF(F32="",0,$G$14))=0,"",ROUND(100*(IF(D32="",0,(D32/$F$13)*$G$13)+IF(F32="",0,(F32/$F$14)*$G$14))/(IF(D32="",0,$G$13)+IF(F32="",0,$G$14)),2)) -> 60 | P32: =IF((IF(H32="",0,$G$15)+IF(J32="",0,$G$16))=0,"",ROUND(100*(IF(H32="",0,(H32/$F$15)*$G$15)+IF(J32="",0,(J32/$F$16)*$G$16))/(IF(H32="",0,$G$15)+IF(J32="",0,$G$16)),2)) -> 58 | Q32: =IF((IF(L32="",0,$G$17)+IF(N32="",0,$G$18))=0,"",ROUND(100*(IF(L32="",0,(L32/$F$17)*$G$17)+IF(N32="",0,(N32/$F$18)*$G$18))/(IF(L32="",0,$G$17)+IF(N32="",0,$G$18)),2)) -> 80 | R32: =IF((IF(O32="",0,$C$7)+IF(P32="",0,$C$8)+IF(Q32="",0,$C$9))=0,"",ROUND((IF(O32="",0,O32*$C$7)+IF(P32="",0,P32*$C$8)+IF(Q32="",0,Q32*$C$9))/(IF(O32="",0,$C$7)+IF(P32="",0,$C$8)+IF(Q32="",0,$C$9)),2)) -> 66.3 | S32: =IF(R32="","",IF(R32>=$K$2,"Logrado",IF(R32>=$K$3,"En progreso","No logrado"))) -> No logrado

Sheet Listas
A1: Niveles de desempeño | D1: Tipos de actividad
A2: Nivel | B2: Factor | D2: Tipo | E2: Uso
A3: Inicial | B3: 0.4 | D3: Proyecto | E3: Ejemplo
A4: Básico | B4: 0.6 | D4: Caso | E4: Ejemplo
A5: Competente | B5: 0.8 | D5: Simulación | E5: Ejemplo
A6: Avanzado | B6: 1 | D6: Portafolio | E6: Ejemplo
D7: Informe | E7: Ejemplo
A8: Estados (según Nota final) | D8: Notas
A9: Desde | B9: Estado | D9: • Edita estas listas si tu institución usa otros niveles o tipos. • Mantén los factores entre 0 y 1. • Los umbrales se replican también en la hoja principal (K2/K3).
A10: 0 | B10: No logrado
A11: 70 | B11: En progreso
A12: 85 | B12: Logrado
