Workbook

Sheet Calificaciones
A1: Registro de calificaciones —
A2: Escuela | B2: Primaria Ejemplo Benito Juárez | D2: Grupo | E2: 5° B | G2: Docente | H2: María López | L2: Ciclo escolar | M2: 2025-2026
A3: Escala de calificación | B3: 0 a 10 | D3: Aprobación | E3: >= 6.0 | G3: Fecha de captura | H3: 2026-01-14
A4: Notas | B4: Celdas numéricas: calificaciones. Conducta: lista desplegable. Asistencia: porcentaje.
A6: Lista del grupo | C6: 1er periodo | K6: 2º periodo | S6: 3er periodo | AA6: Cierre del ciclo
A7: No. | B7: Alumno(a) | C7: Formación académica | H7: Desarrollo personal y social | J7: Promedio periodo | K7: Formación académica | P7: Desarrollo personal y social | R7: Promedio periodo | S7: Formación académica | X7: Desarrollo personal y social | Z7: Promedio periodo | AA7: Promedio anual | AB7: Observación | AC7: Asistencia
C8: Español | D8: Matemáticas | E8: Inglés | F8: Ciencias | G8: Historia | H8: Convivencia | I8: Responsabilidad | K8: Español | L8: Matemáticas | M8: Inglés | N8: Ciencias | O8: Historia | P8: Convivencia | Q8: Responsabilidad | S8: Español | T8: Matemáticas | U8: Inglés | V8: Ciencias | W8: Historia | X8: Convivencia | Y8: Responsabilidad
A9: 1 | B9: Ana Martínez | C9: 8.5 | D9: 9 | E9: 8 | F9: 8.5 | G9: 8 | H9: Excelente | I9: Adecuado | J9: =ROUND(AVERAGE(C9:G9),1) -> 8.4 | K9: 8 | L9: 8.5 | M9: 8 | N9: 8 | O9: 8.5 | P9: Excelente | Q9: Adecuado | R9: =ROUND(AVERAGE(K9:O9),1) -> 8.2 | S9: 8.5 | T9: 9 | U9: 8.5 | V9: 8.5 | W9: 9 | X9: Excelente | Y9: Adecuado | Z9: =ROUND(AVERAGE(S9:W9),1) -> 8.7 | AA9: =ROUND(AVERAGE(J9,R9,Z9),1) -> 8.4 | AB9: =IF(AA9>=9,"Sobresaliente",IF(AA9>=8,"Notable",IF(AA9>=6,"Aprobado","Requiere apoyo"))) -> Notable | AC9: 0.96
A10: 2 | B10: Bruno Sánchez | C10: 6.5 | D10: 6 | E10: 6.5 | F10: 6 | G10: 6.5 | H10: Adecuado | I10: Adecuado | J10: =ROUND(AVERAGE(C10:G10),1) -> 6.3 | K10: 6 | L10: 6.5 | M10: 6 | N10: 6.5 | O10: 6 | P10: Adecuado | Q10: Adecuado | R10: =ROUND(AVERAGE(K10:O10),1) -> 6.2 | S10: 6.5 | T10: 6.5 | U10: 6 | V10: 6.5 | W10: 6.5 | X10: Adecuado | Y10: Adecuado | Z10: =ROUND(AVERAGE(S10:W10),1) -> 6.4 | AA10: =ROUND(AVERAGE(J10,R10,Z10),1) -> 6.3 | AB10: =IF(AA10>=9,"Sobresaliente",IF(AA10>=8,"Notable",IF(AA10>=6,"Aprobado","Requiere apoyo"))) -> Aprobado | AC10: 0.92
A11: 3 | B11: Carla Hernández | C11: 9.5 | D11: 9 | E11: 9.5 | F11: 9 | G11: 9 | H11: Excelente | I11: Excelente | J11: =ROUND(AVERAGE(C11:G11),1) -> 9.2 | K11: 9 | L11: 9 | M11: 9 | N11: 9.5 | O11: 9 | P11: Excelente | Q11: Excelente | R11: =ROUND(AVERAGE(K11:O11),1) -> 9.1 | S11: 9.5 | T11: 9.5 | U11: 9 | V11: 9.5 | W11: 9.5 | X11: Excelente | Y11: Excelente | Z11: =ROUND(AVERAGE(S11:W11),1) -> 9.4 | AA11: =ROUND(AVERAGE(J11,R11,Z11),1) -> 9.2 | AB11: =IF(AA11>=9,"Sobresaliente",IF(AA11>=8,"Notable",IF(AA11>=6,"Aprobado","Requiere apoyo"))) -> Sobresaliente | AC11: 0.98
A12: 4 | B12: Diego Ramírez | C12: 5.5 | D12: 6 | E12: 5 | F12: 5.5 | G12: 6 | H12: En proceso | I12: Adecuado | J12: =ROUND(AVERAGE(C12:G12),1) -> 5.6 | K12: 5.5 | L12: 6 | M12: 5.5 | N12: 6 | O12: 5.5 | P12: En proceso | Q12: Adecuado | R12: =ROUND(AVERAGE(K12:O12),1) -> 5.7 | S12: 6 | T12: 6.5 | U12: 6 | V12: 6 | W12: 6.5 | X12: En proceso | Y12: Adecuado | Z12: =ROUND(AVERAGE(S12:W12),1) -> 6.2 | AA12: =ROUND(AVERAGE(J12,R12,Z12),1) -> 5.8 | AB12: =IF(AA12>=9,"Sobresaliente",IF(AA12>=8,"Notable",IF(AA12>=6,"Aprobado","Requiere apoyo"))) -> Requiere apoyo | AC12: 0.88
A13: 5 | B13: Elena Torres | C13: 7.5 | D13: 7 | E13: 7.5 | F13: 7 | G13: 7.5 | H13: Adecuado | I13: Adecuado | J13: =ROUND(AVERAGE(C13:G13),1) -> 7.3 | K13: 7 | L13: 7.5 | M13: 7 | N13: 7.5 | O13: 7 | P13: Adecuado | Q13: Adecuado | R13: =ROUND(AVERAGE(K13:O13),1) -> 7.2 | S13: 7.5 | T13: 8 | U13: 7.5 | V13: 7.5 | W13: 8 | X13: Adecuado | Y13: Adecuado | Z13: =ROUND(AVERAGE(S13:W13),1) -> 7.7 | AA13: =ROUND(AVERAGE(J13,R13,Z13),1) -> 7.4 | AB13: =IF(AA13>=9,"Sobresaliente",IF(AA13>=8,"Notable",IF(AA13>=6,"Aprobado","Requiere apoyo"))) -> Aprobado | AC13: 0.94
A14: 6 | B14: Fernando Díaz | C14: 8 | D14: 7.5 | E14: 8 | F14: 7.5 | G14: 7.5 | H14: Adecuado | I14: Excelente | J14: =ROUND(AVERAGE(C14:G14),1) -> 7.7 | K14: 7.5 | L14: 7.5 | M14: 8 | N14: 7.5 | O14: 7.5 | P14: Adecuado | Q14: Excelente | R14: =ROUND(AVERAGE(K14:O14),1) -> 7.6 | S14: 8 | T14: 8.5 | U14: 8 | V14: 8 | W14: 8.5 | X14: Adecuado | Y14: Excelente | Z14: =ROUND(AVERAGE(S14:W14),1) -> 8.2 | AA14: =ROUND(AVERAGE(J14,R14,Z14),1) -> 7.8 | AB14: =IF(AA14>=9,"Sobresaliente",IF(AA14>=8,"Notable",IF(AA14>=6,"Aprobado","Requiere apoyo"))) -> Aprobado | AC14: 0.93
A15: 7 | B15: Gabriela Ruiz | C15: 6 | D15: 6.5 | E15: 6 | F15: 6.5 | G15: 6 | H15: Adecuado | I15: En proceso | J15: =ROUND(AVERAGE(C15:G15),1) -> 6.2 | K15: 6.5 | L15: 7 | M15: 6.5 | N15: 6.5 | O15: 6.5 | P15: Adecuado | Q15: En proceso | R15: =ROUND(AVERAGE(K15:O15),1) -> 6.6 | S15: 7 | T15: 7 | U15: 6.5 | V15: 7 | W15: 7 | X15: Adecuado | Y15: En proceso | Z15: =ROUND(AVERAGE(S15:W15),1) -> 6.9 | AA15: =ROUND(AVERAGE(J15,R15,Z15),1) -> 6.6 | AB15: =IF(AA15>=9,"Sobresaliente",IF(AA15>=8,"Notable",IF(AA15>=6,"Aprobado","Requiere apoyo"))) -> Aprobado | AC15: 0.9
A16: 8 | B16: Hugo Castillo | C16: 8.5 | D16: 8 | E16: 8 | F16: 8 | G16: 8 | H16: Excelente | I16: Adecuado | J16: =ROUND(AVERAGE(C16:G16),1) -> 8.1 | K16: 8 | L16: 8 | M16: 8 | N16: 8.5 | O16: 8 | P16: Excelente | Q16: Adecuado | R16: =ROUND(AVERAGE(K16:O16),1) -> 8.1 | S16: 8.5 | T16: 8.5 | U16: 8 | V16: 8.5 | W16: 8.5 | X16: Excelente | Y16: Adecuado | Z16: =ROUND(AVERAGE(S16:W16),1) -> 8.4 | AA16: =ROUND(AVERAGE(J16,R16,Z16),1) -> 8.2 | AB16: =IF(AA16>=9,"Sobresaliente",IF(AA16>=8,"Notable",IF(AA16>=6,"Aprobado","Requiere apoyo"))) -> Notable | AC16: 0.97
A17: 9 | B17: Isabella Gómez | C17: 9 | D17: 8.5 | E17: 9 | F17: 8.5 | G17: 8.5 | H17: Excelente | I17: Excelente | J17: =ROUND(AVERAGE(C17:G17),1) -> 8.7 | K17: 8.5 | L17: 9 | M17: 8.5 | N17: 9 | O17: 8.5 | P17: Excelente | Q17: Excelente | R17: =ROUND(AVERAGE(K17:O17),1) -> 8.7 | S17: 9 | T17: 9 | U17: 9 | V17: 9 | W17: 9.5 | X17: Excelente | Y17: Excelente | Z17: =ROUND(AVERAGE(S17:W17),1) -> 9.1 | AA17: =ROUND(AVERAGE(J17,R17,Z17),1) -> 8.8 | AB17: =IF(AA17>=9,"Sobresaliente",IF(AA17>=8,"Notable",IF(AA17>=6,"Aprobado","Requiere apoyo"))) -> Notable | AC17: 0.99
A18: 10 | B18: Javier Navarro | C18: 7 | D18: 7 | E18: 7 | F18: 6.5 | G18: 7 | H18: Adecuado | I18: Adecuado | J18: =ROUND(AVERAGE(C18:G18),1) -> 6.9 | K18: 7 | L18: 7.5 | M18: 7 | N18: 7 | O18: 7 | P18: Adecuado | Q18: Adecuado | R18: =ROUND(AVERAGE(K18:O18),1) -> 7.1 | S18: 7.5 | T18: 7.5 | U18: 7 | V18: 7.5 | W18: 7.5 | X18: Adecuado | Y18: Adecuado | Z18: =ROUND(AVERAGE(S18:W18),1) -> 7.4 | AA18: =ROUND(AVERAGE(J18,R18,Z18),1) -> 7.1 | AB18: =IF(AA18>=9,"Sobresaliente",IF(AA18>=8,"Notable",IF(AA18>=6,"Aprobado","Requiere apoyo"))) -> Aprobado | AC18: 0.91
B20: Promedio del grupo | C20: =ROUND(AVERAGE(C9:C18),1) -> 7.6 | D20: =ROUND(AVERAGE(D9:D18),1) -> 7.5 | E20: =ROUND(AVERAGE(E9:E18),1) -> 7.5 | F20: =ROUND(AVERAGE(F9:F18),1) -> 7.3 | G20: =ROUND(AVERAGE(G9:G18),1) -> 7.4 | J20: =ROUND(AVERAGE(J9:J18),1) -> 7.4 | K20: =ROUND(AVERAGE(K9:K18),1) -> 7.3 | L20: =ROUND(AVERAGE(L9:L18),1) -> 7.7 | M20: =ROUND(AVERAGE(M9:M18),1) -> 7.4 | N20: =ROUND(AVERAGE(N9:N18),1) -> 7.6 | O20: =ROUND(AVERAGE(O9:O18),1) -> 7.4 | R20: =ROUND(AVERAGE(R9:R18),1) -> 7.5 | S20: =ROUND(AVERAGE(S9:S18),1) -> 7.8 | T20: =ROUND(AVERAGE(T9:T18),1) -> 8 | U20: =ROUND(AVERAGE(U9:U18),1) -> 7.6 | V20: =ROUND(AVERAGE(V9:V18),1) -> 7.8 | W20: =ROUND(AVERAGE(W9:W18),1) -> 8.1 | Z20: =ROUND(AVERAGE(Z9:Z18),1) -> 7.8 | AA20: =ROUND(AVERAGE(AA9:AA18),1) -> 7.6 | AC20: =AVERAGE(AC9:AC18) -> 0.938

Sheet Resumen
A1: Resumen automático — Ejemplo
A3: Promedio 1er periodo | B3: =ROUND(AVERAGE(Calificaciones!J9:J18),1) -> 7.4 | D3: Mejor promedio | E3: =MAX(Calificaciones!AA9:AA18) -> 9.2 | G3: Promedios del grupo
A4: Promedio 2º periodo | B4: =ROUND(AVERAGE(Calificaciones!R9:R18),1) -> 7.5 | D4: Mejor alumno(a) | E4: =INDEX(Calificaciones!B9:B18,MATCH(E3,Calificaciones!AA9:AA18,0)) -> Carla Hernández | G4: 1er | H4: =B3 -> 7.4
A5: Promedio 3er periodo | B5: =ROUND(AVERAGE(Calificaciones!Z9:Z18),1) -> 7.8 | D5: Requieren apoyo | E5: =COUNTIF(Calificaciones!AA9:AA18,"<6") -> 1 | G5: 2º | H5: =B4 -> 7.5
A6: Promedio anual (grupo) | B6: =ROUND(AVERAGE(Calificaciones!AA9:AA18),1) -> 7.6 | D6: Asistencia promedio | E6: =AVERAGE(Calificaciones!AC9:AC18) -> 0.938 | G6: 3er | H6: =B5 -> 7.8
A7: Aprobados (%) | B7: =COUNTIF(Calificaciones!AA9:AA18,">=6")/COUNTA(Calificaciones!AA9:AA18) -> 0.9 | G7: Anual | H7: =B6 -> 7.6
A8: Edita las calificaciones en la hoja 'Calificaciones'. Este resumen se actualiza con fórmulas.
A10: No. | B10: Alumno(a) | C10: Prom. P1 | D10: Prom. P2 | E10: Prom. P3 | F10: Prom. anual | G10: Observación | H10: Asistencia
A11: =Calificaciones!A9 -> 1 | B11: =Calificaciones!B9 -> Ana Martínez | C11: =Calificaciones!J9 -> 8.4 | D11: =Calificaciones!R9 -> 8.2 | E11: =Calificaciones!Z9 -> 8.7 | F11: =Calificaciones!AA9 -> 8.4 | G11: =Calificaciones!AB9 -> Notable | H11: =Calificaciones!AC9 -> 0.96
A12: =Calificaciones!A10 -> 2 | B12: =Calificaciones!B10 -> Bruno Sánchez | C12: =Calificaciones!J10 -> 6.3 | D12: =Calificaciones!R10 -> 6.2 | E12: =Calificaciones!Z10 -> 6.4 | F12: =Calificaciones!AA10 -> 6.3 | G12: =Calificaciones!AB10 -> Aprobado | H12: =Calificaciones!AC10 -> 0.92
A13: =Calificaciones!A11 -> 3 | B13: =Calificaciones!B11 -> Carla Hernández | C13: =Calificaciones!J11 -> 9.2 | D13: =Calificaciones!R11 -> 9.1 | E13: =Calificaciones!Z11 -> 9.4 | F13: =Calificaciones!AA11 -> 9.2 | G13: =Calificaciones!AB11 -> Sobresaliente | H13: =Calificaciones!AC11 -> 0.98
A14: =Calificaciones!A12 -> 4 | B14: =Calificaciones!B12 -> Diego Ramírez | C14: =Calificaciones!J12 -> 5.6 | D14: =Calificaciones!R12 -> 5.7 | E14: =Calificaciones!Z12 -> 6.2 | F14: =Calificaciones!AA12 -> 5.8 | G14: =Calificaciones!AB12 -> Requiere apoyo | H14: =Calificaciones!AC12 -> 0.88
A15: =Calificaciones!A13 -> 5 | B15: =Calificaciones!B13 -> Elena Torres | C15: =Calificaciones!J13 -> 7.3 | D15: =Calificaciones!R13 -> 7.2 | E15: =Calificaciones!Z13 -> 7.7 | F15: =Calificaciones!AA13 -> 7.4 | G15: =Calificaciones!AB13 -> Aprobado | H15: =Calificaciones!AC13 -> 0.94
A16: =Calificaciones!A14 -> 6 | B16: =Calificaciones!B14 -> Fernando Díaz | C16: =Calificaciones!J14 -> 7.7 | D16: =Calificaciones!R14 -> 7.6 | E16: =Calificaciones!Z14 -> 8.2 | F16: =Calificaciones!AA14 -> 7.8 | G16: =Calificaciones!AB14 -> Aprobado | H16: =Calificaciones!AC14 -> 0.93
A17: =Calificaciones!A15 -> 7 | B17: =Calificaciones!B15 -> Gabriela Ruiz | C17: =Calificaciones!J15 -> 6.2 | D17: =Calificaciones!R15 -> 6.6 | E17: =Calificaciones!Z15 -> 6.9 | F17: =Calificaciones!AA15 -> 6.6 | G17: =Calificaciones!AB15 -> Aprobado | H17: =Calificaciones!AC15 -> 0.9
A18: =Calificaciones!A16 -> 8 | B18: =Calificaciones!B16 -> Hugo Castillo | C18: =Calificaciones!J16 -> 8.1 | D18: =Calificaciones!R16 -> 8.1 | E18: =Calificaciones!Z16 -> 8.4 | F18: =Calificaciones!AA16 -> 8.2 | G18: =Calificaciones!AB16 -> Notable | H18: =Calificaciones!AC16 -> 0.97
A19: =Calificaciones!A17 -> 9 | B19: =Calificaciones!B17 -> Isabella Gómez | C19: =Calificaciones!J17 -> 8.7 | D19: =Calificaciones!R17 -> 8.7 | E19: =Calificaciones!Z17 -> 9.1 | F19: =Calificaciones!AA17 -> 8.8 | G19: =Calificaciones!AB17 -> Notable | H19: =Calificaciones!AC17 -> 0.99
A20: =Calificaciones!A18 -> 10 | B20: =Calificaciones!B18 -> Javier Navarro | C20: =Calificaciones!J18 -> 6.9 | D20: =Calificaciones!R18 -> 7.1 | E20: =Calificaciones!Z18 -> 7.4 | F20: =Calificaciones!AA18 -> 7.1 | G20: =Calificaciones!AB18 -> Aprobado | H20: =Calificaciones!AC18 -> 0.91

Sheet Listas
A1: Conducta
A2: Excelente
A3: Adecuado
A4: En proceso
