Workbook

Sheet Calendario
B2: Mes | F2: *Sábados y Domingos son días de descanso
B3: Año | C3: =Config!B2 -> 2025 | F3: *Días festivos (Config!B7:B40) son días de descanso
A5: Base_Fecha | B5: Nombre | C5: Inscripción | D5: Días Entre. | E5: Fin Entrena. | F5: =IF(COLUMN()-COLUMN($F$5)+1<=DAY(EOMONTH(DATE(Config!$B$2,Config!$B$1,1),0)), DATE(Config!$B$2,Config!$B$1,1)+COLUMN()-COLUMN($F$5), "") -> 45870 | G5: =IF(COLUMN()-COLUMN($F$5)+1<=DAY(EOMONTH(DATE(Config!$B$2,Config!$B$1,1),0)), DATE(Config!$B$2,Config!$B$1,1)+COLUMN()-COLUMN($F$5), "") -> 45871 | H5: =IF(COLUMN()-COLUMN($F$5)+1<=DAY(EOMONTH(DATE(Config!$B$2,Config!$B$1,1),0)), DATE(Config!$B$2,Config!$B$1,1)+COLUMN()-COLUMN($F$5), "") -> 45872 | I5: =IF(COLUMN()-COLUMN($F$5)+1<=DAY(EOMONTH(DATE(Config!$B$2,Config!$B$1,1),0)), DATE(Config!$B$2,Config!$B$1,1)+COLUMN()-COLUMN($F$5), "") -> 45873 | J5: =IF(COLUMN()-COLUMN($F$5)+1<=DAY(EOMONTH(DATE(Config!$B$2,Config!$B$1,1),0)), DATE(Config!$B$2,Config!$B$1,1)+COLUMN()-COLUMN($F$5), "") -> 45874 | K5: =IF(COLUMN()-COLUMN($F$5)+1<=DAY(EOMONTH(DATE(Config!$B$2,Config!$B$1,1),0)), DATE(Config!$B$2,Config!$B$1,1)+COLUMN()-COLUMN($F$5), "") -> 45875 | L5: =IF(COLUMN()-COLUMN($F$5)+1<=DAY(EOMONTH(DATE(Config!$B$2,Config!$B$1,1),0)), DATE(Config!$B$2,Config!$B$1,1)+COLUMN()-COLUMN($F$5), "") -> 45876 | M5: =IF(COLUMN()-COLUMN($F$5)+1<=DAY(EOMONTH(DATE(Config!$B$2,Config!$B$1,1),0)), DATE(Config!$B$2,Config!$B$1,1)+COLUMN()-COLUMN($F$5), "") -> 45877 | ... T5: =IF(COLUMN()-COLUMN($F$5)+1<=DAY(EOMONTH(DATE(Config!$B$2,Config!$B$1,1),0)), DATE(Config!$B$2,Config!$B$1,1)+COLUMN()-COLUMN($F$5), "") -> 45884
A6: Dias_Mes | B6: Diana | C6: 45870 | D6: 7 | E6: =IF(OR(C6="",D6=""),"",WORKDAY.INTL(C6,D6-1,1,Config!$B$7:$B$40)) -> 45880 | F6: =IF(OR($C6="",F$5=""),"",IF(AND(F$5>=$C6,F$5<=$E6,NETWORKDAYS.INTL(F$5,F$5,1,Config!$B$7:$B$40)=1),"Entrena","x")) -> Entrena | G6: =IF(OR($C6="",G$5=""),"",IF(AND(G$5>=$C6,G$5<=$E6,NETWORKDAYS.INTL(G$5,G$5,1,Config!$B$7:$B$40)=1),"Entrena","x")) -> x | H6: =IF(OR($C6="",H$5=""),"",IF(AND(H$5>=$C6,H$5<=$E6,NETWORKDAYS.INTL(H$5,H$5,1,Config!$B$7:$B$40)=1),"Entrena","x")) -> x | I6: =IF(OR($C6="",I$5=""),"",IF(AND(I$5>=$C6,I$5<=$E6,NETWORKDAYS.INTL(I$5,I$5,1,Config!$B$7:$B$40)=1),"Entrena","x")) -> Entrena | J6: =IF(OR($C6="",J$5=""),"",IF(AND(J$5>=$C6,J$5<=$E6,NETWORKDAYS.INTL(J$5,J$5,1,Config!$B$7:$B$40)=1),"Entrena","x")) -> Entrena | K6: =IF(OR($C6="",K$5=""),"",IF(AND(K$5>=$C6,K$5<=$E6,NETWORKDAYS.INTL(K$5,K$5,1,Config!$B$7:$B$40)=1),"Entrena","x")) -> Entrena | L6: =IF(OR($C6="",L$5=""),"",IF(AND(L$5>=$C6,L$5<=$E6,NETWORKDAYS.INTL(L$5,L$5,1,Config!$B$7:$B$40)=1),"Entrena","x")) -> Entrena | M6: =IF(OR($C6="",M$5=""),"",IF(AND(M$5>=$C6,M$5<=$E6,NETWORKDAYS.INTL(M$5,M$5,1,Config!$B$7:$B$40)=1),"Entrena","x")) -> Entrena | ... T6: =IF(OR($C6="",T$5=""),"",IF(AND(T$5>=$C6,T$5<=$E6,NETWORKDAYS.INTL(T$5,T$5,1,Config!$B$7:$B$40)=1),"Entrena","x")) -> x
B7: Sergio | C7: 45870 | D7: 5 | E7: =IF(OR(C7="",D7=""),"",WORKDAY.INTL(C7,D7-1,1,Config!$B$7:$B$40)) -> 45876 | F7: =IF(OR($C7="",F$5=""),"",IF(AND(F$5>=$C7,F$5<=$E7,NETWORKDAYS.INTL(F$5,F$5,1,Config!$B$7:$B$40)=1),"Entrena","x")) -> Entrena | G7: =IF(OR($C7="",G$5=""),"",IF(AND(G$5>=$C7,G$5<=$E7,NETWORKDAYS.INTL(G$5,G$5,1,Config!$B$7:$B$40)=1),"Entrena","x")) -> x | H7: =IF(OR($C7="",H$5=""),"",IF(AND(H$5>=$C7,H$5<=$E7,NETWORKDAYS.INTL(H$5,H$5,1,Config!$B$7:$B$40)=1),"Entrena","x")) -> x | I7: =IF(OR($C7="",I$5=""),"",IF(AND(I$5>=$C7,I$5<=$E7,NETWORKDAYS.INTL(I$5,I$5,1,Config!$B$7:$B$40)=1),"Entrena","x")) -> Entrena | J7: =IF(OR($C7="",J$5=""),"",IF(AND(J$5>=$C7,J$5<=$E7,NETWORKDAYS.INTL(J$5,J$5,1,Config!$B$7:$B$40)=1),"Entrena","x")) -> Entrena | K7: =IF(OR($C7="",K$5=""),"",IF(AND(K$5>=$C7,K$5<=$E7,NETWORKDAYS.INTL(K$5,K$5,1,Config!$B$7:$B$40)=1),"Entrena","x")) -> Entrena | L7: =IF(OR($C7="",L$5=""),"",IF(AND(L$5>=$C7,L$5<=$E7,NETWORKDAYS.INTL(L$5,L$5,1,Config!$B$7:$B$40)=1),"Entrena","x")) -> Entrena | M7: =IF(OR($C7="",M$5=""),"",IF(AND(M$5>=$C7,M$5<=$E7,NETWORKDAYS.INTL(M$5,M$5,1,Config!$B$7:$B$40)=1),"Entrena","x")) -> x | ... T7: =IF(OR($C7="",T$5=""),"",IF(AND(T$5>=$C7,T$5<=$E7,NETWORKDAYS.INTL(T$5,T$5,1,Config!$B$7:$B$40)=1),"Entrena","x")) -> x
B8: Nelly | C8: 45874 | D8: 6 | E8: =IF(OR(C8="",D8=""),"",WORKDAY.INTL(C8,D8-1,1,Config!$B$7:$B$40)) -> 45881 | F8: =IF(OR($C8="",F$5=""),"",IF(AND(F$5>=$C8,F$5<=$E8,NETWORKDAYS.INTL(F$5,F$5,1,Config!$B$7:$B$40)=1),"Entrena","x")) -> x | G8: =IF(OR($C8="",G$5=""),"",IF(AND(G$5>=$C8,G$5<=$E8,NETWORKDAYS.INTL(G$5,G$5,1,Config!$B$7:$B$40)=1),"Entrena","x")) -> x | H8: =IF(OR($C8="",H$5=""),"",IF(AND(H$5>=$C8,H$5<=$E8,NETWORKDAYS.INTL(H$5,H$5,1,Config!$B$7:$B$40)=1),"Entrena","x")) -> x | I8: =IF(OR($C8="",I$5=""),"",IF(AND(I$5>=$C8,I$5<=$E8,NETWORKDAYS.INTL(I$5,I$5,1,Config!$B$7:$B$40)=1),"Entrena","x")) -> x | J8: =IF(OR($C8="",J$5=""),"",IF(AND(J$5>=$C8,J$5<=$E8,NETWORKDAYS.INTL(J$5,J$5,1,Config!$B$7:$B$40)=1),"Entrena","x")) -> Entrena | K8: =IF(OR($C8="",K$5=""),"",IF(AND(K$5>=$C8,K$5<=$E8,NETWORKDAYS.INTL(K$5,K$5,1,Config!$B$7:$B$40)=1),"Entrena","x")) -> Entrena | L8: =IF(OR($C8="",L$5=""),"",IF(AND(L$5>=$C8,L$5<=$E8,NETWORKDAYS.INTL(L$5,L$5,1,Config!$B$7:$B$40)=1),"Entrena","x")) -> Entrena | M8: =IF(OR($C8="",M$5=""),"",IF(AND(M$5>=$C8,M$5<=$E8,NETWORKDAYS.INTL(M$5,M$5,1,Config!$B$7:$B$40)=1),"Entrena","x")) -> Entrena | ... T8: =IF(OR($C8="",T$5=""),"",IF(AND(T$5>=$C8,T$5<=$E8,NETWORKDAYS.INTL(T$5,T$5,1,Config!$B$7:$B$40)=1),"Entrena","x")) -> x
B9: Luis | C9: 45879 | D9: 4 | E9: =IF(OR(C9="",D9=""),"",WORKDAY.INTL(C9,D9-1,1,Config!$B$7:$B$40)) -> 45882 | F9: =IF(OR($C9="",F$5=""),"",IF(AND(F$5>=$C9,F$5<=$E9,NETWORKDAYS.INTL(F$5,F$5,1,Config!$B$7:$B$40)=1),"Entrena","x")) -> x | G9: =IF(OR($C9="",G$5=""),"",IF(AND(G$5>=$C9,G$5<=$E9,NETWORKDAYS.INTL(G$5,G$5,1,Config!$B$7:$B$40)=1),"Entrena","x")) -> x | H9: =IF(OR($C9="",H$5=""),"",IF(AND(H$5>=$C9,H$5<=$E9,NETWORKDAYS.INTL(H$5,H$5,1,Config!$B$7:$B$40)=1),"Entrena","x")) -> x | I9: =IF(OR($C9="",I$5=""),"",IF(AND(I$5>=$C9,I$5<=$E9,NETWORKDAYS.INTL(I$5,I$5,1,Config!$B$7:$B$40)=1),"Entrena","x")) -> x | J9: =IF(OR($C9="",J$5=""),"",IF(AND(J$5>=$C9,J$5<=$E9,NETWORKDAYS.INTL(J$5,J$5,1,Config!$B$7:$B$40)=1),"Entrena","x")) -> x | K9: =IF(OR($C9="",K$5=""),"",IF(AND(K$5>=$C9,K$5<=$E9,NETWORKDAYS.INTL(K$5,K$5,1,Config!$B$7:$B$40)=1),"Entrena","x")) -> x | L9: =IF(OR($C9="",L$5=""),"",IF(AND(L$5>=$C9,L$5<=$E9,NETWORKDAYS.INTL(L$5,L$5,1,Config!$B$7:$B$40)=1),"Entrena","x")) -> x | M9: =IF(OR($C9="",M$5=""),"",IF(AND(M$5>=$C9,M$5<=$E9,NETWORKDAYS.INTL(M$5,M$5,1,Config!$B$7:$B$40)=1),"Entrena","x")) -> x | ... T9: =IF(OR($C9="",T$5=""),"",IF(AND(T$5>=$C9,T$5<=$E9,NETWORKDAYS.INTL(T$5,T$5,1,Config!$B$7:$B$40)=1),"Entrena","x")) -> x
E10: =IF(OR(C10="",D10=""),"",WORKDAY.INTL(C10,D10-1,1,Config!$B$7:$B$40)) | F10: =IF(OR($C10="",F$5=""),"",IF(AND(F$5>=$C10,F$5<=$E10,NETWORKDAYS.INTL(F$5,F$5,1,Config!$B$7:$B$40)=1),"Entrena","x")) | G10: =IF(OR($C10="",G$5=""),"",IF(AND(G$5>=$C10,G$5<=$E10,NETWORKDAYS.INTL(G$5,G$5,1,Config!$B$7:$B$40)=1),"Entrena","x")) | H10: =IF(OR($C10="",H$5=""),"",IF(AND(H$5>=$C10,H$5<=$E10,NETWORKDAYS.INTL(H$5,H$5,1,Config!$B$7:$B$40)=1),"Entrena","x")) | I10: =IF(OR($C10="",I$5=""),"",IF(AND(I$5>=$C10,I$5<=$E10,NETWORKDAYS.INTL(I$5,I$5,1,Config!$B$7:$B$40)=1),"Entrena","x")) | J10: =IF(OR($C10="",J$5=""),"",IF(AND(J$5>=$C10,J$5<=$E10,NETWORKDAYS.INTL(J$5,J$5,1,Config!$B$7:$B$40)=1),"Entrena","x")) | K10: =IF(OR($C10="",K$5=""),"",IF(AND(K$5>=$C10,K$5<=$E10,NETWORKDAYS.INTL(K$5,K$5,1,Config!$B$7:$B$40)=1),"Entrena","x")) | L10: =IF(OR($C10="",L$5=""),"",IF(AND(L$5>=$C10,L$5<=$E10,NETWORKDAYS.INTL(L$5,L$5,1,Config!$B$7:$B$40)=1),"Entrena","x")) | M10: =IF(OR($C10="",M$5=""),"",IF(AND(M$5>=$C10,M$5<=$E10,NETWORKDAYS.INTL(M$5,M$5,1,Config!$B$7:$B$40)=1),"Entrena","x")) | ... T10: =IF(OR($C10="",T$5=""),"",IF(AND(T$5>=$C10,T$5<=$E10,NETWORKDAYS.INTL(T$5,T$5,1,Config!$B$7:$B$40)=1),"Entrena","x"))
E11: =IF(OR(C11="",D11=""),"",NETWORKDAYS.INTL(C11,D11-1,1,Config!$B$7:$B$40)+C11-1) | F11: =IF(OR($C11="",F$5=""),"",IF(AND(F$5>=$C11,F$5<=$E11,NETWORKDAYS.INTL(F$5,F$5,1,Config!$B$7:$B$40)=1),"Entrena","x")) | G11: =IF(OR($C11="",G$5=""),"",IF(AND(G$5>=$C11,G$5<=$E11,NETWORKDAYS.INTL(G$5,G$5,1,Config!$B$7:$B$40)=1),"Entrena","x")) | H11: =IF(OR($C11="",H$5=""),"",IF(AND(H$5>=$C11,H$5<=$E11,NETWORKDAYS.INTL(H$5,H$5,1,Config!$B$7:$B$40)=1),"Entrena","x")) | I11: =IF(OR($C11="",I$5=""),"",IF(AND(I$5>=$C11,I$5<=$E11,NETWORKDAYS.INTL(I$5,I$5,1,Config!$B$7:$B$40)=1),"Entrena","x")) | J11: =IF(OR($C11="",J$5=""),"",IF(AND(J$5>=$C11,J$5<=$E11,NETWORKDAYS.INTL(J$5,J$5,1,Config!$B$7:$B$40)=1),"Entrena","x")) | K11: =IF(OR($C11="",K$5=""),"",IF(AND(K$5>=$C11,K$5<=$E11,NETWORKDAYS.INTL(K$5,K$5,1,Config!$B$7:$B$40)=1),"Entrena","x")) | L11: =IF(OR($C11="",L$5=""),"",IF(AND(L$5>=$C11,L$5<=$E11,NETWORKDAYS.INTL(L$5,L$5,1,Config!$B$7:$B$40)=1),"Entrena","x")) | M11: =IF(OR($C11="",M$5=""),"",IF(AND(M$5>=$C11,M$5<=$E11,NETWORKDAYS.INTL(M$5,M$5,1,Config!$B$7:$B$40)=1),"Entrena","x")) | ... T11: =IF(OR($C11="",T$5=""),"",IF(AND(T$5>=$C11,T$5<=$E11,NETWORKDAYS.INTL(T$5,T$5,1,Config!$B$7:$B$40)=1),"Entrena","x"))
E12: =IF(OR(C12="",D12=""),"",NETWORKDAYS.INTL(C12,D12-1,1,Config!$B$7:$B$40)+C12-1) | F12: =IF(OR($C12="",F$5=""),"",IF(AND(F$5>=$C12,F$5<=$E12,NETWORKDAYS.INTL(F$5,F$5,1,Config!$B$7:$B$40)=1),"Entrena","x")) | G12: =IF(OR($C12="",G$5=""),"",IF(AND(G$5>=$C12,G$5<=$E12,NETWORKDAYS.INTL(G$5,G$5,1,Config!$B$7:$B$40)=1),"Entrena","x")) | H12: =IF(OR($C12="",H$5=""),"",IF(AND(H$5>=$C12,H$5<=$E12,NETWORKDAYS.INTL(H$5,H$5,1,Config!$B$7:$B$40)=1),"Entrena","x")) | I12: =IF(OR($C12="",I$5=""),"",IF(AND(I$5>=$C12,I$5<=$E12,NETWORKDAYS.INTL(I$5,I$5,1,Config!$B$7:$B$40)=1),"Entrena","x")) | J12: =IF(OR($C12="",J$5=""),"",IF(AND(J$5>=$C12,J$5<=$E12,NETWORKDAYS.INTL(J$5,J$5,1,Config!$B$7:$B$40)=1),"Entrena","x")) | K12: =IF(OR($C12="",K$5=""),"",IF(AND(K$5>=$C12,K$5<=$E12,NETWORKDAYS.INTL(K$5,K$5,1,Config!$B$7:$B$40)=1),"Entrena","x")) | L12: =IF(OR($C12="",L$5=""),"",IF(AND(L$5>=$C12,L$5<=$E12,NETWORKDAYS.INTL(L$5,L$5,1,Config!$B$7:$B$40)=1),"Entrena","x")) | M12: =IF(OR($C12="",M$5=""),"",IF(AND(M$5>=$C12,M$5<=$E12,NETWORKDAYS.INTL(M$5,M$5,1,Config!$B$7:$B$40)=1),"Entrena","x")) | ... T12: =IF(OR($C12="",T$5=""),"",IF(AND(T$5>=$C12,T$5<=$E12,NETWORKDAYS.INTL(T$5,T$5,1,Config!$B$7:$B$40)=1),"Entrena","x"))
E13: =IF(OR(C13="",D13=""),"",NETWORKDAYS.INTL(C13,D13-1,1,Config!$B$7:$B$40)) | F13: =IF(OR($C13="",F$5=""),"",IF(AND(F$5>=$C13,F$5<=$E13,NETWORKDAYS.INTL(F$5,F$5,1,Config!$B$7:$B$40)=1),"Entrena","x")) | G13: =IF(OR($C13="",G$5=""),"",IF(AND(G$5>=$C13,G$5<=$E13,NETWORKDAYS.INTL(G$5,G$5,1,Config!$B$7:$B$40)=1),"Entrena","x")) | H13: =IF(OR($C13="",H$5=""),"",IF(AND(H$5>=$C13,H$5<=$E13,NETWORKDAYS.INTL(H$5,H$5,1,Config!$B$7:$B$40)=1),"Entrena","x")) | I13: =IF(OR($C13="",I$5=""),"",IF(AND(I$5>=$C13,I$5<=$E13,NETWORKDAYS.INTL(I$5,I$5,1,Config!$B$7:$B$40)=1),"Entrena","x")) | J13: =IF(OR($C13="",J$5=""),"",IF(AND(J$5>=$C13,J$5<=$E13,NETWORKDAYS.INTL(J$5,J$5,1,Config!$B$7:$B$40)=1),"Entrena","x")) | K13: =IF(OR($C13="",K$5=""),"",IF(AND(K$5>=$C13,K$5<=$E13,NETWORKDAYS.INTL(K$5,K$5,1,Config!$B$7:$B$40)=1),"Entrena","x")) | L13: =IF(OR($C13="",L$5=""),"",IF(AND(L$5>=$C13,L$5<=$E13,NETWORKDAYS.INTL(L$5,L$5,1,Config!$B$7:$B$40)=1),"Entrena","x")) | M13: =IF(OR($C13="",M$5=""),"",IF(AND(M$5>=$C13,M$5<=$E13,NETWORKDAYS.INTL(M$5,M$5,1,Config!$B$7:$B$40)=1),"Entrena","x")) | ... T13: =IF(OR($C13="",T$5=""),"",IF(AND(T$5>=$C13,T$5<=$E13,NETWORKDAYS.INTL(T$5,T$5,1,Config!$B$7:$B$40)=1),"Entrena","x"))
E14: =IF(OR(C14="",D14=""),"",NETWORKDAYS.INTL(C14,D14-1,1,Config!$B$7:$B$40)) | F14: =IF(OR($C14="",F$5=""),"",IF(AND(F$5>=$C14,F$5<=$E14,NETWORKDAYS.INTL(F$5,F$5,1,Config!$B$7:$B$40)=1),"Entrena","x")) | G14: =IF(OR($C14="",G$5=""),"",IF(AND(G$5>=$C14,G$5<=$E14,NETWORKDAYS.INTL(G$5,G$5,1,Config!$B$7:$B$40)=1),"Entrena","x")) | H14: =IF(OR($C14="",H$5=""),"",IF(AND(H$5>=$C14,H$5<=$E14,NETWORKDAYS.INTL(H$5,H$5,1,Config!$B$7:$B$40)=1),"Entrena","x")) | I14: =IF(OR($C14="",I$5=""),"",IF(AND(I$5>=$C14,I$5<=$E14,NETWORKDAYS.INTL(I$5,I$5,1,Config!$B$7:$B$40)=1),"Entrena","x")) | J14: =IF(OR($C14="",J$5=""),"",IF(AND(J$5>=$C14,J$5<=$E14,NETWORKDAYS.INTL(J$5,J$5,1,Config!$B$7:$B$40)=1),"Entrena","x")) | K14: =IF(OR($C14="",K$5=""),"",IF(AND(K$5>=$C14,K$5<=$E14,NETWORKDAYS.INTL(K$5,K$5,1,Config!$B$7:$B$40)=1),"Entrena","x")) | L14: =IF(OR($C14="",L$5=""),"",IF(AND(L$5>=$C14,L$5<=$E14,NETWORKDAYS.INTL(L$5,L$5,1,Config!$B$7:$B$40)=1),"Entrena","x")) | M14: =IF(OR($C14="",M$5=""),"",IF(AND(M$5>=$C14,M$5<=$E14,NETWORKDAYS.INTL(M$5,M$5,1,Config!$B$7:$B$40)=1),"Entrena","x")) | ... T14: =IF(OR($C14="",T$5=""),"",IF(AND(T$5>=$C14,T$5<=$E14,NETWORKDAYS.INTL(T$5,T$5,1,Config!$B$7:$B$40)=1),"Entrena","x"))
E15: =IF(OR(C15="",D15=""),"",NETWORKDAYS.INTL(C15,D15-1,1,Config!$B$7:$B$40)) | F15: =IF(OR($C15="",F$5=""),"",IF(AND(F$5>=$C15,F$5<=$E15,NETWORKDAYS.INTL(F$5,F$5,1,Config!$B$7:$B$40)=1),"Entrena","x")) | G15: =IF(OR($C15="",G$5=""),"",IF(AND(G$5>=$C15,G$5<=$E15,NETWORKDAYS.INTL(G$5,G$5,1,Config!$B$7:$B$40)=1),"Entrena","x")) | H15: =IF(OR($C15="",H$5=""),"",IF(AND(H$5>=$C15,H$5<=$E15,NETWORKDAYS.INTL(H$5,H$5,1,Config!$B$7:$B$40)=1),"Entrena","x")) | I15: =IF(OR($C15="",I$5=""),"",IF(AND(I$5>=$C15,I$5<=$E15,NETWORKDAYS.INTL(I$5,I$5,1,Config!$B$7:$B$40)=1),"Entrena","x")) | J15: =IF(OR($C15="",J$5=""),"",IF(AND(J$5>=$C15,J$5<=$E15,NETWORKDAYS.INTL(J$5,J$5,1,Config!$B$7:$B$40)=1),"Entrena","x")) | K15: =IF(OR($C15="",K$5=""),"",IF(AND(K$5>=$C15,K$5<=$E15,NETWORKDAYS.INTL(K$5,K$5,1,Config!$B$7:$B$40)=1),"Entrena","x")) | L15: =IF(OR($C15="",L$5=""),"",IF(AND(L$5>=$C15,L$5<=$E15,NETWORKDAYS.INTL(L$5,L$5,1,Config!$B$7:$B$40)=1),"Entrena","x")) | M15: =IF(OR($C15="",M$5=""),"",IF(AND(M$5>=$C15,M$5<=$E15,NETWORKDAYS.INTL(M$5,M$5,1,Config!$B$7:$B$40)=1),"Entrena","x")) | ... T15: =IF(OR($C15="",T$5=""),"",IF(AND(T$5>=$C15,T$5<=$E15,NETWORKDAYS.INTL(T$5,T$5,1,Config!$B$7:$B$40)=1),"Entrena","x"))
E16: =IF(OR(C16="",D16=""),"",NETWORKDAYS.INTL(C16,D16-1,1,Config!$B$7:$B$40)) | F16: =IF(OR($C16="",F$5=""),"",IF(AND(F$5>=$C16,F$5<=$E16,NETWORKDAYS.INTL(F$5,F$5,1,Config!$B$7:$B$40)=1),"Entrena","x")) | G16: =IF(OR($C16="",G$5=""),"",IF(AND(G$5>=$C16,G$5<=$E16,NETWORKDAYS.INTL(G$5,G$5,1,Config!$B$7:$B$40)=1),"Entrena","x")) | H16: =IF(OR($C16="",H$5=""),"",IF(AND(H$5>=$C16,H$5<=$E16,NETWORKDAYS.INTL(H$5,H$5,1,Config!$B$7:$B$40)=1),"Entrena","x")) | I16: =IF(OR($C16="",I$5=""),"",IF(AND(I$5>=$C16,I$5<=$E16,NETWORKDAYS.INTL(I$5,I$5,1,Config!$B$7:$B$40)=1),"Entrena","x")) | J16: =IF(OR($C16="",J$5=""),"",IF(AND(J$5>=$C16,J$5<=$E16,NETWORKDAYS.INTL(J$5,J$5,1,Config!$B$7:$B$40)=1),"Entrena","x")) | K16: =IF(OR($C16="",K$5=""),"",IF(AND(K$5>=$C16,K$5<=$E16,NETWORKDAYS.INTL(K$5,K$5,1,Config!$B$7:$B$40)=1),"Entrena","x")) | L16: =IF(OR($C16="",L$5=""),"",IF(AND(L$5>=$C16,L$5<=$E16,NETWORKDAYS.INTL(L$5,L$5,1,Config!$B$7:$B$40)=1),"Entrena","x")) | M16: =IF(OR($C16="",M$5=""),"",IF(AND(M$5>=$C16,M$5<=$E16,NETWORKDAYS.INTL(M$5,M$5,1,Config!$B$7:$B$40)=1),"Entrena","x")) | ... T16: =IF(OR($C16="",T$5=""),"",IF(AND(T$5>=$C16,T$5<=$E16,NETWORKDAYS.INTL(T$5,T$5,1,Config!$B$7:$B$40)=1),"Entrena","x"))
E17: =IF(OR(C17="",D17=""),"",NETWORKDAYS.INTL(C17,D17-1,1,Config!$B$7:$B$40)) | F17: =IF(OR($C17="",F$5=""),"",IF(AND(F$5>=$C17,F$5<=$E17,NETWORKDAYS.INTL(F$5,F$5,1,Config!$B$7:$B$40)=1),"Entrena","x")) | G17: =IF(OR($C17="",G$5=""),"",IF(AND(G$5>=$C17,G$5<=$E17,NETWORKDAYS.INTL(G$5,G$5,1,Config!$B$7:$B$40)=1),"Entrena","x")) | H17: =IF(OR($C17="",H$5=""),"",IF(AND(H$5>=$C17,H$5<=$E17,NETWORKDAYS.INTL(H$5,H$5,1,Config!$B$7:$B$40)=1),"Entrena","x")) | I17: =IF(OR($C17="",I$5=""),"",IF(AND(I$5>=$C17,I$5<=$E17,NETWORKDAYS.INTL(I$5,I$5,1,Config!$B$7:$B$40)=1),"Entrena","x")) | J17: =IF(OR($C17="",J$5=""),"",IF(AND(J$5>=$C17,J$5<=$E17,NETWORKDAYS.INTL(J$5,J$5,1,Config!$B$7:$B$40)=1),"Entrena","x")) | K17: =IF(OR($C17="",K$5=""),"",IF(AND(K$5>=$C17,K$5<=$E17,NETWORKDAYS.INTL(K$5,K$5,1,Config!$B$7:$B$40)=1),"Entrena","x")) | L17: =IF(OR($C17="",L$5=""),"",IF(AND(L$5>=$C17,L$5<=$E17,NETWORKDAYS.INTL(L$5,L$5,1,Config!$B$7:$B$40)=1),"Entrena","x")) | M17: =IF(OR($C17="",M$5=""),"",IF(AND(M$5>=$C17,M$5<=$E17,NETWORKDAYS.INTL(M$5,M$5,1,Config!$B$7:$B$40)=1),"Entrena","x")) | ... T17: =IF(OR($C17="",T$5=""),"",IF(AND(T$5>=$C17,T$5<=$E17,NETWORKDAYS.INTL(T$5,T$5,1,Config!$B$7:$B$40)=1),"Entrena","x"))
E18: =IF(OR(C18="",D18=""),"",NETWORKDAYS.INTL(C18,D18-1,1,Config!$B$7:$B$40)) | F18: =IF(OR($C18="",F$5=""),"",IF(AND(F$5>=$C18,F$5<=$E18,NETWORKDAYS.INTL(F$5,F$5,1,Config!$B$7:$B$40)=1),"Entrena","x")) | G18: =IF(OR($C18="",G$5=""),"",IF(AND(G$5>=$C18,G$5<=$E18,NETWORKDAYS.INTL(G$5,G$5,1,Config!$B$7:$B$40)=1),"Entrena","x")) | H18: =IF(OR($C18="",H$5=""),"",IF(AND(H$5>=$C18,H$5<=$E18,NETWORKDAYS.INTL(H$5,H$5,1,Config!$B$7:$B$40)=1),"Entrena","x")) | I18: =IF(OR($C18="",I$5=""),"",IF(AND(I$5>=$C18,I$5<=$E18,NETWORKDAYS.INTL(I$5,I$5,1,Config!$B$7:$B$40)=1),"Entrena","x")) | J18: =IF(OR($C18="",J$5=""),"",IF(AND(J$5>=$C18,J$5<=$E18,NETWORKDAYS.INTL(J$5,J$5,1,Config!$B$7:$B$40)=1),"Entrena","x")) | K18: =IF(OR($C18="",K$5=""),"",IF(AND(K$5>=$C18,K$5<=$E18,NETWORKDAYS.INTL(K$5,K$5,1,Config!$B$7:$B$40)=1),"Entrena","x")) | L18: =IF(OR($C18="",L$5=""),"",IF(AND(L$5>=$C18,L$5<=$E18,NETWORKDAYS.INTL(L$5,L$5,1,Config!$B$7:$B$40)=1),"Entrena","x")) | M18: =IF(OR($C18="",M$5=""),"",IF(AND(M$5>=$C18,M$5<=$E18,NETWORKDAYS.INTL(M$5,M$5,1,Config!$B$7:$B$40)=1),"Entrena","x")) | ... T18: =IF(OR($C18="",T$5=""),"",IF(AND(T$5>=$C18,T$5<=$E18,NETWORKDAYS.INTL(T$5,T$5,1,Config!$B$7:$B$40)=1),"Entrena","x"))
E19: =IF(OR(C19="",D19=""),"",NETWORKDAYS.INTL(C19,D19-1,1,Config!$B$7:$B$40)) | F19: =IF(OR($C19="",F$5=""),"",IF(AND(F$5>=$C19,F$5<=$E19,NETWORKDAYS.INTL(F$5,F$5,1,Config!$B$7:$B$40)=1),"Entrena","x")) | G19: =IF(OR($C19="",G$5=""),"",IF(AND(G$5>=$C19,G$5<=$E19,NETWORKDAYS.INTL(G$5,G$5,1,Config!$B$7:$B$40)=1),"Entrena","x")) | H19: =IF(OR($C19="",H$5=""),"",IF(AND(H$5>=$C19,H$5<=$E19,NETWORKDAYS.INTL(H$5,H$5,1,Config!$B$7:$B$40)=1),"Entrena","x")) | I19: =IF(OR($C19="",I$5=""),"",IF(AND(I$5>=$C19,I$5<=$E19,NETWORKDAYS.INTL(I$5,I$5,1,Config!$B$7:$B$40)=1),"Entrena","x")) | J19: =IF(OR($C19="",J$5=""),"",IF(AND(J$5>=$C19,J$5<=$E19,NETWORKDAYS.INTL(J$5,J$5,1,Config!$B$7:$B$40)=1),"Entrena","x")) | K19: =IF(OR($C19="",K$5=""),"",IF(AND(K$5>=$C19,K$5<=$E19,NETWORKDAYS.INTL(K$5,K$5,1,Config!$B$7:$B$40)=1),"Entrena","x")) | L19: =IF(OR($C19="",L$5=""),"",IF(AND(L$5>=$C19,L$5<=$E19,NETWORKDAYS.INTL(L$5,L$5,1,Config!$B$7:$B$40)=1),"Entrena","x")) | M19: =IF(OR($C19="",M$5=""),"",IF(AND(M$5>=$C19,M$5<=$E19,NETWORKDAYS.INTL(M$5,M$5,1,Config!$B$7:$B$40)=1),"Entrena","x")) | ... T19: =IF(OR($C19="",T$5=""),"",IF(AND(T$5>=$C19,T$5<=$E19,NETWORKDAYS.INTL(T$5,T$5,1,Config!$B$7:$B$40)=1),"Entrena","x"))
E20: =IF(OR(C20="",D20=""),"",NETWORKDAYS.INTL(C20,D20-1,1,Config!$B$7:$B$40)) | F20: =IF(OR($C20="",F$5=""),"",IF(AND(F$5>=$C20,F$5<=$E20,NETWORKDAYS.INTL(F$5,F$5,1,Config!$B$7:$B$40)=1),"Entrena","x")) | G20: =IF(OR($C20="",G$5=""),"",IF(AND(G$5>=$C20,G$5<=$E20,NETWORKDAYS.INTL(G$5,G$5,1,Config!$B$7:$B$40)=1),"Entrena","x")) | H20: =IF(OR($C20="",H$5=""),"",IF(AND(H$5>=$C20,H$5<=$E20,NETWORKDAYS.INTL(H$5,H$5,1,Config!$B$7:$B$40)=1),"Entrena","x")) | I20: =IF(OR($C20="",I$5=""),"",IF(AND(I$5>=$C20,I$5<=$E20,NETWORKDAYS.INTL(I$5,I$5,1,Config!$B$7:$B$40)=1),"Entrena","x")) | J20: =IF(OR($C20="",J$5=""),"",IF(AND(J$5>=$C20,J$5<=$E20,NETWORKDAYS.INTL(J$5,J$5,1,Config!$B$7:$B$40)=1),"Entrena","x")) | K20: =IF(OR($C20="",K$5=""),"",IF(AND(K$5>=$C20,K$5<=$E20,NETWORKDAYS.INTL(K$5,K$5,1,Config!$B$7:$B$40)=1),"Entrena","x")) | L20: =IF(OR($C20="",L$5=""),"",IF(AND(L$5>=$C20,L$5<=$E20,NETWORKDAYS.INTL(L$5,L$5,1,Config!$B$7:$B$40)=1),"Entrena","x")) | M20: =IF(OR($C20="",M$5=""),"",IF(AND(M$5>=$C20,M$5<=$E20,NETWORKDAYS.INTL(M$5,M$5,1,Config!$B$7:$B$40)=1),"Entrena","x")) | ... T20: =IF(OR($C20="",T$5=""),"",IF(AND(T$5>=$C20,T$5<=$E20,NETWORKDAYS.INTL(T$5,T$5,1,Config!$B$7:$B$40)=1),"Entrena","x"))
E21: =IF(OR(C21="",D21=""),"",NETWORKDAYS.INTL(C21,D21-1,1,Config!$B$7:$B$40)) | F21: =IF(OR($C21="",F$5=""),"",IF(AND(F$5>=$C21,F$5<=$E21,NETWORKDAYS.INTL(F$5,F$5,1,Config!$B$7:$B$40)=1),"Entrena","x")) | G21: =IF(OR($C21="",G$5=""),"",IF(AND(G$5>=$C21,G$5<=$E21,NETWORKDAYS.INTL(G$5,G$5,1,Config!$B$7:$B$40)=1),"Entrena","x")) | H21: =IF(OR($C21="",H$5=""),"",IF(AND(H$5>=$C21,H$5<=$E21,NETWORKDAYS.INTL(H$5,H$5,1,Config!$B$7:$B$40)=1),"Entrena","x")) | I21: =IF(OR($C21="",I$5=""),"",IF(AND(I$5>=$C21,I$5<=$E21,NETWORKDAYS.INTL(I$5,I$5,1,Config!$B$7:$B$40)=1),"Entrena","x")) | J21: =IF(OR($C21="",J$5=""),"",IF(AND(J$5>=$C21,J$5<=$E21,NETWORKDAYS.INTL(J$5,J$5,1,Config!$B$7:$B$40)=1),"Entrena","x")) | K21: =IF(OR($C21="",K$5=""),"",IF(AND(K$5>=$C21,K$5<=$E21,NETWORKDAYS.INTL(K$5,K$5,1,Config!$B$7:$B$40)=1),"Entrena","x")) | L21: =IF(OR($C21="",L$5=""),"",IF(AND(L$5>=$C21,L$5<=$E21,NETWORKDAYS.INTL(L$5,L$5,1,Config!$B$7:$B$40)=1),"Entrena","x")) | M21: =IF(OR($C21="",M$5=""),"",IF(AND(M$5>=$C21,M$5<=$E21,NETWORKDAYS.INTL(M$5,M$5,1,Config!$B$7:$B$40)=1),"Entrena","x")) | ... T21: =IF(OR($C21="",T$5=""),"",IF(AND(T$5>=$C21,T$5<=$E21,NETWORKDAYS.INTL(T$5,T$5,1,Config!$B$7:$B$40)=1),"Entrena","x"))
E22: =IF(OR(C22="",D22=""),"",NETWORKDAYS.INTL(C22,D22-1,1,Config!$B$7:$B$40)) | F22: =IF(OR($C22="",F$5=""),"",IF(AND(F$5>=$C22,F$5<=$E22,NETWORKDAYS.INTL(F$5,F$5,1,Config!$B$7:$B$40)=1),"Entrena","x")) | G22: =IF(OR($C22="",G$5=""),"",IF(AND(G$5>=$C22,G$5<=$E22,NETWORKDAYS.INTL(G$5,G$5,1,Config!$B$7:$B$40)=1),"Entrena","x")) | H22: =IF(OR($C22="",H$5=""),"",IF(AND(H$5>=$C22,H$5<=$E22,NETWORKDAYS.INTL(H$5,H$5,1,Config!$B$7:$B$40)=1),"Entrena","x")) | I22: =IF(OR($C22="",I$5=""),"",IF(AND(I$5>=$C22,I$5<=$E22,NETWORKDAYS.INTL(I$5,I$5,1,Config!$B$7:$B$40)=1),"Entrena","x")) | J22: =IF(OR($C22="",J$5=""),"",IF(AND(J$5>=$C22,J$5<=$E22,NETWORKDAYS.INTL(J$5,J$5,1,Config!$B$7:$B$40)=1),"Entrena","x")) | K22: =IF(OR($C22="",K$5=""),"",IF(AND(K$5>=$C22,K$5<=$E22,NETWORKDAYS.INTL(K$5,K$5,1,Config!$B$7:$B$40)=1),"Entrena","x")) | L22: =IF(OR($C22="",L$5=""),"",IF(AND(L$5>=$C22,L$5<=$E22,NETWORKDAYS.INTL(L$5,L$5,1,Config!$B$7:$B$40)=1),"Entrena","x")) | M22: =IF(OR($C22="",M$5=""),"",IF(AND(M$5>=$C22,M$5<=$E22,NETWORKDAYS.INTL(M$5,M$5,1,Config!$B$7:$B$40)=1),"Entrena","x")) | ... T22: =IF(OR($C22="",T$5=""),"",IF(AND(T$5>=$C22,T$5<=$E22,NETWORKDAYS.INTL(T$5,T$5,1,Config!$B$7:$B$40)=1),"Entrena","x"))

Sheet Config
A1: Mes (1-12) | B1: 8
A2: Año | B2: 2025
A4: Nota: | B4: Sábados y Domingos son días de descanso
A6: Festivos (introduce fechas)
